{"text_format":"1","workbook":"xlsx","n_sheets":7,"sheets":["Aenderungsverlauf","Anleitung","Anlagenartenkatalog UZH","Anlagenparameter","Eingabe fuer Planer","Kontrolle fuer Planer","Hilfstabelle"],"not_rendered":{"charts":0,"images":1,"macros":1,"external_links":1,"defined_names":3,"comments":0,"pivot_tables":0},"unopened":[],"bounds":{"document_bytes":16777216,"sheet_cells":100000,"rows_first":2000,"rows_last":500,"rows_between":2000,"halvings":0,"cell_chars":16384,"cell_head_chars":4096},"cells_cut":0,"cells_raw":0,"read":"whole","date_system":"1900"}

{"sheet":"Aenderungsverlauf","index":0,"n_rows":4,"n_cols":3,"rows_kept":4,"cut":false,"hidden":false,"merged":[]}
["Änderungsverlauf"]
["Datum","Version","Bemerkung"]
["2024-11-04","2024-1","Erstveröffentlichung"]
["15.10.2025","2025-1","Komplettüberarbeitung mit Ergänzung von Beispielen, Optimierung der Importierung und präzisierter Bestellung für externe Parteien, Optimierung Makro"]

{"sheet":"Anleitung","index":1,"n_rows":28,"n_cols":6,"rows_kept":28,"cut":false,"hidden":false,"merged":[[0,0,1,0]]}
["Anlagenkonzept\n\nZiele\n•\tSchnelle und eindeutige Identifikation der Anlagen in Planon sowie ZLS\n•\tMöglichst effiziente Prozesse, wenig Pflege- und Administrationsaufwand\n•\tDatengrundlage für Instandhaltungsstrategie\n•\tDatengrundlage für Massnahmen- und Instandsetzungsplanung\n•\tDatengrundlage Betriebsoptimierung\n•\tDatengrundlage Risk Based Maintenance\n\nAnleitung für Planer\nVariante 1 mit Makro (nur Windows)\n1.\tBlatt «Eingabe für Planer» öffnen\n2.\tAnlagenfelder von oben nach unten ausfüllen, Beispiele, Erläuterungen sowie Legende der Farbcodes beachten\n3.\tDie erforderlichen (blau markiert) Felder bei der Anmerkung ausfüllen, Beispiele sowie Legende der Farbcodes beachten.\n4.\tMakro ausführen: «Anlage Hinzufügen (Windows!)»\n5.\tFortfahren mit Schritt 2. für nächste Anlage, bis alle Anlagen erfasst sind.\n6.\tBlatt «Kontrolle für Planer» öffnen\n7.\tEingaben kontrollieren.\n\nVariante 2 für eine grosse Anzahl von gleichen Anlagentypen\na)\tSchritte 1. bis und mit 4. der Variante 1 Ausführen, um ein Beispiel für den erforderlichen Anlagentyp zu erhalten.\nb)\tDas erhaltene Beispiel im Blatt \"Kontrolle für Planer\" kopieren, unten einfügen und anpassen (z.B. MSRL-Code, Bezeichnung, Raumkennzeichen, Seriennummer, Anmerkung)."]
[]
["Anleitung zum Ausfüllen vom Blatt \"Importfile CAFM Planon\" - für jede Anlage zu wiederholen"]
["Spalte","Beschreibung","Informationsquelle / Blatt","Hinweis für Planer, um die gelben Felder im \"Importfile CAFM Planon\" auszufüllen","Beispiel","Hinweis UZH intern"]
["A",{"$f":"INDIRECT(\"'UsrAnlagen'!\"&A5&\"9\")","v":0},"-","leer lassen"]
["B",{"$f":"INDIRECT(\"'UsrAnlagen'!\"&A6&\"9\")","v":0},"-","MSRL-Code einfügen resp. Anlagen-Code falls kein MSRL-Code vorhanden, siehe Richtlinien zur Bauwerksdokumentation","GLL_C_G201_A001"]
["C",{"$f":"INDIRECT(\"'UsrAnlagen'!\"&A7&\"9\")","v":0},"Anlagenartenkatalog UZH, Spalte B","Die Spalte \"C\", \"Bezeichnung\" vom Blatt \"Importfile CAFM Planon\" ist grundsätzlich gleich wie die Beschreibung, aber bei mehreren gleichchnamigen Anlagen ist eine Nummerierung (oder eindeutige Identifikation wie rechts / links) hinzuzufügen z.B. \"Lüftungsanlage 1\" und \"Lüftungsanlage 2\", welche auch auf den Anlagen vor Ort angebracht ist.","Personenlift Nr. 42502790"]
["D",{"$f":"INDIRECT(\"'UsrAnlagen'!\"&A8&\"9\")","v":0},"Anlagenartenkatalog UZH, Spalte D","Im Blatt \"Anlagenartenkatalog UZH\" steht die Auswahl der \"Anlagentypen\" in Spalte \"D\" zur Auswahl. Es dürfen explizit nur diese Begriffe in dieser Schreibweise in Spalte \"D\" verwendet werden (die Planer können die farblichen Markierungen ignorieren - sie dienen nur internen Zwecken). --> Der Anlagentyp ist im Blatt \"Importfile CAFM Planon\" in Spalte \"D\", \"Beschreibung\" einzufügen.","Personenlift"]
["E",{"$f":"INDIRECT(\"'UsrAnlagen'!\"&A9&\"9\")","v":0},"Anlagenartenkatalog UZH, Spalte A","Die Spalte \"E\", \"Artikelgruppe\" vom Blatt \"Importfile CAFM Planon\" ist mit der entsprechenden \"Code-Gruppe\", Spalte \"A\" vom Blatt \"Anlagenartenkatalog UZH\" einzufügen. (kann mittels SVERWEIS automatisiert werden)","02.09.02"]
["F",{"$f":"INDIRECT(\"'UsrAnlagen'!\"&A10&\"9\")","v":0},"-","leer lassen","-"]
["G",{"$f":"INDIRECT(\"'UsrAnlagen'!\"&A11&\"9\")","v":0},"\"True\"","Immer mit \"True\" ausfüllen.","True"]
["H",{"$f":"INDIRECT(\"'UsrAnlagen'!\"&A12&\"9\")","v":0},"Datenfeldkatalog DC SOF, Spalte C","Restposten - Sofern die Parameter nicht in die Spalten I-U eingetragen werden können: Im \"Datenfeldkatalog DC SOF\" ist in der Spalte \"A\" nach dem Anlagentyp gemäss Bezeichnung zu suchen. Die entsprechenden Parameter gemäss \"Parameterebene\" sind im Importfile, Spalte \"H\" einzufügen. Beispiel: \"Parameterebene\" = \"Druck (Bar)\" --> \"Druck (Bar): 2.3\" einfügen. Bei mehreren Informationen mit einem Absatz aneinanderreihen.","Pikett-Tel.: 044 838 38 38\nStockwerke: 5 / E,F,G,H,J\nStandort Maschinenraum: Geschoss J-401 neben Lift\nTel. Typ: Exicall\nTel Nr.: 044 636 90 12 \nLift ausser Betrieb nehmen bei Netzwerkunterbruch zur Sicherheit: Nein\nRufnummer Sim Karte: 69012","Die grau hinterlegten Begriffe im Blatt \"Datenfeldkatalog\" in der Spalte \"C\", müssen zusätzlich Angegeben werden. \n\nBeispiel Aufzüge: Servicevertrag, Verträge"]
["I",{"$f":"INDIRECT(\"'UsrAnlagen'!\"&A13&\"9\")","v":0},"-","Objektkürzel einfügen z.B. \"SOF\"","GLL"]
["J",{"$f":"INDIRECT(\"'UsrAnlagen'!\"&A14&\"9\")","v":0},"-","Objektkürzel einfügen z.B. \"SOF\"","GLL"]
["K",{"$f":"INDIRECT(\"'UsrAnlagen'!\"&A15&\"9\")","v":0},"-","Raumkennzeichen (Raumbezeichnung wird anhand Planon definiert)","E-300"]
["L",{"$f":"INDIRECT(\"'UsrAnlagen'!\"&A16&\"9\")","v":0},"-",{"$f":"B16","v":0},"Gebauer"]
["M",{"$f":"INDIRECT(\"'UsrAnlagen'!\"&A17&\"9\")","v":0},"-",{"$f":"B17","v":0},"Getriebeaufzug"]
["N",{"$f":"INDIRECT(\"'UsrAnlagen'!\"&A18&\"9\")","v":0},"-",{"$f":"B18","v":0},"15008703854"]
["O",{"$f":"INDIRECT(\"'UsrAnlagen'!\"&A19&\"9\")","v":0},"-","Servicefirma","AS Aufzüge AG","Wird anhand der Kreditorennummer definiert"]
["P",{"$f":"INDIRECT(\"'UsrAnlagen'!\"&A20&\"9\")","v":0},"-",{"$f":"B20","v":0},"2050-04-30"]
["Q",{"$f":"INDIRECT(\"'UsrAnlagen'!\"&A21&\"9\")","v":0},"-",{"$f":"B21","v":0},"2055-05-01"]
["R",{"$f":"INDIRECT(\"'UsrAnlagen'!\"&A22&\"9\")","v":0},"-","leer lassen","-"]
["S",{"$f":"INDIRECT(\"'UsrAnlagen'!\"&A23&\"9\")","v":0},"-",{"$f":"B23","v":0},"2049-05-01"]
["T",{"$f":"INDIRECT(\"'UsrAnlagen'!\"&A24&\"9\")","v":0},"-","leer lassen","-"]
["U",{"$f":"INDIRECT(\"'UsrAnlagen'!\"&A25&\"9\")","v":0},"-",{"$f":"B25","v":0},"2075-05-01"]
[]
["Legende"]
["Gelb --> Wertvolle, zwingende Planerangaben für jede Anlage"]

{"sheet":"Anlagenartenkatalog UZH","index":2,"n_rows":167,"n_cols":6,"rows_kept":167,"cut":false,"hidden":false,"merged":[]}
["Artikelgruppe Nummer (verbindliche Artikelgruppe im Importfile Spalte E)","Artikelgruppe Name","Erläuterung","Anlagetypen (verbindliche Beschreibung im Importfile Spalte D)","Hauptanlage oder Unteranlage?","Bemerkung für die Erfassung der Anlage"]
["01.02.04","Türen, Tore, Abschlüsse ","Sicherheitsrelevante Türen, Tore ","Türe/Tor Fluchtweg","Unteranlage zu Gruppe","\"Sicherheitsrelevante Türen/Tore Gruppe\" wird als Hauptanlage je Geschoss aufgenommen, die einzelnen Türen/Tore als Unteranlage.\nTüre/Tor-Nummer ersetzt MSRL-Code"]
[{"$f":"A2","v":"01.02.04"},{"$f":"B2","v":"Türen, Tore, Abschlüsse "},{"$f":"C2","v":"Sicherheitsrelevante Türen, Tore "},"Türe/Tor Fluchtweg kraftbetätigt","Unteranlage zu Gruppe","\"Sicherheitsrelevante Türen/Tore Gruppe\" wird als Hauptanlage je Geschoss aufgenommen, die einzelnen Türen/Tore als Unteranlage.\nTüre/Tor-Nummer ersetzt MSRL-Code"]
[{"$f":"A2","v":"01.02.04"},{"$f":"B2","v":"Türen, Tore, Abschlüsse "},{"$f":"C2","v":"Sicherheitsrelevante Türen, Tore "},"Türe/Tor Brandschutz","Unteranlage zu Gruppe","\"Sicherheitsrelevante Türen/Tore Gruppe\" wird als Hauptanlage je Geschoss aufgenommen, die einzelnen Türen/Tore als Unteranlage.\nTüre/Tor-Nummer ersetzt MSRL-Code"]
[{"$f":"A2","v":"01.02.04"},{"$f":"B2","v":"Türen, Tore, Abschlüsse "},{"$f":"C2","v":"Sicherheitsrelevante Türen, Tore "},"Türe/Tor Brandschutz kraftbetätigt","Unteranlage zu Gruppe","\"Sicherheitsrelevante Türen/Tore Gruppe\" wird als Hauptanlage je Geschoss aufgenommen, die einzelnen Türen/Tore als Unteranlage.\nTüre/Tor-Nummer ersetzt MSRL-Code"]
[{"$f":"A2","v":"01.02.04"},{"$f":"B2","v":"Türen, Tore, Abschlüsse "},{"$f":"C2","v":"Sicherheitsrelevante Türen, Tore "},"Türe/Tor Fluchtweg Brandschutz","Unteranlage zu Gruppe","\"Sicherheitsrelevante Türen/Tore Gruppe\" wird als Hauptanlage je Geschoss aufgenommen, die einzelnen Türen/Tore als Unteranlage.\nTüre/Tor-Nummer ersetzt MSRL-Code"]
[{"$f":"A2","v":"01.02.04"},{"$f":"B2","v":"Türen, Tore, Abschlüsse "},{"$f":"C2","v":"Sicherheitsrelevante Türen, Tore "},"Türe/Tor Fluchtweg Brandschutz kraftbetätigt","Unteranlage zu Gruppe","\"Sicherheitsrelevante Türen/Tore Gruppe\" wird als Hauptanlage je Geschoss aufgenommen, die einzelnen Türen/Tore als Unteranlage.\nTüre/Tor-Nummer ersetzt MSRL-Code"]
[{"$f":"A2","v":"01.02.04"},{"$f":"B2","v":"Türen, Tore, Abschlüsse "},{"$f":"C2","v":"Sicherheitsrelevante Türen, Tore "},"Türe/Tor kraftbetätigt","Unteranlage zu Gruppe","\"Sicherheitsrelevante Türen/Tore Gruppe\" wird als Hauptanlage je Geschoss aufgenommen, die einzelnen Türen/Tore als Unteranlage.\nTüre/Tor-Nummer ersetzt MSRL-Code"]
[{"$f":"A2","v":"01.02.04"},{"$f":"B2","v":"Türen, Tore, Abschlüsse "},"Nicht sicherheitsrelevante Türen und Tore","Türe/Tor","Unteranlage zu Gruppe","\"Nicht sicherheitsrelevante Türen/Tore Gruppe\" wird als Hauptanlage je Geschoss aufgenommen, die einzelnen Türen/Tore als Unteranlage. (nicht zwingend im CAFM zu erfassen)\nTüre/Tor-Nummer ist zu erfassen"]
["01.02.05","Fenster","Fenster sind Lichtdurchlässige Bauelemente welche teilweise geöffnet werden können.","Oblicht","Hauptanlage"]
["01.02.07","Storen- / Beschattungsanlagen","Die Storen- und Beschattungsanlage ist ein System, welches zur Regulierung des Licht- und Wärmeeinfalls dient. Sie kann mit einem elektrischen Motor oder von Hand bedient werden. ","Beschattungssteuerungsanlage","Hauptanlage","Hydraulische Antriebe für Beschattungsanlage werden nicht separat erfasst - sie gehören zur Beschattungsanlage"]
["02.00.01","Sicherheitsanlagen","Sicherheitsanlagen sind aktive oder passive Anlagenkomponenten, die technische Anlagen und oder Gebäude für den Menschen sicher machen sollen.","Einbruch- und Überfallmeldeanlage (EMA)","Hauptanlage"," "]
[{"$f":"A12","v":"02.00.01"},{"$f":"B12","v":"Sicherheitsanlagen"},{"$f":"C12","v":"Sicherheitsanlagen sind aktive oder passive Anlagenkomponenten, die technische Anlagen und oder Gebäude für den Menschen sicher machen sollen."},"Evakuationsanlage (SAA und ENS)","Hauptanlage"]
[{"$f":"A12","v":"02.00.01"},{"$f":"B12","v":"Sicherheitsanlagen"},{"$f":"C12","v":"Sicherheitsanlagen sind aktive oder passive Anlagenkomponenten, die technische Anlagen und oder Gebäude für den Menschen sicher machen sollen."},"Befeuerungsanlage","Hauptanlage"]
["02.00.04","Schliessysteme","Ein technisches System zur Steuerung von Schliessmechanismen in Türen oder Toren.","Schlüsseldepot","Hauptanlage"]
["02.01.01","Brandmeldeanlagen","Die Brandmeldeanlage ist ein technisches System bestehend aus mehreren Bauteilen die zusammen die Funktion ergeben einen aufkommenden Brand zu detektieren und automatisch den Blaulichtorganisationen zu melden sowie die Personen vor dem Brand zu Warnen und allenfalls den Fluchtweg an zu zeigen. Das technische System beinhaltet zum Beispiel: Zentrale, Sensoren (Brandmelder), Warnleuchten, Signalhörner, Schnittstellen, Verkabelung.","Brandmeldeanlage (BMA)","Hauptanlage"]
["02.01.02","Brandschutz","Die Brandschutzanlage ist ein technisches System bestehend aus mehreren Bauteilen die zusammen die Funktion ergeben Brandabschnitte automatisch durch Klappen zu verschliessen um eine Brandausbreitung verhindern zu können.","Bedienzentrale Brandschutzklappe (BSK)","Hauptanlage","Falls mehrere Bedienzentralen in einem Gebäude vorhanden sind, ist eine fiktive Gruppe als übergeordnete Hauptanlage zu erstellen: \"Bedienzentrale Brandschutzklappe (BSK) Gruppe\""]
[{"$f":"A17","v":"02.01.02"},{"$f":"B17","v":"Brandschutz"},{"$f":"C17","v":"Die Brandschutzanlage ist ein technisches System bestehend aus mehreren Bauteilen die zusammen die Funktion ergeben Brandabschnitte automatisch durch Klappen zu verschliessen um eine Brandausbreitung verhindern zu können."},"Brandschutzklappe (BSK)","Unteranlage","Hauptanlage: Bedienzentrale Brandschutzklappe (BSK); Beim Code der Brandschutzklappe wird zur eindeutigen Identifizierung der vollständige MSRL-Code erfasst."]
["02.01.03","Löschanlagen","Die Loeschanlage ist ein technisches System bestehend aus mehreren Bauteilen die zusammen die Funktion ergeben einen Brand in einem Gebäude oder Raum automatisch zu löschen. Es gibt unterschiedliche Löschsysteme, je nach Anforderung an die Löschsubstanz. Das technische System beinhaltet zum Beispiel Steuerung, Löschmittelversorgung, Leitungsnetz, Sensoren, Aktoren.","Sprinkleranlage","Hauptanlage"]
[{"$f":"A19","v":"02.01.03"},{"$f":"B19","v":"Löschanlagen"},{"$f":"C19","v":"Die Loeschanlage ist ein technisches System bestehend aus mehreren Bauteilen die zusammen die Funktion ergeben einen Brand in einem Gebäude oder Raum automatisch zu löschen. Es gibt unterschiedliche Löschsysteme, je nach Anforderung an die Löschsubstanz. Das technische System beinhaltet zum Beispiel Steuerung, Löschmittelversorgung, Leitungsnetz, Sensoren, Aktoren."},"Wasserlöschposten (WLP)","Unteranlage","Wasserlöschposten wird als Unteranlage erfasst, wenn die Hauptanlage eine Gruppe ist. Falls nur ein Wasserlöschposten vorhanden ist, wird er als Hauptanlage erfasst."]
[{"$f":"A19","v":"02.01.03"},{"$f":"B19","v":"Löschanlagen"},{"$f":"C19","v":"Die Loeschanlage ist ein technisches System bestehend aus mehreren Bauteilen die zusammen die Funktion ergeben einen Brand in einem Gebäude oder Raum automatisch zu löschen. Es gibt unterschiedliche Löschsysteme, je nach Anforderung an die Löschsubstanz. Das technische System beinhaltet zum Beispiel Steuerung, Löschmittelversorgung, Leitungsnetz, Sensoren, Aktoren."},"Gaslöschanlage","Hauptanlage"]
["02.01.04","Entrauchung","Eine Entrauchungsanlage ist ein technisches System welches Rauch und Wärme aus dem Gebäude abführt. ","Rauch- und Wärmeabzugsanlage (RWA)","Hauptanlage"]
[{"$f":"A22","v":"02.01.04"},{"$f":"B22","v":"Entrauchung"},{"$f":"C22","v":"Eine Entrauchungsanlage ist ein technisches System welches Rauch und Wärme aus dem Gebäude abführt. "},"Rauchschutzdruckanlage (RDA / RWA)","Hauptanlage"]
["02.02.01","Lüftungsanlagen","Die Lueftungsanlage ist ein technisches System bestehend aus mehreren Bauteilen die zusammen die Funktion ergeben Gebäude und Räume automatisch mit der notwendigen Luftqualität zu versorgen. Das technische System beinhaltet zum Beispiel Monoblock, unterschiedliche Register für Kühlung, Erhitzung, Trocknung, Lüftungskanäle, Leitungsnetz, Steuerung, Sensoren, Aktoren; Standort Monoblock => Raum der Lüftungsanlage; Anzahl Monoblocks => Anzahl Lüftungsanlagen","Lüftungsanlage","Hauptanlage","Der Standort vom Zuluft-Monoblock ist der Raum der Lüftungsanlage. Jeder Zuluft-Monoblock (und ggf. dazugehörender Abluft-Monoblock) ist eine eigene Lüftungsanlage."]
[{"$f":"A24","v":"02.02.01"},{"$f":"B24","v":"Lüftungsanlagen"},{"$f":"C24","v":"Die Lueftungsanlage ist ein technisches System bestehend aus mehreren Bauteilen die zusammen die Funktion ergeben Gebäude und Räume automatisch mit der notwendigen Luftqualität zu versorgen. Das technische System beinhaltet zum Beispiel Monoblock, unterschiedliche Register für Kühlung, Erhitzung, Trocknung, Lüftungskanäle, Leitungsnetz, Steuerung, Sensoren, Aktoren; Standort Monoblock => Raum der Lüftungsanlage; Anzahl Monoblocks => Anzahl Lüftungsanlagen"},"Filter Stufe 1","Unter-Unteranlage","Unteranlage zur ZUL- oder ABL-Anlage"]
[{"$f":"A24","v":"02.02.01"},{"$f":"B24","v":"Lüftungsanlagen"},{"$f":"C24","v":"Die Lueftungsanlage ist ein technisches System bestehend aus mehreren Bauteilen die zusammen die Funktion ergeben Gebäude und Räume automatisch mit der notwendigen Luftqualität zu versorgen. Das technische System beinhaltet zum Beispiel Monoblock, unterschiedliche Register für Kühlung, Erhitzung, Trocknung, Lüftungskanäle, Leitungsnetz, Steuerung, Sensoren, Aktoren; Standort Monoblock => Raum der Lüftungsanlage; Anzahl Monoblocks => Anzahl Lüftungsanlagen"},"Filter Stufe 2","Unter-Unteranlage","Unteranlage zur ZUL- oder ABL-Anlage"]
[{"$f":"A24","v":"02.02.01"},{"$f":"B24","v":"Lüftungsanlagen"},{"$f":"C24","v":"Die Lueftungsanlage ist ein technisches System bestehend aus mehreren Bauteilen die zusammen die Funktion ergeben Gebäude und Räume automatisch mit der notwendigen Luftqualität zu versorgen. Das technische System beinhaltet zum Beispiel Monoblock, unterschiedliche Register für Kühlung, Erhitzung, Trocknung, Lüftungskanäle, Leitungsnetz, Steuerung, Sensoren, Aktoren; Standort Monoblock => Raum der Lüftungsanlage; Anzahl Monoblocks => Anzahl Lüftungsanlagen"},"Entfeuchtungsanlage","Unteranlage","Unteranlage zur Lüftungsanlage"]
[{"$f":"A24","v":"02.02.01"},{"$f":"B24","v":"Lüftungsanlagen"},{"$f":"C24","v":"Die Lueftungsanlage ist ein technisches System bestehend aus mehreren Bauteilen die zusammen die Funktion ergeben Gebäude und Räume automatisch mit der notwendigen Luftqualität zu versorgen. Das technische System beinhaltet zum Beispiel Monoblock, unterschiedliche Register für Kühlung, Erhitzung, Trocknung, Lüftungskanäle, Leitungsnetz, Steuerung, Sensoren, Aktoren; Standort Monoblock => Raum der Lüftungsanlage; Anzahl Monoblocks => Anzahl Lüftungsanlagen"},"Entfeuchter (mobil)","Hauptanlage","Ist auf das entsprechende Lager zu erfassen. Der aktuelle Standort wird über die Arbeitsliste festgehalten."]
[{"$f":"A24","v":"02.02.01"},{"$f":"B24","v":"Lüftungsanlagen"},{"$f":"C24","v":"Die Lueftungsanlage ist ein technisches System bestehend aus mehreren Bauteilen die zusammen die Funktion ergeben Gebäude und Räume automatisch mit der notwendigen Luftqualität zu versorgen. Das technische System beinhaltet zum Beispiel Monoblock, unterschiedliche Register für Kühlung, Erhitzung, Trocknung, Lüftungskanäle, Leitungsnetz, Steuerung, Sensoren, Aktoren; Standort Monoblock => Raum der Lüftungsanlage; Anzahl Monoblocks => Anzahl Lüftungsanlagen"},"Adsorber-Entfeuchtungsanlage","Unteranlage","Unteranlage zur Lüftungsanlage"]
[{"$f":"A24","v":"02.02.01"},{"$f":"B24","v":"Lüftungsanlagen"},{"$f":"C24","v":"Die Lueftungsanlage ist ein technisches System bestehend aus mehreren Bauteilen die zusammen die Funktion ergeben Gebäude und Räume automatisch mit der notwendigen Luftqualität zu versorgen. Das technische System beinhaltet zum Beispiel Monoblock, unterschiedliche Register für Kühlung, Erhitzung, Trocknung, Lüftungskanäle, Leitungsnetz, Steuerung, Sensoren, Aktoren; Standort Monoblock => Raum der Lüftungsanlage; Anzahl Monoblocks => Anzahl Lüftungsanlagen"},"Klein-/Zonenventilator","Hauptanlage"]
[{"$f":"A24","v":"02.02.01"},{"$f":"B24","v":"Lüftungsanlagen"},{"$f":"C24","v":"Die Lueftungsanlage ist ein technisches System bestehend aus mehreren Bauteilen die zusammen die Funktion ergeben Gebäude und Räume automatisch mit der notwendigen Luftqualität zu versorgen. Das technische System beinhaltet zum Beispiel Monoblock, unterschiedliche Register für Kühlung, Erhitzung, Trocknung, Lüftungskanäle, Leitungsnetz, Steuerung, Sensoren, Aktoren; Standort Monoblock => Raum der Lüftungsanlage; Anzahl Monoblocks => Anzahl Lüftungsanlagen"},"Liftventilator","Hauptanlage"]
[{"$f":"A24","v":"02.02.01"},{"$f":"B24","v":"Lüftungsanlagen"},{"$f":"C24","v":"Die Lueftungsanlage ist ein technisches System bestehend aus mehreren Bauteilen die zusammen die Funktion ergeben Gebäude und Räume automatisch mit der notwendigen Luftqualität zu versorgen. Das technische System beinhaltet zum Beispiel Monoblock, unterschiedliche Register für Kühlung, Erhitzung, Trocknung, Lüftungskanäle, Leitungsnetz, Steuerung, Sensoren, Aktoren; Standort Monoblock => Raum der Lüftungsanlage; Anzahl Monoblocks => Anzahl Lüftungsanlagen"},"Zuluftanlage (ZUL-Anlage)","Unteranlage","Unteranlage zur Lüftungsanlage"]
[{"$f":"A24","v":"02.02.01"},{"$f":"B24","v":"Lüftungsanlagen"},{"$f":"C24","v":"Die Lueftungsanlage ist ein technisches System bestehend aus mehreren Bauteilen die zusammen die Funktion ergeben Gebäude und Räume automatisch mit der notwendigen Luftqualität zu versorgen. Das technische System beinhaltet zum Beispiel Monoblock, unterschiedliche Register für Kühlung, Erhitzung, Trocknung, Lüftungskanäle, Leitungsnetz, Steuerung, Sensoren, Aktoren; Standort Monoblock => Raum der Lüftungsanlage; Anzahl Monoblocks => Anzahl Lüftungsanlagen"},"Abluftanlage (ABL-Anlage)","Unteranlage","Unteranlage zur Lüftungsanlage"]
["02.02.02","Klimaanlagen","Eine Klimaanlage ist ein technisches System bestehend aus mehreren Bauteilen zur Regulierung der Raumluftkonditionen, es ist zwischen zentralen und dezentralen Anlagen zu unterscheiden ","Split-Klimaanlage","Hauptanlage","Für Split-Klimaanlagen werden jeweils Gruppen erstellt und die jeweiligen Anlagen als Unteranlagen erfasst."]
[{"$f":"A34","v":"02.02.02"},{"$f":"B34","v":"Klimaanlagen"},"Eine Klimaanlage ist ein technisches System bestehend aus mehreren Bauteilen zur Regulierung der Raumluftkonditionen, es ist zwischen zentralen und dezentralen Anlagen, sowie zwischen Anlagen mit und ohne Kühlmittel zu unterscheiden ","Umluftkühlgerät (ULK)","Unteranlage","Für Umluftkühleräte werden jeweils Gruppen erstellt und die jeweiligen Anlagen als Unteranlagen erfasst. Die Gruppe wird der Kältemaschine als Hauptanlage zugeordnet."]
[{"$f":"A34","v":"02.02.02"},{"$f":"B34","v":"Klimaanlagen"},"Eine Klimaanlage ist ein technisches System bestehend aus mehreren Bauteilen zur Regulierung der Raumluftkonditionen, es ist zwischen zentralen und dezentralen Anlagen, sowie zwischen Anlagen mit und ohne Kühlmittel zu unterscheiden ","Klimaanlage mit integrierter Kältemaschine","Hauptanlage"]
[{"$f":"A34","v":"02.02.02"},{"$f":"B34","v":"Klimaanlagen"},"Eine Klimaanlage ist ein technisches System bestehend aus mehreren Bauteilen zur Regulierung der Raumluftkonditionen, es ist zwischen zentralen und dezentralen Anlagen, sowie zwischen Anlagen mit und ohne Kühlmittel zu unterscheiden ","Kühlgerät (mobil)","Hauptanlage","Ist auf das entsprechende Lager zu erfassen. Der aktuelle Standort wird über die Arbeitsliste festgehalten."]
["02.03.03","Notbeleuchtung","Notbeleuchtungsanlagen sind einzelne Anlagen oder Systeme, welche bei Stromausfall genügend Licht zur Orientierung im Gebäude und Signalisierung der Fluchtwege bereitstellen. ","Sicherheitsbeleuchtungsanlage","Hauptanlage","(bei Einzelbatterieanlagen ist die Sicherheitsbeleuchtungsanlage als fiktive Gruppe zu erstellen)"]
["02.03.03","Notbeleuchtung","Notbeleuchtungsanlagen sind einzelne Anlagen oder Systeme, welche bei Stromausfall genügend Licht zur Orientierung im Gebäude und Signalisierung der Fluchtwege bereitstellen. ","Sicherheitsleuchte","Unteranlage","Hauptanlage: Sicherheitsbeleuchtungsanlage (bei Einzelbatterieanlagen ist die Sicherheitsbeleuchtungsanlage als fiktive Gruppe zu erstellen); "]
["02.04.00","Elektroverteilungen (Schaltschränke)","Eine Elektroverteilungsanlage oder Schaltschrank beinhaltet Sicherungs- und Schaltelemente zur Verteilung von elektrischer Energie ","Elektrohauptverteilung (HV)","Hauptanlage","Die \"Unterverteilung (UV)\" wird als Unteranlage zur Hauptverteilung (HV) erfasst. Die \"Unterstation (US)\" wird ebenfalls als Unteranlage erfasst (gleiche Ebene wie UV), jedoch 04.02.02 Automationsstationen zugeordnet. In Ausnahmefällen können US als Unter-Unteranlage erfasst werden."]
[{"$f":"A40","v":"02.04.00"},{"$f":"B40","v":"Elektroverteilungen (Schaltschränke)"},{"$f":"C40","v":"Eine Elektroverteilungsanlage oder Schaltschrank beinhaltet Sicherungs- und Schaltelemente zur Verteilung von elektrischer Energie "},"Etagenverteilung (EV)","Unteranlage","Die \"Unterverteilung (UV)\" wird als Unteranlage zur Hauptverteilung (HV) erfasst. Die \"Unterstation (US)\" wird ebenfalls als Unteranlage erfasst (gleiche Ebene wie UV), jedoch 04.02.02 Automationsstationen zugeordnet. In Ausnahmefällen können US als Unter-Unteranlage erfasst werden."]
[{"$f":"A40","v":"02.04.00"},"Elektroverteilungen (Schaltschränke)","Eine Elektroverteilungsanlage oder Schaltschrank beinhaltet Sicherungs- und Schaltelemente zur Verteilung von elektrischer Energie ","Elektrounterverteilung (UV)","Unteranlage","Die \"Unterverteilung (UV)\" wird als Unteranlage zur Hauptverteilung (HV) erfasst. Die \"Unterstation (US)\" wird ebenfalls als Unteranlage erfasst (gleiche Ebene wie UV), jedoch 04.02.02 Automationsstationen zugeordnet. In Ausnahmefällen können US als Unter-Unteranlage erfasst werden."]
["02.04.02","Starkstrominstallationen","Starkstrominstallationen enthält die Installationen welche die Apparate Starkstrom mit Strom versorgen. ","Kompensationsanlage","Hauptanlage"]
[{"$f":"A43","v":"02.04.02"},{"$f":"B43","v":"Starkstrominstallationen"},{"$f":"C43","v":"Starkstrominstallationen enthält die Installationen welche die Apparate Starkstrom mit Strom versorgen. "},"Netzersatzanlage (NEA)","Hauptanlage","Netzersatzanlage (NEA) ist als Hauptanlage zu erfassen, Generator, Batterieanlage und Netzkoppler ist als Unteranlage zu erfassen. Die USV-Anlage sowie die übrigen sind als separate Anlagen zu erfassen."]
[{"$f":"A43","v":"02.04.02"},{"$f":"B43","v":"Starkstrominstallationen"},{"$f":"C43","v":"Starkstrominstallationen enthält die Installationen welche die Apparate Starkstrom mit Strom versorgen. "},"Generator","Unteranlage","Netzersatzanlage (NEA) ist als Hauptanlage zu erfassen, Generator, Batterieanlage und Netzkoppler ist als Unteranlage zu erfassen. Die USV-Anlage sowie die übrigen sind als separate Anlagen zu erfassen."]
[{"$f":"A43","v":"02.04.02"},{"$f":"B43","v":"Starkstrominstallationen"},{"$f":"C43","v":"Starkstrominstallationen enthält die Installationen welche die Apparate Starkstrom mit Strom versorgen. "},"Batterieanlage","Unteranlage","Netzersatzanlage (NEA) ist als Hauptanlage zu erfassen, Generator, Batterieanlage und Netzkoppler ist als Unteranlage zu erfassen. Die USV-Anlage sowie die übrigen sind als separate Anlagen zu erfassen."]
[{"$f":"A43","v":"02.04.02"},{"$f":"B43","v":"Starkstrominstallationen"},{"$f":"C43","v":"Starkstrominstallationen enthält die Installationen welche die Apparate Starkstrom mit Strom versorgen. "},"Photovoltaikanlage","Hauptanlage"]
[{"$f":"A43","v":"02.04.02"},{"$f":"B43","v":"Starkstrominstallationen"},{"$f":"C43","v":"Starkstrominstallationen enthält die Installationen welche die Apparate Starkstrom mit Strom versorgen. "},"Wechselrichter","Unteranlage","Unteranlage zu Photovoltaikanlage"]
[{"$f":"A43","v":"02.04.02"},{"$f":"B43","v":"Starkstrominstallationen"},{"$f":"C43","v":"Starkstrominstallationen enthält die Installationen welche die Apparate Starkstrom mit Strom versorgen. "},"Elektro-Ladestationen","Hauptanlage"]
[{"$f":"A43","v":"02.04.02"},{"$f":"B43","v":"Starkstrominstallationen"},{"$f":"C43","v":"Starkstrominstallationen enthält die Installationen welche die Apparate Starkstrom mit Strom versorgen. "},"USV-Anlage","Hauptanlage"]
[{"$f":"A43","v":"02.04.02"},{"$f":"B43","v":"Starkstrominstallationen"},{"$f":"C43","v":"Starkstrominstallationen enthält die Installationen welche die Apparate Starkstrom mit Strom versorgen. "},"USV (mobil)","Hauptanlage","Ab 3.6kW auf das entsprechende Lager zu erfassen. Der aktuelle Standort wird über die Arbeitsliste festgehalten. (siehe Beschluss)"]
["02.04.04 ","Schwachstrominstallationen","Schwachstrominstallationen enthalten die Installationen welche die Apparate mit -Schwachstrom versorgen. ","Gegensprechanlage","Hauptanlage"]
[{"$f":"A52","v":"02.04.04 "},{"$f":"B52","v":"Schwachstrominstallationen"},{"$f":"C51","v":"Starkstrominstallationen enthält die Installationen welche die Apparate Starkstrom mit Strom versorgen. "},"Videoanlage","Hauptanlage"]
["02.04.10","Mittelspannungsanlagen 16/22 kV (Trafostationen)","Mittelspannungsanlagen (Trafostationen) dienen der Umwandlung von Mittelspannung in Niederspannung","Mittelspannungsanlage","Hauptanlage","Die Mittelspannungsanlage wird als Hauptanlage erfasst, die Schalter, Messfeld und Transformatoren werden als Unteranlagen erfasst."]
[{"$f":"A54","v":"02.04.10"},{"$f":"B54","v":"Mittelspannungsanlagen 16/22 kV (Trafostationen)"},{"$f":"C54","v":"Mittelspannungsanlagen (Trafostationen) dienen der Umwandlung von Mittelspannung in Niederspannung"},"Transformator","Unteranlage","Hauptanlage: Mittelspannungsanlage"]
[{"$f":"A54","v":"02.04.10"},{"$f":"B54","v":"Mittelspannungsanlagen 16/22 kV (Trafostationen)"},{"$f":"C54","v":"Mittelspannungsanlagen (Trafostationen) dienen der Umwandlung von Mittelspannung in Niederspannung"},"Messfeld","Unteranlage","Hauptanlage: Mittelspannungsanlage"]
[{"$f":"A54","v":"02.04.10"},{"$f":"B54","v":"Mittelspannungsanlagen 16/22 kV (Trafostationen)"},{"$f":"C54","v":"Mittelspannungsanlagen (Trafostationen) dienen der Umwandlung von Mittelspannung in Niederspannung"},"Mittelspannungsschalter","Unteranlage","Hauptanlage: Mittelspannungsanlage"]
["02.05","Sanitär","In der Artikelgruppe Sanitär werden Anlagen erfasst, die nicht den Unterkategorien der Sanitär-Artikelgruppen zugeordnet werden können.","Wasserbecken","Hauptanlage"]
[{"$f":"A58","v":"02.05"},{"$f":"B58","v":"Sanitär"},{"$f":"C58","v":"In der Artikelgruppe Sanitär werden Anlagen erfasst, die nicht den Unterkategorien der Sanitär-Artikelgruppen zugeordnet werden können."},"Druckerhöhungsanlage","Unteranlage","Es gibt verschiedene übergeordnete Hauptanlagen. Diese sind die Osmoseanlage, Regenwassernutzungsanlage sowie Regenwasserbewässerungsanlage, welche als Hauptanlage zuzuorden sind."]
[{"$f":"A58","v":"02.05"},{"$f":"B58","v":"Sanitär"},{"$f":"C58","v":"In der Artikelgruppe Sanitär werden Anlagen erfasst, die nicht den Unterkategorien der Sanitär-Artikelgruppen zugeordnet werden können."},"Teich- / Brunnenanlage","Hauptanlage"]
[{"$f":"A58","v":"02.05"},{"$f":"B58","v":"Sanitär"},{"$f":"C58","v":"In der Artikelgruppe Sanitär werden Anlagen erfasst, die nicht den Unterkategorien der Sanitär-Artikelgruppen zugeordnet werden können."},"Trinkwasserbrunnen","Hauptanlage"]
["02.05.02","Regenwasser","Regenwasseranlagen dienen der Speicherung und Weiterverwendung von Regenwasser","Regenwassernutzungsanlage","Hauptanlage","Die Regenwassernutzungsanlage wird als Hauptanlage, die Fassung, Speicherung und Verteilung als Unteranlage erfasst."]
["02.05.04","Wasseraufbereitung","Wasseraufbereitungsanlagen dienen der zielgerichteten Veränderung der Wasserqualität","Osmoseanlage","Hauptanlage"]
[{"$f":"A63","v":"02.05.04"},{"$f":"B63","v":"Wasseraufbereitung"},{"$f":"C63","v":"Wasseraufbereitungsanlagen dienen der zielgerichteten Veränderung der Wasserqualität"},"Enthärtungsanlage","Hauptanlage"]
["02.05.05","Wasserverteilung","Wasserverteilungsnlagen dienen der Verteilung des Trink- und Bruachwassers.","Wasserfilter","Hauptanlage"]
[{"$f":"A65","v":"02.05.05"},{"$f":"B65","v":"Wasserverteilung"},{"$f":"C65","v":"Wasserverteilungsnlagen dienen der Verteilung des Trink- und Bruachwassers."},"Tiefenfilter","Hauptanlage"]
[{"$f":"A65","v":"02.05.05"},{"$f":"B65","v":"Wasserverteilung"},{"$f":"C65","v":"Wasserverteilungsnlagen dienen der Verteilung des Trink- und Bruachwassers."},"Trinkwasser-Systemtrenngerät","Hauptanlage"]
[{"$f":"A65","v":"02.05.05"},{"$f":"B65","v":"Wasserverteilung"},{"$f":"C65","v":"Wasserverteilungsnlagen dienen der Verteilung des Trink- und Bruachwassers."},"Aussenwasserhahn","Hauptanlage"]
[{"$f":"A65","v":"02.05.05"},{"$f":"B65","v":"Wasserverteilung"},{"$f":"C65","v":"Wasserverteilungsnlagen dienen der Verteilung des Trink- und Bruachwassers."},"Spülautomat","Hauptanlage"]
[{"$f":"A66","v":"02.05.05"},"Wasserverteilung","Wasserverteilungsnlagen dienen der Verteilung des Trink- und Bruachwassers.","Ultraschallbefeuchter","Unteranlage","Fälle: \na) Geächshaus: Eigene Hauptanlage\nb) Unteranlage zur Lüftungsanlage\nc) Unteranlage zu Phytotron"]
["02.05.05","Wasserverteilung","Wasserverteilungsnlagen dienen der Verteilung des Trink- und Bruachwassers.","Dampfbefeuchter","Unteranlage","Fälle: \na) Geächshaus: Eigene Hauptanlage\nb) Unteranlage zur Lüftungsanlage\nc) Unteranlage zu Phytotron"]
["02.05.05","Wasserverteilung","Wasserverteilungsnlagen dienen der Verteilung des Trink- und Bruachwassers.","Hochdruckbefeuchtungsanlage","Unteranlage","Fälle: \na) Geächshaus: Eigene Hauptanlage\nb) Unteranlage zur Lüftungsanlage\nc) Unteranlage zu Phytotron"]
[{"$f":"A65","v":"02.05.05"},{"$f":"B65","v":"Wasserverteilung"},{"$f":"C65","v":"Wasserverteilungsnlagen dienen der Verteilung des Trink- und Bruachwassers."},"Bewässerungsanlage","Hauptanlage"]
["02.05.07","Brauchwarmwasser","Brauchwarmwasseranlagen werden zur Erstellung und Lagerung von Brauchwarmwasser verwendet.","Boiler","Hauptanlage"]
[{"$f":"A74","v":"02.05.07"},{"$f":"B74","v":"Brauchwarmwasser"},{"$f":"C74","v":"Brauchwarmwasseranlagen werden zur Erstellung und Lagerung von Brauchwarmwasser verwendet."},"Plattenwärmetauscher","Unteranlage","Hauptanlage: Boiler"]
[{"$f":"A74","v":"02.05.07"},{"$f":"B74","v":"Brauchwarmwasser"},{"$f":"C74","v":"Brauchwarmwasseranlagen werden zur Erstellung und Lagerung von Brauchwarmwasser verwendet."},"Frischwasserstation","Hauptanlage"]
[{"$f":"A74","v":"02.05.07"},{"$f":"B74","v":"Brauchwarmwasser"},{"$f":"C74","v":"Brauchwarmwasseranlagen werden zur Erstellung und Lagerung von Brauchwarmwasser verwendet."},"Durchlauferhitzer","Hauptanlage"]
["02.05.08","Abwasser","Durch Gebrauch verschmutztes abfliessendes Wasser.","Neutralisation","Hauptanlage","Wenn die Neutralisation für die Heizung verwendet wird, so ist die Neutralisation als Unteranlage zur Heizung zu erfassen."]
[{"$f":"A78","v":"02.05.08"},{"$f":"B78","v":"Abwasser"},{"$f":"C78","v":"Durch Gebrauch verschmutztes abfliessendes Wasser."},"Schmutzwasserpumpe","Hauptanlage"]
[{"$f":"A78","v":"02.05.08"},{"$f":"B78","v":"Abwasser"},{"$f":"C78","v":"Durch Gebrauch verschmutztes abfliessendes Wasser."},"Fäkalienpumpe","Hauptanlage"]
[{"$f":"A78","v":"02.05.08"},{"$f":"B78","v":"Abwasser"},{"$f":"C78","v":"Durch Gebrauch verschmutztes abfliessendes Wasser."},"Grundwasserpumpe","Hauptanlage"]
[{"$f":"A78","v":"02.05.08"},{"$f":"B78","v":"Abwasser"},{"$f":"C78","v":"Durch Gebrauch verschmutztes abfliessendes Wasser."},"Urinale","Hauptanlage","Wasserlose Urinale werden als Gruppe als Hauptanlage erfasst"]
[{"$f":"A78","v":"02.05.08"},{"$f":"B78","v":"Abwasser"},{"$f":"C78","v":"Durch Gebrauch verschmutztes abfliessendes Wasser."},"WC","Hauptanlage","WCs werden als Gruppe als Hauptanlage erfasst, wobei Dusch-WCs (wie z.B. ein Closomat) eine separate Gruppe bilden"]
[{"$f":"A78","v":"02.05.08"},{"$f":"B78","v":"Abwasser"},{"$f":"C78","v":"Durch Gebrauch verschmutztes abfliessendes Wasser."},"Kupfer-Adsorber","Hauptanlage"]
["02.05.10","Not- und Augenduschen","Einrichtung zur Ersten Hilfe, wenn Personen mit Säure, Laugen, Hitze, etc. in Kontakt kommen können.","Notdusche","Unteranlage","Not- und Augendusche werden als Unteranlage erfasst , wenn die Hauptanlage eine Gruppe ist. Falls nur eine Not- oder Augendusche vorhanden ist, wird sie als Hauptanlage erfasst."]
[{"$f":"A85","v":"02.05.10"},{"$f":"B85","v":"Not- und Augenduschen"},{"$f":"C85","v":"Einrichtung zur Ersten Hilfe, wenn Personen mit Säure, Laugen, Hitze, etc. in Kontakt kommen können."},"Augendusche","Unteranlage"]
["02.05.13","Gase allgemein","Gase allgemein enthält Gaswarnanlagen und Flaschenbatterien zur Aufbewahrung von Gasen","Gaswarnanlage","Hauptanlage","Attribut: Medium, Standort vom Sensor aufnehmen"]
["02.06","Wärme","Die Wärmeverteilung im Gebäude sowie Fernwärmeleitungen usw. sind Teil der Heizungsanlage.","Fernwärmeübergabestation","Hauptanlage","Inkl. Heisswasserumformer / Wärmetauscher"]
[{"$f":"A88","v":"02.06"},{"$f":"B88","v":"Wärme"},{"$f":"C88","v":"Die Wärmeverteilung im Gebäude sowie Fernwärmeleitungen usw. sind Teil der Heizungsanlage."},"Dampfumformer","Unteranlage","Unteranlage zur Fernwärmeübergabestation; inkl. Kondensatgefäss"]
[{"$f":"A88","v":"02.06"},{"$f":"B88","v":"Wärme"},{"$f":"C88","v":"Die Wärmeverteilung im Gebäude sowie Fernwärmeleitungen usw. sind Teil der Heizungsanlage."},"Dampferzeugungsanlage","Hauptanlage"]
[{"$f":"A88","v":"02.06"},{"$f":"B88","v":"Wärme"},{"$f":"C88","v":"Die Wärmeverteilung im Gebäude sowie Fernwärmeleitungen usw. sind Teil der Heizungsanlage."},"Wärmepumpe","Hauptanlage"]
[{"$f":"A88","v":"02.06"},{"$f":"B88","v":"Wärme"},{"$f":"C88","v":"Die Wärmeverteilung im Gebäude sowie Fernwärmeleitungen usw. sind Teil der Heizungsanlage."},"Fernwärmeunterstation","Hauptanlage"]
["02.07.01","Heizungsanlage","Heizungsanlagen dienen zur Erwärmung von Gebäuden oder einzelnen Räumen.","Heizungsanlage","Hauptanlage","\"Heizungsanlage\" beim Feld \"Bezeichnung\" zutreffender Begriff wählen (Fernwärme Heizung, Gas Heizung, Öl Heizung usw.)"]
[{"$f":"A93","v":"02.07.01"},{"$f":"B93","v":"Heizungsanlage"},{"$f":"C93","v":"Heizungsanlagen dienen zur Erwärmung von Gebäuden oder einzelnen Räumen."},"Kessel","Unteranlage","Hauptanlage: Heizungsanlage"]
[{"$f":"A93","v":"02.07.01"},{"$f":"B93","v":"Heizungsanlage"},{"$f":"C93","v":"Heizungsanlagen dienen zur Erwärmung von Gebäuden oder einzelnen Räumen."},"Kamin","Unteranlage","Hauptanlage: Heizungsanlage"]
[{"$f":"A93","v":"02.07.01"},{"$f":"B93","v":"Heizungsanlage"},{"$f":"C93","v":"Heizungsanlagen dienen zur Erwärmung von Gebäuden oder einzelnen Räumen."},"Öl Tank","Unteranlage","Hauptanlage: Heizungsanlage"]
[{"$f":"A93","v":"02.07.01"},{"$f":"B93","v":"Heizungsanlage"},{"$f":"C93","v":"Heizungsanlagen dienen zur Erwärmung von Gebäuden oder einzelnen Räumen."},"Brenner","Unteranlage","Hauptanlage: Heizungsanlage"]
[{"$f":"A93","v":"02.07.01"},{"$f":"B93","v":"Heizungsanlage"},{"$f":"C93","v":"Heizungsanlagen dienen zur Erwärmung von Gebäuden oder einzelnen Räumen."},"Freiflächenheizung","Hauptanlage"]
["02.07.05","Begleitheizungen","Begleitheizungen dienen der aufrechterhaltung einer Mindesttemperatur zur Verhinderung von Frostbildung","Begleitheizung","Hauptanlage","Z.B. bei den Dachrinnen"]
["02.08","Kälte","Die Kälte umfasst die Bereiche Kälte-Erzeugung, Umformung, Kälteverteilung sowie Kühl- und Tiefkühlräume","Kältemaschine","Hauptanlage"]
[{"$f":"A100","v":"02.08"},{"$f":"B100","v":"Kälte"},{"$f":"C100","v":"Die Kälte umfasst die Bereiche Kälte-Erzeugung, Umformung, Kälteverteilung sowie Kühl- und Tiefkühlräume"},"Ammoniakwäscher","Unteranlage","Unteranlage zur Kältemaschine"]
[{"$f":"A100","v":"02.08"},{"$f":"B100","v":"Kälte"},{"$f":"C100","v":"Die Kälte umfasst die Bereiche Kälte-Erzeugung, Umformung, Kälteverteilung sowie Kühl- und Tiefkühlräume"},"Rückkühler","Unteranlage","Unteranlage zur Kältemaschine"]
[{"$f":"A100","v":"02.08"},{"$f":"B100","v":"Kälte"},{"$f":"C100","v":"Die Kälte umfasst die Bereiche Kälte-Erzeugung, Umformung, Kälteverteilung sowie Kühl- und Tiefkühlräume"},"Dosieranlage","Unter-Unteranlage","Unteranlage zum Rückkühler"]
[{"$f":"A100","v":"02.08"},{"$f":"B100","v":"Kälte"},{"$f":"C100","v":"Die Kälte umfasst die Bereiche Kälte-Erzeugung, Umformung, Kälteverteilung sowie Kühl- und Tiefkühlräume"},"Kälteübergabestation","Hauptanlage"]
[{"$f":"A100","v":"02.08"},{"$f":"B100","v":"Kälte"},{"$f":"C100","v":"Die Kälte umfasst die Bereiche Kälte-Erzeugung, Umformung, Kälteverteilung sowie Kühl- und Tiefkühlräume"},"Kälteunterstation","Hauptanlage"]
[{"$f":"A100","v":"02.08"},{"$f":"B100","v":"Kälte"},{"$f":"C100","v":"Die Kälte umfasst die Bereiche Kälte-Erzeugung, Umformung, Kälteverteilung sowie Kühl- und Tiefkühlräume"},"Kühldecke","Unteranlage","Unteranlage zur Kältemaschine"]
[{"$f":"A100","v":"02.08"},{"$f":"B100","v":"Kälte"},{"$f":"C100","v":"Die Kälte umfasst die Bereiche Kälte-Erzeugung, Umformung, Kälteverteilung sowie Kühl- und Tiefkühlräume"},"Kühlraum","Unteranlage","Kühlzelle ist in Kühlraum enthalten, der Begriff wird als solcher nicht verwendet, die Hauptanlage ist die Kältemaschine"]
[{"$f":"A100","v":"02.08"},{"$f":"B100","v":"Kälte"},{"$f":"C100","v":"Die Kälte umfasst die Bereiche Kälte-Erzeugung, Umformung, Kälteverteilung sowie Kühl- und Tiefkühlräume"},"Tiefkühlraum","Unteranlage","Hauptanlage: Kältemaschine"]
["02.09.02","Aufzüge","Diese Artikelgruppe enthält Anlagen zur vertikalen Beförderung von Waren und Personen","Autolift","Hauptanlage"]
[{"$f":"A109","v":"02.09.02"},{"$f":"B109","v":"Aufzüge"},{"$f":"C109","v":"Diese Artikelgruppe enthält Anlagen zur vertikalen Beförderung von Waren und Personen"},"Hebebühne","Hauptanlage"]
[{"$f":"A109","v":"02.09.02"},{"$f":"B109","v":"Aufzüge"},{"$f":"C109","v":"Diese Artikelgruppe enthält Anlagen zur vertikalen Beförderung von Waren und Personen"},"Kleinwarenaufzug","Hauptanlage"]
[{"$f":"A109","v":"02.09.02"},{"$f":"B109","v":"Aufzüge"},{"$f":"C109","v":"Diese Artikelgruppe enthält Anlagen zur vertikalen Beförderung von Waren und Personen"},"Personenlift","Hauptanlage"]
[{"$f":"A109","v":"02.09.02"},{"$f":"B109","v":"Aufzüge"},{"$f":"C109","v":"Diese Artikelgruppe enthält Anlagen zur vertikalen Beförderung von Waren und Personen"},"Plattformlift","Hauptanlage"]
[{"$f":"A109","v":"02.09.02"},{"$f":"B109","v":"Aufzüge"},{"$f":"C109","v":"Diese Artikelgruppe enthält Anlagen zur vertikalen Beförderung von Waren und Personen"},"Warenlift","Hauptanlage"]
[{"$f":"A109","v":"02.09.02"},{"$f":"B109","v":"Aufzüge"},{"$f":"C109","v":"Diese Artikelgruppe enthält Anlagen zur vertikalen Beförderung von Waren und Personen"},"Baldachinaufzug","Hauptanlage"]
["02.09.04","Kraneinrichtungen","Die Krananlage ist ein technisches System bestehend aus mehreren Bauteilen die zusammen die Funktion ergeben den Umschlag von Waren zu gewährleisten. Die Fassadenbefahranlage ermöglicht den MA Zugang zu schwer erreichbaren Stellen und gehört ebenfalls zu den Kraneinrichtungen","Fassadenbefahranlage","Hauptanlage"]
[{"$f":"A116","v":"02.09.04"},{"$f":"B116","v":"Kraneinrichtungen"},{"$f":"C116","v":"Die Krananlage ist ein technisches System bestehend aus mehreren Bauteilen die zusammen die Funktion ergeben den Umschlag von Waren zu gewährleisten. Die Fassadenbefahranlage ermöglicht den MA Zugang zu schwer erreichbaren Stellen und gehört ebenfalls zu den Kraneinrichtungen"},"Krahnbahnanlage","Hauptanlage"]
["02.11","Geräte (Haushalt)","Enthält verschiedene Haushaltsgeräte","Waschmaschine","Hauptanlage"]
[{"$f":"A118","v":"02.11"},{"$f":"B118","v":"Geräte (Haushalt)"},{"$f":"C118","v":"Enthält verschiedene Haushaltsgeräte"},"Tumbler","Hauptanlage"]
["02.13","Druckgeräte","Behälter, Rohrleitungen, Ausrüstungsteile mit Sicherheitsfunktion und druckhaltende Ausrüstungsteile sowie alle an drucktragenden Teilen angebrachten Elemente wie Flansche, Stutzen, Kupplungen, Trageelemente, Hebeösen; b. Behälter: ein geschlossenes Bauteil, das zur Aufnahme von unter Druck stehenden Fluiden ausgelegt und gebaut ist, einschliesslich der direkt angebrachten Teile bis hin zur Vorrichtung für den Anschluss an andere Geräte; ein Behälter kann mehrere Druckräume aufweisen","Expansionsgefäss","Unteranlage","Expansionsgefässe sind wenn immer möglich als Unteranlage zu erfassen (Ölheizung, Gasheizung, Fernwärme, Kälteanlage usw.); Kompressoren für RWA werden nicht separat erfasst - sie gehören zur RWA"]
[{"$f":"A120","v":"02.13"},{"$f":"B120","v":"Druckgeräte"},{"$f":"C120","v":"Behälter, Rohrleitungen, Ausrüstungsteile mit Sicherheitsfunktion und druckhaltende Ausrüstungsteile sowie alle an drucktragenden Teilen angebrachten Elemente wie Flansche, Stutzen, Kupplungen, Trageelemente, Hebeösen; b. Behälter: ein geschlossenes Bauteil, das zur Aufnahme von unter Druck stehenden Fluiden ausgelegt und gebaut ist, einschliesslich der direkt angebrachten Teile bis hin zur Vorrichtung für den Anschluss an andere Geräte; ein Behälter kann mehrere Druckräume aufweisen"},"Druckluftanlage","Hauptanlage","Expansionsgefässe sind wenn immer möglich als Unteranlage zu erfassen; Kompressoren für RWA werden nicht separat erfasst - sie gehören zur RWA"]
[{"$f":"A120","v":"02.13"},{"$f":"B120","v":"Druckgeräte"},{"$f":"C120","v":"Behälter, Rohrleitungen, Ausrüstungsteile mit Sicherheitsfunktion und druckhaltende Ausrüstungsteile sowie alle an drucktragenden Teilen angebrachten Elemente wie Flansche, Stutzen, Kupplungen, Trageelemente, Hebeösen; b. Behälter: ein geschlossenes Bauteil, das zur Aufnahme von unter Druck stehenden Fluiden ausgelegt und gebaut ist, einschliesslich der direkt angebrachten Teile bis hin zur Vorrichtung für den Anschluss an andere Geräte; ein Behälter kann mehrere Druckräume aufweisen"},"Reinluftdruckanlage","Hauptanlage","Expansionsgefässe sind wenn immer möglich als Unteranlage zu erfassen; Kompressoren für RWA werden nicht separat erfasst - sie gehören zur RWA"]
["03.04","Meteostation","Anlage zur Messung der Wetterbedingungen. ","Meteostation","Hauptanlage"]
["04.02.02","Automationsstationen","Die Automationsebene übernimmt die Aufgabe die gebäudetechnischen Anlagen zu steuern und zu regeln.","Unterstation (US)","Unteranlage","US wird im Namen spezifiziert: US11 / US12 / usw. oder H960 K940 L980. Die \"Unterverteilung (UV)\" wird als Unteranlage zur Hauptverteilung (HV) erfasst. Die \"Unterstation (US)\" wird ebenfalls als Unteranlage erfasst (gleiche Ebene wie UV), jedoch 04.02.02 Automationsstationen zugeordnet. In Ausnahmefällen können US als Unter-Unteranlage erfasst werden."]
["04.07","Kücheneinrichtungen","Enthält verschiedene Küchengeräte im Gastrobereich inkl. Teeküchen","Fritteuse","Hauptanlage"]
[{"$f":"A125","v":"04.07"},{"$f":"B125","v":"Kücheneinrichtungen"},{"$f":"C125","v":"Enthält verschiedene Küchengeräte im Gastrobereich inkl. Teeküchen"},"Kippkochkessel","Hauptanlage"]
[{"$f":"A125","v":"04.07"},{"$f":"B125","v":"Kücheneinrichtungen"},{"$f":"C125","v":"Enthält verschiedene Küchengeräte im Gastrobereich inkl. Teeküchen"},"Kippbratpfanne","Hauptanlage"]
[{"$f":"A125","v":"04.07"},{"$f":"B125","v":"Kücheneinrichtungen"},{"$f":"C125","v":"Enthält verschiedene Küchengeräte im Gastrobereich inkl. Teeküchen"},"Kombi-Steamer","Hauptanlage"]
[{"$f":"A125","v":"04.07"},{"$f":"B125","v":"Kücheneinrichtungen"},{"$f":"C125","v":"Enthält verschiedene Küchengeräte im Gastrobereich inkl. Teeküchen"},"Induktionsherd","Hauptanlage"]
[{"$f":"A125","v":"04.07"},{"$f":"B125","v":"Kücheneinrichtungen"},{"$f":"C125","v":"Enthält verschiedene Küchengeräte im Gastrobereich inkl. Teeküchen"},"Kühlschrank","Hauptanlage"]
[{"$f":"A125","v":"04.07"},{"$f":"B125","v":"Kücheneinrichtungen"},{"$f":"C125","v":"Enthält verschiedene Küchengeräte im Gastrobereich inkl. Teeküchen"},"Getränkekühlschrank","Hauptanlage"]
[{"$f":"A125","v":"04.07"},{"$f":"B125","v":"Kücheneinrichtungen"},{"$f":"C125","v":"Enthält verschiedene Küchengeräte im Gastrobereich inkl. Teeküchen"},"Bainmarie","Hauptanlage"]
[{"$f":"A125","v":"04.07"},{"$f":"B125","v":"Kücheneinrichtungen"},{"$f":"C125","v":"Enthält verschiedene Küchengeräte im Gastrobereich inkl. Teeküchen"},"Wärmestrahler","Hauptanlage"]
[{"$f":"A125","v":"04.07"},{"$f":"B125","v":"Kücheneinrichtungen"},{"$f":"C125","v":"Enthält verschiedene Küchengeräte im Gastrobereich inkl. Teeküchen"},"Bandwaschmaschine","Hauptanlage"]
[{"$f":"A125","v":"04.07"},{"$f":"B125","v":"Kücheneinrichtungen"},{"$f":"C125","v":"Enthält verschiedene Küchengeräte im Gastrobereich inkl. Teeküchen"},"Schlauchhaspel","Hauptanlage"]
[{"$f":"A125","v":"04.07"},{"$f":"B125","v":"Kücheneinrichtungen"},{"$f":"C125","v":"Enthält verschiedene Küchengeräte im Gastrobereich inkl. Teeküchen"},"Förderband","Hauptanlage"]
[{"$f":"A125","v":"04.07"},{"$f":"B125","v":"Kücheneinrichtungen"},{"$f":"C125","v":"Enthält verschiedene Küchengeräte im Gastrobereich inkl. Teeküchen"},"Elektrokochherd","Hauptanlage"]
[{"$f":"A125","v":"04.07"},{"$f":"B125","v":"Kücheneinrichtungen"},{"$f":"C125","v":"Enthält verschiedene Küchengeräte im Gastrobereich inkl. Teeküchen"},"Ofen","Hauptanlage"]
[{"$f":"A125","v":"04.07"},{"$f":"B125","v":"Kücheneinrichtungen"},{"$f":"C125","v":"Enthält verschiedene Küchengeräte im Gastrobereich inkl. Teeküchen"},"Tellerwärmevorrichtung","Hauptanlage"]
[{"$f":"A125","v":"04.07"},{"$f":"B125","v":"Kücheneinrichtungen"},{"$f":"C125","v":"Enthält verschiedene Küchengeräte im Gastrobereich inkl. Teeküchen"},"Steamer","Hauptanlage"]
[{"$f":"A125","v":"04.07"},{"$f":"B125","v":"Kücheneinrichtungen"},{"$f":"C125","v":"Enthält verschiedene Küchengeräte im Gastrobereich inkl. Teeküchen"},"Abfallkühlschrank","Hauptanlage"]
[{"$f":"A125","v":"04.07"},{"$f":"B125","v":"Kücheneinrichtungen"},{"$f":"C125","v":"Enthält verschiedene Küchengeräte im Gastrobereich inkl. Teeküchen"},"Haubenspülmaschine","Hauptanlage"]
[{"$f":"A125","v":"04.07"},{"$f":"B125","v":"Kücheneinrichtungen"},{"$f":"C125","v":"Enthält verschiedene Küchengeräte im Gastrobereich inkl. Teeküchen"},"Gläserspülmaschine","Hauptanlage"]
[{"$f":"A125","v":"04.07"},{"$f":"B125","v":"Kücheneinrichtungen"},{"$f":"C125","v":"Enthält verschiedene Küchengeräte im Gastrobereich inkl. Teeküchen"},"Schockfroster","Hauptanlage"]
[{"$f":"A125","v":"04.07"},{"$f":"B125","v":"Kücheneinrichtungen"},{"$f":"C125","v":"Enthält verschiedene Küchengeräte im Gastrobereich inkl. Teeküchen"},"Kühlkorpus","Unteranlage","Hauptanlage: Kältemaschine, es gibt autonome Anlagen, diese sind als Hauptanlage aufzunehmen"]
[{"$f":"A125","v":"04.07"},{"$f":"B125","v":"Kücheneinrichtungen"},{"$f":"C125","v":"Enthält verschiedene Küchengeräte im Gastrobereich inkl. Teeküchen"},"Kühlschublade","Unteranlage","Hauptanlage: Kältemaschine, es gibt autonome Anlagen, diese sind als Hauptanlage aufzunehmen"]
[{"$f":"A125","v":"04.07"},{"$f":"B125","v":"Kücheneinrichtungen"},{"$f":"C125","v":"Enthält verschiedene Küchengeräte im Gastrobereich inkl. Teeküchen"},"Kühlwanne","Unteranlage","Hauptanlage: Kältemaschine, es gibt Kühlwannen ohne Anschluss an die Kälteanlage (nur mit Eis gefüllt), diese sind als Hauptanlage aufzunehmen"]
[{"$f":"A125","v":"04.07"},{"$f":"B125","v":"Kücheneinrichtungen"},{"$f":"C125","v":"Enthält verschiedene Küchengeräte im Gastrobereich inkl. Teeküchen"},"Tiefkühlschrank","Unteranlage","Hauptanlage: Kältemaschine, es gibt autonome Anlagen, diese sind als Hauptanlage aufzunehmen"]
[{"$f":"A125","v":"04.07"},{"$f":"B125","v":"Kücheneinrichtungen"},{"$f":"C125","v":"Enthält verschiedene Küchengeräte im Gastrobereich inkl. Teeküchen"},"Kühlvitrine","Unteranlage","Hauptanlage: Kältemaschine, es gibt autonome Anlagen, diese sind als Hauptanlage aufzunehmen"]
[{"$f":"A125","v":"04.07"},{"$f":"B125","v":"Kücheneinrichtungen"},{"$f":"C125","v":"Enthält verschiedene Küchengeräte im Gastrobereich inkl. Teeküchen"},"Tiefkühlkorpus","Hauptanlage"]
[{"$f":"A125","v":"04.07"},{"$f":"B125","v":"Kücheneinrichtungen"},{"$f":"C125","v":"Enthält verschiedene Küchengeräte im Gastrobereich inkl. Teeküchen"},"Einfahrkühlschrank","Unteranlage","Hauptanlage: Kältemaschine, es gibt autonome Anlagen, diese sind als Hauptanlage aufzunehmen"]
[{"$f":"A125","v":"04.07"},{"$f":"B125","v":"Kücheneinrichtungen"},{"$f":"C125","v":"Enthält verschiedene Küchengeräte im Gastrobereich inkl. Teeküchen"},"Kombikühlschrank","Hauptanlage"]
[{"$f":"A125","v":"04.07"},{"$f":"B125","v":"Kücheneinrichtungen"},{"$f":"C125","v":"Enthält verschiedene Küchengeräte im Gastrobereich inkl. Teeküchen"},"Dampfabzug","Hauptanlage"]
[{"$f":"A125","v":"04.07"},{"$f":"B125","v":"Kücheneinrichtungen"},{"$f":"C125","v":"Enthält verschiedene Küchengeräte im Gastrobereich inkl. Teeküchen"},"Eismaschine (Küche)","Hauptanlage"]
[{"$f":"A125","v":"04.07"},{"$f":"B125","v":"Kücheneinrichtungen"},{"$f":"C125","v":"Enthält verschiedene Küchengeräte im Gastrobereich inkl. Teeküchen"},"Weinkühler","Hauptanlage"]
[{"$f":"A125","v":"04.07"},{"$f":"B125","v":"Kücheneinrichtungen"},{"$f":"C125","v":"Enthält verschiedene Küchengeräte im Gastrobereich inkl. Teeküchen"},"Geschirrspüler","Hauptanlage"]
["04.08","Laboreinrichtung","Enthält verschiedene Laborzubehör","Erdgas- Bunsenbrenner","Unteranlage","Erdgas-Bunsenbrenner wird als Unteranlage erfasst , wenn die Hauptanlage eine Gruppe ist. Falls nur ein Erdgas-Bunsenbrenner vorhanden ist, wird er als Hauptanlage erfasst."]
[{"$f":"A157","v":"04.08"},{"$f":"B157","v":"Laboreinrichtung"},{"$f":"C157","v":"Enthält verschiedene Laborzubehör"},"Laborkapelle","Hauptanlage"]
[{"$f":"A157","v":"04.08"},{"$f":"B157","v":"Laboreinrichtung"},{"$f":"C157","v":"Enthält verschiedene Laborzubehör"},"Autoklav","Hauptanlage","Autoklav fest installiert"]
[{"$f":"A157","v":"04.08"},{"$f":"B157","v":"Laboreinrichtung"},{"$f":"C157","v":"Enthält verschiedene Laborzubehör"},"Phytotron","Hauptanlage"]
[{"$f":"A157","v":"04.08"},"Laboreinrichtung","Enthält verschiedene Laborzubehör","Konstantraum","Hauptanlage"]
["04.08","Laboreinrichtung","Enthält verschiedene Laborzubehör","Mobile Anlagen Institute","Hauptanlage","Wird nur bei Bedarf aufgenommen"]
[{"$f":"A158","v":"04.08"},"Laboreinrichtung","Enthält verschiedene Laborzubehör","Eismaschine (Labor)","Hauptanlage"]
["04.08","Laboreinrichtung","Enthält verschiedene Laborzubehör","Laborkühlwasseranlage","Hauptanlage"]
[{"$f":"A157","v":"04.08"},{"$f":"B157","v":"Laboreinrichtung"},{"$f":"C157","v":"Enthält verschiedene Laborzubehör"},"Tiefkühler (mobil)","Hauptanlage","Ist auf das entsprechende Lager zu erfassen. Der aktuelle Standort wird über die Arbeitsliste festgehalten. (siehe Beschluss)"]
["04.09","Entsorgungseinrichtungen","Enthält verschiedene Laborzubehör","Ballenpresse","Hauptanlage"]
[{"$f":"A166","v":"04.09"},{"$f":"B166","v":"Entsorgungseinrichtungen"},{"$f":"C166","v":"Enthält verschiedene Laborzubehör"},"Containerpresse","Hauptanlage"]

{"sheet":"Anlagenparameter","index":3,"n_rows":2796,"n_cols":9,"rows_kept":2796,"cut":false,"hidden":false,"merged":[]}
[]
[null,null,"Artikelgruppe","Anlagetyp","Parameterebene","Feldtyp","Beispiel","Erläuterung","Abgleich Anmerkungen Planon"]
[null,null,{"$f":"'Anlagenartenkatalog UZH'!$B$78","v":"Abwasser"},{"$f":"'Anlagenartenkatalog UZH'!$D$84","v":"Kupfer-Adsorber"},{"$f":"Hilfstabelle!$O$3","v":"Code (MSRL-Code)"},"Text","FRE_G501_S001"]
[null,null,{"$f":"'Anlagenartenkatalog UZH'!$B$78","v":"Abwasser"},{"$f":"'Anlagenartenkatalog UZH'!$D$84","v":"Kupfer-Adsorber"},{"$f":"Hilfstabelle!$O$4","v":"Bezeichnung"},"Text","Kupfer-Adsorber",{"$f":"Hilfstabelle!$P$7","v":"Die Bezeichnung einer Anlage muss eindeutig sein, sofern mehrere Anlagen im gleichen Raum sind. "}]
[null,null,{"$f":"'Anlagenartenkatalog UZH'!$B$78","v":"Abwasser"},{"$f":"'Anlagenartenkatalog UZH'!$D$84","v":"Kupfer-Adsorber"},{"$f":"Hilfstabelle!$O$5","v":"Anlagentyp (Beschreibung)"},"Text",null,{"$f":"Hilfstabelle!$P$8","v":"Verbindlich gemäss Anlagenartenkatalog"}]
[null,null,{"$f":"'Anlagenartenkatalog UZH'!$B$78","v":"Abwasser"},{"$f":"'Anlagenartenkatalog UZH'!$D$84","v":"Kupfer-Adsorber"},{"$f":"Hilfstabelle!$O$6","v":"Artikelgruppe"},"Text",{"$f":"'Anlagenartenkatalog UZH'!$A$78","v":"02.05.08"}]
[null,null,{"$f":"'Anlagenartenkatalog UZH'!$B$78","v":"Abwasser"},{"$f":"'Anlagenartenkatalog UZH'!$D$84","v":"Kupfer-Adsorber"},{"$f":"Hilfstabelle!$O$7","v":"Hauptanlage"},"Text"]
[null,null,{"$f":"'Anlagenartenkatalog UZH'!$B$78","v":"Abwasser"},{"$f":"'Anlagenartenkatalog UZH'!$D$84","v":"Kupfer-Adsorber"},{"$f":"Hilfstabelle!$O$8","v":"Objekt"},"Text","FRE"]
[null,null,{"$f":"'Anlagenartenkatalog UZH'!$B$78","v":"Abwasser"},{"$f":"'Anlagenartenkatalog UZH'!$D$84","v":"Kupfer-Adsorber"},{"$f":"Hilfstabelle!$O$9","v":"Raumkennzeichen"},"Text","D-03"]
[null,null,{"$f":"'Anlagenartenkatalog UZH'!$B$78","v":"Abwasser"},{"$f":"'Anlagenartenkatalog UZH'!$D$84","v":"Kupfer-Adsorber"},{"$f":"Hilfstabelle!$O$10","v":"Hersteller / Marke"},"Text","CREABETON AG"]
[null,null,{"$f":"'Anlagenartenkatalog UZH'!$B$78","v":"Abwasser"},{"$f":"'Anlagenartenkatalog UZH'!$D$84","v":"Kupfer-Adsorber"},{"$f":"Hilfstabelle!$O$11","v":"Modell / Artikel"},"Text","C8205 friwa-dawa 3P Metall"]
[null,null,{"$f":"'Anlagenartenkatalog UZH'!$B$78","v":"Abwasser"},{"$f":"'Anlagenartenkatalog UZH'!$D$84","v":"Kupfer-Adsorber"},{"$f":"Hilfstabelle!$O$12","v":"Seriennummer"},"Text","234564576"]
[null,null,{"$f":"'Anlagenartenkatalog UZH'!$B$78","v":"Abwasser"},{"$f":"'Anlagenartenkatalog UZH'!$D$84","v":"Kupfer-Adsorber"},{"$f":"Hilfstabelle!$O$13","v":"Servicefirma"},"Text","CREABETON AG",{"$f":"Hilfstabelle!$P$10","v":"Gemäss Offerte in Submission"}]
[null,null,{"$f":"'Anlagenartenkatalog UZH'!$B$78","v":"Abwasser"},{"$f":"'Anlagenartenkatalog UZH'!$D$84","v":"Kupfer-Adsorber"},{"$f":"Hilfstabelle!$O$14","v":"Inbetriebnahmedatum"},"Text","06.06.2030"]
[null,null,{"$f":"'Anlagenartenkatalog UZH'!$B$78","v":"Abwasser"},{"$f":"'Anlagenartenkatalog UZH'!$D$84","v":"Kupfer-Adsorber"},{"$f":"Hilfstabelle!$O$15","v":"Garantieende"},"Text","06.06.2035"]
[null,null,{"$f":"'Anlagenartenkatalog UZH'!$B$78","v":"Abwasser"},{"$f":"'Anlagenartenkatalog UZH'!$D$84","v":"Kupfer-Adsorber"},{"$f":"Hilfstabelle!$O$16","v":"Erwartetes technisches Enddatum"},"Text","06.06.2045"]
[null,null,{"$f":"'Anlagenartenkatalog UZH'!$B$78","v":"Abwasser"},{"$f":"'Anlagenartenkatalog UZH'!$D$84","v":"Kupfer-Adsorber"},{"$f":"Hilfstabelle!$O$17","v":"Anmerkung: Anzahl Wartungen pro Jahr"},"Text","Anzahl Wartungen pro Jahr: 1"]
[null,null,{"$f":"'Anlagenartenkatalog UZH'!$B$78","v":"Abwasser"},{"$f":"'Anlagenartenkatalog UZH'!$D$83","v":"WC"},{"$f":"Hilfstabelle!$O$3","v":"Code (MSRL-Code)"},"Text","MEN-§1654199554"]
[null,null,{"$f":"'Anlagenartenkatalog UZH'!$B$78","v":"Abwasser"},{"$f":"'Anlagenartenkatalog UZH'!$D$83","v":"WC"},{"$f":"Hilfstabelle!$O$4","v":"Bezeichnung"},"Text","WC Nr. 3",{"$f":"Hilfstabelle!$P$7","v":"Die Bezeichnung einer Anlage muss eindeutig sein, sofern mehrere Anlagen im gleichen Raum sind. "}]
[null,null,{"$f":"'Anlagenartenkatalog UZH'!$B$78","v":"Abwasser"},{"$f":"'Anlagenartenkatalog UZH'!$D$83","v":"WC"},{"$f":"Hilfstabelle!$O$5","v":"Anlagentyp (Beschreibung)"},"Text",null,{"$f":"Hilfstabelle!$P$8","v":"Verbindlich gemäss Anlagenartenkatalog"}]
[null,null,{"$f":"'Anlagenartenkatalog UZH'!$B$78","v":"Abwasser"},{"$f":"'Anlagenartenkatalog UZH'!$D$83","v":"WC"},{"$f":"Hilfstabelle!$O$6","v":"Artikelgruppe"},"Text",{"$f":"'Anlagenartenkatalog UZH'!$A$78","v":"02.05.08"}]
[null,null,{"$f":"'Anlagenartenkatalog UZH'!$B$78","v":"Abwasser"},{"$f":"'Anlagenartenkatalog UZH'!$D$83","v":"WC"},{"$f":"Hilfstabelle!$O$7","v":"Hauptanlage"},"Text"]
[null,null,{"$f":"'Anlagenartenkatalog UZH'!$B$78","v":"Abwasser"},{"$f":"'Anlagenartenkatalog UZH'!$D$83","v":"WC"},{"$f":"Hilfstabelle!$O$8","v":"Objekt"},"Text","MEN "]
[null,null,{"$f":"'Anlagenartenkatalog UZH'!$B$78","v":"Abwasser"},{"$f":"'Anlagenartenkatalog UZH'!$D$83","v":"WC"},{"$f":"Hilfstabelle!$O$9","v":"Raumkennzeichen"},"Text","A-13A"]
[null,null,{"$f":"'Anlagenartenkatalog UZH'!$B$78","v":"Abwasser"},{"$f":"'Anlagenartenkatalog UZH'!$D$83","v":"WC"},{"$f":"Hilfstabelle!$O$10","v":"Hersteller / Marke"},"Text","LaPreva AG"]
[null,null,{"$f":"'Anlagenartenkatalog UZH'!$B$78","v":"Abwasser"},{"$f":"'Anlagenartenkatalog UZH'!$D$83","v":"WC"},{"$f":"Hilfstabelle!$O$11","v":"Modell / Artikel"},"Text","Closomat Lima"]
[null,null,{"$f":"'Anlagenartenkatalog UZH'!$B$78","v":"Abwasser"},{"$f":"'Anlagenartenkatalog UZH'!$D$83","v":"WC"},{"$f":"Hilfstabelle!$O$12","v":"Seriennummer"},"Text","233684"]
[null,null,{"$f":"'Anlagenartenkatalog UZH'!$B$78","v":"Abwasser"},{"$f":"'Anlagenartenkatalog UZH'!$D$83","v":"WC"},{"$f":"Hilfstabelle!$O$13","v":"Servicefirma"},"Text","LaPreva AG",{"$f":"Hilfstabelle!$P$10","v":"Gemäss Offerte in Submission"}]
[null,null,{"$f":"'Anlagenartenkatalog UZH'!$B$78","v":"Abwasser"},{"$f":"'Anlagenartenkatalog UZH'!$D$83","v":"WC"},{"$f":"Hilfstabelle!$O$14","v":"Inbetriebnahmedatum"},"Text","06.06.2030"]
[null,null,{"$f":"'Anlagenartenkatalog UZH'!$B$78","v":"Abwasser"},{"$f":"'Anlagenartenkatalog UZH'!$D$83","v":"WC"},{"$f":"Hilfstabelle!$O$15","v":"Garantieende"},"Text","06.06.2035"]
[null,null,{"$f":"'Anlagenartenkatalog UZH'!$B$78","v":"Abwasser"},{"$f":"'Anlagenartenkatalog UZH'!$D$83","v":"WC"},{"$f":"Hilfstabelle!$O$16","v":"Erwartetes technisches Enddatum"},"Text","06.06.2045"]
[null,null,{"$f":"'Anlagenartenkatalog UZH'!$B$78","v":"Abwasser"},{"$f":"'Anlagenartenkatalog UZH'!$D$83","v":"WC"},"Anmerkung: Dusch-WC / Closomat Ja / Nein","Text","Dusch-WC / Closomat: Ja"]
[null,null,{"$f":"'Anlagenartenkatalog UZH'!$B$78","v":"Abwasser"},{"$f":"'Anlagenartenkatalog UZH'!$D$83","v":"WC"},{"$f":"Hilfstabelle!$O$17","v":"Anmerkung: Anzahl Wartungen pro Jahr"},"Text","Anzahl Wartungen pro Jahr: 1"]
[null,null,{"$f":"'Anlagenartenkatalog UZH'!$B$78","v":"Abwasser"},{"$f":"'Anlagenartenkatalog UZH'!$D$78","v":"Neutralisation"},{"$f":"Hilfstabelle!$O$3","v":"Code (MSRL-Code)"},"Text","FRE_G501_S001"]
[null,null,{"$f":"'Anlagenartenkatalog UZH'!$B$78","v":"Abwasser"},{"$f":"'Anlagenartenkatalog UZH'!$D$78","v":"Neutralisation"},{"$f":"Hilfstabelle!$O$4","v":"Bezeichnung"},"Text","Neutralisation",{"$f":"Hilfstabelle!$P$7","v":"Die Bezeichnung einer Anlage muss eindeutig sein, sofern mehrere Anlagen im gleichen Raum sind. "}]
[null,null,{"$f":"'Anlagenartenkatalog UZH'!$B$78","v":"Abwasser"},{"$f":"'Anlagenartenkatalog UZH'!$D$78","v":"Neutralisation"},{"$f":"Hilfstabelle!$O$5","v":"Anlagentyp (Beschreibung)"},"Text",null,{"$f":"Hilfstabelle!$P$8","v":"Verbindlich gemäss Anlagenartenkatalog"}]
[null,null,{"$f":"'Anlagenartenkatalog UZH'!$B$78","v":"Abwasser"},{"$f":"'Anlagenartenkatalog UZH'!$D$78","v":"Neutralisation"},{"$f":"Hilfstabelle!$O$6","v":"Artikelgruppe"},"Text",{"$f":"'Anlagenartenkatalog UZH'!$A$78","v":"02.05.08"}]
[null,null,{"$f":"'Anlagenartenkatalog UZH'!$B$78","v":"Abwasser"},{"$f":"'Anlagenartenkatalog UZH'!$D$78","v":"Neutralisation"},{"$f":"Hilfstabelle!$O$7","v":"Hauptanlage"},"Text"]
[null,null,{"$f":"'Anlagenartenkatalog UZH'!$B$78","v":"Abwasser"},{"$f":"'Anlagenartenkatalog UZH'!$D$78","v":"Neutralisation"},{"$f":"Hilfstabelle!$O$8","v":"Objekt"},"Text","FRE"]
[null,null,{"$f":"'Anlagenartenkatalog UZH'!$B$78","v":"Abwasser"},{"$f":"'Anlagenartenkatalog UZH'!$D$78","v":"Neutralisation"},{"$f":"Hilfstabelle!$O$9","v":"Raumkennzeichen"},"Text","D-02"]
[null,null,{"$f":"'Anlagenartenkatalog UZH'!$B$78","v":"Abwasser"},{"$f":"'Anlagenartenkatalog UZH'!$D$78","v":"Neutralisation"},{"$f":"Hilfstabelle!$O$10","v":"Hersteller / Marke"},"Text","Aquaren GmbH"]
[null,null,{"$f":"'Anlagenartenkatalog UZH'!$B$78","v":"Abwasser"},{"$f":"'Anlagenartenkatalog UZH'!$D$78","v":"Neutralisation"},{"$f":"Hilfstabelle!$O$11","v":"Modell / Artikel"},"Text","CP-Anlagen"]
[null,null,{"$f":"'Anlagenartenkatalog UZH'!$B$78","v":"Abwasser"},{"$f":"'Anlagenartenkatalog UZH'!$D$78","v":"Neutralisation"},{"$f":"Hilfstabelle!$O$12","v":"Seriennummer"},"Text","876464446"]
[null,null,{"$f":"'Anlagenartenkatalog UZH'!$B$78","v":"Abwasser"},{"$f":"'Anlagenartenkatalog UZH'!$D$78","v":"Neutralisation"},{"$f":"Hilfstabelle!$O$13","v":"Servicefirma"},"Text","Aquaren GmbH",{"$f":"Hilfstabelle!$P$10","v":"Gemäss Offerte in Submission"}]
[null,null,{"$f":"'Anlagenartenkatalog UZH'!$B$78","v":"Abwasser"},{"$f":"'Anlagenartenkatalog UZH'!$D$78","v":"Neutralisation"},{"$f":"Hilfstabelle!$O$14","v":"Inbetriebnahmedatum"},"Text","06.06.2030"]
[null,null,{"$f":"'Anlagenartenkatalog UZH'!$B$78","v":"Abwasser"},{"$f":"'Anlagenartenkatalog UZH'!$D$78","v":"Neutralisation"},{"$f":"Hilfstabelle!$O$15","v":"Garantieende"},"Text","06.06.2035"]
[null,null,{"$f":"'Anlagenartenkatalog UZH'!$B$78","v":"Abwasser"},{"$f":"'Anlagenartenkatalog UZH'!$D$78","v":"Neutralisation"},{"$f":"Hilfstabelle!$O$16","v":"Erwartetes technisches Enddatum"},"Text","06.06.2045"]
[null,null,"Abwasser",{"$f":"'Anlagenartenkatalog UZH'!$D$78","v":"Neutralisation"},"Anmerkung: Wasserdüsen vorhanden Ja / Nein","Text","Wasserdüsen vorhanden: Ja","(zur Einbringung von Gasen wie CO2)"]
[null,null,{"$f":"'Anlagenartenkatalog UZH'!$B$78","v":"Abwasser"},{"$f":"'Anlagenartenkatalog UZH'!$D$78","v":"Neutralisation"},{"$f":"Hilfstabelle!$O$17","v":"Anmerkung: Anzahl Wartungen pro Jahr"},"Text","Anzahl Wartungen pro Jahr: 1"]
[null,null,{"$f":"'Anlagenartenkatalog UZH'!$B$78","v":"Abwasser"},{"$f":"'Anlagenartenkatalog UZH'!$D$79","v":"Schmutzwasserpumpe"},{"$f":"Hilfstabelle!$O$3","v":"Code (MSRL-Code)"},"Text","FRE_G501_S001"]
[null,null,{"$f":"'Anlagenartenkatalog UZH'!$B$78","v":"Abwasser"},{"$f":"'Anlagenartenkatalog UZH'!$D$79","v":"Schmutzwasserpumpe"},{"$f":"Hilfstabelle!$O$4","v":"Bezeichnung"},"Text","Schmutzwasserpumpe 2",{"$f":"Hilfstabelle!$P$7","v":"Die Bezeichnung einer Anlage muss eindeutig sein, sofern mehrere Anlagen im gleichen Raum sind. "}]
[null,null,{"$f":"'Anlagenartenkatalog UZH'!$B$78","v":"Abwasser"},{"$f":"'Anlagenartenkatalog UZH'!$D$79","v":"Schmutzwasserpumpe"},{"$f":"Hilfstabelle!$O$5","v":"Anlagentyp (Beschreibung)"},"Text",null,{"$f":"Hilfstabelle!$P$8","v":"Verbindlich gemäss Anlagenartenkatalog"}]
[null,null,{"$f":"'Anlagenartenkatalog UZH'!$B$78","v":"Abwasser"},{"$f":"'Anlagenartenkatalog UZH'!$D$79","v":"Schmutzwasserpumpe"},{"$f":"Hilfstabelle!$O$6","v":"Artikelgruppe"},"Text",{"$f":"'Anlagenartenkatalog UZH'!$A$78","v":"02.05.08"}]
[null,null,{"$f":"'Anlagenartenkatalog UZH'!$B$78","v":"Abwasser"},{"$f":"'Anlagenartenkatalog UZH'!$D$79","v":"Schmutzwasserpumpe"},{"$f":"Hilfstabelle!$O$7","v":"Hauptanlage"},"Text"]
[null,null,{"$f":"'Anlagenartenkatalog UZH'!$B$78","v":"Abwasser"},{"$f":"'Anlagenartenkatalog UZH'!$D$79","v":"Schmutzwasserpumpe"},{"$f":"Hilfstabelle!$O$8","v":"Objekt"},"Text","FRE"]
[null,null,{"$f":"'Anlagenartenkatalog UZH'!$B$78","v":"Abwasser"},{"$f":"'Anlagenartenkatalog UZH'!$D$79","v":"Schmutzwasserpumpe"},{"$f":"Hilfstabelle!$O$9","v":"Raumkennzeichen"},"Text","D-05"]
[null,null,{"$f":"'Anlagenartenkatalog UZH'!$B$78","v":"Abwasser"},{"$f":"'Anlagenartenkatalog UZH'!$D$79","v":"Schmutzwasserpumpe"},{"$f":"Hilfstabelle!$O$10","v":"Hersteller / Marke"},"Text","Elpumps Switzerland GmbH"]
[null,null,{"$f":"'Anlagenartenkatalog UZH'!$B$78","v":"Abwasser"},{"$f":"'Anlagenartenkatalog UZH'!$D$79","v":"Schmutzwasserpumpe"},{"$f":"Hilfstabelle!$O$11","v":"Modell / Artikel"},"Text","Schmutzwasserpumpe BTSZ 400"]
[null,null,{"$f":"'Anlagenartenkatalog UZH'!$B$78","v":"Abwasser"},{"$f":"'Anlagenartenkatalog UZH'!$D$79","v":"Schmutzwasserpumpe"},{"$f":"Hilfstabelle!$O$12","v":"Seriennummer"},"Text","23456376"]
[null,null,{"$f":"'Anlagenartenkatalog UZH'!$B$78","v":"Abwasser"},{"$f":"'Anlagenartenkatalog UZH'!$D$79","v":"Schmutzwasserpumpe"},{"$f":"Hilfstabelle!$O$13","v":"Servicefirma"},"Text","Elpumps Switzerland GmbH",{"$f":"Hilfstabelle!$P$10","v":"Gemäss Offerte in Submission"}]
[null,null,{"$f":"'Anlagenartenkatalog UZH'!$B$78","v":"Abwasser"},{"$f":"'Anlagenartenkatalog UZH'!$D$79","v":"Schmutzwasserpumpe"},{"$f":"Hilfstabelle!$O$14","v":"Inbetriebnahmedatum"},"Text","06.06.2030"]
[null,null,{"$f":"'Anlagenartenkatalog UZH'!$B$78","v":"Abwasser"},{"$f":"'Anlagenartenkatalog UZH'!$D$79","v":"Schmutzwasserpumpe"},{"$f":"Hilfstabelle!$O$15","v":"Garantieende"},"Text","06.06.2035"]
[null,null,{"$f":"'Anlagenartenkatalog UZH'!$B$78","v":"Abwasser"},{"$f":"'Anlagenartenkatalog UZH'!$D$79","v":"Schmutzwasserpumpe"},{"$f":"Hilfstabelle!$O$16","v":"Erwartetes technisches Enddatum"},"Text","06.06.2045"]
[null,null,{"$f":"'Anlagenartenkatalog UZH'!$B$78","v":"Abwasser"},{"$f":"'Anlagenartenkatalog UZH'!$D$79","v":"Schmutzwasserpumpe"},"Anmerkung: Durchleitung von Feststoffen bis zu [mm]","Text","Durchleitung von Feststoffen bis zu: 35 mm"]
[null,null,{"$f":"'Anlagenartenkatalog UZH'!$B$78","v":"Abwasser"},{"$f":"'Anlagenartenkatalog UZH'!$D$79","v":"Schmutzwasserpumpe"},{"$f":"Hilfstabelle!$O$17","v":"Anmerkung: Anzahl Wartungen pro Jahr"},"Text","Anzahl Wartungen pro Jahr: 1"]
[null,null,{"$f":"'Anlagenartenkatalog UZH'!$B$78","v":"Abwasser"},{"$f":"'Anlagenartenkatalog UZH'!$D$81","v":"Grundwasserpumpe"},{"$f":"Hilfstabelle!$O$3","v":"Code (MSRL-Code)"},"Text","FRE_C_G201_S011"]
[null,null,{"$f":"'Anlagenartenkatalog UZH'!$B$78","v":"Abwasser"},{"$f":"'Anlagenartenkatalog UZH'!$D$81","v":"Grundwasserpumpe"},{"$f":"Hilfstabelle!$O$4","v":"Bezeichnung"},"Text","Grundwasserpumpe 1",{"$f":"Hilfstabelle!$P$7","v":"Die Bezeichnung einer Anlage muss eindeutig sein, sofern mehrere Anlagen im gleichen Raum sind. "}]
[null,null,{"$f":"'Anlagenartenkatalog UZH'!$B$78","v":"Abwasser"},{"$f":"'Anlagenartenkatalog UZH'!$D$81","v":"Grundwasserpumpe"},{"$f":"Hilfstabelle!$O$5","v":"Anlagentyp (Beschreibung)"},"Text",null,{"$f":"Hilfstabelle!$P$8","v":"Verbindlich gemäss Anlagenartenkatalog"}]
[null,null,{"$f":"'Anlagenartenkatalog UZH'!$B$78","v":"Abwasser"},{"$f":"'Anlagenartenkatalog UZH'!$D$81","v":"Grundwasserpumpe"},{"$f":"Hilfstabelle!$O$6","v":"Artikelgruppe"},"Text",{"$f":"'Anlagenartenkatalog UZH'!$A$78","v":"02.05.08"}]
[null,null,{"$f":"'Anlagenartenkatalog UZH'!$B$78","v":"Abwasser"},{"$f":"'Anlagenartenkatalog UZH'!$D$81","v":"Grundwasserpumpe"},{"$f":"Hilfstabelle!$O$7","v":"Hauptanlage"},"Text"]
[null,null,{"$f":"'Anlagenartenkatalog UZH'!$B$78","v":"Abwasser"},{"$f":"'Anlagenartenkatalog UZH'!$D$81","v":"Grundwasserpumpe"},{"$f":"Hilfstabelle!$O$8","v":"Objekt"},"Text","FRE "]
[null,null,{"$f":"'Anlagenartenkatalog UZH'!$B$78","v":"Abwasser"},{"$f":"'Anlagenartenkatalog UZH'!$D$81","v":"Grundwasserpumpe"},{"$f":"Hilfstabelle!$O$9","v":"Raumkennzeichen"},"Text","C-1a"]
[null,null,{"$f":"'Anlagenartenkatalog UZH'!$B$78","v":"Abwasser"},{"$f":"'Anlagenartenkatalog UZH'!$D$81","v":"Grundwasserpumpe"},{"$f":"Hilfstabelle!$O$10","v":"Hersteller / Marke"},"Text","Brunner AG"]
[null,null,{"$f":"'Anlagenartenkatalog UZH'!$B$78","v":"Abwasser"},{"$f":"'Anlagenartenkatalog UZH'!$D$81","v":"Grundwasserpumpe"},{"$f":"Hilfstabelle!$O$11","v":"Modell / Artikel"},"Text","ZEV BLUE 50MS"]
[null,null,{"$f":"'Anlagenartenkatalog UZH'!$B$78","v":"Abwasser"},{"$f":"'Anlagenartenkatalog UZH'!$D$81","v":"Grundwasserpumpe"},{"$f":"Hilfstabelle!$O$12","v":"Seriennummer"},"Text","05370"]
[null,null,{"$f":"'Anlagenartenkatalog UZH'!$B$78","v":"Abwasser"},{"$f":"'Anlagenartenkatalog UZH'!$D$81","v":"Grundwasserpumpe"},{"$f":"Hilfstabelle!$O$13","v":"Servicefirma"},"Text","Häny AG",{"$f":"Hilfstabelle!$P$10","v":"Gemäss Offerte in Submission"}]
[null,null,{"$f":"'Anlagenartenkatalog UZH'!$B$78","v":"Abwasser"},{"$f":"'Anlagenartenkatalog UZH'!$D$81","v":"Grundwasserpumpe"},{"$f":"Hilfstabelle!$O$14","v":"Inbetriebnahmedatum"},"Text","06.06.2030"]
[null,null,{"$f":"'Anlagenartenkatalog UZH'!$B$78","v":"Abwasser"},{"$f":"'Anlagenartenkatalog UZH'!$D$81","v":"Grundwasserpumpe"},{"$f":"Hilfstabelle!$O$15","v":"Garantieende"},"Text","06.06.2035"]
[null,null,{"$f":"'Anlagenartenkatalog UZH'!$B$78","v":"Abwasser"},{"$f":"'Anlagenartenkatalog UZH'!$D$81","v":"Grundwasserpumpe"},{"$f":"Hilfstabelle!$O$16","v":"Erwartetes technisches Enddatum"},"Text","06.06.2045"]
[null,null,{"$f":"'Anlagenartenkatalog UZH'!$B$78","v":"Abwasser"},{"$f":"'Anlagenartenkatalog UZH'!$D$81","v":"Grundwasserpumpe"},{"$f":"Hilfstabelle!$O$17","v":"Anmerkung: Anzahl Wartungen pro Jahr"},"Text","Anzahl Wartungen pro Jahr: 1"]
[null,null,{"$f":"'Anlagenartenkatalog UZH'!$B$78","v":"Abwasser"},{"$f":"'Anlagenartenkatalog UZH'!$D$82","v":"Urinale"},{"$f":"Hilfstabelle!$O$3","v":"Code (MSRL-Code)"},"Text","FRE_G501_S001","(Sofern vorhanden)"]
[null,null,{"$f":"'Anlagenartenkatalog UZH'!$B$78","v":"Abwasser"},{"$f":"'Anlagenartenkatalog UZH'!$D$82","v":"Urinale"},{"$f":"Hilfstabelle!$O$4","v":"Bezeichnung"},"Text","Urinal",{"$f":"Hilfstabelle!$P$7","v":"Die Bezeichnung einer Anlage muss eindeutig sein, sofern mehrere Anlagen im gleichen Raum sind. "}]
[null,null,{"$f":"'Anlagenartenkatalog UZH'!$B$78","v":"Abwasser"},{"$f":"'Anlagenartenkatalog UZH'!$D$82","v":"Urinale"},{"$f":"Hilfstabelle!$O$5","v":"Anlagentyp (Beschreibung)"},"Text",null,{"$f":"Hilfstabelle!$P$8","v":"Verbindlich gemäss Anlagenartenkatalog"}]
[null,null,{"$f":"'Anlagenartenkatalog UZH'!$B$78","v":"Abwasser"},{"$f":"'Anlagenartenkatalog UZH'!$D$82","v":"Urinale"},{"$f":"Hilfstabelle!$O$6","v":"Artikelgruppe"},"Text",{"$f":"'Anlagenartenkatalog UZH'!$A$78","v":"02.05.08"}]
[null,null,{"$f":"'Anlagenartenkatalog UZH'!$B$78","v":"Abwasser"},{"$f":"'Anlagenartenkatalog UZH'!$D$82","v":"Urinale"},{"$f":"Hilfstabelle!$O$7","v":"Hauptanlage"},"Text"]
[null,null,{"$f":"'Anlagenartenkatalog UZH'!$B$78","v":"Abwasser"},{"$f":"'Anlagenartenkatalog UZH'!$D$82","v":"Urinale"},{"$f":"Hilfstabelle!$O$8","v":"Objekt"},"Text","SOC"]
[null,null,{"$f":"'Anlagenartenkatalog UZH'!$B$78","v":"Abwasser"},{"$f":"'Anlagenartenkatalog UZH'!$D$82","v":"Urinale"},{"$f":"Hilfstabelle!$O$9","v":"Raumkennzeichen"},"Text","E-05"]
[null,null,{"$f":"'Anlagenartenkatalog UZH'!$B$78","v":"Abwasser"},{"$f":"'Anlagenartenkatalog UZH'!$D$82","v":"Urinale"},{"$f":"Hilfstabelle!$O$10","v":"Hersteller / Marke"},"Text","Geberit Vertriebs AG"]
[null,null,{"$f":"'Anlagenartenkatalog UZH'!$B$78","v":"Abwasser"},{"$f":"'Anlagenartenkatalog UZH'!$D$82","v":"Urinale"},{"$f":"Hilfstabelle!$O$11","v":"Modell / Artikel"},"Text","Geberit Renova S"]
[null,null,{"$f":"'Anlagenartenkatalog UZH'!$B$78","v":"Abwasser"},{"$f":"'Anlagenartenkatalog UZH'!$D$82","v":"Urinale"},{"$f":"Hilfstabelle!$O$12","v":"Seriennummer"},"Text","234564"]
[null,null,{"$f":"'Anlagenartenkatalog UZH'!$B$78","v":"Abwasser"},{"$f":"'Anlagenartenkatalog UZH'!$D$82","v":"Urinale"},{"$f":"Hilfstabelle!$O$13","v":"Servicefirma"},"Text","Geberit Vertriebs AG",{"$f":"Hilfstabelle!$P$10","v":"Gemäss Offerte in Submission"}]
[null,null,{"$f":"'Anlagenartenkatalog UZH'!$B$78","v":"Abwasser"},{"$f":"'Anlagenartenkatalog UZH'!$D$82","v":"Urinale"},{"$f":"Hilfstabelle!$O$14","v":"Inbetriebnahmedatum"},"Text","06.06.2030"]
[null,null,{"$f":"'Anlagenartenkatalog UZH'!$B$78","v":"Abwasser"},{"$f":"'Anlagenartenkatalog UZH'!$D$82","v":"Urinale"},{"$f":"Hilfstabelle!$O$15","v":"Garantieende"},"Text","06.06.2035"]
[null,null,{"$f":"'Anlagenartenkatalog UZH'!$B$78","v":"Abwasser"},{"$f":"'Anlagenartenkatalog UZH'!$D$82","v":"Urinale"},{"$f":"Hilfstabelle!$O$16","v":"Erwartetes technisches Enddatum"},"Text","06.06.2045"]
[null,null,{"$f":"'Anlagenartenkatalog UZH'!$B$78","v":"Abwasser"},{"$f":"'Anlagenartenkatalog UZH'!$D$82","v":"Urinale"},"Anmerkung: Wasserlos Ja / Nein","Text","Wasserlos: Nein"]
[null,null,{"$f":"'Anlagenartenkatalog UZH'!$B$78","v":"Abwasser"},{"$f":"'Anlagenartenkatalog UZH'!$D$82","v":"Urinale"},"Anmerkung: Art der Stromversorgung","Text","Art der Stromversorgung: Netzbetrieb","Alternativen: \"Kein Stromanschluss\", bei \"Batteriebetrieb\" sind zusätzlich die Anzahl und der Batterietyp zu ergänzen"]
[null,null,{"$f":"'Anlagenartenkatalog UZH'!$B$78","v":"Abwasser"},{"$f":"'Anlagenartenkatalog UZH'!$D$82","v":"Urinale"},{"$f":"Hilfstabelle!$O$17","v":"Anmerkung: Anzahl Wartungen pro Jahr"},"Text","Anzahl Wartungen pro Jahr: 1"]
[null,null,{"$f":"'Anlagenartenkatalog UZH'!$B$78","v":"Abwasser"},{"$f":"'Anlagenartenkatalog UZH'!$D$80","v":"Fäkalienpumpe"},{"$f":"Hilfstabelle!$O$3","v":"Code (MSRL-Code)"},"Text","ZUG-US12-S001"]
[null,null,{"$f":"'Anlagenartenkatalog UZH'!$B$78","v":"Abwasser"},{"$f":"'Anlagenartenkatalog UZH'!$D$80","v":"Fäkalienpumpe"},{"$f":"Hilfstabelle!$O$4","v":"Bezeichnung"},"Text","Fäkalienpumpe 287018",{"$f":"Hilfstabelle!$P$7","v":"Die Bezeichnung einer Anlage muss eindeutig sein, sofern mehrere Anlagen im gleichen Raum sind. "}]
[null,null,{"$f":"'Anlagenartenkatalog UZH'!$B$78","v":"Abwasser"},{"$f":"'Anlagenartenkatalog UZH'!$D$80","v":"Fäkalienpumpe"},{"$f":"Hilfstabelle!$O$5","v":"Anlagentyp (Beschreibung)"},"Text",null,{"$f":"Hilfstabelle!$P$8","v":"Verbindlich gemäss Anlagenartenkatalog"}]
[null,null,{"$f":"'Anlagenartenkatalog UZH'!$B$78","v":"Abwasser"},{"$f":"'Anlagenartenkatalog UZH'!$D$80","v":"Fäkalienpumpe"},{"$f":"Hilfstabelle!$O$6","v":"Artikelgruppe"},"Text","02.05.08"]
[null,null,{"$f":"'Anlagenartenkatalog UZH'!$B$78","v":"Abwasser"},{"$f":"'Anlagenartenkatalog UZH'!$D$80","v":"Fäkalienpumpe"},{"$f":"Hilfstabelle!$O$7","v":"Hauptanlage"},"Text","Ja","Hauptanlage / Unteranlage / Gruppe"]
[null,null,{"$f":"'Anlagenartenkatalog UZH'!$B$78","v":"Abwasser"},{"$f":"'Anlagenartenkatalog UZH'!$D$80","v":"Fäkalienpumpe"},{"$f":"Hilfstabelle!$O$8","v":"Objekt"},"Text","ZUG "]
[null,null,{"$f":"'Anlagenartenkatalog UZH'!$B$78","v":"Abwasser"},{"$f":"'Anlagenartenkatalog UZH'!$D$80","v":"Fäkalienpumpe"},{"$f":"Hilfstabelle!$O$9","v":"Raumkennzeichen"},"Text","C-103B"]
[null,null,{"$f":"'Anlagenartenkatalog UZH'!$B$78","v":"Abwasser"},{"$f":"'Anlagenartenkatalog UZH'!$D$80","v":"Fäkalienpumpe"},{"$f":"Hilfstabelle!$O$10","v":"Hersteller / Marke"},"Text","Häny AG"]
[null,null,{"$f":"'Anlagenartenkatalog UZH'!$B$78","v":"Abwasser"},{"$f":"'Anlagenartenkatalog UZH'!$D$80","v":"Fäkalienpumpe"},{"$f":"Hilfstabelle!$O$11","v":"Modell / Artikel"},"Text","KCW080HG"]
[null,null,{"$f":"'Anlagenartenkatalog UZH'!$B$78","v":"Abwasser"},{"$f":"'Anlagenartenkatalog UZH'!$D$80","v":"Fäkalienpumpe"},{"$f":"Hilfstabelle!$O$12","v":"Seriennummer"},"Text","227179/6"]
[null,null,{"$f":"'Anlagenartenkatalog UZH'!$B$78","v":"Abwasser"},{"$f":"'Anlagenartenkatalog UZH'!$D$80","v":"Fäkalienpumpe"},{"$f":"Hilfstabelle!$O$13","v":"Servicefirma"},"Text","Häny AG",{"$f":"Hilfstabelle!$P$10","v":"Gemäss Offerte in Submission"}]
[null,null,{"$f":"'Anlagenartenkatalog UZH'!$B$78","v":"Abwasser"},{"$f":"'Anlagenartenkatalog UZH'!$D$80","v":"Fäkalienpumpe"},{"$f":"Hilfstabelle!$O$14","v":"Inbetriebnahmedatum"},"Text","06.06.2030"]
[null,null,{"$f":"'Anlagenartenkatalog UZH'!$B$78","v":"Abwasser"},{"$f":"'Anlagenartenkatalog UZH'!$D$80","v":"Fäkalienpumpe"},{"$f":"Hilfstabelle!$O$15","v":"Garantieende"},"Text","06.06.2035"]
[null,null,{"$f":"'Anlagenartenkatalog UZH'!$B$78","v":"Abwasser"},{"$f":"'Anlagenartenkatalog UZH'!$D$80","v":"Fäkalienpumpe"},{"$f":"Hilfstabelle!$O$16","v":"Erwartetes technisches Enddatum"},"Text","06.06.2045"]
[null,null,{"$f":"'Anlagenartenkatalog UZH'!$B$78","v":"Abwasser"},{"$f":"'Anlagenartenkatalog UZH'!$D$80","v":"Fäkalienpumpe"},{"$f":"Hilfstabelle!$O$17","v":"Anmerkung: Anzahl Wartungen pro Jahr"},"Text","Anzahl Wartungen pro Jahr: 1"]
[null,null,{"$f":"'Anlagenartenkatalog UZH'!$B$109","v":"Aufzüge"},{"$f":"'Anlagenartenkatalog UZH'!$D$113","v":"Plattformlift"},{"$f":"Hilfstabelle!$O$3","v":"Code (MSRL-Code)"},"Text","ZUG-US12-A004"]
[null,null,{"$f":"'Anlagenartenkatalog UZH'!$B$109","v":"Aufzüge"},{"$f":"'Anlagenartenkatalog UZH'!$D$113","v":"Plattformlift"},{"$f":"Hilfstabelle!$O$4","v":"Bezeichnung"},"Text","Plattformlift Nr. 116",{"$f":"Hilfstabelle!$P$7","v":"Die Bezeichnung einer Anlage muss eindeutig sein, sofern mehrere Anlagen im gleichen Raum sind. "}]
[null,null,{"$f":"'Anlagenartenkatalog UZH'!$B$109","v":"Aufzüge"},{"$f":"'Anlagenartenkatalog UZH'!$D$113","v":"Plattformlift"},{"$f":"Hilfstabelle!$O$5","v":"Anlagentyp (Beschreibung)"},"Text",null,{"$f":"Hilfstabelle!$P$8","v":"Verbindlich gemäss Anlagenartenkatalog"}]
[null,null,{"$f":"'Anlagenartenkatalog UZH'!$B$109","v":"Aufzüge"},{"$f":"'Anlagenartenkatalog UZH'!$D$113","v":"Plattformlift"},{"$f":"Hilfstabelle!$O$6","v":"Artikelgruppe"},"Text",{"$f":"'Anlagenartenkatalog UZH'!$A$109","v":"02.09.02"}]
[null,null,{"$f":"'Anlagenartenkatalog UZH'!$B$109","v":"Aufzüge"},{"$f":"'Anlagenartenkatalog UZH'!$D$113","v":"Plattformlift"},{"$f":"Hilfstabelle!$O$7","v":"Hauptanlage"},"Text"]
[null,null,{"$f":"'Anlagenartenkatalog UZH'!$B$109","v":"Aufzüge"},{"$f":"'Anlagenartenkatalog UZH'!$D$113","v":"Plattformlift"},{"$f":"Hilfstabelle!$O$8","v":"Objekt"},"Text","ZUG "]
[null,null,{"$f":"'Anlagenartenkatalog UZH'!$B$109","v":"Aufzüge"},{"$f":"'Anlagenartenkatalog UZH'!$D$113","v":"Plattformlift"},{"$f":"Hilfstabelle!$O$9","v":"Raumkennzeichen"},"Text","C-401J"]
[null,null,{"$f":"'Anlagenartenkatalog UZH'!$B$109","v":"Aufzüge"},{"$f":"'Anlagenartenkatalog UZH'!$D$113","v":"Plattformlift"},{"$f":"Hilfstabelle!$O$10","v":"Hersteller / Marke"},"Text","ROWI-TECH AG"]
[null,null,{"$f":"'Anlagenartenkatalog UZH'!$B$109","v":"Aufzüge"},{"$f":"'Anlagenartenkatalog UZH'!$D$113","v":"Plattformlift"},{"$f":"Hilfstabelle!$O$11","v":"Modell / Artikel"},"Text","Zahnstangenantrieb"]
[null,null,{"$f":"'Anlagenartenkatalog UZH'!$B$109","v":"Aufzüge"},{"$f":"'Anlagenartenkatalog UZH'!$D$113","v":"Plattformlift"},{"$f":"Hilfstabelle!$O$12","v":"Seriennummer"},"Text","116"]
[null,null,{"$f":"'Anlagenartenkatalog UZH'!$B$109","v":"Aufzüge"},{"$f":"'Anlagenartenkatalog UZH'!$D$113","v":"Plattformlift"},{"$f":"Hilfstabelle!$O$13","v":"Servicefirma"},"Text","ROWI-TECH AG",{"$f":"Hilfstabelle!$P$10","v":"Gemäss Offerte in Submission"}]
[null,null,{"$f":"'Anlagenartenkatalog UZH'!$B$109","v":"Aufzüge"},{"$f":"'Anlagenartenkatalog UZH'!$D$113","v":"Plattformlift"},{"$f":"Hilfstabelle!$O$14","v":"Inbetriebnahmedatum"},"Text","06.06.2030"]
[null,null,{"$f":"'Anlagenartenkatalog UZH'!$B$109","v":"Aufzüge"},{"$f":"'Anlagenartenkatalog UZH'!$D$113","v":"Plattformlift"},{"$f":"Hilfstabelle!$O$15","v":"Garantieende"},"Text","06.06.2035"]
[null,null,{"$f":"'Anlagenartenkatalog UZH'!$B$109","v":"Aufzüge"},{"$f":"'Anlagenartenkatalog UZH'!$D$113","v":"Plattformlift"},{"$f":"Hilfstabelle!$O$16","v":"Erwartetes technisches Enddatum"},"Text","06.06.2045"]
[null,null,"Aufzüge","Plattformlift","Anmerkung: Pikett-Tel.","Text","Pikett-Tel.: 041 910 50 78"]
[null,null,"Aufzüge","Plattformlift","Anmerkung: Barrierefrei Ja / Nein","Text","Barrierefrei: Ja"]
[null,null,"Aufzüge","Plattformlift","Anmerkung: Stockwerke","Text","Stockwerke: EG - 1.UG"]
[null,null,"Aufzüge","Plattformlift","Anmerkung: Standort Maschinenraum","Text","Standort Maschinenraum: 2.UG hinter WC /Dusche (D-401)"]
[null,null,"Aufzüge","Plattformlift","Anmerkung: Tel. Typ","Text","Tel. Typ: Nicht notw."]
[null,null,"Aufzüge","Plattformlift","Anmerkung: Tel. Nr.","Zahl","Tel Nr.: ---"]
[null,null,"Aufzüge","Plattformlift","Anmerkung: Lift ausser Betrieb nehmen bei Netzwerkunterbruch zur Sicherheit","Text","Lift ausser Betrieb nehmen bei Netzwerkunterbruch zur Sicherheit: Ja"]
[null,null,"Aufzüge","Plattformlift","Anmerkung: Rufnummer SIM Karte","Text","Rufnummer Sim Karte: ---"]
[null,null,{"$f":"'Anlagenartenkatalog UZH'!$B$109","v":"Aufzüge"},{"$f":"'Anlagenartenkatalog UZH'!$D$113","v":"Plattformlift"},{"$f":"Hilfstabelle!$O$17","v":"Anmerkung: Anzahl Wartungen pro Jahr"},"Text","Anzahl Wartungen pro Jahr: 2"]
[null,null,{"$f":"'Anlagenartenkatalog UZH'!$B$109","v":"Aufzüge"},{"$f":"'Anlagenartenkatalog UZH'!$D$114","v":"Warenlift"},{"$f":"Hilfstabelle!$O$3","v":"Code (MSRL-Code)"},"Text","KOL-US21-A001"]
[null,null,{"$f":"'Anlagenartenkatalog UZH'!$B$109","v":"Aufzüge"},{"$f":"'Anlagenartenkatalog UZH'!$D$114","v":"Warenlift"},{"$f":"Hilfstabelle!$O$4","v":"Bezeichnung"},"Text","Warenlift Süd Nr. 5174",{"$f":"Hilfstabelle!$P$7","v":"Die Bezeichnung einer Anlage muss eindeutig sein, sofern mehrere Anlagen im gleichen Raum sind. "}]
[null,null,{"$f":"'Anlagenartenkatalog UZH'!$B$109","v":"Aufzüge"},{"$f":"'Anlagenartenkatalog UZH'!$D$114","v":"Warenlift"},{"$f":"Hilfstabelle!$O$5","v":"Anlagentyp (Beschreibung)"},"Text",null,{"$f":"Hilfstabelle!$P$8","v":"Verbindlich gemäss Anlagenartenkatalog"}]
[null,null,{"$f":"'Anlagenartenkatalog UZH'!$B$109","v":"Aufzüge"},{"$f":"'Anlagenartenkatalog UZH'!$D$114","v":"Warenlift"},{"$f":"Hilfstabelle!$O$6","v":"Artikelgruppe"},"Text",{"$f":"'Anlagenartenkatalog UZH'!$A$109","v":"02.09.02"}]
[null,null,{"$f":"'Anlagenartenkatalog UZH'!$B$109","v":"Aufzüge"},{"$f":"'Anlagenartenkatalog UZH'!$D$114","v":"Warenlift"},{"$f":"Hilfstabelle!$O$7","v":"Hauptanlage"},"Text"]
[null,null,{"$f":"'Anlagenartenkatalog UZH'!$B$109","v":"Aufzüge"},{"$f":"'Anlagenartenkatalog UZH'!$D$114","v":"Warenlift"},{"$f":"Hilfstabelle!$O$8","v":"Objekt"},"Text","KOL "]
[null,null,{"$f":"'Anlagenartenkatalog UZH'!$B$109","v":"Aufzüge"},{"$f":"'Anlagenartenkatalog UZH'!$D$114","v":"Warenlift"},{"$f":"Hilfstabelle!$O$9","v":"Raumkennzeichen"},"Text","D-401","Standort Maschinenraum"]
[null,null,{"$f":"'Anlagenartenkatalog UZH'!$B$109","v":"Aufzüge"},{"$f":"'Anlagenartenkatalog UZH'!$D$114","v":"Warenlift"},{"$f":"Hilfstabelle!$O$10","v":"Hersteller / Marke"},"Text","Emch Aufzüge AG"]
[null,null,{"$f":"'Anlagenartenkatalog UZH'!$B$109","v":"Aufzüge"},{"$f":"'Anlagenartenkatalog UZH'!$D$114","v":"Warenlift"},{"$f":"Hilfstabelle!$O$11","v":"Modell / Artikel"},"Text","Hydraulischer Aufzug"]
[null,null,{"$f":"'Anlagenartenkatalog UZH'!$B$109","v":"Aufzüge"},{"$f":"'Anlagenartenkatalog UZH'!$D$114","v":"Warenlift"},{"$f":"Hilfstabelle!$O$12","v":"Seriennummer"},"Text","5174"]
[null,null,{"$f":"'Anlagenartenkatalog UZH'!$B$109","v":"Aufzüge"},{"$f":"'Anlagenartenkatalog UZH'!$D$114","v":"Warenlift"},{"$f":"Hilfstabelle!$O$13","v":"Servicefirma"},"Text","Emch Aufzüge AG",{"$f":"Hilfstabelle!$P$10","v":"Gemäss Offerte in Submission"}]
[null,null,{"$f":"'Anlagenartenkatalog UZH'!$B$109","v":"Aufzüge"},{"$f":"'Anlagenartenkatalog UZH'!$D$114","v":"Warenlift"},{"$f":"Hilfstabelle!$O$14","v":"Inbetriebnahmedatum"},"Text","06.06.2030"]
[null,null,{"$f":"'Anlagenartenkatalog UZH'!$B$109","v":"Aufzüge"},{"$f":"'Anlagenartenkatalog UZH'!$D$114","v":"Warenlift"},{"$f":"Hilfstabelle!$O$15","v":"Garantieende"},"Text","06.06.2035"]
[null,null,{"$f":"'Anlagenartenkatalog UZH'!$B$109","v":"Aufzüge"},{"$f":"'Anlagenartenkatalog UZH'!$D$114","v":"Warenlift"},{"$f":"Hilfstabelle!$O$16","v":"Erwartetes technisches Enddatum"},"Text","06.06.2045"]
[null,null,"Aufzüge","Warenlift","Anmerkung: Pikett-Tel.","Text","Pikett-Tel.: 084 099 09 90"]
[null,null,"Aufzüge","Warenlift","Anmerkung: Stockwerke","Text","Stockwerke: B - D"]
[null,null,"Aufzüge","Warenlift","Anmerkung: Standort Maschinenraum","Text","Standort Maschinenraum: 2.UG hinter WC /Dusche (D-401)"]
[null,null,"Aufzüge","Warenlift","Anmerkung: Tel. Typ","Text","Tel. Typ: Exicall"]
[null,null,"Aufzüge","Warenlift","Anmerkung: Tel. Nr.","Zahl","Tel Nr.: 0442510596"]
[null,null,"Aufzüge","Warenlift","Anmerkung: Lift ausser Betrieb nehmen bei Netzwerkunterbruch zur Sicherheit","Text","Lift ausser Betrieb nehmen bei Netzwerkunterbruch zur Sicherheit: Nein"]
[null,null,"Aufzüge","Warenlift","Anmerkung: Rufnummer SIM Karte","Text","Rufnummer Sim Karte: 69015"]
[null,null,{"$f":"'Anlagenartenkatalog UZH'!$B$109","v":"Aufzüge"},{"$f":"'Anlagenartenkatalog UZH'!$D$114","v":"Warenlift"},{"$f":"Hilfstabelle!$O$17","v":"Anmerkung: Anzahl Wartungen pro Jahr"},"Text","Anzahl Wartungen pro Jahr: 12"]
[null,null,{"$f":"'Anlagenartenkatalog UZH'!$B$109","v":"Aufzüge"},{"$f":"'Anlagenartenkatalog UZH'!$D$115","v":"Baldachinaufzug"},{"$f":"Hilfstabelle!$O$3","v":"Code (MSRL-Code)"},"Text","PET-§1654199320"]
[null,null,{"$f":"'Anlagenartenkatalog UZH'!$B$109","v":"Aufzüge"},{"$f":"'Anlagenartenkatalog UZH'!$D$115","v":"Baldachinaufzug"},{"$f":"Hilfstabelle!$O$4","v":"Bezeichnung"},"Text","Baldachinaufzug Nr. 1346",{"$f":"Hilfstabelle!$P$7","v":"Die Bezeichnung einer Anlage muss eindeutig sein, sofern mehrere Anlagen im gleichen Raum sind. "}]
[null,null,{"$f":"'Anlagenartenkatalog UZH'!$B$109","v":"Aufzüge"},{"$f":"'Anlagenartenkatalog UZH'!$D$115","v":"Baldachinaufzug"},{"$f":"Hilfstabelle!$O$5","v":"Anlagentyp (Beschreibung)"},"Text",null,{"$f":"Hilfstabelle!$P$8","v":"Verbindlich gemäss Anlagenartenkatalog"}]
[null,null,{"$f":"'Anlagenartenkatalog UZH'!$B$109","v":"Aufzüge"},{"$f":"'Anlagenartenkatalog UZH'!$D$115","v":"Baldachinaufzug"},{"$f":"Hilfstabelle!$O$6","v":"Artikelgruppe"},"Text",{"$f":"'Anlagenartenkatalog UZH'!$A$109","v":"02.09.02"}]
[null,null,{"$f":"'Anlagenartenkatalog UZH'!$B$109","v":"Aufzüge"},{"$f":"'Anlagenartenkatalog UZH'!$D$115","v":"Baldachinaufzug"},{"$f":"Hilfstabelle!$O$7","v":"Hauptanlage"},"Text"]
[null,null,{"$f":"'Anlagenartenkatalog UZH'!$B$109","v":"Aufzüge"},{"$f":"'Anlagenartenkatalog UZH'!$D$115","v":"Baldachinaufzug"},{"$f":"Hilfstabelle!$O$8","v":"Objekt"},"Text","PET "]
[null,null,{"$f":"'Anlagenartenkatalog UZH'!$B$109","v":"Aufzüge"},{"$f":"'Anlagenartenkatalog UZH'!$D$115","v":"Baldachinaufzug"},{"$f":"Hilfstabelle!$O$9","v":"Raumkennzeichen"},"Text","E-400","Standort Maschinenraum"]
[null,null,{"$f":"'Anlagenartenkatalog UZH'!$B$109","v":"Aufzüge"},{"$f":"'Anlagenartenkatalog UZH'!$D$115","v":"Baldachinaufzug"},{"$f":"Hilfstabelle!$O$10","v":"Hersteller / Marke"},"Text","Lerch Aufzüge AG"]
[null,null,{"$f":"'Anlagenartenkatalog UZH'!$B$109","v":"Aufzüge"},{"$f":"'Anlagenartenkatalog UZH'!$D$115","v":"Baldachinaufzug"},{"$f":"Hilfstabelle!$O$11","v":"Modell / Artikel"},"Text","Hydraulischer Aufzug"]
[null,null,{"$f":"'Anlagenartenkatalog UZH'!$B$109","v":"Aufzüge"},{"$f":"'Anlagenartenkatalog UZH'!$D$115","v":"Baldachinaufzug"},{"$f":"Hilfstabelle!$O$12","v":"Seriennummer"},"Text","1346"]
[null,null,{"$f":"'Anlagenartenkatalog UZH'!$B$109","v":"Aufzüge"},{"$f":"'Anlagenartenkatalog UZH'!$D$115","v":"Baldachinaufzug"},{"$f":"Hilfstabelle!$O$13","v":"Servicefirma"},"Text","Lerch Aufzüge AG",{"$f":"Hilfstabelle!$P$10","v":"Gemäss Offerte in Submission"}]
[null,null,{"$f":"'Anlagenartenkatalog UZH'!$B$109","v":"Aufzüge"},{"$f":"'Anlagenartenkatalog UZH'!$D$115","v":"Baldachinaufzug"},{"$f":"Hilfstabelle!$O$14","v":"Inbetriebnahmedatum"},"Text","06.06.2030"]
[null,null,{"$f":"'Anlagenartenkatalog UZH'!$B$109","v":"Aufzüge"},{"$f":"'Anlagenartenkatalog UZH'!$D$115","v":"Baldachinaufzug"},{"$f":"Hilfstabelle!$O$15","v":"Garantieende"},"Text","06.06.2035"]
[null,null,{"$f":"'Anlagenartenkatalog UZH'!$B$109","v":"Aufzüge"},{"$f":"'Anlagenartenkatalog UZH'!$D$115","v":"Baldachinaufzug"},{"$f":"Hilfstabelle!$O$16","v":"Erwartetes technisches Enddatum"},"Text","06.06.2045"]
[null,null,"Aufzüge","Baldachinaufzug","Anmerkung: Pikett-Tel.","Text","Pikett-Tel.: 044 929 29 23"]
[null,null,"Aufzüge","Baldachinaufzug","Anmerkung: Stockwerke","Text","Stockwerke: C - D"]
[null,null,"Aufzüge","Baldachinaufzug","Standort: Maschinenraum","Text","Standort Maschinenraum: 2.UG"]
[null,null,"Aufzüge","Baldachinaufzug","Anmerkung: Lift ausser Betrieb nehmen bei Netzwerkunterbruch zur Sicherheit","Text","Lift ausser Betrieb nehmen bei Netzwerkunterbruch zur Sicherheit: Nein "]
[null,null,{"$f":"'Anlagenartenkatalog UZH'!$B$109","v":"Aufzüge"},{"$f":"'Anlagenartenkatalog UZH'!$D$115","v":"Baldachinaufzug"},{"$f":"Hilfstabelle!$O$17","v":"Anmerkung: Anzahl Wartungen pro Jahr"},"Text","Anzahl Wartungen pro Jahr: 1"]
[null,null,{"$f":"'Anlagenartenkatalog UZH'!$B$109","v":"Aufzüge"},{"$f":"'Anlagenartenkatalog UZH'!$D$111","v":"Kleinwarenaufzug"},{"$f":"Hilfstabelle!$O$3","v":"Code (MSRL-Code)"},"Text","HAL-§1654199198"]
[null,null,{"$f":"'Anlagenartenkatalog UZH'!$B$109","v":"Aufzüge"},{"$f":"'Anlagenartenkatalog UZH'!$D$111","v":"Kleinwarenaufzug"},{"$f":"Hilfstabelle!$O$4","v":"Bezeichnung"},"Text","Kleinwarenaufzug Nr. 77.1899.1834",{"$f":"Hilfstabelle!$P$7","v":"Die Bezeichnung einer Anlage muss eindeutig sein, sofern mehrere Anlagen im gleichen Raum sind. "}]
[null,null,{"$f":"'Anlagenartenkatalog UZH'!$B$109","v":"Aufzüge"},{"$f":"'Anlagenartenkatalog UZH'!$D$111","v":"Kleinwarenaufzug"},{"$f":"Hilfstabelle!$O$5","v":"Anlagentyp (Beschreibung)"},"Text",null,{"$f":"Hilfstabelle!$P$8","v":"Verbindlich gemäss Anlagenartenkatalog"}]
[null,null,{"$f":"'Anlagenartenkatalog UZH'!$B$109","v":"Aufzüge"},{"$f":"'Anlagenartenkatalog UZH'!$D$111","v":"Kleinwarenaufzug"},{"$f":"Hilfstabelle!$O$6","v":"Artikelgruppe"},"Text",{"$f":"'Anlagenartenkatalog UZH'!$A$109","v":"02.09.02"}]
[null,null,{"$f":"'Anlagenartenkatalog UZH'!$B$109","v":"Aufzüge"},{"$f":"'Anlagenartenkatalog UZH'!$D$111","v":"Kleinwarenaufzug"},{"$f":"Hilfstabelle!$O$7","v":"Hauptanlage"},"Text"]
[null,null,{"$f":"'Anlagenartenkatalog UZH'!$B$109","v":"Aufzüge"},{"$f":"'Anlagenartenkatalog UZH'!$D$111","v":"Kleinwarenaufzug"},{"$f":"Hilfstabelle!$O$8","v":"Objekt"},"Text","HAL "]
[null,null,{"$f":"'Anlagenartenkatalog UZH'!$B$109","v":"Aufzüge"},{"$f":"'Anlagenartenkatalog UZH'!$D$111","v":"Kleinwarenaufzug"},{"$f":"Hilfstabelle!$O$9","v":"Raumkennzeichen"},"Text","E-401","Standort Maschinenraum"]
[null,null,{"$f":"'Anlagenartenkatalog UZH'!$B$109","v":"Aufzüge"},{"$f":"'Anlagenartenkatalog UZH'!$D$111","v":"Kleinwarenaufzug"},{"$f":"Hilfstabelle!$O$10","v":"Hersteller / Marke"},"Text","Lift AG"]
[null,null,{"$f":"'Anlagenartenkatalog UZH'!$B$109","v":"Aufzüge"},{"$f":"'Anlagenartenkatalog UZH'!$D$111","v":"Kleinwarenaufzug"},{"$f":"Hilfstabelle!$O$11","v":"Modell / Artikel"},"Text","Seilaufzug mit Trommel"]
[null,null,{"$f":"'Anlagenartenkatalog UZH'!$B$109","v":"Aufzüge"},{"$f":"'Anlagenartenkatalog UZH'!$D$111","v":"Kleinwarenaufzug"},{"$f":"Hilfstabelle!$O$12","v":"Seriennummer"},"Text","77.1899.1834"]
[null,null,{"$f":"'Anlagenartenkatalog UZH'!$B$109","v":"Aufzüge"},{"$f":"'Anlagenartenkatalog UZH'!$D$111","v":"Kleinwarenaufzug"},{"$f":"Hilfstabelle!$O$13","v":"Servicefirma"},"Text","Lift AG",{"$f":"Hilfstabelle!$P$10","v":"Gemäss Offerte in Submission"}]
[null,null,{"$f":"'Anlagenartenkatalog UZH'!$B$109","v":"Aufzüge"},{"$f":"'Anlagenartenkatalog UZH'!$D$111","v":"Kleinwarenaufzug"},{"$f":"Hilfstabelle!$O$14","v":"Inbetriebnahmedatum"},"Text","06.06.2030"]
[null,null,{"$f":"'Anlagenartenkatalog UZH'!$B$109","v":"Aufzüge"},{"$f":"'Anlagenartenkatalog UZH'!$D$111","v":"Kleinwarenaufzug"},{"$f":"Hilfstabelle!$O$15","v":"Garantieende"},"Text","06.06.2035"]
[null,null,{"$f":"'Anlagenartenkatalog UZH'!$B$109","v":"Aufzüge"},{"$f":"'Anlagenartenkatalog UZH'!$D$111","v":"Kleinwarenaufzug"},{"$f":"Hilfstabelle!$O$16","v":"Erwartetes technisches Enddatum"},"Text","06.06.2045"]
[null,null,"Aufzüge","Kleinwarenaufzug","Anmerkung: Pikett-Tel.","Text","Pikett-Tel.: 044 871 91 00"]
[null,null,"Aufzüge","Kleinwarenaufzug","Anmerkung: Stockwerke","Text","Stockwerke: D - E"]
[null,null,"Aufzüge","Kleinwarenaufzug","Anmerkung: Standort Maschinenraum","Text","Standort Maschinenraum: EG Decke "]
[null,null,"Aufzüge","Kleinwarenaufzug","Anmerkung: Lift ausser Betrieb nehmen bei Netzwerkunterbruch zur Sicherheit","Text","Lift ausser Betrieb nehmen bei Netzwerkunterbruch zur Sicherheit: Nein"]
[null,null,{"$f":"'Anlagenartenkatalog UZH'!$B$109","v":"Aufzüge"},{"$f":"'Anlagenartenkatalog UZH'!$D$111","v":"Kleinwarenaufzug"},{"$f":"Hilfstabelle!$O$17","v":"Anmerkung: Anzahl Wartungen pro Jahr"},"Text","Anzahl Wartungen pro Jahr: 4"]
[null,null,{"$f":"'Anlagenartenkatalog UZH'!$B$109","v":"Aufzüge"},{"$f":"'Anlagenartenkatalog UZH'!$D$112","v":"Personenlift"},{"$f":"Hilfstabelle!$O$3","v":"Code (MSRL-Code)"},"Text","PLD_D_G251_J501"]
[null,null,{"$f":"'Anlagenartenkatalog UZH'!$B$109","v":"Aufzüge"},{"$f":"'Anlagenartenkatalog UZH'!$D$112","v":"Personenlift"},{"$f":"Hilfstabelle!$O$4","v":"Bezeichnung"},"Text","Personenlift Nr. 42379839",{"$f":"Hilfstabelle!$P$7","v":"Die Bezeichnung einer Anlage muss eindeutig sein, sofern mehrere Anlagen im gleichen Raum sind. "}]
[null,null,{"$f":"'Anlagenartenkatalog UZH'!$B$109","v":"Aufzüge"},{"$f":"'Anlagenartenkatalog UZH'!$D$112","v":"Personenlift"},{"$f":"Hilfstabelle!$O$5","v":"Anlagentyp (Beschreibung)"},"Text",null,{"$f":"Hilfstabelle!$P$8","v":"Verbindlich gemäss Anlagenartenkatalog"}]
[null,null,{"$f":"'Anlagenartenkatalog UZH'!$B$109","v":"Aufzüge"},{"$f":"'Anlagenartenkatalog UZH'!$D$112","v":"Personenlift"},{"$f":"Hilfstabelle!$O$6","v":"Artikelgruppe"},"Text",{"$f":"'Anlagenartenkatalog UZH'!$A$109","v":"02.09.02"}]
[null,null,{"$f":"'Anlagenartenkatalog UZH'!$B$109","v":"Aufzüge"},{"$f":"'Anlagenartenkatalog UZH'!$D$112","v":"Personenlift"},{"$f":"Hilfstabelle!$O$7","v":"Hauptanlage"},"Text"]
[null,null,{"$f":"'Anlagenartenkatalog UZH'!$B$109","v":"Aufzüge"},{"$f":"'Anlagenartenkatalog UZH'!$D$112","v":"Personenlift"},{"$f":"Hilfstabelle!$O$8","v":"Objekt"},"Text","PLD "]
[null,null,{"$f":"'Anlagenartenkatalog UZH'!$B$109","v":"Aufzüge"},{"$f":"'Anlagenartenkatalog UZH'!$D$112","v":"Personenlift"},{"$f":"Hilfstabelle!$O$9","v":"Raumkennzeichen"},"Text","E-403","Standort Maschinenraum"]
[null,null,{"$f":"'Anlagenartenkatalog UZH'!$B$109","v":"Aufzüge"},{"$f":"'Anlagenartenkatalog UZH'!$D$112","v":"Personenlift"},{"$f":"Hilfstabelle!$O$10","v":"Hersteller / Marke"},"Text","KONE (Schweiz) AG"]
[null,null,{"$f":"'Anlagenartenkatalog UZH'!$B$109","v":"Aufzüge"},{"$f":"'Anlagenartenkatalog UZH'!$D$112","v":"Personenlift"},{"$f":"Hilfstabelle!$O$11","v":"Modell / Artikel"},"Text","Seilaufzug mit Trommel"]
[null,null,{"$f":"'Anlagenartenkatalog UZH'!$B$109","v":"Aufzüge"},{"$f":"'Anlagenartenkatalog UZH'!$D$112","v":"Personenlift"},{"$f":"Hilfstabelle!$O$12","v":"Seriennummer"},"Text","42379839"]
[null,null,{"$f":"'Anlagenartenkatalog UZH'!$B$109","v":"Aufzüge"},{"$f":"'Anlagenartenkatalog UZH'!$D$112","v":"Personenlift"},{"$f":"Hilfstabelle!$O$13","v":"Servicefirma"},"Text","KONE (Schweiz) AG",{"$f":"Hilfstabelle!$P$10","v":"Gemäss Offerte in Submission"}]
[null,null,{"$f":"'Anlagenartenkatalog UZH'!$B$109","v":"Aufzüge"},{"$f":"'Anlagenartenkatalog UZH'!$D$112","v":"Personenlift"},{"$f":"Hilfstabelle!$O$14","v":"Inbetriebnahmedatum"},"Text","06.06.2030"]
[null,null,{"$f":"'Anlagenartenkatalog UZH'!$B$109","v":"Aufzüge"},{"$f":"'Anlagenartenkatalog UZH'!$D$112","v":"Personenlift"},{"$f":"Hilfstabelle!$O$15","v":"Garantieende"},"Text","06.06.2035"]
[null,null,{"$f":"'Anlagenartenkatalog UZH'!$B$109","v":"Aufzüge"},{"$f":"'Anlagenartenkatalog UZH'!$D$112","v":"Personenlift"},{"$f":"Hilfstabelle!$O$16","v":"Erwartetes technisches Enddatum"},"Text","06.06.2045"]
[null,null,"Aufzüge","Personenlift","Anmerkung: Pikett-Tel.","Text","Pikett-Tel.: 044 838 38 38"]
[null,null,"Aufzüge","Personenlift","Anmerkung: Barrierefrei Ja / Nein","Text","Barrierefrei: Nein"]
[null,null,"Aufzüge","Personenlift","Anmerkung: Stockwerke","Text","Stockwerke: E - H"]
[null,null,"Aufzüge","Personenlift","Anmerkung: Standort Maschinenraum","Text","Standort Maschinenraum: Kein Maschinenraum, Bedienung Geschoss H"]
[null,null,"Aufzüge","Personenlift","Anmerkung: Tel. Typ","Text","Tel. Typ: Exicall"]
[null,null,"Aufzüge","Personenlift","Anmerkung: Tel. Nr.","Zahl","Tel Nr.: 0442510595"]
[null,null,"Aufzüge","Personenlift","Anmerkung: Lift ausser Betrieb nehmen bei Netzwerkunterbruch zur Sicherheit","Text","Lift ausser Betrieb nehmen bei Netzwerkunterbruch zur Sicherheit: Nein "]
[null,null,"Aufzüge","Personenlift","Anmerkung: Rufnummer SIM Karte","Text","Rufnummer Sim Karte: +467191200146809"]
[null,null,{"$f":"'Anlagenartenkatalog UZH'!$B$109","v":"Aufzüge"},{"$f":"'Anlagenartenkatalog UZH'!$D$112","v":"Personenlift"},{"$f":"Hilfstabelle!$O$17","v":"Anmerkung: Anzahl Wartungen pro Jahr"},"Text","Anzahl Wartungen pro Jahr: 6"]
[null,null,{"$f":"'Anlagenartenkatalog UZH'!$B$109","v":"Aufzüge"},{"$f":"'Anlagenartenkatalog UZH'!$D$110","v":"Hebebühne"},{"$f":"Hilfstabelle!$O$3","v":"Code (MSRL-Code)"},"Text","RAI-US11-E011"]
[null,null,{"$f":"'Anlagenartenkatalog UZH'!$B$109","v":"Aufzüge"},{"$f":"'Anlagenartenkatalog UZH'!$D$110","v":"Hebebühne"},{"$f":"Hilfstabelle!$O$4","v":"Bezeichnung"},"Text","Hebebühne Nr. 40881",{"$f":"Hilfstabelle!$P$7","v":"Die Bezeichnung einer Anlage muss eindeutig sein, sofern mehrere Anlagen im gleichen Raum sind. "}]
[null,null,{"$f":"'Anlagenartenkatalog UZH'!$B$109","v":"Aufzüge"},{"$f":"'Anlagenartenkatalog UZH'!$D$110","v":"Hebebühne"},{"$f":"Hilfstabelle!$O$5","v":"Anlagentyp (Beschreibung)"},"Text",null,{"$f":"Hilfstabelle!$P$8","v":"Verbindlich gemäss Anlagenartenkatalog"}]
[null,null,{"$f":"'Anlagenartenkatalog UZH'!$B$109","v":"Aufzüge"},{"$f":"'Anlagenartenkatalog UZH'!$D$110","v":"Hebebühne"},{"$f":"Hilfstabelle!$O$6","v":"Artikelgruppe"},"Text",{"$f":"'Anlagenartenkatalog UZH'!$A$109","v":"02.09.02"}]
[null,null,{"$f":"'Anlagenartenkatalog UZH'!$B$109","v":"Aufzüge"},{"$f":"'Anlagenartenkatalog UZH'!$D$110","v":"Hebebühne"},{"$f":"Hilfstabelle!$O$7","v":"Hauptanlage"},"Text","Ja"]
[null,null,{"$f":"'Anlagenartenkatalog UZH'!$B$109","v":"Aufzüge"},{"$f":"'Anlagenartenkatalog UZH'!$D$110","v":"Hebebühne"},{"$f":"Hilfstabelle!$O$8","v":"Objekt"},"Text","RAI "]
[null,null,{"$f":"'Anlagenartenkatalog UZH'!$B$109","v":"Aufzüge"},{"$f":"'Anlagenartenkatalog UZH'!$D$110","v":"Hebebühne"},{"$f":"Hilfstabelle!$O$9","v":"Raumkennzeichen"},"Text","E-11"]
[null,null,{"$f":"'Anlagenartenkatalog UZH'!$B$109","v":"Aufzüge"},{"$f":"'Anlagenartenkatalog UZH'!$D$110","v":"Hebebühne"},{"$f":"Hilfstabelle!$O$10","v":"Hersteller / Marke"},"Text","Steinbock Handling AG"]
[null,null,{"$f":"'Anlagenartenkatalog UZH'!$B$109","v":"Aufzüge"},{"$f":"'Anlagenartenkatalog UZH'!$D$110","v":"Hebebühne"},{"$f":"Hilfstabelle!$O$11","v":"Modell / Artikel"},"Text","Scherenhebebühne"]
[null,null,{"$f":"'Anlagenartenkatalog UZH'!$B$109","v":"Aufzüge"},{"$f":"'Anlagenartenkatalog UZH'!$D$110","v":"Hebebühne"},{"$f":"Hilfstabelle!$O$12","v":"Seriennummer"},"Text","40881"]
[null,null,{"$f":"'Anlagenartenkatalog UZH'!$B$109","v":"Aufzüge"},{"$f":"'Anlagenartenkatalog UZH'!$D$110","v":"Hebebühne"},{"$f":"Hilfstabelle!$O$13","v":"Servicefirma"},"Text","Steinbock Handling AG",{"$f":"Hilfstabelle!$P$10","v":"Gemäss Offerte in Submission"}]
[null,null,{"$f":"'Anlagenartenkatalog UZH'!$B$109","v":"Aufzüge"},{"$f":"'Anlagenartenkatalog UZH'!$D$110","v":"Hebebühne"},{"$f":"Hilfstabelle!$O$14","v":"Inbetriebnahmedatum"},"Text","06.06.2030"]
[null,null,{"$f":"'Anlagenartenkatalog UZH'!$B$109","v":"Aufzüge"},{"$f":"'Anlagenartenkatalog UZH'!$D$110","v":"Hebebühne"},{"$f":"Hilfstabelle!$O$15","v":"Garantieende"},"Text","06.06.2035"]
[null,null,{"$f":"'Anlagenartenkatalog UZH'!$B$109","v":"Aufzüge"},{"$f":"'Anlagenartenkatalog UZH'!$D$110","v":"Hebebühne"},{"$f":"Hilfstabelle!$O$16","v":"Erwartetes technisches Enddatum"},"Text","06.06.2045"]
[null,null,"Aufzüge","Hebebühne","Anmerkung: Pikett-Tel.","Text","Pikett-Tel.: 044 986 30 51"]
[null,null,"Aufzüge","Hebebühne","Anmerkung: Barrierefrei Ja / Nein","Text","Barrierefrei: Nein"]
[null,null,"Aufzüge","Hebebühne","Anmerkung: Stockwerke","Text","Stockwerke: EG"]
[null,null,"Aufzüge","Hebebühne","Anmerkung: Standort Maschinenraum","Text","Standort Maschinenraum: In Anlage (Hauptschalter im Raum links) "]
[null,null,"Aufzüge","Hebebühne","Anmerkung: Tel. Typ","Text","Tel. Typ: Nicht notw."]
[null,null,"Aufzüge","Hebebühne","Anmerkung: Tel. Nr.","Zahl","Tel. Nr.: Nicht notw."]
[null,null,"Aufzüge","Hebebühne","Anmerkung: Lift ausser Betrieb nehmen bei Netzwerkunterbruch zur Sicherheit","Text","Lift ausser Betrieb nehmen bei Netzwerkunterbruch zur Sicherheit: Nein"]
[null,null,"Aufzüge","Hebebühne","Anmerkung: Rufnummer SIM Karte","Text","Rufnummer Sim Karte: 077 052 3960"]
[null,null,{"$f":"'Anlagenartenkatalog UZH'!$B$109","v":"Aufzüge"},{"$f":"'Anlagenartenkatalog UZH'!$D$110","v":"Hebebühne"},{"$f":"Hilfstabelle!$O$17","v":"Anmerkung: Anzahl Wartungen pro Jahr"},"Text","Anzahl Wartungen pro Jahr: 2"]
[null,null,{"$f":"'Anlagenartenkatalog UZH'!$B$109","v":"Aufzüge"},{"$f":"'Anlagenartenkatalog UZH'!$D$109","v":"Autolift"},{"$f":"Hilfstabelle!$O$3","v":"Code (MSRL-Code)"},"Text","HIT-US11-A002"]
[null,null,{"$f":"'Anlagenartenkatalog UZH'!$B$109","v":"Aufzüge"},{"$f":"'Anlagenartenkatalog UZH'!$D$109","v":"Autolift"},{"$f":"Hilfstabelle!$O$4","v":"Bezeichnung"},"Text","Autolift Nr. 54000432134 (2500Kg)",{"$f":"Hilfstabelle!$P$7","v":"Die Bezeichnung einer Anlage muss eindeutig sein, sofern mehrere Anlagen im gleichen Raum sind. "}]
[null,null,{"$f":"'Anlagenartenkatalog UZH'!$B$109","v":"Aufzüge"},{"$f":"'Anlagenartenkatalog UZH'!$D$109","v":"Autolift"},{"$f":"Hilfstabelle!$O$5","v":"Anlagentyp (Beschreibung)"},"Text",null,{"$f":"Hilfstabelle!$P$8","v":"Verbindlich gemäss Anlagenartenkatalog"}]
[null,null,{"$f":"'Anlagenartenkatalog UZH'!$B$109","v":"Aufzüge"},{"$f":"'Anlagenartenkatalog UZH'!$D$109","v":"Autolift"},{"$f":"Hilfstabelle!$O$6","v":"Artikelgruppe"},"Text",{"$f":"'Anlagenartenkatalog UZH'!$A$109","v":"02.09.02"}]
[null,null,{"$f":"'Anlagenartenkatalog UZH'!$B$109","v":"Aufzüge"},{"$f":"'Anlagenartenkatalog UZH'!$D$109","v":"Autolift"},{"$f":"Hilfstabelle!$O$7","v":"Hauptanlage"},"Text","Ja"]
[null,null,{"$f":"'Anlagenartenkatalog UZH'!$B$109","v":"Aufzüge"},{"$f":"'Anlagenartenkatalog UZH'!$D$109","v":"Autolift"},{"$f":"Hilfstabelle!$O$8","v":"Objekt"},"Text","HIT "]
[null,null,{"$f":"'Anlagenartenkatalog UZH'!$B$109","v":"Aufzüge"},{"$f":"'Anlagenartenkatalog UZH'!$D$109","v":"Autolift"},{"$f":"Hilfstabelle!$O$9","v":"Raumkennzeichen"},"Text","E-09"]
[null,null,{"$f":"'Anlagenartenkatalog UZH'!$B$109","v":"Aufzüge"},{"$f":"'Anlagenartenkatalog UZH'!$D$109","v":"Autolift"},{"$f":"Hilfstabelle!$O$10","v":"Hersteller / Marke"},"Text","Schindler AG"]
[null,null,{"$f":"'Anlagenartenkatalog UZH'!$B$109","v":"Aufzüge"},{"$f":"'Anlagenartenkatalog UZH'!$D$109","v":"Autolift"},{"$f":"Hilfstabelle!$O$11","v":"Modell / Artikel"},"Text","Hydraulik Aufzug"]
[null,null,{"$f":"'Anlagenartenkatalog UZH'!$B$109","v":"Aufzüge"},{"$f":"'Anlagenartenkatalog UZH'!$D$109","v":"Autolift"},{"$f":"Hilfstabelle!$O$12","v":"Seriennummer"},"Text","54000432134"]
[null,null,{"$f":"'Anlagenartenkatalog UZH'!$B$109","v":"Aufzüge"},{"$f":"'Anlagenartenkatalog UZH'!$D$109","v":"Autolift"},{"$f":"Hilfstabelle!$O$13","v":"Servicefirma"},"Text","Schindler AG",{"$f":"Hilfstabelle!$P$10","v":"Gemäss Offerte in Submission"}]
[null,null,{"$f":"'Anlagenartenkatalog UZH'!$B$109","v":"Aufzüge"},{"$f":"'Anlagenartenkatalog UZH'!$D$109","v":"Autolift"},{"$f":"Hilfstabelle!$O$14","v":"Inbetriebnahmedatum"},"Text","06.06.2030"]
[null,null,{"$f":"'Anlagenartenkatalog UZH'!$B$109","v":"Aufzüge"},{"$f":"'Anlagenartenkatalog UZH'!$D$109","v":"Autolift"},{"$f":"Hilfstabelle!$O$15","v":"Garantieende"},"Text","06.06.2035"]
[null,null,{"$f":"'Anlagenartenkatalog UZH'!$B$109","v":"Aufzüge"},{"$f":"'Anlagenartenkatalog UZH'!$D$109","v":"Autolift"},{"$f":"Hilfstabelle!$O$16","v":"Erwartetes technisches Enddatum"},"Text","06.06.2045"]
[null,null,"Aufzüge","Autolift","Anmerkung: Pikett-Tel.","Text","Pikett-Tel.: 0 848 111 111"]
[null,null,"Aufzüge","Autolift","Anmerkung: Stockwerke","Text","Stockwerke: H-1K-2K"]
[null,null,"Aufzüge","Autolift","Anmerkung: Standort Maschinenraum","Text","Standort Maschinenraum: oberhalb Lift"]
[null,null,"Aufzüge","Autolift","Anmerkung: Tel. Typ","Text","Tel. Typ: Exicall"]
[null,null,"Aufzüge","Autolift","Anmerkung: Tel. Nr.","Text","Tel. Nr.: 044 251 23 79"]
[null,null,"Aufzüge","Autolift","Anmerkung: Lift ausser Betrieb nehmen bei Netzwerkunterbruch zur Sicherheit","Text","Lift ausser Betrieb nehmen bei Netzwerkunterbruch zur Sicherheit: Ja"]
[null,null,"Aufzüge","Autolift","Anmerkung: Rufnummer SIM Karte","Text","Rufnummer SIM Karte: 760540956"]
[null,null,{"$f":"'Anlagenartenkatalog UZH'!$B$109","v":"Aufzüge"},{"$f":"'Anlagenartenkatalog UZH'!$D$109","v":"Autolift"},{"$f":"Hilfstabelle!$O$17","v":"Anmerkung: Anzahl Wartungen pro Jahr"},"Text","Anzahl Wartungen pro Jahr: 6"]
[null,null,{"$f":"'Anlagenartenkatalog UZH'!$B$124","v":"Automationsstationen"},{"$f":"'Anlagenartenkatalog UZH'!$D$124","v":"Unterstation (US)"},{"$f":"Hilfstabelle!$O$3","v":"Code (MSRL-Code)"},"Text","GLL-US07"]
[null,null,{"$f":"'Anlagenartenkatalog UZH'!$B$124","v":"Automationsstationen"},{"$f":"'Anlagenartenkatalog UZH'!$D$124","v":"Unterstation (US)"},{"$f":"Hilfstabelle!$O$4","v":"Bezeichnung"},"Text","Unterstation (US)",{"$f":"Hilfstabelle!$P$7","v":"Die Bezeichnung einer Anlage muss eindeutig sein, sofern mehrere Anlagen im gleichen Raum sind. "}]
[null,null,{"$f":"'Anlagenartenkatalog UZH'!$B$124","v":"Automationsstationen"},{"$f":"'Anlagenartenkatalog UZH'!$D$124","v":"Unterstation (US)"},{"$f":"Hilfstabelle!$O$5","v":"Anlagentyp (Beschreibung)"},"Text",null,{"$f":"Hilfstabelle!$P$8","v":"Verbindlich gemäss Anlagenartenkatalog"}]
[null,null,{"$f":"'Anlagenartenkatalog UZH'!$B$124","v":"Automationsstationen"},{"$f":"'Anlagenartenkatalog UZH'!$D$124","v":"Unterstation (US)"},{"$f":"Hilfstabelle!$O$6","v":"Artikelgruppe"},"Text",{"$f":"'Anlagenartenkatalog UZH'!$A$124","v":"04.02.02"}]
[null,null,{"$f":"'Anlagenartenkatalog UZH'!$B$124","v":"Automationsstationen"},{"$f":"'Anlagenartenkatalog UZH'!$D$124","v":"Unterstation (US)"},{"$f":"Hilfstabelle!$O$7","v":"Hauptanlage"},"Text"]
[null,null,{"$f":"'Anlagenartenkatalog UZH'!$B$124","v":"Automationsstationen"},{"$f":"'Anlagenartenkatalog UZH'!$D$124","v":"Unterstation (US)"},{"$f":"Hilfstabelle!$O$8","v":"Objekt"},"Text","GLL "]
[null,null,{"$f":"'Anlagenartenkatalog UZH'!$B$124","v":"Automationsstationen"},{"$f":"'Anlagenartenkatalog UZH'!$D$124","v":"Unterstation (US)"},{"$f":"Hilfstabelle!$O$9","v":"Raumkennzeichen"},"Text","F-34"]
[null,null,{"$f":"'Anlagenartenkatalog UZH'!$B$124","v":"Automationsstationen"},{"$f":"'Anlagenartenkatalog UZH'!$D$124","v":"Unterstation (US)"},{"$f":"Hilfstabelle!$O$10","v":"Hersteller / Marke"},"Text","Schneider Electric (Schweiz) AG"]
[null,null,{"$f":"'Anlagenartenkatalog UZH'!$B$124","v":"Automationsstationen"},{"$f":"'Anlagenartenkatalog UZH'!$D$124","v":"Unterstation (US)"},{"$f":"Hilfstabelle!$O$11","v":"Modell / Artikel"},"Text","Unterstation - S84 - Sepam-Serie 80"]
[null,null,{"$f":"'Anlagenartenkatalog UZH'!$B$124","v":"Automationsstationen"},{"$f":"'Anlagenartenkatalog UZH'!$D$124","v":"Unterstation (US)"},{"$f":"Hilfstabelle!$O$12","v":"Seriennummer"},"Text","283754"]
[null,null,{"$f":"'Anlagenartenkatalog UZH'!$B$124","v":"Automationsstationen"},{"$f":"'Anlagenartenkatalog UZH'!$D$124","v":"Unterstation (US)"},{"$f":"Hilfstabelle!$O$13","v":"Servicefirma"},"Text","Schneider Electric (Schweiz) AG",{"$f":"Hilfstabelle!$P$10","v":"Gemäss Offerte in Submission"}]
[null,null,{"$f":"'Anlagenartenkatalog UZH'!$B$124","v":"Automationsstationen"},{"$f":"'Anlagenartenkatalog UZH'!$D$124","v":"Unterstation (US)"},{"$f":"Hilfstabelle!$O$14","v":"Inbetriebnahmedatum"},"Text","06.06.2030"]
[null,null,{"$f":"'Anlagenartenkatalog UZH'!$B$124","v":"Automationsstationen"},{"$f":"'Anlagenartenkatalog UZH'!$D$124","v":"Unterstation (US)"},{"$f":"Hilfstabelle!$O$15","v":"Garantieende"},"Text","06.06.2035"]
[null,null,{"$f":"'Anlagenartenkatalog UZH'!$B$124","v":"Automationsstationen"},{"$f":"'Anlagenartenkatalog UZH'!$D$124","v":"Unterstation (US)"},{"$f":"Hilfstabelle!$O$16","v":"Erwartetes technisches Enddatum"},"Text","06.06.2045"]
[null,null,{"$f":"'Anlagenartenkatalog UZH'!$B$124","v":"Automationsstationen"},{"$f":"'Anlagenartenkatalog UZH'!$D$124","v":"Unterstation (US)"},{"$f":"Hilfstabelle!$O$17","v":"Anmerkung: Anzahl Wartungen pro Jahr"},"Text","Anzahl Wartungen pro Jahr: 1"]
[null,null,{"$f":"'Anlagenartenkatalog UZH'!$B$99","v":"Begleitheizungen"},{"$f":"'Anlagenartenkatalog UZH'!$D$99","v":"Begleitheizung"},{"$f":"Hilfstabelle!$O$3","v":"Code (MSRL-Code)"},"Text","PLI-§1234567891"]
[null,null,{"$f":"'Anlagenartenkatalog UZH'!$B$99","v":"Begleitheizungen"},{"$f":"'Anlagenartenkatalog UZH'!$D$99","v":"Begleitheizung"},{"$f":"Hilfstabelle!$O$4","v":"Bezeichnung"},"Text","Begleitheizung",{"$f":"Hilfstabelle!$P$7","v":"Die Bezeichnung einer Anlage muss eindeutig sein, sofern mehrere Anlagen im gleichen Raum sind. "}]
[null,null,{"$f":"'Anlagenartenkatalog UZH'!$B$99","v":"Begleitheizungen"},{"$f":"'Anlagenartenkatalog UZH'!$D$99","v":"Begleitheizung"},{"$f":"Hilfstabelle!$O$5","v":"Anlagentyp (Beschreibung)"},"Text",null,{"$f":"Hilfstabelle!$P$8","v":"Verbindlich gemäss Anlagenartenkatalog"}]
[null,null,{"$f":"'Anlagenartenkatalog UZH'!$B$99","v":"Begleitheizungen"},{"$f":"'Anlagenartenkatalog UZH'!$D$99","v":"Begleitheizung"},{"$f":"Hilfstabelle!$O$6","v":"Artikelgruppe"},"Text",{"$f":"'Anlagenartenkatalog UZH'!$A$99","v":"02.07.05"}]
[null,null,{"$f":"'Anlagenartenkatalog UZH'!$B$99","v":"Begleitheizungen"},{"$f":"'Anlagenartenkatalog UZH'!$D$99","v":"Begleitheizung"},{"$f":"Hilfstabelle!$O$7","v":"Hauptanlage"},"Text"]
[null,null,{"$f":"'Anlagenartenkatalog UZH'!$B$99","v":"Begleitheizungen"},{"$f":"'Anlagenartenkatalog UZH'!$D$99","v":"Begleitheizung"},{"$f":"Hilfstabelle!$O$8","v":"Objekt"},"Text","PLI "]
[null,null,{"$f":"'Anlagenartenkatalog UZH'!$B$99","v":"Begleitheizungen"},{"$f":"'Anlagenartenkatalog UZH'!$D$99","v":"Begleitheizung"},{"$f":"Hilfstabelle!$O$9","v":"Raumkennzeichen"},"Text","-"]
[null,null,{"$f":"'Anlagenartenkatalog UZH'!$B$99","v":"Begleitheizungen"},{"$f":"'Anlagenartenkatalog UZH'!$D$99","v":"Begleitheizung"},{"$f":"Hilfstabelle!$O$10","v":"Hersteller / Marke"},"Text","eltherm GmbH"]
[null,null,{"$f":"'Anlagenartenkatalog UZH'!$B$99","v":"Begleitheizungen"},{"$f":"'Anlagenartenkatalog UZH'!$D$99","v":"Begleitheizung"},{"$f":"Hilfstabelle!$O$11","v":"Modell / Artikel"},"Text","ELSR-LS"]
[null,null,{"$f":"'Anlagenartenkatalog UZH'!$B$99","v":"Begleitheizungen"},{"$f":"'Anlagenartenkatalog UZH'!$D$99","v":"Begleitheizung"},{"$f":"Hilfstabelle!$O$12","v":"Seriennummer"},"Text","654398"]
[null,null,{"$f":"'Anlagenartenkatalog UZH'!$B$99","v":"Begleitheizungen"},{"$f":"'Anlagenartenkatalog UZH'!$D$99","v":"Begleitheizung"},{"$f":"Hilfstabelle!$O$13","v":"Servicefirma"},"Text","eltherm GmbH",{"$f":"Hilfstabelle!$P$10","v":"Gemäss Offerte in Submission"}]
[null,null,{"$f":"'Anlagenartenkatalog UZH'!$B$99","v":"Begleitheizungen"},{"$f":"'Anlagenartenkatalog UZH'!$D$99","v":"Begleitheizung"},{"$f":"Hilfstabelle!$O$14","v":"Inbetriebnahmedatum"},"Text","06.06.2030"]
[null,null,{"$f":"'Anlagenartenkatalog UZH'!$B$99","v":"Begleitheizungen"},{"$f":"'Anlagenartenkatalog UZH'!$D$99","v":"Begleitheizung"},{"$f":"Hilfstabelle!$O$15","v":"Garantieende"},"Text","06.06.2035"]
[null,null,{"$f":"'Anlagenartenkatalog UZH'!$B$99","v":"Begleitheizungen"},{"$f":"'Anlagenartenkatalog UZH'!$D$99","v":"Begleitheizung"},{"$f":"Hilfstabelle!$O$16","v":"Erwartetes technisches Enddatum"},"Text","06.06.2045"]
[null,null,{"$f":"'Anlagenartenkatalog UZH'!$B$99","v":"Begleitheizungen"},{"$f":"'Anlagenartenkatalog UZH'!$D$99","v":"Begleitheizung"},"Anmerkung: Anwendungszweck","Text","Anwendungszweck: Dachrinnenheizung"]
[null,null,{"$f":"'Anlagenartenkatalog UZH'!$B$99","v":"Begleitheizungen"},{"$f":"'Anlagenartenkatalog UZH'!$D$99","v":"Begleitheizung"},"Anmerkung: Nennleistung bei 0°C","Text","Nennleistung bei 0°C: Eiswasser 36 W/m, Luft 18 W/m"]
[null,null,{"$f":"'Anlagenartenkatalog UZH'!$B$99","v":"Begleitheizungen"},{"$f":"'Anlagenartenkatalog UZH'!$D$99","v":"Begleitheizung"},"Anmerkung: Genaue Standortbeschreibung","Text","Genaue Standortbeschreibung: Dachrinnen"]
[null,null,{"$f":"'Anlagenartenkatalog UZH'!$B$99","v":"Begleitheizungen"},{"$f":"'Anlagenartenkatalog UZH'!$D$99","v":"Begleitheizung"},{"$f":"Hilfstabelle!$O$17","v":"Anmerkung: Anzahl Wartungen pro Jahr"},"Text","Anzahl Wartungen pro Jahr: 1"]
[null,null,{"$f":"'Anlagenartenkatalog UZH'!$B$16","v":"Brandmeldeanlagen"},"Brandmeldeanlage (BMA)",{"$f":"Hilfstabelle!$O$3","v":"Code (MSRL-Code)"},"Text","PLR-US18-F001"]
[null,null,{"$f":"'Anlagenartenkatalog UZH'!$B$16","v":"Brandmeldeanlagen"},{"$f":"'Anlagenartenkatalog UZH'!$D$16","v":"Brandmeldeanlage (BMA)"},{"$f":"Hilfstabelle!$O$4","v":"Bezeichnung"},"Text","Brandmeldeanlage (BMA) 70101310",{"$f":"Hilfstabelle!$P$7","v":"Die Bezeichnung einer Anlage muss eindeutig sein, sofern mehrere Anlagen im gleichen Raum sind. "}]
[null,null,{"$f":"'Anlagenartenkatalog UZH'!$B$16","v":"Brandmeldeanlagen"},{"$f":"'Anlagenartenkatalog UZH'!$D$16","v":"Brandmeldeanlage (BMA)"},{"$f":"Hilfstabelle!$O$5","v":"Anlagentyp (Beschreibung)"},"Text",null,{"$f":"Hilfstabelle!$P$8","v":"Verbindlich gemäss Anlagenartenkatalog"}]
[null,null,{"$f":"'Anlagenartenkatalog UZH'!$B$16","v":"Brandmeldeanlagen"},{"$f":"'Anlagenartenkatalog UZH'!$D$16","v":"Brandmeldeanlage (BMA)"},{"$f":"Hilfstabelle!$O$6","v":"Artikelgruppe"},"Text",{"$f":"'Anlagenartenkatalog UZH'!A16","v":"02.01.01"}]
[null,null,{"$f":"'Anlagenartenkatalog UZH'!$B$16","v":"Brandmeldeanlagen"},{"$f":"'Anlagenartenkatalog UZH'!$D$16","v":"Brandmeldeanlage (BMA)"},{"$f":"Hilfstabelle!$O$7","v":"Hauptanlage"},"Text","Ja","Hauptanlage, ggf. Unteranlagen"]
[null,null,{"$f":"'Anlagenartenkatalog UZH'!$B$16","v":"Brandmeldeanlagen"},{"$f":"'Anlagenartenkatalog UZH'!$D$16","v":"Brandmeldeanlage (BMA)"},{"$f":"Hilfstabelle!$O$8","v":"Objekt"},"Text","KUN"]
[null,null,{"$f":"'Anlagenartenkatalog UZH'!$B$16","v":"Brandmeldeanlagen"},{"$f":"'Anlagenartenkatalog UZH'!$D$16","v":"Brandmeldeanlage (BMA)"},{"$f":"Hilfstabelle!$O$9","v":"Raumkennzeichen"},"Text","E-400"]
[null,null,{"$f":"'Anlagenartenkatalog UZH'!$B$16","v":"Brandmeldeanlagen"},{"$f":"'Anlagenartenkatalog UZH'!$D$16","v":"Brandmeldeanlage (BMA)"},{"$f":"Hilfstabelle!$O$10","v":"Hersteller / Marke"},"Text","Siemens-Cerberus"]
[null,null,{"$f":"'Anlagenartenkatalog UZH'!$B$16","v":"Brandmeldeanlagen"},{"$f":"'Anlagenartenkatalog UZH'!$D$16","v":"Brandmeldeanlage (BMA)"},{"$f":"Hilfstabelle!$O$11","v":"Modell / Artikel"},"Text","CC1140 AlgoRex"]
[null,null,{"$f":"'Anlagenartenkatalog UZH'!$B$16","v":"Brandmeldeanlagen"},{"$f":"'Anlagenartenkatalog UZH'!$D$16","v":"Brandmeldeanlage (BMA)"},{"$f":"Hilfstabelle!$O$12","v":"Seriennummer"},"Text",70101310]
[null,null,{"$f":"'Anlagenartenkatalog UZH'!$B$16","v":"Brandmeldeanlagen"},{"$f":"'Anlagenartenkatalog UZH'!$D$16","v":"Brandmeldeanlage (BMA)"},{"$f":"Hilfstabelle!$O$13","v":"Servicefirma"},"Text","Siemens Schweiz AG",{"$f":"Hilfstabelle!$P$10","v":"Gemäss Offerte in Submission"}]
[null,null,{"$f":"'Anlagenartenkatalog UZH'!$B$16","v":"Brandmeldeanlagen"},{"$f":"'Anlagenartenkatalog UZH'!$D$16","v":"Brandmeldeanlage (BMA)"},{"$f":"Hilfstabelle!$O$14","v":"Inbetriebnahmedatum"},"Text","06.06.2030"]
[null,null,{"$f":"'Anlagenartenkatalog UZH'!$B$16","v":"Brandmeldeanlagen"},{"$f":"'Anlagenartenkatalog UZH'!$D$16","v":"Brandmeldeanlage (BMA)"},{"$f":"Hilfstabelle!$O$15","v":"Garantieende"},"Text","06.06.2035"]
[null,null,{"$f":"'Anlagenartenkatalog UZH'!$B$16","v":"Brandmeldeanlagen"},{"$f":"'Anlagenartenkatalog UZH'!$D$16","v":"Brandmeldeanlage (BMA)"},{"$f":"Hilfstabelle!$O$16","v":"Erwartetes technisches Enddatum"},"Text","06.06.2045"]
[null,null,{"$f":"'Anlagenartenkatalog UZH'!$B$16","v":"Brandmeldeanlagen"},{"$f":"'Anlagenartenkatalog UZH'!$D$16","v":"Brandmeldeanlage (BMA)"},"Anmerkung: Alarm Net. Nr.","Text","Alarm Net. Nr. : 922576"]
[null,null,{"$f":"'Anlagenartenkatalog UZH'!$B$16","v":"Brandmeldeanlagen"},{"$f":"'Anlagenartenkatalog UZH'!$D$16","v":"Brandmeldeanlage (BMA)"},"Anmerkung: SV Certas","Text","SV Certas : V_0001204",{"$f":"Hilfstabelle!P3","v":"Kann nicht durch den Planer angegeben werden."}]
[null,null,{"$f":"'Anlagenartenkatalog UZH'!$B$16","v":"Brandmeldeanlagen"},{"$f":"'Anlagenartenkatalog UZH'!$D$16","v":"Brandmeldeanlage (BMA)"},"Anmerkung: SV IG TUS","Text","SV IG TUS: V_0000656",{"$f":"Hilfstabelle!P3","v":"Kann nicht durch den Planer angegeben werden."}]
[null,null,{"$f":"'Anlagenartenkatalog UZH'!$B$16","v":"Brandmeldeanlagen"},{"$f":"'Anlagenartenkatalog UZH'!$D$16","v":"Brandmeldeanlage (BMA)"},{"$f":"Hilfstabelle!$O$17","v":"Anmerkung: Anzahl Wartungen pro Jahr"},"Text","Anzahl Wartungen pro Jahr: 1"]
[null,null,{"$f":"'Anlagenartenkatalog UZH'!$B$17","v":"Brandschutz"},{"$f":"'Anlagenartenkatalog UZH'!$D$17","v":"Bedienzentrale Brandschutzklappe (BSK)"},{"$f":"Hilfstabelle!$O$3","v":"Code (MSRL-Code)"},"Text","GLM-US11-L003-F-05aY15-3290","Für die Zuordnung wird der vollständige MSRL-Code benötigt."]
[null,null,{"$f":"'Anlagenartenkatalog UZH'!$B$17","v":"Brandschutz"},{"$f":"'Anlagenartenkatalog UZH'!$D$17","v":"Bedienzentrale Brandschutzklappe (BSK)"},{"$f":"Hilfstabelle!$O$4","v":"Bezeichnung"},"Text","Bedienzentrale Brandschutzklappe (BSK) GLM-C-014",{"$f":"Hilfstabelle!$P$7","v":"Die Bezeichnung einer Anlage muss eindeutig sein, sofern mehrere Anlagen im gleichen Raum sind. "}]
[null,null,{"$f":"'Anlagenartenkatalog UZH'!$B$17","v":"Brandschutz"},{"$f":"'Anlagenartenkatalog UZH'!$D$17","v":"Bedienzentrale Brandschutzklappe (BSK)"},{"$f":"Hilfstabelle!$O$5","v":"Anlagentyp (Beschreibung)"},"Text",null,{"$f":"Hilfstabelle!$P$8","v":"Verbindlich gemäss Anlagenartenkatalog"}]
[null,null,{"$f":"'Anlagenartenkatalog UZH'!$B$17","v":"Brandschutz"},{"$f":"'Anlagenartenkatalog UZH'!$D$17","v":"Bedienzentrale Brandschutzklappe (BSK)"},{"$f":"Hilfstabelle!$O$6","v":"Artikelgruppe"},"Text","02.01.02"]
[null,null,{"$f":"'Anlagenartenkatalog UZH'!$B$17","v":"Brandschutz"},{"$f":"'Anlagenartenkatalog UZH'!$D$17","v":"Bedienzentrale Brandschutzklappe (BSK)"},{"$f":"Hilfstabelle!$O$7","v":"Hauptanlage"},"Text","Ja, Gruppe"]
[null,null,{"$f":"'Anlagenartenkatalog UZH'!$B$17","v":"Brandschutz"},{"$f":"'Anlagenartenkatalog UZH'!$D$17","v":"Bedienzentrale Brandschutzklappe (BSK)"},{"$f":"Hilfstabelle!$O$8","v":"Objekt"},"Text","GLM "]
[null,null,{"$f":"'Anlagenartenkatalog UZH'!$B$17","v":"Brandschutz"},{"$f":"'Anlagenartenkatalog UZH'!$D$17","v":"Bedienzentrale Brandschutzklappe (BSK)"},{"$f":"Hilfstabelle!$O$9","v":"Raumkennzeichen"},"Text","C-014"]
[null,null,{"$f":"'Anlagenartenkatalog UZH'!$B$17","v":"Brandschutz"},{"$f":"'Anlagenartenkatalog UZH'!$D$17","v":"Bedienzentrale Brandschutzklappe (BSK)"},{"$f":"Hilfstabelle!$O$10","v":"Hersteller / Marke"},"Text","TROX HESCO Schweiz AG"]
[null,null,{"$f":"'Anlagenartenkatalog UZH'!$B$17","v":"Brandschutz"},{"$f":"'Anlagenartenkatalog UZH'!$D$17","v":"Bedienzentrale Brandschutzklappe (BSK)"},{"$f":"Hilfstabelle!$O$11","v":"Modell / Artikel"},"Text","-"]
[null,null,{"$f":"'Anlagenartenkatalog UZH'!$B$17","v":"Brandschutz"},{"$f":"'Anlagenartenkatalog UZH'!$D$17","v":"Bedienzentrale Brandschutzklappe (BSK)"},{"$f":"Hilfstabelle!$O$12","v":"Seriennummer"},"Text","-"]
[null,null,{"$f":"'Anlagenartenkatalog UZH'!$B$17","v":"Brandschutz"},{"$f":"'Anlagenartenkatalog UZH'!$D$17","v":"Bedienzentrale Brandschutzklappe (BSK)"},{"$f":"Hilfstabelle!$O$13","v":"Servicefirma"},"Text","-",{"$f":"Hilfstabelle!$P$10","v":"Gemäss Offerte in Submission"}]
[null,null,{"$f":"'Anlagenartenkatalog UZH'!$B$17","v":"Brandschutz"},{"$f":"'Anlagenartenkatalog UZH'!$D$17","v":"Bedienzentrale Brandschutzklappe (BSK)"},{"$f":"Hilfstabelle!$O$14","v":"Inbetriebnahmedatum"},"Text","06.06.2030"]
[null,null,{"$f":"'Anlagenartenkatalog UZH'!$B$17","v":"Brandschutz"},{"$f":"'Anlagenartenkatalog UZH'!$D$17","v":"Bedienzentrale Brandschutzklappe (BSK)"},{"$f":"Hilfstabelle!$O$15","v":"Garantieende"},"Text","06.06.2035"]
[null,null,{"$f":"'Anlagenartenkatalog UZH'!$B$17","v":"Brandschutz"},{"$f":"'Anlagenartenkatalog UZH'!$D$17","v":"Bedienzentrale Brandschutzklappe (BSK)"},{"$f":"Hilfstabelle!$O$16","v":"Erwartetes technisches Enddatum"},"Text","06.06.2045"]
[null,null,{"$f":"'Anlagenartenkatalog UZH'!$B$17","v":"Brandschutz"},{"$f":"'Anlagenartenkatalog UZH'!$D$17","v":"Bedienzentrale Brandschutzklappe (BSK)"},"Anmerkung: Angeschlossene BSK","Text","Angeschlossene BSK: 24"]
[null,null,{"$f":"'Anlagenartenkatalog UZH'!$B$17","v":"Brandschutz"},{"$f":"'Anlagenartenkatalog UZH'!$D$18","v":"Brandschutzklappe (BSK)"},{"$f":"Hilfstabelle!$O$3","v":"Code (MSRL-Code)"},"Text","GLM-US11-L003-F-05aY15-3290","Für die Zuordnung wird der vollständige MSRL-Code benötigt."]
[null,null,{"$f":"'Anlagenartenkatalog UZH'!$B$17","v":"Brandschutz"},{"$f":"'Anlagenartenkatalog UZH'!$D$18","v":"Brandschutzklappe (BSK)"},{"$f":"Hilfstabelle!$O$4","v":"Bezeichnung"},"Text","Brandschutzklappe (BSK)",{"$f":"Hilfstabelle!$P$7","v":"Die Bezeichnung einer Anlage muss eindeutig sein, sofern mehrere Anlagen im gleichen Raum sind. "}]
[null,null,{"$f":"'Anlagenartenkatalog UZH'!$B$17","v":"Brandschutz"},{"$f":"'Anlagenartenkatalog UZH'!$D$18","v":"Brandschutzklappe (BSK)"},{"$f":"Hilfstabelle!$O$5","v":"Anlagentyp (Beschreibung)"},"Text",null,{"$f":"Hilfstabelle!$P$8","v":"Verbindlich gemäss Anlagenartenkatalog"}]
[null,null,{"$f":"'Anlagenartenkatalog UZH'!$B$17","v":"Brandschutz"},{"$f":"'Anlagenartenkatalog UZH'!$D$18","v":"Brandschutzklappe (BSK)"},{"$f":"Hilfstabelle!$O$6","v":"Artikelgruppe"},"Text","02.01.02"]
[null,null,{"$f":"'Anlagenartenkatalog UZH'!$B$17","v":"Brandschutz"},{"$f":"'Anlagenartenkatalog UZH'!$D$18","v":"Brandschutzklappe (BSK)"},{"$f":"Hilfstabelle!$O$7","v":"Hauptanlage"},"Text","Unteranlage - Bedienzentrale BSK"]
[null,null,{"$f":"'Anlagenartenkatalog UZH'!$B$17","v":"Brandschutz"},{"$f":"'Anlagenartenkatalog UZH'!$D$18","v":"Brandschutzklappe (BSK)"},{"$f":"Hilfstabelle!$O$8","v":"Objekt"},"Text","GLM "]
[null,null,{"$f":"'Anlagenartenkatalog UZH'!$B$17","v":"Brandschutz"},{"$f":"'Anlagenartenkatalog UZH'!$D$18","v":"Brandschutzklappe (BSK)"},{"$f":"Hilfstabelle!$O$9","v":"Raumkennzeichen"},"Text","F-001"]
[null,null,{"$f":"'Anlagenartenkatalog UZH'!$B$17","v":"Brandschutz"},{"$f":"'Anlagenartenkatalog UZH'!$D$18","v":"Brandschutzklappe (BSK)"},{"$f":"Hilfstabelle!$O$10","v":"Hersteller / Marke"},"Text","TROX HESCO Schweiz AG"]
[null,null,{"$f":"'Anlagenartenkatalog UZH'!$B$17","v":"Brandschutz"},{"$f":"'Anlagenartenkatalog UZH'!$D$18","v":"Brandschutzklappe (BSK)"},{"$f":"Hilfstabelle!$O$11","v":"Modell / Artikel"},"Text","TROX BFN24-T-ST TR","(Antrieb / Typ)"]
[null,null,{"$f":"'Anlagenartenkatalog UZH'!$B$17","v":"Brandschutz"},{"$f":"'Anlagenartenkatalog UZH'!$D$18","v":"Brandschutzklappe (BSK)"},{"$f":"Hilfstabelle!$O$12","v":"Seriennummer"},"Text","-"]
[null,null,{"$f":"'Anlagenartenkatalog UZH'!$B$17","v":"Brandschutz"},{"$f":"'Anlagenartenkatalog UZH'!$D$18","v":"Brandschutzklappe (BSK)"},{"$f":"Hilfstabelle!$O$13","v":"Servicefirma"},"Text","TROX HESCO Schweiz AG",{"$f":"Hilfstabelle!$P$10","v":"Gemäss Offerte in Submission"}]
[null,null,{"$f":"'Anlagenartenkatalog UZH'!$B$17","v":"Brandschutz"},{"$f":"'Anlagenartenkatalog UZH'!$D$18","v":"Brandschutzklappe (BSK)"},{"$f":"Hilfstabelle!$O$14","v":"Inbetriebnahmedatum"},"Text","06.06.2030"]
[null,null,{"$f":"'Anlagenartenkatalog UZH'!$B$17","v":"Brandschutz"},{"$f":"'Anlagenartenkatalog UZH'!$D$18","v":"Brandschutzklappe (BSK)"},{"$f":"Hilfstabelle!$O$15","v":"Garantieende"},"Text","06.06.2035"]
[null,null,{"$f":"'Anlagenartenkatalog UZH'!$B$17","v":"Brandschutz"},{"$f":"'Anlagenartenkatalog UZH'!$D$18","v":"Brandschutzklappe (BSK)"},{"$f":"Hilfstabelle!$O$16","v":"Erwartetes technisches Enddatum"},"Text","06.06.2045"]
[null,null,{"$f":"'Anlagenartenkatalog UZH'!$B$17","v":"Brandschutz"},{"$f":"'Anlagenartenkatalog UZH'!$D$18","v":"Brandschutzklappe (BSK)"},"Anmerkung: Signaltext","Text","Signaltext: Lüftung Schrank D1a ZUL-BSK "," "]
[null,null,{"$f":"'Anlagenartenkatalog UZH'!$B$17","v":"Brandschutz"},{"$f":"'Anlagenartenkatalog UZH'!$D$18","v":"Brandschutzklappe (BSK)"},"Anmerkung: Beschriftung bei BSK","Text","Beschriftung bei BSK: GLM-US11-L003-F-05aY15-3290"]
[null,null,{"$f":"'Anlagenartenkatalog UZH'!$B$17","v":"Brandschutz"},{"$f":"'Anlagenartenkatalog UZH'!$D$18","v":"Brandschutzklappe (BSK)"},"Anmerkung: Benötigte Leiter","Text","Benötigte Leiter: 2m","Ist von der Installationshöhe abzuleiten."]
[null,null,{"$f":"'Anlagenartenkatalog UZH'!$B$17","v":"Brandschutz"},{"$f":"'Anlagenartenkatalog UZH'!$D$18","v":"Brandschutzklappe (BSK)"},"Anmerkung: Standort","Text","Standort: In Hohldecke"]
[null,null,{"$f":"'Anlagenartenkatalog UZH'!$B$17","v":"Brandschutz"},{"$f":"'Anlagenartenkatalog UZH'!$D$18","v":"Brandschutzklappe (BSK)"},{"$f":"Hilfstabelle!$O$17","v":"Anmerkung: Anzahl Wartungen pro Jahr"},"Text","Anzahl Wartungen pro Jahr: 1"]
[null,null,{"$f":"'Anlagenartenkatalog UZH'!$B$74","v":"Brauchwarmwasser"},{"$f":"'Anlagenartenkatalog UZH'!$D$75","v":"Plattenwärmetauscher"},{"$f":"Hilfstabelle!$O$3","v":"Code (MSRL-Code)"},"Text","FRE-US11-L001-1-U8-F09","Vollständiger MSRL-Code für die Zuordnung benötigt"]
[null,null,{"$f":"'Anlagenartenkatalog UZH'!$B$74","v":"Brauchwarmwasser"},{"$f":"'Anlagenartenkatalog UZH'!$D$75","v":"Plattenwärmetauscher"},{"$f":"Hilfstabelle!$O$4","v":"Bezeichnung"},"Text","Plattenwärmetauscher",{"$f":"Hilfstabelle!$P$7","v":"Die Bezeichnung einer Anlage muss eindeutig sein, sofern mehrere Anlagen im gleichen Raum sind. "}]
[null,null,{"$f":"'Anlagenartenkatalog UZH'!$B$74","v":"Brauchwarmwasser"},{"$f":"'Anlagenartenkatalog UZH'!$D$75","v":"Plattenwärmetauscher"},{"$f":"Hilfstabelle!$O$5","v":"Anlagentyp (Beschreibung)"},"Text",null,{"$f":"Hilfstabelle!$P$8","v":"Verbindlich gemäss Anlagenartenkatalog"}]
[null,null,{"$f":"'Anlagenartenkatalog UZH'!$B$74","v":"Brauchwarmwasser"},{"$f":"'Anlagenartenkatalog UZH'!$D$75","v":"Plattenwärmetauscher"},{"$f":"Hilfstabelle!$O$6","v":"Artikelgruppe"},"Text",{"$f":"'Anlagenartenkatalog UZH'!$A$74","v":"02.05.07"}]
[null,null,{"$f":"'Anlagenartenkatalog UZH'!$B$74","v":"Brauchwarmwasser"},{"$f":"'Anlagenartenkatalog UZH'!$D$75","v":"Plattenwärmetauscher"},{"$f":"Hilfstabelle!$O$7","v":"Hauptanlage"},"Text"]
[null,null,{"$f":"'Anlagenartenkatalog UZH'!$B$74","v":"Brauchwarmwasser"},{"$f":"'Anlagenartenkatalog UZH'!$D$75","v":"Plattenwärmetauscher"},{"$f":"Hilfstabelle!$O$8","v":"Objekt"},"Text","FRE"]
[null,null,{"$f":"'Anlagenartenkatalog UZH'!$B$74","v":"Brauchwarmwasser"},{"$f":"'Anlagenartenkatalog UZH'!$D$75","v":"Plattenwärmetauscher"},{"$f":"Hilfstabelle!$O$9","v":"Raumkennzeichen"},"Text","D-02"]
[null,null,{"$f":"'Anlagenartenkatalog UZH'!$B$74","v":"Brauchwarmwasser"},{"$f":"'Anlagenartenkatalog UZH'!$D$75","v":"Plattenwärmetauscher"},{"$f":"Hilfstabelle!$O$10","v":"Hersteller / Marke"},"Text","MHG Heiztechnik (Schweiz) GmbH"]
[null,null,{"$f":"'Anlagenartenkatalog UZH'!$B$74","v":"Brauchwarmwasser"},{"$f":"'Anlagenartenkatalog UZH'!$D$75","v":"Plattenwärmetauscher"},{"$f":"Hilfstabelle!$O$11","v":"Modell / Artikel"},"Text","96.31000-7061"]
[null,null,{"$f":"'Anlagenartenkatalog UZH'!$B$74","v":"Brauchwarmwasser"},{"$f":"'Anlagenartenkatalog UZH'!$D$75","v":"Plattenwärmetauscher"},{"$f":"Hilfstabelle!$O$12","v":"Seriennummer"},"Text","4587655"]
[null,null,{"$f":"'Anlagenartenkatalog UZH'!$B$74","v":"Brauchwarmwasser"},{"$f":"'Anlagenartenkatalog UZH'!$D$75","v":"Plattenwärmetauscher"},{"$f":"Hilfstabelle!$O$13","v":"Servicefirma"},"Text","MHG Heiztechnik (Schweiz) GmbH",{"$f":"Hilfstabelle!$P$10","v":"Gemäss Offerte in Submission"}]
[null,null,{"$f":"'Anlagenartenkatalog UZH'!$B$74","v":"Brauchwarmwasser"},{"$f":"'Anlagenartenkatalog UZH'!$D$75","v":"Plattenwärmetauscher"},{"$f":"Hilfstabelle!$O$14","v":"Inbetriebnahmedatum"},"Text","06.06.2030"]
[null,null,{"$f":"'Anlagenartenkatalog UZH'!$B$74","v":"Brauchwarmwasser"},{"$f":"'Anlagenartenkatalog UZH'!$D$75","v":"Plattenwärmetauscher"},{"$f":"Hilfstabelle!$O$15","v":"Garantieende"},"Text","06.06.2035"]
[null,null,{"$f":"'Anlagenartenkatalog UZH'!$B$74","v":"Brauchwarmwasser"},{"$f":"'Anlagenartenkatalog UZH'!$D$75","v":"Plattenwärmetauscher"},{"$f":"Hilfstabelle!$O$16","v":"Erwartetes technisches Enddatum"},"Text","06.06.2045"]
[null,null,{"$f":"'Anlagenartenkatalog UZH'!$B$74","v":"Brauchwarmwasser"},{"$f":"'Anlagenartenkatalog UZH'!$D$75","v":"Plattenwärmetauscher"},"Anmerkung: Einbauart","Text","Einbauart: Im Boiler","\"Im Boiler\" oder \"Ausserhalb Boiler\""]
[null,null,{"$f":"'Anlagenartenkatalog UZH'!$B$74","v":"Brauchwarmwasser"},{"$f":"'Anlagenartenkatalog UZH'!$D$75","v":"Plattenwärmetauscher"},"Anmerkung: Wärmequelle","Text","Wärmequelle: Fernwärme"]
[null,null,{"$f":"'Anlagenartenkatalog UZH'!$B$74","v":"Brauchwarmwasser"},{"$f":"'Anlagenartenkatalog UZH'!$D$75","v":"Plattenwärmetauscher"},{"$f":"Hilfstabelle!$O$17","v":"Anmerkung: Anzahl Wartungen pro Jahr"},"Text","Anzahl Wartungen pro Jahr: 1"]
[null,null,{"$f":"'Anlagenartenkatalog UZH'!$B$74","v":"Brauchwarmwasser"},{"$f":"'Anlagenartenkatalog UZH'!$D$77","v":"Durchlauferhitzer"},{"$f":"Hilfstabelle!$O$3","v":"Code (MSRL-Code)"},"Text","FRE_G501_S001"]
[null,null,{"$f":"'Anlagenartenkatalog UZH'!$B$74","v":"Brauchwarmwasser"},{"$f":"'Anlagenartenkatalog UZH'!$D$77","v":"Durchlauferhitzer"},{"$f":"Hilfstabelle!$O$4","v":"Bezeichnung"},"Text","Durchlauferhitzer",{"$f":"Hilfstabelle!$P$7","v":"Die Bezeichnung einer Anlage muss eindeutig sein, sofern mehrere Anlagen im gleichen Raum sind. "}]
[null,null,{"$f":"'Anlagenartenkatalog UZH'!$B$74","v":"Brauchwarmwasser"},{"$f":"'Anlagenartenkatalog UZH'!$D$77","v":"Durchlauferhitzer"},{"$f":"Hilfstabelle!$O$5","v":"Anlagentyp (Beschreibung)"},"Text",null,{"$f":"Hilfstabelle!$P$8","v":"Verbindlich gemäss Anlagenartenkatalog"}]
[null,null,{"$f":"'Anlagenartenkatalog UZH'!$B$74","v":"Brauchwarmwasser"},{"$f":"'Anlagenartenkatalog UZH'!$D$77","v":"Durchlauferhitzer"},{"$f":"Hilfstabelle!$O$6","v":"Artikelgruppe"},"Text",{"$f":"'Anlagenartenkatalog UZH'!$A$74","v":"02.05.07"}]
[null,null,{"$f":"'Anlagenartenkatalog UZH'!$B$74","v":"Brauchwarmwasser"},{"$f":"'Anlagenartenkatalog UZH'!$D$77","v":"Durchlauferhitzer"},{"$f":"Hilfstabelle!$O$7","v":"Hauptanlage"},"Text"]
[null,null,{"$f":"'Anlagenartenkatalog UZH'!$B$74","v":"Brauchwarmwasser"},{"$f":"'Anlagenartenkatalog UZH'!$D$77","v":"Durchlauferhitzer"},{"$f":"Hilfstabelle!$O$8","v":"Objekt"},"Text","FRE"]
[null,null,{"$f":"'Anlagenartenkatalog UZH'!$B$74","v":"Brauchwarmwasser"},{"$f":"'Anlagenartenkatalog UZH'!$D$77","v":"Durchlauferhitzer"},{"$f":"Hilfstabelle!$O$9","v":"Raumkennzeichen"},"Text","E-04"]
[null,null,{"$f":"'Anlagenartenkatalog UZH'!$B$74","v":"Brauchwarmwasser"},{"$f":"'Anlagenartenkatalog UZH'!$D$77","v":"Durchlauferhitzer"},{"$f":"Hilfstabelle!$O$10","v":"Hersteller / Marke"},"Text","Vaillant GmbH"]
[null,null,{"$f":"'Anlagenartenkatalog UZH'!$B$74","v":"Brauchwarmwasser"},{"$f":"'Anlagenartenkatalog UZH'!$D$77","v":"Durchlauferhitzer"},{"$f":"Hilfstabelle!$O$11","v":"Modell / Artikel"},"Text","VED E 11-13/1 L"]
[null,null,{"$f":"'Anlagenartenkatalog UZH'!$B$74","v":"Brauchwarmwasser"},{"$f":"'Anlagenartenkatalog UZH'!$D$77","v":"Durchlauferhitzer"},{"$f":"Hilfstabelle!$O$12","v":"Seriennummer"},"Text","23456457"]
[null,null,{"$f":"'Anlagenartenkatalog UZH'!$B$74","v":"Brauchwarmwasser"},{"$f":"'Anlagenartenkatalog UZH'!$D$77","v":"Durchlauferhitzer"},{"$f":"Hilfstabelle!$O$13","v":"Servicefirma"},"Text","Vaillant GmbH",{"$f":"Hilfstabelle!$P$10","v":"Gemäss Offerte in Submission"}]
[null,null,{"$f":"'Anlagenartenkatalog UZH'!$B$74","v":"Brauchwarmwasser"},{"$f":"'Anlagenartenkatalog UZH'!$D$77","v":"Durchlauferhitzer"},{"$f":"Hilfstabelle!$O$14","v":"Inbetriebnahmedatum"},"Text","06.06.2030"]
[null,null,{"$f":"'Anlagenartenkatalog UZH'!$B$74","v":"Brauchwarmwasser"},{"$f":"'Anlagenartenkatalog UZH'!$D$77","v":"Durchlauferhitzer"},{"$f":"Hilfstabelle!$O$15","v":"Garantieende"},"Text","06.06.2035"]
[null,null,{"$f":"'Anlagenartenkatalog UZH'!$B$74","v":"Brauchwarmwasser"},{"$f":"'Anlagenartenkatalog UZH'!$D$77","v":"Durchlauferhitzer"},{"$f":"Hilfstabelle!$O$16","v":"Erwartetes technisches Enddatum"},"Text","06.06.2045"]
[null,null,{"$f":"'Anlagenartenkatalog UZH'!$B$74","v":"Brauchwarmwasser"},{"$f":"'Anlagenartenkatalog UZH'!$D$77","v":"Durchlauferhitzer"},"Anmerkung: Energieklasse","Text","Energieklasse: A"]
[null,null,{"$f":"'Anlagenartenkatalog UZH'!$B$74","v":"Brauchwarmwasser"},{"$f":"'Anlagenartenkatalog UZH'!$D$77","v":"Durchlauferhitzer"},{"$f":"Hilfstabelle!$O$17","v":"Anmerkung: Anzahl Wartungen pro Jahr"},"Text","Anzahl Wartungen pro Jahr: 1"]
[null,null,{"$f":"'Anlagenartenkatalog UZH'!$B$74","v":"Brauchwarmwasser"},{"$f":"'Anlagenartenkatalog UZH'!$D$76","v":"Frischwasserstation"},{"$f":"Hilfstabelle!$O$3","v":"Code (MSRL-Code)"},"Text","FRE_G501_S001"]
[null,null,{"$f":"'Anlagenartenkatalog UZH'!$B$74","v":"Brauchwarmwasser"},{"$f":"'Anlagenartenkatalog UZH'!$D$76","v":"Frischwasserstation"},{"$f":"Hilfstabelle!$O$4","v":"Bezeichnung"},"Text","Frischwasserstation",{"$f":"Hilfstabelle!$P$7","v":"Die Bezeichnung einer Anlage muss eindeutig sein, sofern mehrere Anlagen im gleichen Raum sind. "}]
[null,null,{"$f":"'Anlagenartenkatalog UZH'!$B$74","v":"Brauchwarmwasser"},{"$f":"'Anlagenartenkatalog UZH'!$D$76","v":"Frischwasserstation"},{"$f":"Hilfstabelle!$O$5","v":"Anlagentyp (Beschreibung)"},"Text",null,{"$f":"Hilfstabelle!$P$8","v":"Verbindlich gemäss Anlagenartenkatalog"}]
[null,null,{"$f":"'Anlagenartenkatalog UZH'!$B$74","v":"Brauchwarmwasser"},{"$f":"'Anlagenartenkatalog UZH'!$D$76","v":"Frischwasserstation"},{"$f":"Hilfstabelle!$O$6","v":"Artikelgruppe"},"Text",{"$f":"'Anlagenartenkatalog UZH'!$A$74","v":"02.05.07"}]
[null,null,{"$f":"'Anlagenartenkatalog UZH'!$B$74","v":"Brauchwarmwasser"},{"$f":"'Anlagenartenkatalog UZH'!$D$76","v":"Frischwasserstation"},{"$f":"Hilfstabelle!$O$7","v":"Hauptanlage"},"Text"]
[null,null,{"$f":"'Anlagenartenkatalog UZH'!$B$74","v":"Brauchwarmwasser"},{"$f":"'Anlagenartenkatalog UZH'!$D$76","v":"Frischwasserstation"},{"$f":"Hilfstabelle!$O$8","v":"Objekt"},"Text","FRE"]
[null,null,{"$f":"'Anlagenartenkatalog UZH'!$B$74","v":"Brauchwarmwasser"},{"$f":"'Anlagenartenkatalog UZH'!$D$76","v":"Frischwasserstation"},{"$f":"Hilfstabelle!$O$9","v":"Raumkennzeichen"},"Text","E-04"]
[null,null,{"$f":"'Anlagenartenkatalog UZH'!$B$74","v":"Brauchwarmwasser"},{"$f":"'Anlagenartenkatalog UZH'!$D$76","v":"Frischwasserstation"},{"$f":"Hilfstabelle!$O$10","v":"Hersteller / Marke"},"Text","Oventrop GmbH & Co. KG"]
[null,null,{"$f":"'Anlagenartenkatalog UZH'!$B$74","v":"Brauchwarmwasser"},{"$f":"'Anlagenartenkatalog UZH'!$D$76","v":"Frischwasserstation"},{"$f":"Hilfstabelle!$O$11","v":"Modell / Artikel"},"Text","Regumaq XZ-30 / 1381037"]
[null,null,{"$f":"'Anlagenartenkatalog UZH'!$B$74","v":"Brauchwarmwasser"},{"$f":"'Anlagenartenkatalog UZH'!$D$76","v":"Frischwasserstation"},{"$f":"Hilfstabelle!$O$12","v":"Seriennummer"},"Text","24564567"]
[null,null,{"$f":"'Anlagenartenkatalog UZH'!$B$74","v":"Brauchwarmwasser"},{"$f":"'Anlagenartenkatalog UZH'!$D$76","v":"Frischwasserstation"},{"$f":"Hilfstabelle!$O$13","v":"Servicefirma"},"Text","Oventrop GmbH & Co. KG",{"$f":"Hilfstabelle!$P$10","v":"Gemäss Offerte in Submission"}]
[null,null,{"$f":"'Anlagenartenkatalog UZH'!$B$74","v":"Brauchwarmwasser"},{"$f":"'Anlagenartenkatalog UZH'!$D$76","v":"Frischwasserstation"},{"$f":"Hilfstabelle!$O$14","v":"Inbetriebnahmedatum"},"Text","06.06.2030"]
[null,null,{"$f":"'Anlagenartenkatalog UZH'!$B$74","v":"Brauchwarmwasser"},{"$f":"'Anlagenartenkatalog UZH'!$D$76","v":"Frischwasserstation"},{"$f":"Hilfstabelle!$O$15","v":"Garantieende"},"Text","06.06.2035"]
[null,null,{"$f":"'Anlagenartenkatalog UZH'!$B$74","v":"Brauchwarmwasser"},{"$f":"'Anlagenartenkatalog UZH'!$D$76","v":"Frischwasserstation"},{"$f":"Hilfstabelle!$O$16","v":"Erwartetes technisches Enddatum"},"Text","06.06.2045"]
[null,null,{"$f":"'Anlagenartenkatalog UZH'!$B$74","v":"Brauchwarmwasser"},{"$f":"'Anlagenartenkatalog UZH'!$D$76","v":"Frischwasserstation"},{"$f":"Hilfstabelle!$O$17","v":"Anmerkung: Anzahl Wartungen pro Jahr"},"Text","Anzahl Wartungen pro Jahr: 1"]
[null,null,{"$f":"'Anlagenartenkatalog UZH'!$B$74","v":"Brauchwarmwasser"},{"$f":"'Anlagenartenkatalog UZH'!$D$74","v":"Boiler"},{"$f":"Hilfstabelle!$O$3","v":"Code (MSRL-Code)"},"Text","FRE_G501_S001"]
[null,null,{"$f":"'Anlagenartenkatalog UZH'!$B$74","v":"Brauchwarmwasser"},{"$f":"'Anlagenartenkatalog UZH'!$D$74","v":"Boiler"},{"$f":"Hilfstabelle!$O$4","v":"Bezeichnung"},"Text","Boiler 1",{"$f":"Hilfstabelle!$P$7","v":"Die Bezeichnung einer Anlage muss eindeutig sein, sofern mehrere Anlagen im gleichen Raum sind. "}]
[null,null,{"$f":"'Anlagenartenkatalog UZH'!$B$74","v":"Brauchwarmwasser"},{"$f":"'Anlagenartenkatalog UZH'!$D$74","v":"Boiler"},{"$f":"Hilfstabelle!$O$5","v":"Anlagentyp (Beschreibung)"},"Text",null,{"$f":"Hilfstabelle!$P$8","v":"Verbindlich gemäss Anlagenartenkatalog"}]
[null,null,{"$f":"'Anlagenartenkatalog UZH'!$B$74","v":"Brauchwarmwasser"},{"$f":"'Anlagenartenkatalog UZH'!$D$74","v":"Boiler"},{"$f":"Hilfstabelle!$O$6","v":"Artikelgruppe"},"Text",{"$f":"'Anlagenartenkatalog UZH'!$A$74","v":"02.05.07"}]
[null,null,{"$f":"'Anlagenartenkatalog UZH'!$B$74","v":"Brauchwarmwasser"},{"$f":"'Anlagenartenkatalog UZH'!$D$74","v":"Boiler"},{"$f":"Hilfstabelle!$O$7","v":"Hauptanlage"},"Text"]
[null,null,{"$f":"'Anlagenartenkatalog UZH'!$B$74","v":"Brauchwarmwasser"},{"$f":"'Anlagenartenkatalog UZH'!$D$74","v":"Boiler"},{"$f":"Hilfstabelle!$O$8","v":"Objekt"},"Text","FRE "]
[null,null,{"$f":"'Anlagenartenkatalog UZH'!$B$74","v":"Brauchwarmwasser"},{"$f":"'Anlagenartenkatalog UZH'!$D$74","v":"Boiler"},{"$f":"Hilfstabelle!$O$9","v":"Raumkennzeichen"},"Text","J-01"]
[null,null,{"$f":"'Anlagenartenkatalog UZH'!$B$74","v":"Brauchwarmwasser"},{"$f":"'Anlagenartenkatalog UZH'!$D$74","v":"Boiler"},{"$f":"Hilfstabelle!$O$10","v":"Hersteller / Marke"},"Text","Meier Tobler AG"]
[null,null,{"$f":"'Anlagenartenkatalog UZH'!$B$74","v":"Brauchwarmwasser"},{"$f":"'Anlagenartenkatalog UZH'!$D$74","v":"Boiler"},{"$f":"Hilfstabelle!$O$11","v":"Modell / Artikel"},"Text","De Dietrich Elcalor Whiteline NETTO Wand-Wasserwärmer W 120-2"]
[null,null,{"$f":"'Anlagenartenkatalog UZH'!$B$74","v":"Brauchwarmwasser"},{"$f":"'Anlagenartenkatalog UZH'!$D$74","v":"Boiler"},{"$f":"Hilfstabelle!$O$12","v":"Seriennummer"},"Text","234564567"]
[null,null,{"$f":"'Anlagenartenkatalog UZH'!$B$74","v":"Brauchwarmwasser"},{"$f":"'Anlagenartenkatalog UZH'!$D$74","v":"Boiler"},{"$f":"Hilfstabelle!$O$13","v":"Servicefirma"},"Text","Meier Tobler AG",{"$f":"Hilfstabelle!$P$10","v":"Gemäss Offerte in Submission"}]
[null,null,{"$f":"'Anlagenartenkatalog UZH'!$B$74","v":"Brauchwarmwasser"},{"$f":"'Anlagenartenkatalog UZH'!$D$74","v":"Boiler"},{"$f":"Hilfstabelle!$O$14","v":"Inbetriebnahmedatum"},"Text","06.06.2030"]
[null,null,{"$f":"'Anlagenartenkatalog UZH'!$B$74","v":"Brauchwarmwasser"},{"$f":"'Anlagenartenkatalog UZH'!$D$74","v":"Boiler"},{"$f":"Hilfstabelle!$O$15","v":"Garantieende"},"Text","06.06.2035"]
[null,null,{"$f":"'Anlagenartenkatalog UZH'!$B$74","v":"Brauchwarmwasser"},{"$f":"'Anlagenartenkatalog UZH'!$D$74","v":"Boiler"},{"$f":"Hilfstabelle!$O$16","v":"Erwartetes technisches Enddatum"},"Text","06.06.2045"]
[null,null,{"$f":"'Anlagenartenkatalog UZH'!$B$74","v":"Brauchwarmwasser"},{"$f":"'Anlagenartenkatalog UZH'!$D$74","v":"Boiler"},"Anmerkung: Wärmequelle","Text","Wärmequelle: Elektrisch"]
[null,null,{"$f":"'Anlagenartenkatalog UZH'!$B$74","v":"Brauchwarmwasser"},{"$f":"'Anlagenartenkatalog UZH'!$D$74","v":"Boiler"},"Anmerkung: Volumen [Liter]","Text","Volumen: 500 l"]
[null,null,{"$f":"'Anlagenartenkatalog UZH'!$B$74","v":"Brauchwarmwasser"},{"$f":"'Anlagenartenkatalog UZH'!$D$74","v":"Boiler"},"Anmerkung: Energieklasse","Text","Energieklasse: C"]
[null,null,{"$f":"'Anlagenartenkatalog UZH'!$B$74","v":"Brauchwarmwasser"},{"$f":"'Anlagenartenkatalog UZH'!$D$74","v":"Boiler"},{"$f":"Hilfstabelle!$O$17","v":"Anmerkung: Anzahl Wartungen pro Jahr"},"Text","Anzahl Wartungen pro Jahr: 1"]
[null,null,{"$f":"'Anlagenartenkatalog UZH'!$B$120","v":"Druckgeräte"},{"$f":"'Anlagenartenkatalog UZH'!$D$120","v":"Expansionsgefäss"},{"$f":"Hilfstabelle!$O$3","v":"Code (MSRL-Code)"},"Text","SUM-§1654200810"]
[null,null,{"$f":"'Anlagenartenkatalog UZH'!$B$120","v":"Druckgeräte"},{"$f":"'Anlagenartenkatalog UZH'!$D$120","v":"Expansionsgefäss"},{"$f":"Hilfstabelle!$O$4","v":"Bezeichnung"},"Text","Expansionsgefäss 19U082090366",{"$f":"Hilfstabelle!$P$7","v":"Die Bezeichnung einer Anlage muss eindeutig sein, sofern mehrere Anlagen im gleichen Raum sind. "}]
[null,null,{"$f":"'Anlagenartenkatalog UZH'!$B$120","v":"Druckgeräte"},{"$f":"'Anlagenartenkatalog UZH'!$D$120","v":"Expansionsgefäss"},{"$f":"Hilfstabelle!$O$5","v":"Anlagentyp (Beschreibung)"},"Text",null,{"$f":"Hilfstabelle!$P$8","v":"Verbindlich gemäss Anlagenartenkatalog"}]
[null,null,{"$f":"'Anlagenartenkatalog UZH'!$B$120","v":"Druckgeräte"},{"$f":"'Anlagenartenkatalog UZH'!$D$120","v":"Expansionsgefäss"},{"$f":"Hilfstabelle!$O$6","v":"Artikelgruppe"},"Text",{"$f":"'Anlagenartenkatalog UZH'!$A$120","v":"02.13"}]
[null,null,{"$f":"'Anlagenartenkatalog UZH'!$B$120","v":"Druckgeräte"},{"$f":"'Anlagenartenkatalog UZH'!$D$120","v":"Expansionsgefäss"},{"$f":"Hilfstabelle!$O$7","v":"Hauptanlage"},"Text"]
[null,null,{"$f":"'Anlagenartenkatalog UZH'!$B$120","v":"Druckgeräte"},{"$f":"'Anlagenartenkatalog UZH'!$D$120","v":"Expansionsgefäss"},{"$f":"Hilfstabelle!$O$8","v":"Objekt"},"Text","SUM "]
[null,null,{"$f":"'Anlagenartenkatalog UZH'!$B$120","v":"Druckgeräte"},{"$f":"'Anlagenartenkatalog UZH'!$D$120","v":"Expansionsgefäss"},{"$f":"Hilfstabelle!$O$9","v":"Raumkennzeichen"},"Text","D-1C"]
[null,null,{"$f":"'Anlagenartenkatalog UZH'!$B$120","v":"Druckgeräte"},{"$f":"'Anlagenartenkatalog UZH'!$D$120","v":"Expansionsgefäss"},{"$f":"Hilfstabelle!$O$10","v":"Hersteller / Marke"},"Text","Reflex Schweiz GmbH"]
[null,null,{"$f":"'Anlagenartenkatalog UZH'!$B$120","v":"Druckgeräte"},{"$f":"'Anlagenartenkatalog UZH'!$D$120","v":"Expansionsgefäss"},{"$f":"Hilfstabelle!$O$11","v":"Modell / Artikel"},"Text","Reflex N300"]
[null,null,{"$f":"'Anlagenartenkatalog UZH'!$B$120","v":"Druckgeräte"},{"$f":"'Anlagenartenkatalog UZH'!$D$120","v":"Expansionsgefäss"},{"$f":"Hilfstabelle!$O$12","v":"Seriennummer"},"Text","19U082090366"]
[null,null,{"$f":"'Anlagenartenkatalog UZH'!$B$120","v":"Druckgeräte"},{"$f":"'Anlagenartenkatalog UZH'!$D$120","v":"Expansionsgefäss"},{"$f":"Hilfstabelle!$O$13","v":"Servicefirma"},"Text","Reflex Schweiz GmbH",{"$f":"Hilfstabelle!$P$10","v":"Gemäss Offerte in Submission"}]
[null,null,{"$f":"'Anlagenartenkatalog UZH'!$B$120","v":"Druckgeräte"},{"$f":"'Anlagenartenkatalog UZH'!$D$120","v":"Expansionsgefäss"},{"$f":"Hilfstabelle!$O$14","v":"Inbetriebnahmedatum"},"Text","06.06.2030"]
[null,null,{"$f":"'Anlagenartenkatalog UZH'!$B$120","v":"Druckgeräte"},{"$f":"'Anlagenartenkatalog UZH'!$D$120","v":"Expansionsgefäss"},{"$f":"Hilfstabelle!$O$15","v":"Garantieende"},"Text","06.06.2035"]
[null,null,{"$f":"'Anlagenartenkatalog UZH'!$B$120","v":"Druckgeräte"},{"$f":"'Anlagenartenkatalog UZH'!$D$120","v":"Expansionsgefäss"},{"$f":"Hilfstabelle!$O$16","v":"Erwartetes technisches Enddatum"},"Text","06.06.2045"]
[null,null,"Druckgeräte",{"$f":"'Anlagenartenkatalog UZH'!$D$120","v":"Expansionsgefäss"},"Anmerkung: Volumen in [l]","Zahl","Volumen: 300 l"]
[null,null,"Druckgeräte",{"$f":"'Anlagenartenkatalog UZH'!$D$120","v":"Expansionsgefäss"},"Anmerkung: Betriebsdruck [bar]","Zahl","Betriebsdruck: 3.7 bar"]
[null,null,"Druckgeräte",{"$f":"'Anlagenartenkatalog UZH'!$D$120","v":"Expansionsgefäss"},"Anmerkung: Maximale Betriebstemperatur in [°C]","Zahl","Maximale Betriebstemperatur: 70°C"]
[null,null,"Druckgeräte",{"$f":"'Anlagenartenkatalog UZH'!$D$120","v":"Expansionsgefäss"},"Anmerkung: Medium","Text","Medium: Stickstoff"]
[null,null,"Druckgeräte",{"$f":"'Anlagenartenkatalog UZH'!$D$120","v":"Expansionsgefäss"},"Anmerkung: Prüfpflicht ","Text","Prüfpflicht: Nein"]
[null,null,"Druckgeräte",{"$f":"'Anlagenartenkatalog UZH'!$D$120","v":"Expansionsgefäss"},"Anmerkung: KIS-PV Nr.","Zahl","KIS-PV Nr.: 1325237","Ggf. \"Keine Prüfpflicht\" eintragen"]
[null,null,"Druckgeräte",{"$f":"'Anlagenartenkatalog UZH'!$D$120","v":"Expansionsgefäss"},"Anmerkung: Nachspeisung Automatisch Ja / Nein","Text","Nachspeisung Automatisch: Ja"]
[null,null,{"$f":"'Anlagenartenkatalog UZH'!$B$120","v":"Druckgeräte"},{"$f":"'Anlagenartenkatalog UZH'!$D$120","v":"Expansionsgefäss"},{"$f":"Hilfstabelle!$O$17","v":"Anmerkung: Anzahl Wartungen pro Jahr"},"Text","Anzahl Wartungen pro Jahr: 1"]
[null,null,{"$f":"'Anlagenartenkatalog UZH'!$B$120","v":"Druckgeräte"},{"$f":"'Anlagenartenkatalog UZH'!$D$122","v":"Reinluftdruckanlage"},{"$f":"Hilfstabelle!$O$3","v":"Code (MSRL-Code)"},"Text","FRE_G501_S001"]
[null,null,{"$f":"'Anlagenartenkatalog UZH'!$B$120","v":"Druckgeräte"},{"$f":"'Anlagenartenkatalog UZH'!$D$122","v":"Reinluftdruckanlage"},{"$f":"Hilfstabelle!$O$4","v":"Bezeichnung"},"Text","Reinluftdruckanlage",{"$f":"Hilfstabelle!$P$7","v":"Die Bezeichnung einer Anlage muss eindeutig sein, sofern mehrere Anlagen im gleichen Raum sind. "}]
[null,null,{"$f":"'Anlagenartenkatalog UZH'!$B$120","v":"Druckgeräte"},{"$f":"'Anlagenartenkatalog UZH'!$D$122","v":"Reinluftdruckanlage"},{"$f":"Hilfstabelle!$O$5","v":"Anlagentyp (Beschreibung)"},"Text",null,{"$f":"Hilfstabelle!$P$8","v":"Verbindlich gemäss Anlagenartenkatalog"}]
[null,null,{"$f":"'Anlagenartenkatalog UZH'!$B$120","v":"Druckgeräte"},{"$f":"'Anlagenartenkatalog UZH'!$D$122","v":"Reinluftdruckanlage"},{"$f":"Hilfstabelle!$O$6","v":"Artikelgruppe"},"Text",{"$f":"'Anlagenartenkatalog UZH'!$A$120","v":"02.13"}]
[null,null,{"$f":"'Anlagenartenkatalog UZH'!$B$120","v":"Druckgeräte"},{"$f":"'Anlagenartenkatalog UZH'!$D$122","v":"Reinluftdruckanlage"},{"$f":"Hilfstabelle!$O$7","v":"Hauptanlage"},"Text"]
[null,null,{"$f":"'Anlagenartenkatalog UZH'!$B$120","v":"Druckgeräte"},{"$f":"'Anlagenartenkatalog UZH'!$D$122","v":"Reinluftdruckanlage"},{"$f":"Hilfstabelle!$O$8","v":"Objekt"},"Text","FRE"]
[null,null,{"$f":"'Anlagenartenkatalog UZH'!$B$120","v":"Druckgeräte"},{"$f":"'Anlagenartenkatalog UZH'!$D$122","v":"Reinluftdruckanlage"},{"$f":"Hilfstabelle!$O$9","v":"Raumkennzeichen"},"Text","E-02"]
[null,null,{"$f":"'Anlagenartenkatalog UZH'!$B$120","v":"Druckgeräte"},{"$f":"'Anlagenartenkatalog UZH'!$D$122","v":"Reinluftdruckanlage"},{"$f":"Hilfstabelle!$O$10","v":"Hersteller / Marke"},"Text","Neue Protechnik AG"]
[null,null,{"$f":"'Anlagenartenkatalog UZH'!$B$120","v":"Druckgeräte"},{"$f":"'Anlagenartenkatalog UZH'!$D$122","v":"Reinluftdruckanlage"},{"$f":"Hilfstabelle!$O$11","v":"Modell / Artikel"},"Text","Dentalkompressoren, oelfrei, für Zahnärzte und medizinische Labors / PT-TOP-125-15"]
[null,null,{"$f":"'Anlagenartenkatalog UZH'!$B$120","v":"Druckgeräte"},{"$f":"'Anlagenartenkatalog UZH'!$D$122","v":"Reinluftdruckanlage"},{"$f":"Hilfstabelle!$O$12","v":"Seriennummer"},"Text","346567357"]
[null,null,{"$f":"'Anlagenartenkatalog UZH'!$B$120","v":"Druckgeräte"},{"$f":"'Anlagenartenkatalog UZH'!$D$122","v":"Reinluftdruckanlage"},{"$f":"Hilfstabelle!$O$13","v":"Servicefirma"},"Text","Neue Protechnik AG",{"$f":"Hilfstabelle!$P$10","v":"Gemäss Offerte in Submission"}]
[null,null,{"$f":"'Anlagenartenkatalog UZH'!$B$120","v":"Druckgeräte"},{"$f":"'Anlagenartenkatalog UZH'!$D$122","v":"Reinluftdruckanlage"},{"$f":"Hilfstabelle!$O$14","v":"Inbetriebnahmedatum"},"Text","06.06.2030"]
[null,null,{"$f":"'Anlagenartenkatalog UZH'!$B$120","v":"Druckgeräte"},{"$f":"'Anlagenartenkatalog UZH'!$D$122","v":"Reinluftdruckanlage"},{"$f":"Hilfstabelle!$O$15","v":"Garantieende"},"Text","06.06.2035"]
[null,null,{"$f":"'Anlagenartenkatalog UZH'!$B$120","v":"Druckgeräte"},{"$f":"'Anlagenartenkatalog UZH'!$D$122","v":"Reinluftdruckanlage"},{"$f":"Hilfstabelle!$O$16","v":"Erwartetes technisches Enddatum"},"Text","06.06.2045"]
[null,null,{"$f":"'Anlagenartenkatalog UZH'!$B$120","v":"Druckgeräte"},{"$f":"'Anlagenartenkatalog UZH'!$D$122","v":"Reinluftdruckanlage"},"Anmerkung: Prüfpflicht Ja / Nein","Text","Prüfpflicht: Nein"]
[null,null,{"$f":"'Anlagenartenkatalog UZH'!$B$120","v":"Druckgeräte"},{"$f":"'Anlagenartenkatalog UZH'!$D$122","v":"Reinluftdruckanlage"},"Anmerkung: KIS-PV Nr.","Zahl","KIS-PV Nr.: 1325237","Ggf. \"Keine Prüfpflicht\" eintragen"]
[null,null,{"$f":"'Anlagenartenkatalog UZH'!$B$120","v":"Druckgeräte"},{"$f":"'Anlagenartenkatalog UZH'!$D$122","v":"Reinluftdruckanlage"},"Anmerkung: Höchstdruck [bar]","Zahl","Höchstdruck: 10 bar"]
[null,null,{"$f":"'Anlagenartenkatalog UZH'!$B$120","v":"Druckgeräte"},{"$f":"'Anlagenartenkatalog UZH'!$D$122","v":"Reinluftdruckanlage"},"Anmerkung: Volumen [l]","Zahl","Volumen: 300 l"]
[null,null,{"$f":"'Anlagenartenkatalog UZH'!$B$120","v":"Druckgeräte"},{"$f":"'Anlagenartenkatalog UZH'!$D$122","v":"Reinluftdruckanlage"},"Anmerkung: Medium","Text","Medium: Luft"]
[null,null,{"$f":"'Anlagenartenkatalog UZH'!$B$120","v":"Druckgeräte"},{"$f":"'Anlagenartenkatalog UZH'!$D$122","v":"Reinluftdruckanlage"},"Anmerkung: Nachspeisung Automatisch Ja / Nein","Text","Nachspeisung Automatisch: Ja"]
[null,null,{"$f":"'Anlagenartenkatalog UZH'!$B$120","v":"Druckgeräte"},{"$f":"'Anlagenartenkatalog UZH'!$D$122","v":"Reinluftdruckanlage"},{"$f":"Hilfstabelle!$O$17","v":"Anmerkung: Anzahl Wartungen pro Jahr"},"Text","Anzahl Wartungen pro Jahr: 1"]
[null,null,{"$f":"'Anlagenartenkatalog UZH'!$B$120","v":"Druckgeräte"},{"$f":"'Anlagenartenkatalog UZH'!$D$121","v":"Druckluftanlage"},{"$f":"Hilfstabelle!$O$3","v":"Code (MSRL-Code)"},"Text","SOC-§1234567890"]
[null,null,{"$f":"'Anlagenartenkatalog UZH'!$B$120","v":"Druckgeräte"},{"$f":"'Anlagenartenkatalog UZH'!$D$121","v":"Druckluftanlage"},{"$f":"Hilfstabelle!$O$4","v":"Bezeichnung"},"Text","Druckluftanlage",{"$f":"Hilfstabelle!$P$7","v":"Die Bezeichnung einer Anlage muss eindeutig sein, sofern mehrere Anlagen im gleichen Raum sind. "}]
[null,null,{"$f":"'Anlagenartenkatalog UZH'!$B$120","v":"Druckgeräte"},{"$f":"'Anlagenartenkatalog UZH'!$D$121","v":"Druckluftanlage"},{"$f":"Hilfstabelle!$O$5","v":"Anlagentyp (Beschreibung)"},"Text",null,{"$f":"Hilfstabelle!$P$8","v":"Verbindlich gemäss Anlagenartenkatalog"}]
[null,null,{"$f":"'Anlagenartenkatalog UZH'!$B$120","v":"Druckgeräte"},{"$f":"'Anlagenartenkatalog UZH'!$D$121","v":"Druckluftanlage"},{"$f":"Hilfstabelle!$O$6","v":"Artikelgruppe"},"Text",{"$f":"'Anlagenartenkatalog UZH'!$A$120","v":"02.13"}]
[null,null,{"$f":"'Anlagenartenkatalog UZH'!$B$120","v":"Druckgeräte"},{"$f":"'Anlagenartenkatalog UZH'!$D$121","v":"Druckluftanlage"},{"$f":"Hilfstabelle!$O$7","v":"Hauptanlage"},"Text"]
[null,null,{"$f":"'Anlagenartenkatalog UZH'!$B$120","v":"Druckgeräte"},{"$f":"'Anlagenartenkatalog UZH'!$D$121","v":"Druckluftanlage"},{"$f":"Hilfstabelle!$O$8","v":"Objekt"},"Text","SOC"]
[null,null,{"$f":"'Anlagenartenkatalog UZH'!$B$120","v":"Druckgeräte"},{"$f":"'Anlagenartenkatalog UZH'!$D$121","v":"Druckluftanlage"},{"$f":"Hilfstabelle!$O$9","v":"Raumkennzeichen"},"Text","E-03"]
[null,null,{"$f":"'Anlagenartenkatalog UZH'!$B$120","v":"Druckgeräte"},{"$f":"'Anlagenartenkatalog UZH'!$D$121","v":"Druckluftanlage"},{"$f":"Hilfstabelle!$O$10","v":"Hersteller / Marke"},"Text","Prematic AG"]
[null,null,{"$f":"'Anlagenartenkatalog UZH'!$B$120","v":"Druckgeräte"},{"$f":"'Anlagenartenkatalog UZH'!$D$121","v":"Druckluftanlage"},{"$f":"Hilfstabelle!$O$11","v":"Modell / Artikel"},"Text","Kompressoranlage FINI / K 266/25T"]
[null,null,{"$f":"'Anlagenartenkatalog UZH'!$B$120","v":"Druckgeräte"},{"$f":"'Anlagenartenkatalog UZH'!$D$121","v":"Druckluftanlage"},{"$f":"Hilfstabelle!$O$12","v":"Seriennummer"},"Text","3456547"]
[null,null,{"$f":"'Anlagenartenkatalog UZH'!$B$120","v":"Druckgeräte"},{"$f":"'Anlagenartenkatalog UZH'!$D$121","v":"Druckluftanlage"},{"$f":"Hilfstabelle!$O$13","v":"Servicefirma"},"Text","Prematic AG",{"$f":"Hilfstabelle!$P$10","v":"Gemäss Offerte in Submission"}]
[null,null,{"$f":"'Anlagenartenkatalog UZH'!$B$120","v":"Druckgeräte"},{"$f":"'Anlagenartenkatalog UZH'!$D$121","v":"Druckluftanlage"},{"$f":"Hilfstabelle!$O$14","v":"Inbetriebnahmedatum"},"Text","06.06.2030"]
[null,null,{"$f":"'Anlagenartenkatalog UZH'!$B$120","v":"Druckgeräte"},{"$f":"'Anlagenartenkatalog UZH'!$D$121","v":"Druckluftanlage"},{"$f":"Hilfstabelle!$O$15","v":"Garantieende"},"Text","06.06.2035"]
[null,null,{"$f":"'Anlagenartenkatalog UZH'!$B$120","v":"Druckgeräte"},{"$f":"'Anlagenartenkatalog UZH'!$D$121","v":"Druckluftanlage"},{"$f":"Hilfstabelle!$O$16","v":"Erwartetes technisches Enddatum"},"Text","06.06.2045"]
[null,null,"Druckgeräte","Druckluftanlage","Anmerkung: Prüfpflicht Ja / Nein","Text","Prüfpflicht: Nein"]
[null,null,"Druckgeräte","Druckluftanlage","Anmerkung: KIS-PV Nr.","Zahl","KIS-PV Nr.: 1325237","Ggf. \"Keine Prüfpflicht\" eintragen"]
[null,null,"Druckgeräte","Druckluftanlage","Anmerkung: Höchstdruck [bar]","Zahl","Höchstdruck: 10 bar"]
[null,null,"Druckgeräte","Druckluftanlage","Anmerkung: Volumen [l]","Zahl","Volumen: 300 l"]
[null,null,"Druckgeräte","Druckluftanlage","Anmerkung: Medium","Text","Medium: Luft"]
[null,null,"Druckgeräte","Druckluftanlage","Anmerkung: Nachspeisung Automatisch Ja / Nein","Text","Nachspeisung Automatisch: Ja"]
[null,null,{"$f":"'Anlagenartenkatalog UZH'!$B$120","v":"Druckgeräte"},{"$f":"'Anlagenartenkatalog UZH'!$D$121","v":"Druckluftanlage"},{"$f":"Hilfstabelle!$O$17","v":"Anmerkung: Anzahl Wartungen pro Jahr"},"Text","Anzahl Wartungen pro Jahr: 1"]
[null,null,{"$f":"'Anlagenartenkatalog UZH'!$B$40","v":"Elektroverteilungen (Schaltschränke)"},{"$f":"'Anlagenartenkatalog UZH'!$D$42","v":"Elektrounterverteilung (UV)"},{"$f":"Hilfstabelle!$O$3","v":"Code (MSRL-Code)"},"Text","GLL-US14-E230"]
[null,null,{"$f":"'Anlagenartenkatalog UZH'!$B$40","v":"Elektroverteilungen (Schaltschränke)"},{"$f":"'Anlagenartenkatalog UZH'!$D$42","v":"Elektrounterverteilung (UV)"},{"$f":"Hilfstabelle!$O$4","v":"Bezeichnung"},"Text","Elektrounterverteilung (UV)",{"$f":"Hilfstabelle!$P$7","v":"Die Bezeichnung einer Anlage muss eindeutig sein, sofern mehrere Anlagen im gleichen Raum sind. "}]
[null,null,{"$f":"'Anlagenartenkatalog UZH'!$B$40","v":"Elektroverteilungen (Schaltschränke)"},{"$f":"'Anlagenartenkatalog UZH'!$D$42","v":"Elektrounterverteilung (UV)"},{"$f":"Hilfstabelle!$O$5","v":"Anlagentyp (Beschreibung)"},"Text",null,{"$f":"Hilfstabelle!$P$8","v":"Verbindlich gemäss Anlagenartenkatalog"}]
[null,null,{"$f":"'Anlagenartenkatalog UZH'!$B$40","v":"Elektroverteilungen (Schaltschränke)"},{"$f":"'Anlagenartenkatalog UZH'!$D$42","v":"Elektrounterverteilung (UV)"},{"$f":"Hilfstabelle!$O$6","v":"Artikelgruppe"},"Text",{"$f":"'Anlagenartenkatalog UZH'!$A$40","v":"02.04.00"}]
[null,null,{"$f":"'Anlagenartenkatalog UZH'!$B$40","v":"Elektroverteilungen (Schaltschränke)"},{"$f":"'Anlagenartenkatalog UZH'!$D$42","v":"Elektrounterverteilung (UV)"},{"$f":"Hilfstabelle!$O$7","v":"Hauptanlage"},"Text"]
[null,null,{"$f":"'Anlagenartenkatalog UZH'!$B$40","v":"Elektroverteilungen (Schaltschränke)"},{"$f":"'Anlagenartenkatalog UZH'!$D$42","v":"Elektrounterverteilung (UV)"},{"$f":"Hilfstabelle!$O$8","v":"Objekt"},"Text","GLL "]
[null,null,{"$f":"'Anlagenartenkatalog UZH'!$B$40","v":"Elektroverteilungen (Schaltschränke)"},{"$f":"'Anlagenartenkatalog UZH'!$D$42","v":"Elektrounterverteilung (UV)"},{"$f":"Hilfstabelle!$O$9","v":"Raumkennzeichen"},"Text","E-14"]
[null,null,{"$f":"'Anlagenartenkatalog UZH'!$B$40","v":"Elektroverteilungen (Schaltschränke)"},{"$f":"'Anlagenartenkatalog UZH'!$D$42","v":"Elektrounterverteilung (UV)"},{"$f":"Hilfstabelle!$O$10","v":"Hersteller / Marke"},"Text","ABB Power Protection SA"]
[null,null,{"$f":"'Anlagenartenkatalog UZH'!$B$40","v":"Elektroverteilungen (Schaltschränke)"},{"$f":"'Anlagenartenkatalog UZH'!$D$42","v":"Elektrounterverteilung (UV)"},{"$f":"Hilfstabelle!$O$11","v":"Modell / Artikel"},"Text","UK600"]
[null,null,{"$f":"'Anlagenartenkatalog UZH'!$B$40","v":"Elektroverteilungen (Schaltschränke)"},{"$f":"'Anlagenartenkatalog UZH'!$D$42","v":"Elektrounterverteilung (UV)"},{"$f":"Hilfstabelle!$O$12","v":"Seriennummer"},"Text","23987534876"]
[null,null,{"$f":"'Anlagenartenkatalog UZH'!$B$40","v":"Elektroverteilungen (Schaltschränke)"},{"$f":"'Anlagenartenkatalog UZH'!$D$42","v":"Elektrounterverteilung (UV)"},{"$f":"Hilfstabelle!$O$13","v":"Servicefirma"},"Text","ABB Power Protection SA",{"$f":"Hilfstabelle!$P$10","v":"Gemäss Offerte in Submission"}]
[null,null,{"$f":"'Anlagenartenkatalog UZH'!$B$40","v":"Elektroverteilungen (Schaltschränke)"},{"$f":"'Anlagenartenkatalog UZH'!$D$42","v":"Elektrounterverteilung (UV)"},{"$f":"Hilfstabelle!$O$14","v":"Inbetriebnahmedatum"},"Text","06.06.2030"]
[null,null,{"$f":"'Anlagenartenkatalog UZH'!$B$40","v":"Elektroverteilungen (Schaltschränke)"},{"$f":"'Anlagenartenkatalog UZH'!$D$42","v":"Elektrounterverteilung (UV)"},{"$f":"Hilfstabelle!$O$15","v":"Garantieende"},"Text","06.06.2035"]
[null,null,{"$f":"'Anlagenartenkatalog UZH'!$B$40","v":"Elektroverteilungen (Schaltschränke)"},{"$f":"'Anlagenartenkatalog UZH'!$D$42","v":"Elektrounterverteilung (UV)"},{"$f":"Hilfstabelle!$O$16","v":"Erwartetes technisches Enddatum"},"Text","06.06.2045"]
[null,null,{"$f":"'Anlagenartenkatalog UZH'!$B$40","v":"Elektroverteilungen (Schaltschränke)"},{"$f":"'Anlagenartenkatalog UZH'!$D$42","v":"Elektrounterverteilung (UV)"},"Anmerkung: Anzahl Wartungen pro Jahr","Text","Anzahl Wartungen pro Jahr: 1"]
[null,null,{"$f":"'Anlagenartenkatalog UZH'!$B$40","v":"Elektroverteilungen (Schaltschränke)"},{"$f":"'Anlagenartenkatalog UZH'!$D$40","v":"Elektrohauptverteilung (HV)"},{"$f":"Hilfstabelle!$O$3","v":"Code (MSRL-Code)"},"Text","GLL-US12-E140"]
[null,null,{"$f":"'Anlagenartenkatalog UZH'!$B$40","v":"Elektroverteilungen (Schaltschränke)"},{"$f":"'Anlagenartenkatalog UZH'!$D$40","v":"Elektrohauptverteilung (HV)"},{"$f":"Hilfstabelle!$O$4","v":"Bezeichnung"},"Text","Elektrohauptverteilung (HV)",{"$f":"Hilfstabelle!$P$7","v":"Die Bezeichnung einer Anlage muss eindeutig sein, sofern mehrere Anlagen im gleichen Raum sind. "}]
[null,null,{"$f":"'Anlagenartenkatalog UZH'!$B$40","v":"Elektroverteilungen (Schaltschränke)"},{"$f":"'Anlagenartenkatalog UZH'!$D$40","v":"Elektrohauptverteilung (HV)"},{"$f":"Hilfstabelle!$O$5","v":"Anlagentyp (Beschreibung)"},"Text",null,{"$f":"Hilfstabelle!$P$8","v":"Verbindlich gemäss Anlagenartenkatalog"}]
[null,null,{"$f":"'Anlagenartenkatalog UZH'!$B$40","v":"Elektroverteilungen (Schaltschränke)"},{"$f":"'Anlagenartenkatalog UZH'!$D$40","v":"Elektrohauptverteilung (HV)"},{"$f":"Hilfstabelle!$O$6","v":"Artikelgruppe"},"Text",{"$f":"'Anlagenartenkatalog UZH'!$A$40","v":"02.04.00"}]
[null,null,{"$f":"'Anlagenartenkatalog UZH'!$B$40","v":"Elektroverteilungen (Schaltschränke)"},{"$f":"'Anlagenartenkatalog UZH'!$D$40","v":"Elektrohauptverteilung (HV)"},{"$f":"Hilfstabelle!$O$7","v":"Hauptanlage"},"Text","ja"]
[null,null,{"$f":"'Anlagenartenkatalog UZH'!$B$40","v":"Elektroverteilungen (Schaltschränke)"},{"$f":"'Anlagenartenkatalog UZH'!$D$40","v":"Elektrohauptverteilung (HV)"},{"$f":"Hilfstabelle!$O$8","v":"Objekt"},"Text","GLL "]
[null,null,{"$f":"'Anlagenartenkatalog UZH'!$B$40","v":"Elektroverteilungen (Schaltschränke)"},{"$f":"'Anlagenartenkatalog UZH'!$D$40","v":"Elektrohauptverteilung (HV)"},{"$f":"Hilfstabelle!$O$9","v":"Raumkennzeichen"},"Text","D-131"]
[null,null,{"$f":"'Anlagenartenkatalog UZH'!$B$40","v":"Elektroverteilungen (Schaltschränke)"},{"$f":"'Anlagenartenkatalog UZH'!$D$40","v":"Elektrohauptverteilung (HV)"},{"$f":"Hilfstabelle!$O$10","v":"Hersteller / Marke"},"Text","ABB Power Protection SA"]
[null,null,{"$f":"'Anlagenartenkatalog UZH'!$B$40","v":"Elektroverteilungen (Schaltschränke)"},{"$f":"'Anlagenartenkatalog UZH'!$D$40","v":"Elektrohauptverteilung (HV)"},{"$f":"Hilfstabelle!$O$11","v":"Modell / Artikel"},"Text","ABB NeoGear"]
[null,null,{"$f":"'Anlagenartenkatalog UZH'!$B$40","v":"Elektroverteilungen (Schaltschränke)"},{"$f":"'Anlagenartenkatalog UZH'!$D$40","v":"Elektrohauptverteilung (HV)"},{"$f":"Hilfstabelle!$O$12","v":"Seriennummer"},"Text","98768567"]
[null,null,{"$f":"'Anlagenartenkatalog UZH'!$B$40","v":"Elektroverteilungen (Schaltschränke)"},{"$f":"'Anlagenartenkatalog UZH'!$D$40","v":"Elektrohauptverteilung (HV)"},{"$f":"Hilfstabelle!$O$13","v":"Servicefirma"},"Text","ABB Power Protection SA",{"$f":"Hilfstabelle!$P$10","v":"Gemäss Offerte in Submission"}]
[null,null,{"$f":"'Anlagenartenkatalog UZH'!$B$40","v":"Elektroverteilungen (Schaltschränke)"},{"$f":"'Anlagenartenkatalog UZH'!$D$40","v":"Elektrohauptverteilung (HV)"},{"$f":"Hilfstabelle!$O$14","v":"Inbetriebnahmedatum"},"Text","06.06.2030"]
[null,null,{"$f":"'Anlagenartenkatalog UZH'!$B$40","v":"Elektroverteilungen (Schaltschränke)"},{"$f":"'Anlagenartenkatalog UZH'!$D$40","v":"Elektrohauptverteilung (HV)"},{"$f":"Hilfstabelle!$O$15","v":"Garantieende"},"Text","06.06.2035"]
[null,null,{"$f":"'Anlagenartenkatalog UZH'!$B$40","v":"Elektroverteilungen (Schaltschränke)"},{"$f":"'Anlagenartenkatalog UZH'!$D$40","v":"Elektrohauptverteilung (HV)"},{"$f":"Hilfstabelle!$O$16","v":"Erwartetes technisches Enddatum"},"Text","06.06.2045"]
[null,null,{"$f":"'Anlagenartenkatalog UZH'!$B$40","v":"Elektroverteilungen (Schaltschränke)"},{"$f":"'Anlagenartenkatalog UZH'!$D$40","v":"Elektrohauptverteilung (HV)"},"Anmerkung: Anzahl Wartungen pro Jahr","Text","Anzahl Wartungen pro Jahr: 1"]
[null,null,{"$f":"'Anlagenartenkatalog UZH'!$B$40","v":"Elektroverteilungen (Schaltschränke)"},{"$f":"'Anlagenartenkatalog UZH'!$D$41","v":"Etagenverteilung (EV)"},{"$f":"Hilfstabelle!$O$3","v":"Code (MSRL-Code)"},"Text","GLL-US08-E180"]
[null,null,{"$f":"'Anlagenartenkatalog UZH'!$B$40","v":"Elektroverteilungen (Schaltschränke)"},{"$f":"'Anlagenartenkatalog UZH'!$D$41","v":"Etagenverteilung (EV)"},{"$f":"Hilfstabelle!$O$4","v":"Bezeichnung"},"Text","Etagenverteilung (EV)",{"$f":"Hilfstabelle!$P$7","v":"Die Bezeichnung einer Anlage muss eindeutig sein, sofern mehrere Anlagen im gleichen Raum sind. "}]
[null,null,{"$f":"'Anlagenartenkatalog UZH'!$B$40","v":"Elektroverteilungen (Schaltschränke)"},{"$f":"'Anlagenartenkatalog UZH'!$D$41","v":"Etagenverteilung (EV)"},{"$f":"Hilfstabelle!$O$5","v":"Anlagentyp (Beschreibung)"},"Text",null,{"$f":"Hilfstabelle!$P$8","v":"Verbindlich gemäss Anlagenartenkatalog"}]
[null,null,{"$f":"'Anlagenartenkatalog UZH'!$B$40","v":"Elektroverteilungen (Schaltschränke)"},{"$f":"'Anlagenartenkatalog UZH'!$D$41","v":"Etagenverteilung (EV)"},{"$f":"Hilfstabelle!$O$6","v":"Artikelgruppe"},"Text",{"$f":"'Anlagenartenkatalog UZH'!$A$40","v":"02.04.00"}]
[null,null,{"$f":"'Anlagenartenkatalog UZH'!$B$40","v":"Elektroverteilungen (Schaltschränke)"},{"$f":"'Anlagenartenkatalog UZH'!$D$41","v":"Etagenverteilung (EV)"},{"$f":"Hilfstabelle!$O$7","v":"Hauptanlage"},"Text","Unteranlage "]
[null,null,{"$f":"'Anlagenartenkatalog UZH'!$B$40","v":"Elektroverteilungen (Schaltschränke)"},{"$f":"'Anlagenartenkatalog UZH'!$D$41","v":"Etagenverteilung (EV)"},{"$f":"Hilfstabelle!$O$8","v":"Objekt"},"Text","GLL "]
[null,null,{"$f":"'Anlagenartenkatalog UZH'!$B$40","v":"Elektroverteilungen (Schaltschränke)"},{"$f":"'Anlagenartenkatalog UZH'!$D$41","v":"Etagenverteilung (EV)"},{"$f":"Hilfstabelle!$O$9","v":"Raumkennzeichen"},"Text","E-18"]
[null,null,{"$f":"'Anlagenartenkatalog UZH'!$B$40","v":"Elektroverteilungen (Schaltschränke)"},{"$f":"'Anlagenartenkatalog UZH'!$D$41","v":"Etagenverteilung (EV)"},{"$f":"Hilfstabelle!$O$10","v":"Hersteller / Marke"},"Text","ABB Power Protection SA"]
[null,null,{"$f":"'Anlagenartenkatalog UZH'!$B$40","v":"Elektroverteilungen (Schaltschränke)"},{"$f":"'Anlagenartenkatalog UZH'!$D$41","v":"Etagenverteilung (EV)"},{"$f":"Hilfstabelle!$O$11","v":"Modell / Artikel"},"Text","ComfortLine Compact CA"]
[null,null,{"$f":"'Anlagenartenkatalog UZH'!$B$40","v":"Elektroverteilungen (Schaltschränke)"},{"$f":"'Anlagenartenkatalog UZH'!$D$41","v":"Etagenverteilung (EV)"},{"$f":"Hilfstabelle!$O$12","v":"Seriennummer"},"Text","097875698"]
[null,null,{"$f":"'Anlagenartenkatalog UZH'!$B$40","v":"Elektroverteilungen (Schaltschränke)"},{"$f":"'Anlagenartenkatalog UZH'!$D$41","v":"Etagenverteilung (EV)"},{"$f":"Hilfstabelle!$O$13","v":"Servicefirma"},"Text","ABB Power Protection SA",{"$f":"Hilfstabelle!$P$10","v":"Gemäss Offerte in Submission"}]
[null,null,{"$f":"'Anlagenartenkatalog UZH'!$B$40","v":"Elektroverteilungen (Schaltschränke)"},{"$f":"'Anlagenartenkatalog UZH'!$D$41","v":"Etagenverteilung (EV)"},{"$f":"Hilfstabelle!$O$14","v":"Inbetriebnahmedatum"},"Text","06.06.2030"]
[null,null,{"$f":"'Anlagenartenkatalog UZH'!$B$40","v":"Elektroverteilungen (Schaltschränke)"},{"$f":"'Anlagenartenkatalog UZH'!$D$41","v":"Etagenverteilung (EV)"},{"$f":"Hilfstabelle!$O$15","v":"Garantieende"},"Text","06.06.2035"]
[null,null,{"$f":"'Anlagenartenkatalog UZH'!$B$40","v":"Elektroverteilungen (Schaltschränke)"},{"$f":"'Anlagenartenkatalog UZH'!$D$41","v":"Etagenverteilung (EV)"},{"$f":"Hilfstabelle!$O$16","v":"Erwartetes technisches Enddatum"},"Text","06.06.2045"]
[null,null,{"$f":"'Anlagenartenkatalog UZH'!$B$40","v":"Elektroverteilungen (Schaltschränke)"},{"$f":"'Anlagenartenkatalog UZH'!$D$41","v":"Etagenverteilung (EV)"},"Anmerkung: Anzahl Wartungen pro Jahr","Text","Anzahl Wartungen pro Jahr: 1"]
[null,null,{"$f":"'Anlagenartenkatalog UZH'!$B$22","v":"Entrauchung"},{"$f":"'Anlagenartenkatalog UZH'!$D$23","v":"Rauchschutzdruckanlage (RDA / RWA)"},{"$f":"Hilfstabelle!$O$3","v":"Code (MSRL-Code)"},"Text","KOL-US23-L036"," "]
[null,null,{"$f":"'Anlagenartenkatalog UZH'!$B$22","v":"Entrauchung"},{"$f":"'Anlagenartenkatalog UZH'!$D$23","v":"Rauchschutzdruckanlage (RDA / RWA)"},{"$f":"Hilfstabelle!$O$4","v":"Bezeichnung"},"Text","Rauchschutzdruckanlage (RDA / RWA)",{"$f":"Hilfstabelle!$P$7","v":"Die Bezeichnung einer Anlage muss eindeutig sein, sofern mehrere Anlagen im gleichen Raum sind. "}]
[null,null,{"$f":"'Anlagenartenkatalog UZH'!$B$22","v":"Entrauchung"},{"$f":"'Anlagenartenkatalog UZH'!$D$23","v":"Rauchschutzdruckanlage (RDA / RWA)"},{"$f":"Hilfstabelle!O5","v":"Anlagentyp (Beschreibung)"},"Text",null,{"$f":"Hilfstabelle!$P$8","v":"Verbindlich gemäss Anlagenartenkatalog"}]
[null,null,{"$f":"'Anlagenartenkatalog UZH'!$B$22","v":"Entrauchung"},{"$f":"'Anlagenartenkatalog UZH'!$D$23","v":"Rauchschutzdruckanlage (RDA / RWA)"},{"$f":"Hilfstabelle!$O$6","v":"Artikelgruppe"},"Text","02.01.04"," "]
[null,null,{"$f":"'Anlagenartenkatalog UZH'!$B$22","v":"Entrauchung"},{"$f":"'Anlagenartenkatalog UZH'!$D$23","v":"Rauchschutzdruckanlage (RDA / RWA)"},{"$f":"Hilfstabelle!$O$7","v":"Hauptanlage"},"Text","Ja","Hauptanlage  "]
[null,null,{"$f":"'Anlagenartenkatalog UZH'!$B$22","v":"Entrauchung"},{"$f":"'Anlagenartenkatalog UZH'!$D$23","v":"Rauchschutzdruckanlage (RDA / RWA)"},{"$f":"Hilfstabelle!$O$8","v":"Objekt"},"Text","KOL "," "]
[null,null,{"$f":"'Anlagenartenkatalog UZH'!$B$22","v":"Entrauchung"},{"$f":"'Anlagenartenkatalog UZH'!$D$23","v":"Rauchschutzdruckanlage (RDA / RWA)"},{"$f":"Hilfstabelle!$O$9","v":"Raumkennzeichen"},"Text","D-51A"," "]
[null,null,{"$f":"'Anlagenartenkatalog UZH'!$B$22","v":"Entrauchung"},{"$f":"'Anlagenartenkatalog UZH'!$D$23","v":"Rauchschutzdruckanlage (RDA / RWA)"},{"$f":"Hilfstabelle!$O$10","v":"Hersteller / Marke"},"Text","Jomos Brandschutz AG"," "]
[null,null,{"$f":"'Anlagenartenkatalog UZH'!$B$22","v":"Entrauchung"},{"$f":"'Anlagenartenkatalog UZH'!$D$23","v":"Rauchschutzdruckanlage (RDA / RWA)"},{"$f":"Hilfstabelle!$O$11","v":"Modell / Artikel"},"Text","-"," "]
[null,null,{"$f":"'Anlagenartenkatalog UZH'!$B$22","v":"Entrauchung"},{"$f":"'Anlagenartenkatalog UZH'!$D$23","v":"Rauchschutzdruckanlage (RDA / RWA)"},{"$f":"Hilfstabelle!$O$12","v":"Seriennummer"},"Text","21465"," "]
[null,null,{"$f":"'Anlagenartenkatalog UZH'!$B$22","v":"Entrauchung"},{"$f":"'Anlagenartenkatalog UZH'!$D$23","v":"Rauchschutzdruckanlage (RDA / RWA)"},{"$f":"Hilfstabelle!$O$13","v":"Servicefirma"},"Text","Jomos Brandschutz AG"," "]
[null,null,{"$f":"'Anlagenartenkatalog UZH'!$B$22","v":"Entrauchung"},{"$f":"'Anlagenartenkatalog UZH'!$D$23","v":"Rauchschutzdruckanlage (RDA / RWA)"},{"$f":"Hilfstabelle!$O$14","v":"Inbetriebnahmedatum"},"Text","06.06.2030"," "]
[null,null,{"$f":"'Anlagenartenkatalog UZH'!$B$22","v":"Entrauchung"},{"$f":"'Anlagenartenkatalog UZH'!$D$23","v":"Rauchschutzdruckanlage (RDA / RWA)"},{"$f":"Hilfstabelle!$O$15","v":"Garantieende"},"Text","06.06.2035"," "]
[null,null,{"$f":"'Anlagenartenkatalog UZH'!$B$22","v":"Entrauchung"},{"$f":"'Anlagenartenkatalog UZH'!$D$23","v":"Rauchschutzdruckanlage (RDA / RWA)"},{"$f":"Hilfstabelle!$O$16","v":"Erwartetes technisches Enddatum"},"Text","06.06.2045"," "]
[null,null,{"$f":"'Anlagenartenkatalog UZH'!$B$22","v":"Entrauchung"},{"$f":"'Anlagenartenkatalog UZH'!$D$23","v":"Rauchschutzdruckanlage (RDA / RWA)"},{"$f":"Hilfstabelle!$O$17","v":"Anmerkung: Anzahl Wartungen pro Jahr"},"Text","Anzahl Wartungen pro Jahr: 1 + wöchentlicher Selbsttest"," "]
[null,null,{"$f":"'Anlagenartenkatalog UZH'!$B$22","v":"Entrauchung"},{"$f":"'Anlagenartenkatalog UZH'!$D$22","v":"Rauch- und Wärmeabzugsanlage (RWA)"},{"$f":"Hilfstabelle!$O$3","v":"Code (MSRL-Code)"},"Text","GLL-US12-F001","Beides Möglich"]
[null,null,{"$f":"'Anlagenartenkatalog UZH'!$B$22","v":"Entrauchung"},{"$f":"'Anlagenartenkatalog UZH'!$D$22","v":"Rauch- und Wärmeabzugsanlage (RWA)"},{"$f":"Hilfstabelle!$O$4","v":"Bezeichnung"},"Text","Rauch- und Wärmeabzugsanlage (RWA) Treppenhaus",{"$f":"Hilfstabelle!$P$7","v":"Die Bezeichnung einer Anlage muss eindeutig sein, sofern mehrere Anlagen im gleichen Raum sind. "}]
[null,null,{"$f":"'Anlagenartenkatalog UZH'!$B$22","v":"Entrauchung"},{"$f":"'Anlagenartenkatalog UZH'!$D$22","v":"Rauch- und Wärmeabzugsanlage (RWA)"},{"$f":"Hilfstabelle!O5","v":"Anlagentyp (Beschreibung)"},"Text",null,"Verbindlich gemäss Anlagenartenkatalog"]
[null,null,{"$f":"'Anlagenartenkatalog UZH'!$B$22","v":"Entrauchung"},{"$f":"'Anlagenartenkatalog UZH'!$D$22","v":"Rauch- und Wärmeabzugsanlage (RWA)"},{"$f":"Hilfstabelle!$O$6","v":"Artikelgruppe"},"Text","02.01.04"," "]
[null,null,{"$f":"'Anlagenartenkatalog UZH'!$B$22","v":"Entrauchung"},{"$f":"'Anlagenartenkatalog UZH'!$D$22","v":"Rauch- und Wärmeabzugsanlage (RWA)"},{"$f":"Hilfstabelle!$O$7","v":"Hauptanlage"},"Text","ja","Gruppe Möglich"]
[null,null,{"$f":"'Anlagenartenkatalog UZH'!$B$22","v":"Entrauchung"},{"$f":"'Anlagenartenkatalog UZH'!$D$22","v":"Rauch- und Wärmeabzugsanlage (RWA)"},{"$f":"Hilfstabelle!$O$8","v":"Objekt"},"Text","GLL "," "]
[null,null,{"$f":"'Anlagenartenkatalog UZH'!$B$22","v":"Entrauchung"},{"$f":"'Anlagenartenkatalog UZH'!$D$22","v":"Rauch- und Wärmeabzugsanlage (RWA)"},{"$f":"Hilfstabelle!$O$9","v":"Raumkennzeichen"},"Text","J-004"," "]
[null,null,{"$f":"'Anlagenartenkatalog UZH'!$B$22","v":"Entrauchung"},{"$f":"'Anlagenartenkatalog UZH'!$D$22","v":"Rauch- und Wärmeabzugsanlage (RWA)"},{"$f":"Hilfstabelle!$O$10","v":"Hersteller / Marke"},"Text","Foppa AG"," "]
[null,null,{"$f":"'Anlagenartenkatalog UZH'!$B$22","v":"Entrauchung"},{"$f":"'Anlagenartenkatalog UZH'!$D$22","v":"Rauch- und Wärmeabzugsanlage (RWA)"},{"$f":"Hilfstabelle!$O$11","v":"Modell / Artikel"},"Text","RZN4316E9"," "]
[null,null,{"$f":"'Anlagenartenkatalog UZH'!$B$22","v":"Entrauchung"},{"$f":"'Anlagenartenkatalog UZH'!$D$22","v":"Rauch- und Wärmeabzugsanlage (RWA)"},{"$f":"Hilfstabelle!$O$12","v":"Seriennummer"},"Text","160550"," "]
[null,null,{"$f":"'Anlagenartenkatalog UZH'!$B$22","v":"Entrauchung"},{"$f":"'Anlagenartenkatalog UZH'!$D$22","v":"Rauch- und Wärmeabzugsanlage (RWA)"},{"$f":"Hilfstabelle!$O$13","v":"Servicefirma"},"Text","Foppa AG"," "]
[null,null,{"$f":"'Anlagenartenkatalog UZH'!$B$22","v":"Entrauchung"},{"$f":"'Anlagenartenkatalog UZH'!$D$22","v":"Rauch- und Wärmeabzugsanlage (RWA)"},{"$f":"Hilfstabelle!$O$14","v":"Inbetriebnahmedatum"},"Text","06.06.2030"," "]
[null,null,{"$f":"'Anlagenartenkatalog UZH'!$B$22","v":"Entrauchung"},{"$f":"'Anlagenartenkatalog UZH'!$D$22","v":"Rauch- und Wärmeabzugsanlage (RWA)"},{"$f":"Hilfstabelle!$O$15","v":"Garantieende"},"Text","06.06.2035"," "]
[null,null,{"$f":"'Anlagenartenkatalog UZH'!$B$22","v":"Entrauchung"},{"$f":"'Anlagenartenkatalog UZH'!$D$22","v":"Rauch- und Wärmeabzugsanlage (RWA)"},{"$f":"Hilfstabelle!$O$16","v":"Erwartetes technisches Enddatum"},"Text","06.06.2045"," "]
[null,null,{"$f":"'Anlagenartenkatalog UZH'!$B$22","v":"Entrauchung"},{"$f":"'Anlagenartenkatalog UZH'!$D$22","v":"Rauch- und Wärmeabzugsanlage (RWA)"},{"$f":"Hilfstabelle!$O$17","v":"Anmerkung: Anzahl Wartungen pro Jahr"},"Text","Anzahl Wartungen pro Jahr: 1 + Akkuwechsel alle 5 Jahre"," "]
[null,null,{"$f":"'Anlagenartenkatalog UZH'!$B$166","v":"Entsorgungseinrichtungen"},{"$f":"'Anlagenartenkatalog UZH'!$D$166","v":"Ballenpresse"},{"$f":"Hilfstabelle!$O$3","v":"Code (MSRL-Code)"},"Text","GLM-§1654200441"]
[null,null,{"$f":"'Anlagenartenkatalog UZH'!$B$166","v":"Entsorgungseinrichtungen"},{"$f":"'Anlagenartenkatalog UZH'!$D$166","v":"Ballenpresse"},{"$f":"Hilfstabelle!$O$4","v":"Bezeichnung"},"Text","Ballenpresse Nr. 23472",{"$f":"Hilfstabelle!$P$7","v":"Die Bezeichnung einer Anlage muss eindeutig sein, sofern mehrere Anlagen im gleichen Raum sind. "}]
[null,null,{"$f":"'Anlagenartenkatalog UZH'!$B$166","v":"Entsorgungseinrichtungen"},{"$f":"'Anlagenartenkatalog UZH'!$D$166","v":"Ballenpresse"},{"$f":"Hilfstabelle!$O$5","v":"Anlagentyp (Beschreibung)"},"Text",null,{"$f":"Hilfstabelle!$P$8","v":"Verbindlich gemäss Anlagenartenkatalog"}]
[null,null,{"$f":"'Anlagenartenkatalog UZH'!$B$166","v":"Entsorgungseinrichtungen"},{"$f":"'Anlagenartenkatalog UZH'!$D$166","v":"Ballenpresse"},{"$f":"Hilfstabelle!$O$6","v":"Artikelgruppe"},"Text",4.09]
[null,null,{"$f":"'Anlagenartenkatalog UZH'!$B$166","v":"Entsorgungseinrichtungen"},{"$f":"'Anlagenartenkatalog UZH'!$D$166","v":"Ballenpresse"},{"$f":"Hilfstabelle!$O$7","v":"Hauptanlage"},"Text","Ja"]
[null,null,{"$f":"'Anlagenartenkatalog UZH'!$B$166","v":"Entsorgungseinrichtungen"},{"$f":"'Anlagenartenkatalog UZH'!$D$166","v":"Ballenpresse"},{"$f":"Hilfstabelle!$O$8","v":"Objekt"},"Text","GLM "]
[null,null,{"$f":"'Anlagenartenkatalog UZH'!$B$166","v":"Entsorgungseinrichtungen"},{"$f":"'Anlagenartenkatalog UZH'!$D$166","v":"Ballenpresse"},{"$f":"Hilfstabelle!$O$9","v":"Raumkennzeichen"},"Text","E-11"]
[null,null,{"$f":"'Anlagenartenkatalog UZH'!$B$166","v":"Entsorgungseinrichtungen"},{"$f":"'Anlagenartenkatalog UZH'!$D$166","v":"Ballenpresse"},{"$f":"Hilfstabelle!$O$10","v":"Hersteller / Marke"},"Text","Hunkeler Systeme AG"]
[null,null,{"$f":"'Anlagenartenkatalog UZH'!$B$166","v":"Entsorgungseinrichtungen"},{"$f":"'Anlagenartenkatalog UZH'!$D$166","v":"Ballenpresse"},{"$f":"Hilfstabelle!$O$11","v":"Modell / Artikel"},"Text","V-Press 610 eco"]
[null,null,{"$f":"'Anlagenartenkatalog UZH'!$B$166","v":"Entsorgungseinrichtungen"},{"$f":"'Anlagenartenkatalog UZH'!$D$166","v":"Ballenpresse"},{"$f":"Hilfstabelle!$O$12","v":"Seriennummer"},"Text",23472]
[null,null,{"$f":"'Anlagenartenkatalog UZH'!$B$166","v":"Entsorgungseinrichtungen"},{"$f":"'Anlagenartenkatalog UZH'!$D$166","v":"Ballenpresse"},{"$f":"Hilfstabelle!$O$13","v":"Servicefirma"},"Text","Hunkeler Systeme AG",{"$f":"Hilfstabelle!$P$10","v":"Gemäss Offerte in Submission"}]
[null,null,{"$f":"'Anlagenartenkatalog UZH'!$B$166","v":"Entsorgungseinrichtungen"},{"$f":"'Anlagenartenkatalog UZH'!$D$166","v":"Ballenpresse"},{"$f":"Hilfstabelle!$O$14","v":"Inbetriebnahmedatum"},"Text","06.06.2030"]
[null,null,{"$f":"'Anlagenartenkatalog UZH'!$B$166","v":"Entsorgungseinrichtungen"},{"$f":"'Anlagenartenkatalog UZH'!$D$166","v":"Ballenpresse"},{"$f":"Hilfstabelle!$O$15","v":"Garantieende"},"Text","06.06.2035"]
[null,null,{"$f":"'Anlagenartenkatalog UZH'!$B$166","v":"Entsorgungseinrichtungen"},{"$f":"'Anlagenartenkatalog UZH'!$D$166","v":"Ballenpresse"},{"$f":"Hilfstabelle!$O$16","v":"Erwartetes technisches Enddatum"},"Text","06.06.2045"]
[null,null,{"$f":"'Anlagenartenkatalog UZH'!$B$166","v":"Entsorgungseinrichtungen"},{"$f":"'Anlagenartenkatalog UZH'!$D$166","v":"Ballenpresse"},"Anmerkung: Genaue Standortbeschreibung","Text","Genaue Standortbeschreibung: Geschoss E, bei zentraler Anlieferung"]
[null,null,{"$f":"'Anlagenartenkatalog UZH'!$B$166","v":"Entsorgungseinrichtungen"},{"$f":"'Anlagenartenkatalog UZH'!$D$166","v":"Ballenpresse"},{"$f":"Hilfstabelle!$O$17","v":"Anmerkung: Anzahl Wartungen pro Jahr"},"Text","Anzahl Wartungen pro Jahr: 1"]
[null,null,{"$f":"'Anlagenartenkatalog UZH'!$B$166","v":"Entsorgungseinrichtungen"},{"$f":"'Anlagenartenkatalog UZH'!$D$167","v":"Containerpresse"},{"$f":"Hilfstabelle!$O$3","v":"Code (MSRL-Code)"},"Text","MEN-§1654200442"]
[null,null,{"$f":"'Anlagenartenkatalog UZH'!$B$166","v":"Entsorgungseinrichtungen"},{"$f":"'Anlagenartenkatalog UZH'!$D$167","v":"Containerpresse"},{"$f":"Hilfstabelle!$O$4","v":"Bezeichnung"},"Text","Containerpresse Nr. 20631",{"$f":"Hilfstabelle!$P$7","v":"Die Bezeichnung einer Anlage muss eindeutig sein, sofern mehrere Anlagen im gleichen Raum sind. "}]
[null,null,{"$f":"'Anlagenartenkatalog UZH'!$B$166","v":"Entsorgungseinrichtungen"},{"$f":"'Anlagenartenkatalog UZH'!$D$167","v":"Containerpresse"},{"$f":"Hilfstabelle!$O$5","v":"Anlagentyp (Beschreibung)"},"Text",null,{"$f":"Hilfstabelle!$P$8","v":"Verbindlich gemäss Anlagenartenkatalog"}]
[null,null,{"$f":"'Anlagenartenkatalog UZH'!$B$166","v":"Entsorgungseinrichtungen"},{"$f":"'Anlagenartenkatalog UZH'!$D$167","v":"Containerpresse"},{"$f":"Hilfstabelle!$O$6","v":"Artikelgruppe"},"Text",4.09]
[null,null,{"$f":"'Anlagenartenkatalog UZH'!$B$166","v":"Entsorgungseinrichtungen"},{"$f":"'Anlagenartenkatalog UZH'!$D$167","v":"Containerpresse"},{"$f":"Hilfstabelle!$O$7","v":"Hauptanlage"},"Text","Ja"]
[null,null,{"$f":"'Anlagenartenkatalog UZH'!$B$166","v":"Entsorgungseinrichtungen"},{"$f":"'Anlagenartenkatalog UZH'!$D$167","v":"Containerpresse"},{"$f":"Hilfstabelle!$O$8","v":"Objekt"},"Text","MEN "]
[null,null,{"$f":"'Anlagenartenkatalog UZH'!$B$166","v":"Entsorgungseinrichtungen"},{"$f":"'Anlagenartenkatalog UZH'!$D$167","v":"Containerpresse"},{"$f":"Hilfstabelle!$O$9","v":"Raumkennzeichen"},"Text","E-12"]
[null,null,{"$f":"'Anlagenartenkatalog UZH'!$B$166","v":"Entsorgungseinrichtungen"},{"$f":"'Anlagenartenkatalog UZH'!$D$167","v":"Containerpresse"},{"$f":"Hilfstabelle!$O$10","v":"Hersteller / Marke"},"Text","Hunkeler Systeme AG"]
[null,null,{"$f":"'Anlagenartenkatalog UZH'!$B$166","v":"Entsorgungseinrichtungen"},{"$f":"'Anlagenartenkatalog UZH'!$D$167","v":"Containerpresse"},{"$f":"Hilfstabelle!$O$11","v":"Modell / Artikel"},"Text","SI 25 D"]
[null,null,{"$f":"'Anlagenartenkatalog UZH'!$B$166","v":"Entsorgungseinrichtungen"},{"$f":"'Anlagenartenkatalog UZH'!$D$167","v":"Containerpresse"},{"$f":"Hilfstabelle!$O$12","v":"Seriennummer"},"Text",20631]
[null,null,{"$f":"'Anlagenartenkatalog UZH'!$B$166","v":"Entsorgungseinrichtungen"},{"$f":"'Anlagenartenkatalog UZH'!$D$167","v":"Containerpresse"},{"$f":"Hilfstabelle!$O$13","v":"Servicefirma"},"Text","Hunkeler Systeme AG",{"$f":"Hilfstabelle!$P$10","v":"Gemäss Offerte in Submission"}]
[null,null,{"$f":"'Anlagenartenkatalog UZH'!$B$166","v":"Entsorgungseinrichtungen"},{"$f":"'Anlagenartenkatalog UZH'!$D$167","v":"Containerpresse"},{"$f":"Hilfstabelle!$O$14","v":"Inbetriebnahmedatum"},"Text","06.06.2030"]
[null,null,{"$f":"'Anlagenartenkatalog UZH'!$B$166","v":"Entsorgungseinrichtungen"},{"$f":"'Anlagenartenkatalog UZH'!$D$167","v":"Containerpresse"},{"$f":"Hilfstabelle!$O$15","v":"Garantieende"},"Text","06.06.2035"]
[null,null,{"$f":"'Anlagenartenkatalog UZH'!$B$166","v":"Entsorgungseinrichtungen"},{"$f":"'Anlagenartenkatalog UZH'!$D$167","v":"Containerpresse"},{"$f":"Hilfstabelle!$O$16","v":"Erwartetes technisches Enddatum"},"Text","06.06.2045"]
[null,null,{"$f":"'Anlagenartenkatalog UZH'!$B$166","v":"Entsorgungseinrichtungen"},{"$f":"'Anlagenartenkatalog UZH'!$D$167","v":"Containerpresse"},"Anmerkung: Genaue Standortbeschreibung","Text","Genaue Standortbeschreibung: Geschoss E, bei zentraler Anlieferung","Falls Standort nicht innerhalb Objekt, Standort deklarieren"]
[null,null,{"$f":"'Anlagenartenkatalog UZH'!$B$166","v":"Entsorgungseinrichtungen"},{"$f":"'Anlagenartenkatalog UZH'!$D$167","v":"Containerpresse"},{"$f":"Hilfstabelle!$O$17","v":"Anmerkung: Anzahl Wartungen pro Jahr"},"Text","Anzahl Wartungen pro Jahr: 1"]
[null,null,{"$f":"'Anlagenartenkatalog UZH'!$B$10","v":"Fenster"},{"$f":"'Anlagenartenkatalog UZH'!$D$10","v":"Oblicht"},{"$f":"Hilfstabelle!$O$3","v":"Code (MSRL-Code)"},"Text","KOL-§1234567890"]
[null,null,{"$f":"'Anlagenartenkatalog UZH'!$B$10","v":"Fenster"},{"$f":"'Anlagenartenkatalog UZH'!$D$10","v":"Oblicht"},{"$f":"Hilfstabelle!$O$4","v":"Bezeichnung"},"Text","Oblicht",{"$f":"Hilfstabelle!$P$7","v":"Die Bezeichnung einer Anlage muss eindeutig sein, sofern mehrere Anlagen im gleichen Raum sind. "}]
[null,null,{"$f":"'Anlagenartenkatalog UZH'!$B$10","v":"Fenster"},{"$f":"'Anlagenartenkatalog UZH'!$D$10","v":"Oblicht"},{"$f":"Hilfstabelle!$O$5","v":"Anlagentyp (Beschreibung)"},"Text",null,{"$f":"Hilfstabelle!$P$8","v":"Verbindlich gemäss Anlagenartenkatalog"}]
[null,null,{"$f":"'Anlagenartenkatalog UZH'!$B$10","v":"Fenster"},{"$f":"'Anlagenartenkatalog UZH'!$D$10","v":"Oblicht"},{"$f":"Hilfstabelle!$O$6","v":"Artikelgruppe"},"Text","01.02.05"]
[null,null,{"$f":"'Anlagenartenkatalog UZH'!$B$10","v":"Fenster"},{"$f":"'Anlagenartenkatalog UZH'!$D$10","v":"Oblicht"},{"$f":"Hilfstabelle!$O$7","v":"Hauptanlage"},"Text","Ja  "]
[null,null,{"$f":"'Anlagenartenkatalog UZH'!$B$10","v":"Fenster"},{"$f":"'Anlagenartenkatalog UZH'!$D$10","v":"Oblicht"},{"$f":"Hilfstabelle!$O$8","v":"Objekt"},"Text","KOL "]
[null,null,{"$f":"'Anlagenartenkatalog UZH'!$B$10","v":"Fenster"},{"$f":"'Anlagenartenkatalog UZH'!$D$10","v":"Oblicht"},{"$f":"Hilfstabelle!$O$9","v":"Raumkennzeichen"},"Text","KOL-N-1"]
[null,null,{"$f":"'Anlagenartenkatalog UZH'!$B$10","v":"Fenster"},{"$f":"'Anlagenartenkatalog UZH'!$D$10","v":"Oblicht"},{"$f":"Hilfstabelle!$O$10","v":"Hersteller / Marke"},"Text","VELUX Schweiz AG"]
[null,null,{"$f":"'Anlagenartenkatalog UZH'!$B$10","v":"Fenster"},{"$f":"'Anlagenartenkatalog UZH'!$D$10","v":"Oblicht"},{"$f":"Hilfstabelle!$O$11","v":"Modell / Artikel"},"Text","-"]
[null,null,{"$f":"'Anlagenartenkatalog UZH'!$B$10","v":"Fenster"},{"$f":"'Anlagenartenkatalog UZH'!$D$10","v":"Oblicht"},{"$f":"Hilfstabelle!$O$12","v":"Seriennummer"},"Text","-"]
[null,null,{"$f":"'Anlagenartenkatalog UZH'!$B$10","v":"Fenster"},{"$f":"'Anlagenartenkatalog UZH'!$D$10","v":"Oblicht"},{"$f":"Hilfstabelle!$O$13","v":"Servicefirma"},"Text","VELUX Schweiz AG",{"$f":"Hilfstabelle!$P$10","v":"Gemäss Offerte in Submission"}]
[null,null,{"$f":"'Anlagenartenkatalog UZH'!$B$10","v":"Fenster"},{"$f":"'Anlagenartenkatalog UZH'!$D$10","v":"Oblicht"},{"$f":"Hilfstabelle!$O$14","v":"Inbetriebnahmedatum"},"Text","06.06.2030"]
[null,null,{"$f":"'Anlagenartenkatalog UZH'!$B$10","v":"Fenster"},{"$f":"'Anlagenartenkatalog UZH'!$D$10","v":"Oblicht"},{"$f":"Hilfstabelle!$O$15","v":"Garantieende"},"Text","06.06.2035"]
[null,null,{"$f":"'Anlagenartenkatalog UZH'!$B$10","v":"Fenster"},{"$f":"'Anlagenartenkatalog UZH'!$D$10","v":"Oblicht"},{"$f":"Hilfstabelle!$O$16","v":"Erwartetes technisches Enddatum"},"Text","06.06.2045"]
[null,null,{"$f":"'Anlagenartenkatalog UZH'!$B$10","v":"Fenster"},{"$f":"'Anlagenartenkatalog UZH'!$D$10","v":"Oblicht"},{"$f":"Hilfstabelle!$O$17","v":"Anmerkung: Anzahl Wartungen pro Jahr"},"Text","Anzahl Wartungen pro Jahr: 1"]
[null,null,{"$f":"'Anlagenartenkatalog UZH'!$B$87","v":"Gase allgemein"},{"$f":"'Anlagenartenkatalog UZH'!$D$87","v":"Gaswarnanlage"},{"$f":"Hilfstabelle!$O$3","v":"Code (MSRL-Code)"},"Text","HAL_D_G251_A002"]
[null,null,{"$f":"'Anlagenartenkatalog UZH'!$B$87","v":"Gase allgemein"},{"$f":"'Anlagenartenkatalog UZH'!$D$87","v":"Gaswarnanlage"},{"$f":"Hilfstabelle!$O$4","v":"Bezeichnung"},"Text","Gaswarnanlage CO",{"$f":"Hilfstabelle!$P$7","v":"Die Bezeichnung einer Anlage muss eindeutig sein, sofern mehrere Anlagen im gleichen Raum sind. "}]
[null,null,{"$f":"'Anlagenartenkatalog UZH'!$B$87","v":"Gase allgemein"},{"$f":"'Anlagenartenkatalog UZH'!$D$87","v":"Gaswarnanlage"},{"$f":"Hilfstabelle!$O$5","v":"Anlagentyp (Beschreibung)"},"Text",null,{"$f":"Hilfstabelle!$P$8","v":"Verbindlich gemäss Anlagenartenkatalog"}]
[null,null,{"$f":"'Anlagenartenkatalog UZH'!$B$87","v":"Gase allgemein"},{"$f":"'Anlagenartenkatalog UZH'!$D$87","v":"Gaswarnanlage"},{"$f":"Hilfstabelle!$O$6","v":"Artikelgruppe"},"Text",{"$f":"'Anlagenartenkatalog UZH'!$A$87","v":"02.05.13"}]
[null,null,{"$f":"'Anlagenartenkatalog UZH'!$B$87","v":"Gase allgemein"},{"$f":"'Anlagenartenkatalog UZH'!$D$87","v":"Gaswarnanlage"},{"$f":"Hilfstabelle!$O$7","v":"Hauptanlage"},"Text"]
[null,null,{"$f":"'Anlagenartenkatalog UZH'!$B$87","v":"Gase allgemein"},{"$f":"'Anlagenartenkatalog UZH'!$D$87","v":"Gaswarnanlage"},{"$f":"Hilfstabelle!$O$8","v":"Objekt"},"Text","HAL "]
[null,null,{"$f":"'Anlagenartenkatalog UZH'!$B$87","v":"Gase allgemein"},{"$f":"'Anlagenartenkatalog UZH'!$D$87","v":"Gaswarnanlage"},{"$f":"Hilfstabelle!$O$9","v":"Raumkennzeichen"},"Text","D-400","Standort der Gaswarnzentrale"]
[null,null,{"$f":"'Anlagenartenkatalog UZH'!$B$87","v":"Gase allgemein"},{"$f":"'Anlagenartenkatalog UZH'!$D$87","v":"Gaswarnanlage"},{"$f":"Hilfstabelle!$O$10","v":"Hersteller / Marke"},"Text","GfG Gesellschaft für Gerätebau AG"]
[null,null,{"$f":"'Anlagenartenkatalog UZH'!$B$87","v":"Gase allgemein"},{"$f":"'Anlagenartenkatalog UZH'!$D$87","v":"Gaswarnanlage"},{"$f":"Hilfstabelle!$O$11","v":"Modell / Artikel"},"Text","-"]
[null,null,{"$f":"'Anlagenartenkatalog UZH'!$B$87","v":"Gase allgemein"},{"$f":"'Anlagenartenkatalog UZH'!$D$87","v":"Gaswarnanlage"},{"$f":"Hilfstabelle!$O$12","v":"Seriennummer"},"Text","-"]
[null,null,{"$f":"'Anlagenartenkatalog UZH'!$B$87","v":"Gase allgemein"},{"$f":"'Anlagenartenkatalog UZH'!$D$87","v":"Gaswarnanlage"},{"$f":"Hilfstabelle!$O$13","v":"Servicefirma"},"Text","GfG Gesellschaft für Gerätebau AG",{"$f":"Hilfstabelle!$P$10","v":"Gemäss Offerte in Submission"}]
[null,null,{"$f":"'Anlagenartenkatalog UZH'!$B$87","v":"Gase allgemein"},{"$f":"'Anlagenartenkatalog UZH'!$D$87","v":"Gaswarnanlage"},{"$f":"Hilfstabelle!$O$14","v":"Inbetriebnahmedatum"},"Text","06.06.2030"]
[null,null,{"$f":"'Anlagenartenkatalog UZH'!$B$87","v":"Gase allgemein"},{"$f":"'Anlagenartenkatalog UZH'!$D$87","v":"Gaswarnanlage"},{"$f":"Hilfstabelle!$O$15","v":"Garantieende"},"Text","06.06.2035"]
[null,null,{"$f":"'Anlagenartenkatalog UZH'!$B$87","v":"Gase allgemein"},{"$f":"'Anlagenartenkatalog UZH'!$D$87","v":"Gaswarnanlage"},{"$f":"Hilfstabelle!$O$16","v":"Erwartetes technisches Enddatum"},"Text","06.06.2045"]
[null,null,"Gase allgemein","Gaswarnanlage","Anmerkung: Medium","Text","Medium: O2"]
[null,null,{"$f":"'Anlagenartenkatalog UZH'!$B$87","v":"Gase allgemein"},{"$f":"'Anlagenartenkatalog UZH'!$D$87","v":"Gaswarnanlage"},"Anmerkung: Anzahl Sensoren inkl. Standort","Text","Anzahl Sensoren inkl. Standort: 1 Sensor E-105, 2 Sensoren E-106"]
[null,null,{"$f":"'Anlagenartenkatalog UZH'!$B$87","v":"Gase allgemein"},{"$f":"'Anlagenartenkatalog UZH'!$D$87","v":"Gaswarnanlage"},{"$f":"Hilfstabelle!$O$17","v":"Anmerkung: Anzahl Wartungen pro Jahr"},"Text","Anzahl Wartungen pro Jahr: 1 + Funktionskontrolle alle 4 Monate + Sichtkontrolle monatlich"]
[null,null,{"$f":"'Anlagenartenkatalog UZH'!$B$118","v":"Geräte (Haushalt)"},{"$f":"'Anlagenartenkatalog UZH'!$D$118","v":"Waschmaschine"},{"$f":"Hilfstabelle!$O$3","v":"Code (MSRL-Code)"},"Text","KUN-§1654199438"]
[null,null,{"$f":"'Anlagenartenkatalog UZH'!$B$118","v":"Geräte (Haushalt)"},{"$f":"'Anlagenartenkatalog UZH'!$D$118","v":"Waschmaschine"},{"$f":"Hilfstabelle!$O$4","v":"Bezeichnung"},"Text","Waschmaschine",{"$f":"Hilfstabelle!$P$7","v":"Die Bezeichnung einer Anlage muss eindeutig sein, sofern mehrere Anlagen im gleichen Raum sind. "}]
[null,null,{"$f":"'Anlagenartenkatalog UZH'!$B$118","v":"Geräte (Haushalt)"},{"$f":"'Anlagenartenkatalog UZH'!$D$118","v":"Waschmaschine"},{"$f":"Hilfstabelle!$O$5","v":"Anlagentyp (Beschreibung)"},"Text",null,{"$f":"Hilfstabelle!$P$8","v":"Verbindlich gemäss Anlagenartenkatalog"}]
[null,null,{"$f":"'Anlagenartenkatalog UZH'!$B$118","v":"Geräte (Haushalt)"},{"$f":"'Anlagenartenkatalog UZH'!$D$118","v":"Waschmaschine"},{"$f":"Hilfstabelle!$O$6","v":"Artikelgruppe"},"Text",{"$f":"'Anlagenartenkatalog UZH'!$A$118","v":"02.11"}]
[null,null,{"$f":"'Anlagenartenkatalog UZH'!$B$118","v":"Geräte (Haushalt)"},{"$f":"'Anlagenartenkatalog UZH'!$D$118","v":"Waschmaschine"},{"$f":"Hilfstabelle!$O$7","v":"Hauptanlage"},"Text"]
[null,null,{"$f":"'Anlagenartenkatalog UZH'!$B$118","v":"Geräte (Haushalt)"},{"$f":"'Anlagenartenkatalog UZH'!$D$118","v":"Waschmaschine"},{"$f":"Hilfstabelle!$O$8","v":"Objekt"},"Text","KUN "]
[null,null,{"$f":"'Anlagenartenkatalog UZH'!$B$118","v":"Geräte (Haushalt)"},{"$f":"'Anlagenartenkatalog UZH'!$D$118","v":"Waschmaschine"},{"$f":"Hilfstabelle!$O$9","v":"Raumkennzeichen"},"Text","U-3"]
[null,null,{"$f":"'Anlagenartenkatalog UZH'!$B$118","v":"Geräte (Haushalt)"},{"$f":"'Anlagenartenkatalog UZH'!$D$118","v":"Waschmaschine"},{"$f":"Hilfstabelle!$O$10","v":"Hersteller / Marke"},"Text","Schulthess Maschinen AG"]
[null,null,{"$f":"'Anlagenartenkatalog UZH'!$B$118","v":"Geräte (Haushalt)"},{"$f":"'Anlagenartenkatalog UZH'!$D$118","v":"Waschmaschine"},{"$f":"Hilfstabelle!$O$11","v":"Modell / Artikel"},"Text","Spirit 6609"]
[null,null,{"$f":"'Anlagenartenkatalog UZH'!$B$118","v":"Geräte (Haushalt)"},{"$f":"'Anlagenartenkatalog UZH'!$D$118","v":"Waschmaschine"},{"$f":"Hilfstabelle!$O$12","v":"Seriennummer"},"Text","066060937480"]
[null,null,{"$f":"'Anlagenartenkatalog UZH'!$B$118","v":"Geräte (Haushalt)"},{"$f":"'Anlagenartenkatalog UZH'!$D$118","v":"Waschmaschine"},{"$f":"Hilfstabelle!$O$13","v":"Servicefirma"},"Text","-"]
[null,null,{"$f":"'Anlagenartenkatalog UZH'!$B$118","v":"Geräte (Haushalt)"},{"$f":"'Anlagenartenkatalog UZH'!$D$118","v":"Waschmaschine"},{"$f":"Hilfstabelle!$O$14","v":"Inbetriebnahmedatum"},"Text","06.06.2030"]
[null,null,{"$f":"'Anlagenartenkatalog UZH'!$B$118","v":"Geräte (Haushalt)"},{"$f":"'Anlagenartenkatalog UZH'!$D$118","v":"Waschmaschine"},{"$f":"Hilfstabelle!$O$15","v":"Garantieende"},"Text","06.06.2035"]
[null,null,{"$f":"'Anlagenartenkatalog UZH'!$B$118","v":"Geräte (Haushalt)"},{"$f":"'Anlagenartenkatalog UZH'!$D$118","v":"Waschmaschine"},{"$f":"Hilfstabelle!$O$16","v":"Erwartetes technisches Enddatum"},"Text","06.06.2045"]
[null,null,"Geräte (Haushalt)","Waschmaschine","Wäschekapazität in [kg]","Text","Wäschekapazität: 7 kg"]
[null,null,{"$f":"'Anlagenartenkatalog UZH'!$B$118","v":"Geräte (Haushalt)"},{"$f":"'Anlagenartenkatalog UZH'!$D$119","v":"Tumbler"},{"$f":"Hilfstabelle!$O$3","v":"Code (MSRL-Code)"},"Text","MEN-§1654199435"]
[null,null,{"$f":"'Anlagenartenkatalog UZH'!$B$118","v":"Geräte (Haushalt)"},{"$f":"'Anlagenartenkatalog UZH'!$D$119","v":"Tumbler"},{"$f":"Hilfstabelle!$O$4","v":"Bezeichnung"},"Text","Tumbler",{"$f":"Hilfstabelle!$P$7","v":"Die Bezeichnung einer Anlage muss eindeutig sein, sofern mehrere Anlagen im gleichen Raum sind. "}]
[null,null,{"$f":"'Anlagenartenkatalog UZH'!$B$118","v":"Geräte (Haushalt)"},{"$f":"'Anlagenartenkatalog UZH'!$D$119","v":"Tumbler"},{"$f":"Hilfstabelle!$O$5","v":"Anlagentyp (Beschreibung)"},"Text",null,{"$f":"Hilfstabelle!$P$8","v":"Verbindlich gemäss Anlagenartenkatalog"}]
[null,null,{"$f":"'Anlagenartenkatalog UZH'!$B$118","v":"Geräte (Haushalt)"},{"$f":"'Anlagenartenkatalog UZH'!$D$119","v":"Tumbler"},{"$f":"Hilfstabelle!$O$6","v":"Artikelgruppe"},"Text",{"$f":"'Anlagenartenkatalog UZH'!$A$118","v":"02.11"}]
[null,null,{"$f":"'Anlagenartenkatalog UZH'!$B$118","v":"Geräte (Haushalt)"},{"$f":"'Anlagenartenkatalog UZH'!$D$119","v":"Tumbler"},{"$f":"Hilfstabelle!$O$7","v":"Hauptanlage"},"Text"]
[null,null,{"$f":"'Anlagenartenkatalog UZH'!$B$118","v":"Geräte (Haushalt)"},{"$f":"'Anlagenartenkatalog UZH'!$D$119","v":"Tumbler"},{"$f":"Hilfstabelle!$O$8","v":"Objekt"},"Text","MEN "]
[null,null,{"$f":"'Anlagenartenkatalog UZH'!$B$118","v":"Geräte (Haushalt)"},{"$f":"'Anlagenartenkatalog UZH'!$D$119","v":"Tumbler"},{"$f":"Hilfstabelle!$O$9","v":"Raumkennzeichen"},"Text","A-26"]
[null,null,{"$f":"'Anlagenartenkatalog UZH'!$B$118","v":"Geräte (Haushalt)"},{"$f":"'Anlagenartenkatalog UZH'!$D$119","v":"Tumbler"},{"$f":"Hilfstabelle!$O$10","v":"Hersteller / Marke"},"Text","Schulthess Maschinen AG"]
[null,null,{"$f":"'Anlagenartenkatalog UZH'!$B$118","v":"Geräte (Haushalt)"},{"$f":"'Anlagenartenkatalog UZH'!$D$119","v":"Tumbler"},{"$f":"Hilfstabelle!$O$11","v":"Modell / Artikel"},"Text","TW 8240"]
[null,null,{"$f":"'Anlagenartenkatalog UZH'!$B$118","v":"Geräte (Haushalt)"},{"$f":"'Anlagenartenkatalog UZH'!$D$119","v":"Tumbler"},{"$f":"Hilfstabelle!$O$12","v":"Seriennummer"},"Text","082401126304"]
[null,null,{"$f":"'Anlagenartenkatalog UZH'!$B$118","v":"Geräte (Haushalt)"},{"$f":"'Anlagenartenkatalog UZH'!$D$119","v":"Tumbler"},{"$f":"Hilfstabelle!$O$13","v":"Servicefirma"},"Text","-"]
[null,null,{"$f":"'Anlagenartenkatalog UZH'!$B$118","v":"Geräte (Haushalt)"},{"$f":"'Anlagenartenkatalog UZH'!$D$119","v":"Tumbler"},{"$f":"Hilfstabelle!$O$14","v":"Inbetriebnahmedatum"},"Text","06.06.2030"]
[null,null,{"$f":"'Anlagenartenkatalog UZH'!$B$118","v":"Geräte (Haushalt)"},{"$f":"'Anlagenartenkatalog UZH'!$D$119","v":"Tumbler"},{"$f":"Hilfstabelle!$O$15","v":"Garantieende"},"Text","06.06.2035"]
[null,null,{"$f":"'Anlagenartenkatalog UZH'!$B$118","v":"Geräte (Haushalt)"},{"$f":"'Anlagenartenkatalog UZH'!$D$119","v":"Tumbler"},{"$f":"Hilfstabelle!$O$16","v":"Erwartetes technisches Enddatum"},"Text","06.06.2045"]
[null,null,"Geräte (Haushalt)","Tumbler","Wäschekapazität in [kg]","Text","Wäschekapazität: 7 kg"]
[null,null,{"$f":"'Anlagenartenkatalog UZH'!$B$93","v":"Heizungsanlage"},{"$f":"'Anlagenartenkatalog UZH'!$D$97","v":"Brenner"},{"$f":"Hilfstabelle!$O$3","v":"Code (MSRL-Code)"},"Text","FOR-§1654199487"]
[null,null,{"$f":"'Anlagenartenkatalog UZH'!$B$93","v":"Heizungsanlage"},{"$f":"'Anlagenartenkatalog UZH'!$D$97","v":"Brenner"},{"$f":"Hilfstabelle!$O$4","v":"Bezeichnung"},"Text","Brenner 1",{"$f":"Hilfstabelle!$P$7","v":"Die Bezeichnung einer Anlage muss eindeutig sein, sofern mehrere Anlagen im gleichen Raum sind. "}]
[null,null,{"$f":"'Anlagenartenkatalog UZH'!$B$93","v":"Heizungsanlage"},{"$f":"'Anlagenartenkatalog UZH'!$D$97","v":"Brenner"},{"$f":"Hilfstabelle!$O$5","v":"Anlagentyp (Beschreibung)"},"Text",null,{"$f":"Hilfstabelle!$P$8","v":"Verbindlich gemäss Anlagenartenkatalog"}]
[null,null,{"$f":"'Anlagenartenkatalog UZH'!$B$93","v":"Heizungsanlage"},{"$f":"'Anlagenartenkatalog UZH'!$D$97","v":"Brenner"},{"$f":"Hilfstabelle!$O$6","v":"Artikelgruppe"},"Text",{"$f":"'Anlagenartenkatalog UZH'!$A$93","v":"02.07.01"}]
[null,null,{"$f":"'Anlagenartenkatalog UZH'!$B$93","v":"Heizungsanlage"},{"$f":"'Anlagenartenkatalog UZH'!$D$97","v":"Brenner"},{"$f":"Hilfstabelle!$O$7","v":"Hauptanlage"},"Text"]
[null,null,{"$f":"'Anlagenartenkatalog UZH'!$B$93","v":"Heizungsanlage"},{"$f":"'Anlagenartenkatalog UZH'!$D$97","v":"Brenner"},{"$f":"Hilfstabelle!$O$8","v":"Objekt"},"Text","FOR "]
[null,null,{"$f":"'Anlagenartenkatalog UZH'!$B$93","v":"Heizungsanlage"},{"$f":"'Anlagenartenkatalog UZH'!$D$97","v":"Brenner"},{"$f":"Hilfstabelle!$O$9","v":"Raumkennzeichen"},"Text","U-109"]
[null,null,{"$f":"'Anlagenartenkatalog UZH'!$B$93","v":"Heizungsanlage"},{"$f":"'Anlagenartenkatalog UZH'!$D$97","v":"Brenner"},{"$f":"Hilfstabelle!$O$10","v":"Hersteller / Marke"},"Text","Weishaupt AG"]
[null,null,{"$f":"'Anlagenartenkatalog UZH'!$B$93","v":"Heizungsanlage"},{"$f":"'Anlagenartenkatalog UZH'!$D$97","v":"Brenner"},{"$f":"Hilfstabelle!$O$11","v":"Modell / Artikel"},"Text","WM-GL10/2-A, ZM-T-3LN"]
[null,null,{"$f":"'Anlagenartenkatalog UZH'!$B$93","v":"Heizungsanlage"},{"$f":"'Anlagenartenkatalog UZH'!$D$97","v":"Brenner"},{"$f":"Hilfstabelle!$O$12","v":"Seriennummer"},"Text","40263675"]
[null,null,{"$f":"'Anlagenartenkatalog UZH'!$B$93","v":"Heizungsanlage"},{"$f":"'Anlagenartenkatalog UZH'!$D$97","v":"Brenner"},{"$f":"Hilfstabelle!$O$13","v":"Servicefirma"},"Text","Weishaupt AG",{"$f":"Hilfstabelle!$P$10","v":"Gemäss Offerte in Submission"}]
[null,null,{"$f":"'Anlagenartenkatalog UZH'!$B$93","v":"Heizungsanlage"},{"$f":"'Anlagenartenkatalog UZH'!$D$97","v":"Brenner"},{"$f":"Hilfstabelle!$O$14","v":"Inbetriebnahmedatum"},"Text","06.06.2030"]
[null,null,{"$f":"'Anlagenartenkatalog UZH'!$B$93","v":"Heizungsanlage"},{"$f":"'Anlagenartenkatalog UZH'!$D$97","v":"Brenner"},{"$f":"Hilfstabelle!$O$15","v":"Garantieende"},"Text","06.06.2035"]
[null,null,{"$f":"'Anlagenartenkatalog UZH'!$B$93","v":"Heizungsanlage"},{"$f":"'Anlagenartenkatalog UZH'!$D$97","v":"Brenner"},{"$f":"Hilfstabelle!$O$16","v":"Erwartetes technisches Enddatum"},"Text","06.06.2045"]
[null,null,{"$f":"'Anlagenartenkatalog UZH'!$B$93","v":"Heizungsanlage"},{"$f":"'Anlagenartenkatalog UZH'!$D$97","v":"Brenner"},{"$f":"Hilfstabelle!$O$17","v":"Anmerkung: Anzahl Wartungen pro Jahr"},"Text","Anzahl Wartungen pro Jahr: 1"]
[null,null,{"$f":"'Anlagenartenkatalog UZH'!$B$93","v":"Heizungsanlage"},{"$f":"'Anlagenartenkatalog UZH'!$D$98","v":"Freiflächenheizung"},{"$f":"Hilfstabelle!$O$3","v":"Code (MSRL-Code)"},"Text","FRE_G501_S001"]
[null,null,{"$f":"'Anlagenartenkatalog UZH'!$B$93","v":"Heizungsanlage"},{"$f":"'Anlagenartenkatalog UZH'!$D$98","v":"Freiflächenheizung"},{"$f":"Hilfstabelle!$O$4","v":"Bezeichnung"},"Text","Freiflächenheizung",{"$f":"Hilfstabelle!$P$7","v":"Die Bezeichnung einer Anlage muss eindeutig sein, sofern mehrere Anlagen im gleichen Raum sind. "}]
[null,null,{"$f":"'Anlagenartenkatalog UZH'!$B$93","v":"Heizungsanlage"},{"$f":"'Anlagenartenkatalog UZH'!$D$98","v":"Freiflächenheizung"},{"$f":"Hilfstabelle!$O$5","v":"Anlagentyp (Beschreibung)"},"Text",null,{"$f":"Hilfstabelle!$P$8","v":"Verbindlich gemäss Anlagenartenkatalog"}]
[null,null,{"$f":"'Anlagenartenkatalog UZH'!$B$93","v":"Heizungsanlage"},{"$f":"'Anlagenartenkatalog UZH'!$D$98","v":"Freiflächenheizung"},{"$f":"Hilfstabelle!$O$6","v":"Artikelgruppe"},"Text",{"$f":"'Anlagenartenkatalog UZH'!$A$93","v":"02.07.01"}]
[null,null,{"$f":"'Anlagenartenkatalog UZH'!$B$93","v":"Heizungsanlage"},{"$f":"'Anlagenartenkatalog UZH'!$D$98","v":"Freiflächenheizung"},{"$f":"Hilfstabelle!$O$7","v":"Hauptanlage"},"Text"]
[null,null,{"$f":"'Anlagenartenkatalog UZH'!$B$93","v":"Heizungsanlage"},{"$f":"'Anlagenartenkatalog UZH'!$D$98","v":"Freiflächenheizung"},{"$f":"Hilfstabelle!$O$8","v":"Objekt"},"Text","FRE"]
[null,null,{"$f":"'Anlagenartenkatalog UZH'!$B$93","v":"Heizungsanlage"},{"$f":"'Anlagenartenkatalog UZH'!$D$98","v":"Freiflächenheizung"},{"$f":"Hilfstabelle!$O$9","v":"Raumkennzeichen"},"Text","-"]
[null,null,{"$f":"'Anlagenartenkatalog UZH'!$B$93","v":"Heizungsanlage"},{"$f":"'Anlagenartenkatalog UZH'!$D$98","v":"Freiflächenheizung"},{"$f":"Hilfstabelle!$O$10","v":"Hersteller / Marke"},"Text","ETHERMA Elektrowärme GmbH"]
[null,null,{"$f":"'Anlagenartenkatalog UZH'!$B$93","v":"Heizungsanlage"},{"$f":"'Anlagenartenkatalog UZH'!$D$98","v":"Freiflächenheizung"},{"$f":"Hilfstabelle!$O$11","v":"Modell / Artikel"},"Text","ETHERMA BRS"]
[null,null,{"$f":"'Anlagenartenkatalog UZH'!$B$93","v":"Heizungsanlage"},{"$f":"'Anlagenartenkatalog UZH'!$D$98","v":"Freiflächenheizung"},{"$f":"Hilfstabelle!$O$12","v":"Seriennummer"},"Text","-"]
[null,null,{"$f":"'Anlagenartenkatalog UZH'!$B$93","v":"Heizungsanlage"},{"$f":"'Anlagenartenkatalog UZH'!$D$98","v":"Freiflächenheizung"},{"$f":"Hilfstabelle!$O$13","v":"Servicefirma"},"Text","ETHERMA Elektrowärme GmbH",{"$f":"Hilfstabelle!$P$10","v":"Gemäss Offerte in Submission"}]
[null,null,{"$f":"'Anlagenartenkatalog UZH'!$B$93","v":"Heizungsanlage"},{"$f":"'Anlagenartenkatalog UZH'!$D$98","v":"Freiflächenheizung"},{"$f":"Hilfstabelle!$O$14","v":"Inbetriebnahmedatum"},"Text","06.06.2030"]
[null,null,{"$f":"'Anlagenartenkatalog UZH'!$B$93","v":"Heizungsanlage"},{"$f":"'Anlagenartenkatalog UZH'!$D$98","v":"Freiflächenheizung"},{"$f":"Hilfstabelle!$O$15","v":"Garantieende"},"Text","06.06.2035"]
[null,null,{"$f":"'Anlagenartenkatalog UZH'!$B$93","v":"Heizungsanlage"},{"$f":"'Anlagenartenkatalog UZH'!$D$98","v":"Freiflächenheizung"},{"$f":"Hilfstabelle!$O$16","v":"Erwartetes technisches Enddatum"},"Text","06.06.2045"]
[null,null,{"$f":"'Anlagenartenkatalog UZH'!$B$93","v":"Heizungsanlage"},{"$f":"'Anlagenartenkatalog UZH'!$D$98","v":"Freiflächenheizung"},"Anmerkung: Genaue Standortbeschreibung","Text","Genaue Standortbeschreibung: Ausfahrt Tiefgarage"]
[null,null,{"$f":"'Anlagenartenkatalog UZH'!$B$93","v":"Heizungsanlage"},{"$f":"'Anlagenartenkatalog UZH'!$D$98","v":"Freiflächenheizung"},"Anmerkung: Anwendung","Text","Anwendung: Rampenheizung","Mögliche Alternative u.a.: \"Treppenheizung\""]
[null,null,{"$f":"'Anlagenartenkatalog UZH'!$B$93","v":"Heizungsanlage"},{"$f":"'Anlagenartenkatalog UZH'!$D$98","v":"Freiflächenheizung"},"Anmerkung: Max. Leistung in [kW]","Text","Max. Leistung: 10 kW"]
[null,null,{"$f":"'Anlagenartenkatalog UZH'!$B$93","v":"Heizungsanlage"},{"$f":"'Anlagenartenkatalog UZH'!$D$98","v":"Freiflächenheizung"},{"$f":"Hilfstabelle!$O$17","v":"Anmerkung: Anzahl Wartungen pro Jahr"},"Text","Anzahl Wartungen pro Jahr: 1"]
[null,null,{"$f":"'Anlagenartenkatalog UZH'!$B$93","v":"Heizungsanlage"},{"$f":"'Anlagenartenkatalog UZH'!$D$93","v":"Heizungsanlage"},{"$f":"Hilfstabelle!$O$3","v":"Code (MSRL-Code)"},"Text","BLU-US11-H010"]
[null,null,{"$f":"'Anlagenartenkatalog UZH'!$B$93","v":"Heizungsanlage"},{"$f":"'Anlagenartenkatalog UZH'!$D$93","v":"Heizungsanlage"},{"$f":"Hilfstabelle!$O$4","v":"Bezeichnung"},"Text","Gas Heizung","Verbindliche Auswahl: \"Fernwärme Heizung\", \"Gas Heizung\", \"Öl Heizung\""]
[null,null,{"$f":"'Anlagenartenkatalog UZH'!$B$93","v":"Heizungsanlage"},{"$f":"'Anlagenartenkatalog UZH'!$D$93","v":"Heizungsanlage"},{"$f":"Hilfstabelle!$O$5","v":"Anlagentyp (Beschreibung)"},"Text",null,{"$f":"Hilfstabelle!$P$8","v":"Verbindlich gemäss Anlagenartenkatalog"}]
[null,null,{"$f":"'Anlagenartenkatalog UZH'!$B$93","v":"Heizungsanlage"},{"$f":"'Anlagenartenkatalog UZH'!$D$93","v":"Heizungsanlage"},{"$f":"Hilfstabelle!$O$6","v":"Artikelgruppe"},"Text",{"$f":"'Anlagenartenkatalog UZH'!$A$93","v":"02.07.01"}]
[null,null,{"$f":"'Anlagenartenkatalog UZH'!$B$93","v":"Heizungsanlage"},{"$f":"'Anlagenartenkatalog UZH'!$D$93","v":"Heizungsanlage"},{"$f":"Hilfstabelle!$O$7","v":"Hauptanlage"},"Text","Ja"]
[null,null,{"$f":"'Anlagenartenkatalog UZH'!$B$93","v":"Heizungsanlage"},{"$f":"'Anlagenartenkatalog UZH'!$D$93","v":"Heizungsanlage"},{"$f":"Hilfstabelle!$O$8","v":"Objekt"},"Text","BLU "]
[null,null,{"$f":"'Anlagenartenkatalog UZH'!$B$93","v":"Heizungsanlage"},{"$f":"'Anlagenartenkatalog UZH'!$D$93","v":"Heizungsanlage"},{"$f":"Hilfstabelle!$O$9","v":"Raumkennzeichen"},"Text","U2-216"]
[null,null,{"$f":"'Anlagenartenkatalog UZH'!$B$93","v":"Heizungsanlage"},{"$f":"'Anlagenartenkatalog UZH'!$D$93","v":"Heizungsanlage"},{"$f":"Hilfstabelle!$O$10","v":"Hersteller / Marke"},"Text","Vaillant GmbH"]
[null,null,{"$f":"'Anlagenartenkatalog UZH'!$B$93","v":"Heizungsanlage"},{"$f":"'Anlagenartenkatalog UZH'!$D$93","v":"Heizungsanlage"},{"$f":"Hilfstabelle!$O$11","v":"Modell / Artikel"},"Text","VKK 1206-E-H / VKK 1206/3-E-HL ecoCraft"]
[null,null,{"$f":"'Anlagenartenkatalog UZH'!$B$93","v":"Heizungsanlage"},{"$f":"'Anlagenartenkatalog UZH'!$D$93","v":"Heizungsanlage"},{"$f":"Hilfstabelle!$O$12","v":"Seriennummer"},"Text","-"]
[null,null,{"$f":"'Anlagenartenkatalog UZH'!$B$93","v":"Heizungsanlage"},{"$f":"'Anlagenartenkatalog UZH'!$D$93","v":"Heizungsanlage"},{"$f":"Hilfstabelle!$O$13","v":"Servicefirma"},"Text","Vaillant GmbH",{"$f":"Hilfstabelle!$P$10","v":"Gemäss Offerte in Submission"}]
[null,null,{"$f":"'Anlagenartenkatalog UZH'!$B$93","v":"Heizungsanlage"},{"$f":"'Anlagenartenkatalog UZH'!$D$93","v":"Heizungsanlage"},{"$f":"Hilfstabelle!$O$14","v":"Inbetriebnahmedatum"},"Text","06.06.2030"]
[null,null,{"$f":"'Anlagenartenkatalog UZH'!$B$93","v":"Heizungsanlage"},{"$f":"'Anlagenartenkatalog UZH'!$D$93","v":"Heizungsanlage"},{"$f":"Hilfstabelle!$O$15","v":"Garantieende"},"Text","06.06.2035"]
[null,null,{"$f":"'Anlagenartenkatalog UZH'!$B$93","v":"Heizungsanlage"},{"$f":"'Anlagenartenkatalog UZH'!$D$93","v":"Heizungsanlage"},{"$f":"Hilfstabelle!$O$16","v":"Erwartetes technisches Enddatum"},"Text","06.06.2045"]
[null,null,"Heizungsanlage","Heizungsanlage","Anmerkung: Feuerungsart","Text","Feuerungsart: Gebläsefeuerung","(bei Fernwärme Heizungen leer lassen)"]
[null,null,"Heizungsanlage","Heizungsanlage","Anmerkung: Nennwärmeleistung in [kW]","Zahl","Nennwärmeleistung: 1360 kW"]
[null,null,"Heizungsanlage","Heizungsanlage","Anmerkung: Feuerungskontrolle Pflicht: Ja / Nein","Text","Feuerungskontrolle Pflicht: Ja","(bei Fernwärme Heizungen leer lassen)"]
[null,null,"Heizungsanlage","Heizungsanlage","Anmerkung: Max. Betriebs- druck in [Bar]","Zahl","Max. Betriebs- druck in [Bar]: 4"]
[null,null,"Heizungsanlage","Heizungsanlage","Anmerkung: Max. Betriebs- temperatur in [°C]","Zahl","Max. Betriebs- temperatur in [°C]: 95"]
[null,null,"Heizungsanlage","Heizungsanlage","Anmerkung: Heizkessel mit Kondensationstechnik: Ja / Nein ","Text","Heizkessel mit Kondensationstechnik: Ja","(bei Fernwärme Heizungen leer lassen)"]
[null,null,"Heizungsanlage","Heizungsanlage","Anmerkung: Anzahl Wartungen pro Jahr Schlammabscheider","Zahl","Anzahl Wartungen pro Jahr Schlammabscheider: 1"]
[null,null,{"$f":"'Anlagenartenkatalog UZH'!$B$93","v":"Heizungsanlage"},{"$f":"'Anlagenartenkatalog UZH'!$D$93","v":"Heizungsanlage"},{"$f":"Hilfstabelle!$O$17","v":"Anmerkung: Anzahl Wartungen pro Jahr"},"Text","Anzahl Wartungen pro Jahr: 1"]
[null,null,{"$f":"'Anlagenartenkatalog UZH'!$B$93","v":"Heizungsanlage"},{"$f":"'Anlagenartenkatalog UZH'!$D$94","v":"Kessel"},{"$f":"Hilfstabelle!$O$3","v":"Code (MSRL-Code)"},"Text","WIG-§1654200412"]
[null,null,{"$f":"'Anlagenartenkatalog UZH'!$B$93","v":"Heizungsanlage"},{"$f":"'Anlagenartenkatalog UZH'!$D$94","v":"Kessel"},{"$f":"Hilfstabelle!$O$4","v":"Bezeichnung"},"Text","Kessel 1",{"$f":"Hilfstabelle!$P$7","v":"Die Bezeichnung einer Anlage muss eindeutig sein, sofern mehrere Anlagen im gleichen Raum sind. "}]
[null,null,{"$f":"'Anlagenartenkatalog UZH'!$B$93","v":"Heizungsanlage"},{"$f":"'Anlagenartenkatalog UZH'!$D$94","v":"Kessel"},{"$f":"Hilfstabelle!$O$5","v":"Anlagentyp (Beschreibung)"},"Text",null,{"$f":"Hilfstabelle!$P$8","v":"Verbindlich gemäss Anlagenartenkatalog"}]
[null,null,{"$f":"'Anlagenartenkatalog UZH'!$B$93","v":"Heizungsanlage"},{"$f":"'Anlagenartenkatalog UZH'!$D$94","v":"Kessel"},{"$f":"Hilfstabelle!$O$6","v":"Artikelgruppe"},"Text",{"$f":"'Anlagenartenkatalog UZH'!$A$93","v":"02.07.01"}]
[null,null,{"$f":"'Anlagenartenkatalog UZH'!$B$93","v":"Heizungsanlage"},{"$f":"'Anlagenartenkatalog UZH'!$D$94","v":"Kessel"},{"$f":"Hilfstabelle!$O$7","v":"Hauptanlage"},"Text"]
[null,null,{"$f":"'Anlagenartenkatalog UZH'!$B$93","v":"Heizungsanlage"},{"$f":"'Anlagenartenkatalog UZH'!$D$94","v":"Kessel"},{"$f":"Hilfstabelle!$O$8","v":"Objekt"},"Text","WIG "]
[null,null,{"$f":"'Anlagenartenkatalog UZH'!$B$93","v":"Heizungsanlage"},{"$f":"'Anlagenartenkatalog UZH'!$D$94","v":"Kessel"},{"$f":"Hilfstabelle!$O$9","v":"Raumkennzeichen"},"Text","D-08"]
[null,null,{"$f":"'Anlagenartenkatalog UZH'!$B$93","v":"Heizungsanlage"},{"$f":"'Anlagenartenkatalog UZH'!$D$94","v":"Kessel"},{"$f":"Hilfstabelle!$O$10","v":"Hersteller / Marke"},"Text","Viessmann (Schweiz) AG"]
[null,null,{"$f":"'Anlagenartenkatalog UZH'!$B$93","v":"Heizungsanlage"},{"$f":"'Anlagenartenkatalog UZH'!$D$94","v":"Kessel"},{"$f":"Hilfstabelle!$O$11","v":"Modell / Artikel"},"Text","-"]
[null,null,{"$f":"'Anlagenartenkatalog UZH'!$B$93","v":"Heizungsanlage"},{"$f":"'Anlagenartenkatalog UZH'!$D$94","v":"Kessel"},{"$f":"Hilfstabelle!$O$12","v":"Seriennummer"},"Text","-"]
[null,null,{"$f":"'Anlagenartenkatalog UZH'!$B$93","v":"Heizungsanlage"},{"$f":"'Anlagenartenkatalog UZH'!$D$94","v":"Kessel"},{"$f":"Hilfstabelle!$O$13","v":"Servicefirma"},"Text","Viessmann (Schweiz) AG",{"$f":"Hilfstabelle!$P$10","v":"Gemäss Offerte in Submission"}]
[null,null,{"$f":"'Anlagenartenkatalog UZH'!$B$93","v":"Heizungsanlage"},{"$f":"'Anlagenartenkatalog UZH'!$D$94","v":"Kessel"},{"$f":"Hilfstabelle!$O$14","v":"Inbetriebnahmedatum"},"Text","06.06.2030"]
[null,null,{"$f":"'Anlagenartenkatalog UZH'!$B$93","v":"Heizungsanlage"},{"$f":"'Anlagenartenkatalog UZH'!$D$94","v":"Kessel"},{"$f":"Hilfstabelle!$O$15","v":"Garantieende"},"Text","06.06.2035"]
[null,null,{"$f":"'Anlagenartenkatalog UZH'!$B$93","v":"Heizungsanlage"},{"$f":"'Anlagenartenkatalog UZH'!$D$94","v":"Kessel"},{"$f":"Hilfstabelle!$O$16","v":"Erwartetes technisches Enddatum"},"Text","06.06.2045"]
[null,null,{"$f":"'Anlagenartenkatalog UZH'!$B$93","v":"Heizungsanlage"},{"$f":"'Anlagenartenkatalog UZH'!$D$94","v":"Kessel"},{"$f":"Hilfstabelle!$O$17","v":"Anmerkung: Anzahl Wartungen pro Jahr"},"Text","Anzahl Wartungen pro Jahr: 1"]
[null,null,{"$f":"'Anlagenartenkatalog UZH'!$B$93","v":"Heizungsanlage"},{"$f":"'Anlagenartenkatalog UZH'!$D$95","v":"Kamin"},{"$f":"Hilfstabelle!$O$3","v":"Code (MSRL-Code)"},"Text","SPO-§1654200410"]
[null,null,{"$f":"'Anlagenartenkatalog UZH'!$B$93","v":"Heizungsanlage"},{"$f":"'Anlagenartenkatalog UZH'!$D$95","v":"Kamin"},{"$f":"Hilfstabelle!$O$4","v":"Bezeichnung"},"Text","Kamin",{"$f":"Hilfstabelle!$P$7","v":"Die Bezeichnung einer Anlage muss eindeutig sein, sofern mehrere Anlagen im gleichen Raum sind. "}]
[null,null,{"$f":"'Anlagenartenkatalog UZH'!$B$93","v":"Heizungsanlage"},{"$f":"'Anlagenartenkatalog UZH'!$D$95","v":"Kamin"},{"$f":"Hilfstabelle!$O$5","v":"Anlagentyp (Beschreibung)"},"Text",null,{"$f":"Hilfstabelle!$P$8","v":"Verbindlich gemäss Anlagenartenkatalog"}]
[null,null,{"$f":"'Anlagenartenkatalog UZH'!$B$93","v":"Heizungsanlage"},{"$f":"'Anlagenartenkatalog UZH'!$D$95","v":"Kamin"},{"$f":"Hilfstabelle!$O$6","v":"Artikelgruppe"},"Text",{"$f":"'Anlagenartenkatalog UZH'!$A$93","v":"02.07.01"}]
[null,null,{"$f":"'Anlagenartenkatalog UZH'!$B$93","v":"Heizungsanlage"},{"$f":"'Anlagenartenkatalog UZH'!$D$95","v":"Kamin"},{"$f":"Hilfstabelle!$O$7","v":"Hauptanlage"},"Text","Unteranlage zu Heizungsanlage"]
[null,null,{"$f":"'Anlagenartenkatalog UZH'!$B$93","v":"Heizungsanlage"},{"$f":"'Anlagenartenkatalog UZH'!$D$95","v":"Kamin"},{"$f":"Hilfstabelle!$O$8","v":"Objekt"},"Text","SPO "]
[null,null,{"$f":"'Anlagenartenkatalog UZH'!$B$93","v":"Heizungsanlage"},{"$f":"'Anlagenartenkatalog UZH'!$D$95","v":"Kamin"},{"$f":"Hilfstabelle!$O$9","v":"Raumkennzeichen"},"Text","-"]
[null,null,{"$f":"'Anlagenartenkatalog UZH'!$B$93","v":"Heizungsanlage"},{"$f":"'Anlagenartenkatalog UZH'!$D$95","v":"Kamin"},{"$f":"Hilfstabelle!$O$10","v":"Hersteller / Marke"},"Text","-"]
[null,null,{"$f":"'Anlagenartenkatalog UZH'!$B$93","v":"Heizungsanlage"},{"$f":"'Anlagenartenkatalog UZH'!$D$95","v":"Kamin"},{"$f":"Hilfstabelle!$O$11","v":"Modell / Artikel"},"Text","-"]
[null,null,{"$f":"'Anlagenartenkatalog UZH'!$B$93","v":"Heizungsanlage"},{"$f":"'Anlagenartenkatalog UZH'!$D$95","v":"Kamin"},{"$f":"Hilfstabelle!$O$12","v":"Seriennummer"},"Text","-"]
[null,null,{"$f":"'Anlagenartenkatalog UZH'!$B$93","v":"Heizungsanlage"},{"$f":"'Anlagenartenkatalog UZH'!$D$95","v":"Kamin"},{"$f":"Hilfstabelle!$O$13","v":"Servicefirma"},"Text","Bergmann Kaminfeger- und Dach-Service AG",{"$f":"Hilfstabelle!$P$10","v":"Gemäss Offerte in Submission"}]
[null,null,{"$f":"'Anlagenartenkatalog UZH'!$B$93","v":"Heizungsanlage"},{"$f":"'Anlagenartenkatalog UZH'!$D$95","v":"Kamin"},{"$f":"Hilfstabelle!$O$14","v":"Inbetriebnahmedatum"},"Text","06.06.2030"]
[null,null,{"$f":"'Anlagenartenkatalog UZH'!$B$93","v":"Heizungsanlage"},{"$f":"'Anlagenartenkatalog UZH'!$D$95","v":"Kamin"},{"$f":"Hilfstabelle!$O$15","v":"Garantieende"},"Text","06.06.2035"]
[null,null,{"$f":"'Anlagenartenkatalog UZH'!$B$93","v":"Heizungsanlage"},{"$f":"'Anlagenartenkatalog UZH'!$D$95","v":"Kamin"},{"$f":"Hilfstabelle!$O$16","v":"Erwartetes technisches Enddatum"},"Text","06.06.2045"]
[null,null,{"$f":"'Anlagenartenkatalog UZH'!$B$93","v":"Heizungsanlage"},{"$f":"'Anlagenartenkatalog UZH'!$D$95","v":"Kamin"},{"$f":"Hilfstabelle!$O$17","v":"Anmerkung: Anzahl Wartungen pro Jahr"},"Text","Anzahl Wartungen pro Jahr: 1"]
[null,null,{"$f":"'Anlagenartenkatalog UZH'!$B$93","v":"Heizungsanlage"},{"$f":"'Anlagenartenkatalog UZH'!$D$96","v":"Öl Tank"},{"$f":"Hilfstabelle!$O$3","v":"Code (MSRL-Code)"},"Text","WIL-§1654200412"]
[null,null,{"$f":"'Anlagenartenkatalog UZH'!$B$93","v":"Heizungsanlage"},{"$f":"'Anlagenartenkatalog UZH'!$D$96","v":"Öl Tank"},{"$f":"Hilfstabelle!$O$4","v":"Bezeichnung"},"Text","Öl Tank",{"$f":"Hilfstabelle!$P$7","v":"Die Bezeichnung einer Anlage muss eindeutig sein, sofern mehrere Anlagen im gleichen Raum sind. "}]
[null,null,{"$f":"'Anlagenartenkatalog UZH'!$B$93","v":"Heizungsanlage"},{"$f":"'Anlagenartenkatalog UZH'!$D$96","v":"Öl Tank"},{"$f":"Hilfstabelle!$O$5","v":"Anlagentyp (Beschreibung)"},"Text",null,{"$f":"Hilfstabelle!$P$8","v":"Verbindlich gemäss Anlagenartenkatalog"}]
[null,null,{"$f":"'Anlagenartenkatalog UZH'!$B$93","v":"Heizungsanlage"},{"$f":"'Anlagenartenkatalog UZH'!$D$96","v":"Öl Tank"},{"$f":"Hilfstabelle!$O$6","v":"Artikelgruppe"},"Text",{"$f":"'Anlagenartenkatalog UZH'!$A$93","v":"02.07.01"}]
[null,null,{"$f":"'Anlagenartenkatalog UZH'!$B$93","v":"Heizungsanlage"},{"$f":"'Anlagenartenkatalog UZH'!$D$96","v":"Öl Tank"},{"$f":"Hilfstabelle!$O$7","v":"Hauptanlage"},"Text"]
[null,null,{"$f":"'Anlagenartenkatalog UZH'!$B$93","v":"Heizungsanlage"},{"$f":"'Anlagenartenkatalog UZH'!$D$96","v":"Öl Tank"},{"$f":"Hilfstabelle!$O$8","v":"Objekt"},"Text","WIL "]
[null,null,{"$f":"'Anlagenartenkatalog UZH'!$B$93","v":"Heizungsanlage"},{"$f":"'Anlagenartenkatalog UZH'!$D$96","v":"Öl Tank"},{"$f":"Hilfstabelle!$O$9","v":"Raumkennzeichen"},"Text","E-01"]
[null,null,{"$f":"'Anlagenartenkatalog UZH'!$B$93","v":"Heizungsanlage"},{"$f":"'Anlagenartenkatalog UZH'!$D$96","v":"Öl Tank"},{"$f":"Hilfstabelle!$O$10","v":"Hersteller / Marke"},"Text","Paul Grob Tankrevisionen AG"]
[null,null,{"$f":"'Anlagenartenkatalog UZH'!$B$93","v":"Heizungsanlage"},{"$f":"'Anlagenartenkatalog UZH'!$D$96","v":"Öl Tank"},{"$f":"Hilfstabelle!$O$11","v":"Modell / Artikel"},"Text","-"]
[null,null,{"$f":"'Anlagenartenkatalog UZH'!$B$93","v":"Heizungsanlage"},{"$f":"'Anlagenartenkatalog UZH'!$D$96","v":"Öl Tank"},{"$f":"Hilfstabelle!$O$12","v":"Seriennummer"},"Text","-"]
[null,null,{"$f":"'Anlagenartenkatalog UZH'!$B$93","v":"Heizungsanlage"},{"$f":"'Anlagenartenkatalog UZH'!$D$96","v":"Öl Tank"},{"$f":"Hilfstabelle!$O$13","v":"Servicefirma"},"Text","Paul Grob Tankrevisionen AG",{"$f":"Hilfstabelle!$P$10","v":"Gemäss Offerte in Submission"}]
[null,null,{"$f":"'Anlagenartenkatalog UZH'!$B$93","v":"Heizungsanlage"},{"$f":"'Anlagenartenkatalog UZH'!$D$96","v":"Öl Tank"},{"$f":"Hilfstabelle!$O$14","v":"Inbetriebnahmedatum"},"Text","06.06.2030"]
[null,null,{"$f":"'Anlagenartenkatalog UZH'!$B$93","v":"Heizungsanlage"},{"$f":"'Anlagenartenkatalog UZH'!$D$96","v":"Öl Tank"},{"$f":"Hilfstabelle!$O$15","v":"Garantieende"},"Text","06.06.2035"]
[null,null,{"$f":"'Anlagenartenkatalog UZH'!$B$93","v":"Heizungsanlage"},{"$f":"'Anlagenartenkatalog UZH'!$D$96","v":"Öl Tank"},{"$f":"Hilfstabelle!$O$16","v":"Erwartetes technisches Enddatum"},"Text","06.06.2045"]
[null,null,"Heizungsanlage","Öl Tank","Anmerkung: Fassungsvermögen in [l]","Zahl","Fassungsvermögen: 3000 l"]
[null,null,"Heizungsanlage","Öl Tank","Anmerkung: Öl Tank Prüfung alle (in Jahren)","Zahl","Öl Tank Prüfung: alle 2 Jahre"]
[null,null,"Heizungsanlage","Öl Tank","Anmerkung: Öl Tank Revision alle (in Jahren)","Zahl","Öl Tank Revision: alle 10 Jahre"]
[null,null,{"$f":"'Anlagenartenkatalog UZH'!$B$100","v":"Kälte"},{"$f":"'Anlagenartenkatalog UZH'!$D$100","v":"Kältemaschine"},{"$f":"Hilfstabelle!$O$3","v":"Code (MSRL-Code)"},"Text","KOL-US15-H300"]
[null,null,{"$f":"'Anlagenartenkatalog UZH'!$B$100","v":"Kälte"},{"$f":"'Anlagenartenkatalog UZH'!$D$100","v":"Kältemaschine"},{"$f":"Hilfstabelle!$O$4","v":"Bezeichnung"},"Text","Kältemaschine 2",{"$f":"Hilfstabelle!$P$7","v":"Die Bezeichnung einer Anlage muss eindeutig sein, sofern mehrere Anlagen im gleichen Raum sind. "}]
[null,null,{"$f":"'Anlagenartenkatalog UZH'!$B$100","v":"Kälte"},{"$f":"'Anlagenartenkatalog UZH'!$D$100","v":"Kältemaschine"},{"$f":"Hilfstabelle!$O$5","v":"Anlagentyp (Beschreibung)"},"Text",null,{"$f":"Hilfstabelle!$P$8","v":"Verbindlich gemäss Anlagenartenkatalog"}]
[null,null,{"$f":"'Anlagenartenkatalog UZH'!$B$100","v":"Kälte"},{"$f":"'Anlagenartenkatalog UZH'!$D$100","v":"Kältemaschine"},{"$f":"Hilfstabelle!$O$6","v":"Artikelgruppe"},"Text",{"$f":"'Anlagenartenkatalog UZH'!$A$100","v":"02.08"}]
[null,null,{"$f":"'Anlagenartenkatalog UZH'!$B$100","v":"Kälte"},{"$f":"'Anlagenartenkatalog UZH'!$D$100","v":"Kältemaschine"},{"$f":"Hilfstabelle!$O$7","v":"Hauptanlage"},"Text"]
[null,null,{"$f":"'Anlagenartenkatalog UZH'!$B$100","v":"Kälte"},{"$f":"'Anlagenartenkatalog UZH'!$D$100","v":"Kältemaschine"},{"$f":"Hilfstabelle!$O$8","v":"Objekt"},"Text","KOL"]
[null,null,{"$f":"'Anlagenartenkatalog UZH'!$B$100","v":"Kälte"},{"$f":"'Anlagenartenkatalog UZH'!$D$100","v":"Kältemaschine"},{"$f":"Hilfstabelle!$O$9","v":"Raumkennzeichen"},"Text","J-43"]
[null,null,{"$f":"'Anlagenartenkatalog UZH'!$B$100","v":"Kälte"},{"$f":"'Anlagenartenkatalog UZH'!$D$100","v":"Kältemaschine"},{"$f":"Hilfstabelle!$O$10","v":"Hersteller / Marke"},"Text","KAPAG Kälte-Wärme AG "]
[null,null,{"$f":"'Anlagenartenkatalog UZH'!$B$100","v":"Kälte"},{"$f":"'Anlagenartenkatalog UZH'!$D$100","v":"Kältemaschine"},{"$f":"Hilfstabelle!$O$11","v":"Modell / Artikel"},"Text","05.4810 SW-70/B "]
[null,null,{"$f":"'Anlagenartenkatalog UZH'!$B$100","v":"Kälte"},{"$f":"'Anlagenartenkatalog UZH'!$D$100","v":"Kältemaschine"},{"$f":"Hilfstabelle!$O$12","v":"Seriennummer"},"Text","24563467"]
[null,null,{"$f":"'Anlagenartenkatalog UZH'!$B$100","v":"Kälte"},{"$f":"'Anlagenartenkatalog UZH'!$D$100","v":"Kältemaschine"},{"$f":"Hilfstabelle!$O$13","v":"Servicefirma"},"Text","KAPAG Kälte-Wärme AG ",{"$f":"Hilfstabelle!$P$10","v":"Gemäss Offerte in Submission"}]
[null,null,{"$f":"'Anlagenartenkatalog UZH'!$B$100","v":"Kälte"},{"$f":"'Anlagenartenkatalog UZH'!$D$100","v":"Kältemaschine"},{"$f":"Hilfstabelle!$O$14","v":"Inbetriebnahmedatum"},"Text","06.06.2030"]
[null,null,{"$f":"'Anlagenartenkatalog UZH'!$B$100","v":"Kälte"},{"$f":"'Anlagenartenkatalog UZH'!$D$100","v":"Kältemaschine"},{"$f":"Hilfstabelle!$O$15","v":"Garantieende"},"Text","06.06.2035"]
[null,null,{"$f":"'Anlagenartenkatalog UZH'!$B$100","v":"Kälte"},{"$f":"'Anlagenartenkatalog UZH'!$D$100","v":"Kältemaschine"},{"$f":"Hilfstabelle!$O$16","v":"Erwartetes technisches Enddatum"},"Text","06.06.2045"]
[null,null,{"$f":"'Anlagenartenkatalog UZH'!$B$100","v":"Kälte"},{"$f":"'Anlagenartenkatalog UZH'!$D$100","v":"Kältemaschine"},"Anmerkung: Kältemittel","Text","Kältemittel: R134A"]
[null,null,{"$f":"'Anlagenartenkatalog UZH'!$B$100","v":"Kälte"},{"$f":"'Anlagenartenkatalog UZH'!$D$100","v":"Kältemaschine"},"Anmerkung: Füllmenge Kältemittel [kg]","Text","Füllmenge Kältemittel: 18.5 kg"]
[null,null,{"$f":"'Anlagenartenkatalog UZH'!$B$100","v":"Kälte"},{"$f":"'Anlagenartenkatalog UZH'!$D$100","v":"Kältemaschine"},"Anmerkung: Meldekarte (Vignette)","Text","Meldekarte (Vignette):  2006 703800 132711","Ggf. \"Keine Meldepflicht\" vermerken"]
[null,null,{"$f":"'Anlagenartenkatalog UZH'!$B$100","v":"Kälte"},{"$f":"'Anlagenartenkatalog UZH'!$D$100","v":"Kältemaschine"},"Anmerkung: Kühlleistung in [kW]","Text","Kühlleistung: 308.3 kW"]
[null,null,{"$f":"'Anlagenartenkatalog UZH'!$B$100","v":"Kälte"},{"$f":"'Anlagenartenkatalog UZH'!$D$100","v":"Kältemaschine"},"Anmerkung: Heizleistung in [kW]","Text","Heizleistung: 333 kW","Ggf. \"Keine\" vermerken"]
[null,null,{"$f":"'Anlagenartenkatalog UZH'!$B$100","v":"Kälte"},{"$f":"'Anlagenartenkatalog UZH'!$D$100","v":"Kältemaschine"},{"$f":"Hilfstabelle!$O$17","v":"Anmerkung: Anzahl Wartungen pro Jahr"},"Text","Anzahl Wartungen pro Jahr: 1"]
[null,null,{"$f":"'Anlagenartenkatalog UZH'!$B$100","v":"Kälte"},{"$f":"'Anlagenartenkatalog UZH'!$D$102","v":"Rückkühler"},{"$f":"Hilfstabelle!$O$3","v":"Code (MSRL-Code)"},"Text","SOC-US11-L001-1-U8-F09","Vollständiger MSRL-Code für die Zuordnung benötigt"]
[null,null,{"$f":"'Anlagenartenkatalog UZH'!$B$100","v":"Kälte"},{"$f":"'Anlagenartenkatalog UZH'!$D$102","v":"Rückkühler"},{"$f":"Hilfstabelle!$O$4","v":"Bezeichnung"},"Text","Rückkühler Nr. 8",{"$f":"Hilfstabelle!$P$7","v":"Die Bezeichnung einer Anlage muss eindeutig sein, sofern mehrere Anlagen im gleichen Raum sind. "}]
[null,null,{"$f":"'Anlagenartenkatalog UZH'!$B$100","v":"Kälte"},{"$f":"'Anlagenartenkatalog UZH'!$D$102","v":"Rückkühler"},{"$f":"Hilfstabelle!$O$5","v":"Anlagentyp (Beschreibung)"},"Text",null,{"$f":"Hilfstabelle!$P$8","v":"Verbindlich gemäss Anlagenartenkatalog"}]
[null,null,{"$f":"'Anlagenartenkatalog UZH'!$B$100","v":"Kälte"},{"$f":"'Anlagenartenkatalog UZH'!$D$102","v":"Rückkühler"},{"$f":"Hilfstabelle!$O$6","v":"Artikelgruppe"},"Text","02.08"]
[null,null,{"$f":"'Anlagenartenkatalog UZH'!$B$100","v":"Kälte"},{"$f":"'Anlagenartenkatalog UZH'!$D$102","v":"Rückkühler"},{"$f":"Hilfstabelle!$O$7","v":"Hauptanlage"},"Text"]
[null,null,{"$f":"'Anlagenartenkatalog UZH'!$B$100","v":"Kälte"},{"$f":"'Anlagenartenkatalog UZH'!$D$102","v":"Rückkühler"},{"$f":"Hilfstabelle!$O$8","v":"Objekt"},"Text","SOC"]
[null,null,{"$f":"'Anlagenartenkatalog UZH'!$B$100","v":"Kälte"},{"$f":"'Anlagenartenkatalog UZH'!$D$102","v":"Rückkühler"},{"$f":"Hilfstabelle!$O$9","v":"Raumkennzeichen"},"Text","-"]
[null,null,{"$f":"'Anlagenartenkatalog UZH'!$B$100","v":"Kälte"},{"$f":"'Anlagenartenkatalog UZH'!$D$102","v":"Rückkühler"},{"$f":"Hilfstabelle!$O$10","v":"Hersteller / Marke"},"Text","Güntner GmbH & Co. KG"]
[null,null,{"$f":"'Anlagenartenkatalog UZH'!$B$100","v":"Kälte"},{"$f":"'Anlagenartenkatalog UZH'!$D$102","v":"Rückkühler"},{"$f":"Hilfstabelle!$O$11","v":"Modell / Artikel"},"Text","V-shape COMPACT / GFDC"]
[null,null,{"$f":"'Anlagenartenkatalog UZH'!$B$100","v":"Kälte"},{"$f":"'Anlagenartenkatalog UZH'!$D$102","v":"Rückkühler"},{"$f":"Hilfstabelle!$O$12","v":"Seriennummer"},"Text","2354567"]
[null,null,{"$f":"'Anlagenartenkatalog UZH'!$B$100","v":"Kälte"},{"$f":"'Anlagenartenkatalog UZH'!$D$102","v":"Rückkühler"},{"$f":"Hilfstabelle!$O$13","v":"Servicefirma"},"Text","Güntner GmbH & Co. KG",{"$f":"Hilfstabelle!$P$10","v":"Gemäss Offerte in Submission"}]
[null,null,{"$f":"'Anlagenartenkatalog UZH'!$B$100","v":"Kälte"},{"$f":"'Anlagenartenkatalog UZH'!$D$102","v":"Rückkühler"},{"$f":"Hilfstabelle!$O$14","v":"Inbetriebnahmedatum"},"Text","06.06.2030"]
[null,null,{"$f":"'Anlagenartenkatalog UZH'!$B$100","v":"Kälte"},{"$f":"'Anlagenartenkatalog UZH'!$D$102","v":"Rückkühler"},{"$f":"Hilfstabelle!$O$15","v":"Garantieende"},"Text","06.06.2035"]
[null,null,{"$f":"'Anlagenartenkatalog UZH'!$B$100","v":"Kälte"},{"$f":"'Anlagenartenkatalog UZH'!$D$102","v":"Rückkühler"},{"$f":"Hilfstabelle!$O$16","v":"Erwartetes technisches Enddatum"},"Text","06.06.2045"]
[null,null,{"$f":"'Anlagenartenkatalog UZH'!$B$100","v":"Kälte"},{"$f":"'Anlagenartenkatalog UZH'!$D$102","v":"Rückkühler"},"Anmerkung: Genaue Standortbeschreibung","Text","Genaue Standortbeschreibung: Dach nordwest"]
[null,null,{"$f":"'Anlagenartenkatalog UZH'!$B$100","v":"Kälte"},{"$f":"'Anlagenartenkatalog UZH'!$D$102","v":"Rückkühler"},"Anmerkung: Betriebsart","Text","Betriebsart: Trockenbetrieb","\"Trockenbetrieb\", \"Nassbetrieb\", \"Adiabater Betrieb\", \"Hybrider Betrieb\" (ggf. weitere)"]
[null,null,{"$f":"'Anlagenartenkatalog UZH'!$B$100","v":"Kälte"},{"$f":"'Anlagenartenkatalog UZH'!$D$102","v":"Rückkühler"},"Anmerkung: Kühlmedium","Text","Kühlmedium: Fluid"]
[null,null,{"$f":"'Anlagenartenkatalog UZH'!$B$100","v":"Kälte"},{"$f":"'Anlagenartenkatalog UZH'!$D$102","v":"Rückkühler"},"Anmerkung: Leistung in [kW]","Text","Leistung: 333 kW"]
[null,null,{"$f":"'Anlagenartenkatalog UZH'!$B$100","v":"Kälte"},{"$f":"'Anlagenartenkatalog UZH'!$D$102","v":"Rückkühler"},{"$f":"Hilfstabelle!$O$17","v":"Anmerkung: Anzahl Wartungen pro Jahr"},"Text","Anzahl Wartungen pro Jahr: 1"]
[null,null,{"$f":"'Anlagenartenkatalog UZH'!$B$100","v":"Kälte"},{"$f":"'Anlagenartenkatalog UZH'!$D$103","v":"Dosieranlage"},{"$f":"Hilfstabelle!$O$3","v":"Code (MSRL-Code)"},"Text","FRE_G501_S001"]
[null,null,{"$f":"'Anlagenartenkatalog UZH'!$B$100","v":"Kälte"},{"$f":"'Anlagenartenkatalog UZH'!$D$103","v":"Dosieranlage"},{"$f":"Hilfstabelle!$O$4","v":"Bezeichnung"},"Text","Dosieranlage",{"$f":"Hilfstabelle!$P$7","v":"Die Bezeichnung einer Anlage muss eindeutig sein, sofern mehrere Anlagen im gleichen Raum sind. "}]
[null,null,{"$f":"'Anlagenartenkatalog UZH'!$B$100","v":"Kälte"},{"$f":"'Anlagenartenkatalog UZH'!$D$103","v":"Dosieranlage"},{"$f":"Hilfstabelle!$O$5","v":"Anlagentyp (Beschreibung)"},"Text",null,{"$f":"Hilfstabelle!$P$8","v":"Verbindlich gemäss Anlagenartenkatalog"}]
[null,null,{"$f":"'Anlagenartenkatalog UZH'!$B$100","v":"Kälte"},{"$f":"'Anlagenartenkatalog UZH'!$D$103","v":"Dosieranlage"},{"$f":"Hilfstabelle!$O$6","v":"Artikelgruppe"},"Text","02.08"]
[null,null,{"$f":"'Anlagenartenkatalog UZH'!$B$100","v":"Kälte"},{"$f":"'Anlagenartenkatalog UZH'!$D$103","v":"Dosieranlage"},{"$f":"Hilfstabelle!$O$7","v":"Hauptanlage"},"Text"]
[null,null,{"$f":"'Anlagenartenkatalog UZH'!$B$100","v":"Kälte"},{"$f":"'Anlagenartenkatalog UZH'!$D$103","v":"Dosieranlage"},{"$f":"Hilfstabelle!$O$8","v":"Objekt"},"Text","FRE"]
[null,null,{"$f":"'Anlagenartenkatalog UZH'!$B$100","v":"Kälte"},{"$f":"'Anlagenartenkatalog UZH'!$D$103","v":"Dosieranlage"},{"$f":"Hilfstabelle!$O$9","v":"Raumkennzeichen"},"Text","D-02","Ausfüllen, wenn im Gebäude"]
[null,null,{"$f":"'Anlagenartenkatalog UZH'!$B$100","v":"Kälte"},{"$f":"'Anlagenartenkatalog UZH'!$D$103","v":"Dosieranlage"},{"$f":"Hilfstabelle!$O$10","v":"Hersteller / Marke"},"Text","AQUA-TECHNIK BERATUNGS GMBH"]
[null,null,{"$f":"'Anlagenartenkatalog UZH'!$B$100","v":"Kälte"},{"$f":"'Anlagenartenkatalog UZH'!$D$103","v":"Dosieranlage"},{"$f":"Hilfstabelle!$O$11","v":"Modell / Artikel"},"Text","MASTERPRO 002 aT"]
[null,null,{"$f":"'Anlagenartenkatalog UZH'!$B$100","v":"Kälte"},{"$f":"'Anlagenartenkatalog UZH'!$D$103","v":"Dosieranlage"},{"$f":"Hilfstabelle!$O$12","v":"Seriennummer"},"Text","32456374"]
[null,null,{"$f":"'Anlagenartenkatalog UZH'!$B$100","v":"Kälte"},{"$f":"'Anlagenartenkatalog UZH'!$D$103","v":"Dosieranlage"},{"$f":"Hilfstabelle!$O$13","v":"Servicefirma"},"Text","AQUA-TECHNIK BERATUNGS GMBH",{"$f":"Hilfstabelle!$P$10","v":"Gemäss Offerte in Submission"}]
[null,null,{"$f":"'Anlagenartenkatalog UZH'!$B$100","v":"Kälte"},{"$f":"'Anlagenartenkatalog UZH'!$D$103","v":"Dosieranlage"},{"$f":"Hilfstabelle!$O$14","v":"Inbetriebnahmedatum"},"Text","06.06.2030"]
[null,null,{"$f":"'Anlagenartenkatalog UZH'!$B$100","v":"Kälte"},{"$f":"'Anlagenartenkatalog UZH'!$D$103","v":"Dosieranlage"},{"$f":"Hilfstabelle!$O$15","v":"Garantieende"},"Text","06.06.2035"]
[null,null,{"$f":"'Anlagenartenkatalog UZH'!$B$100","v":"Kälte"},{"$f":"'Anlagenartenkatalog UZH'!$D$103","v":"Dosieranlage"},{"$f":"Hilfstabelle!$O$16","v":"Erwartetes technisches Enddatum"},"Text","06.06.2045"]
[null,null,{"$f":"'Anlagenartenkatalog UZH'!$B$100","v":"Kälte"},{"$f":"'Anlagenartenkatalog UZH'!$D$103","v":"Dosieranlage"},"Anmerkung: Genaue Standortbeschreibung","Text","Genaue Standortbeschreibung: Dach nordwest"]
[null,null,{"$f":"'Anlagenartenkatalog UZH'!$B$100","v":"Kälte"},{"$f":"'Anlagenartenkatalog UZH'!$D$103","v":"Dosieranlage"},{"$f":"Hilfstabelle!$O$17","v":"Anmerkung: Anzahl Wartungen pro Jahr"},"Text","Anzahl Wartungen pro Jahr: 1"]
[null,null,{"$f":"'Anlagenartenkatalog UZH'!$B$100","v":"Kälte"},{"$f":"'Anlagenartenkatalog UZH'!$D$101","v":"Ammoniakwäscher"},{"$f":"Hilfstabelle!$O$3","v":"Code (MSRL-Code)"},"Text","FRE_G501_S001"]
[null,null,{"$f":"'Anlagenartenkatalog UZH'!$B$100","v":"Kälte"},{"$f":"'Anlagenartenkatalog UZH'!$D$101","v":"Ammoniakwäscher"},{"$f":"Hilfstabelle!$O$4","v":"Bezeichnung"},"Text","Ammoniakwäscher",{"$f":"Hilfstabelle!$P$7","v":"Die Bezeichnung einer Anlage muss eindeutig sein, sofern mehrere Anlagen im gleichen Raum sind. "}]
[null,null,{"$f":"'Anlagenartenkatalog UZH'!$B$100","v":"Kälte"},{"$f":"'Anlagenartenkatalog UZH'!$D$101","v":"Ammoniakwäscher"},{"$f":"Hilfstabelle!$O$5","v":"Anlagentyp (Beschreibung)"},"Text",null,{"$f":"Hilfstabelle!$P$8","v":"Verbindlich gemäss Anlagenartenkatalog"}]
[null,null,{"$f":"'Anlagenartenkatalog UZH'!$B$100","v":"Kälte"},{"$f":"'Anlagenartenkatalog UZH'!$D$101","v":"Ammoniakwäscher"},{"$f":"Hilfstabelle!$O$6","v":"Artikelgruppe"},"Text","02.08"]
[null,null,{"$f":"'Anlagenartenkatalog UZH'!$B$100","v":"Kälte"},{"$f":"'Anlagenartenkatalog UZH'!$D$101","v":"Ammoniakwäscher"},{"$f":"Hilfstabelle!$O$7","v":"Hauptanlage"},"Text"]
[null,null,{"$f":"'Anlagenartenkatalog UZH'!$B$100","v":"Kälte"},{"$f":"'Anlagenartenkatalog UZH'!$D$101","v":"Ammoniakwäscher"},{"$f":"Hilfstabelle!$O$8","v":"Objekt"},"Text","FRE"]
[null,null,{"$f":"'Anlagenartenkatalog UZH'!$B$100","v":"Kälte"},{"$f":"'Anlagenartenkatalog UZH'!$D$101","v":"Ammoniakwäscher"},{"$f":"Hilfstabelle!$O$9","v":"Raumkennzeichen"},"Text","H-02"]
[null,null,{"$f":"'Anlagenartenkatalog UZH'!$B$100","v":"Kälte"},{"$f":"'Anlagenartenkatalog UZH'!$D$101","v":"Ammoniakwäscher"},{"$f":"Hilfstabelle!$O$10","v":"Hersteller / Marke"},"Text","COLASIT AG"]
[null,null,{"$f":"'Anlagenartenkatalog UZH'!$B$100","v":"Kälte"},{"$f":"'Anlagenartenkatalog UZH'!$D$101","v":"Ammoniakwäscher"},{"$f":"Hilfstabelle!$O$11","v":"Modell / Artikel"},"Text","Ammoniak-Notwäscher CANW"]
[null,null,{"$f":"'Anlagenartenkatalog UZH'!$B$100","v":"Kälte"},{"$f":"'Anlagenartenkatalog UZH'!$D$101","v":"Ammoniakwäscher"},{"$f":"Hilfstabelle!$O$12","v":"Seriennummer"},"Text","234657"]
[null,null,{"$f":"'Anlagenartenkatalog UZH'!$B$100","v":"Kälte"},{"$f":"'Anlagenartenkatalog UZH'!$D$101","v":"Ammoniakwäscher"},{"$f":"Hilfstabelle!$O$13","v":"Servicefirma"},"Text","COLASIT AG",{"$f":"Hilfstabelle!$P$10","v":"Gemäss Offerte in Submission"}]
[null,null,{"$f":"'Anlagenartenkatalog UZH'!$B$100","v":"Kälte"},{"$f":"'Anlagenartenkatalog UZH'!$D$101","v":"Ammoniakwäscher"},{"$f":"Hilfstabelle!$O$14","v":"Inbetriebnahmedatum"},"Text","06.06.2030"]
[null,null,{"$f":"'Anlagenartenkatalog UZH'!$B$100","v":"Kälte"},{"$f":"'Anlagenartenkatalog UZH'!$D$101","v":"Ammoniakwäscher"},{"$f":"Hilfstabelle!$O$15","v":"Garantieende"},"Text","06.06.2035"]
[null,null,{"$f":"'Anlagenartenkatalog UZH'!$B$100","v":"Kälte"},{"$f":"'Anlagenartenkatalog UZH'!$D$101","v":"Ammoniakwäscher"},{"$f":"Hilfstabelle!$O$16","v":"Erwartetes technisches Enddatum"},"Text","06.06.2045"]
[null,null,{"$f":"'Anlagenartenkatalog UZH'!$B$100","v":"Kälte"},{"$f":"'Anlagenartenkatalog UZH'!$D$101","v":"Ammoniakwäscher"},{"$f":"Hilfstabelle!$O$17","v":"Anmerkung: Anzahl Wartungen pro Jahr"},"Text","Anzahl Wartungen pro Jahr: 1"]
[null,null,{"$f":"'Anlagenartenkatalog UZH'!$B$100","v":"Kälte"},{"$f":"'Anlagenartenkatalog UZH'!$D$104","v":"Kälteübergabestation"},{"$f":"Hilfstabelle!$O$3","v":"Code (MSRL-Code)"},"Text","FRE_G501_S001"]
[null,null,{"$f":"'Anlagenartenkatalog UZH'!$B$100","v":"Kälte"},{"$f":"'Anlagenartenkatalog UZH'!$D$104","v":"Kälteübergabestation"},{"$f":"Hilfstabelle!$O$4","v":"Bezeichnung"},"Text","Kälteübergabestation",{"$f":"Hilfstabelle!$P$7","v":"Die Bezeichnung einer Anlage muss eindeutig sein, sofern mehrere Anlagen im gleichen Raum sind. "}]
[null,null,{"$f":"'Anlagenartenkatalog UZH'!$B$100","v":"Kälte"},{"$f":"'Anlagenartenkatalog UZH'!$D$104","v":"Kälteübergabestation"},{"$f":"Hilfstabelle!$O$5","v":"Anlagentyp (Beschreibung)"},"Text",null,{"$f":"Hilfstabelle!$P$8","v":"Verbindlich gemäss Anlagenartenkatalog"}]
[null,null,{"$f":"'Anlagenartenkatalog UZH'!$B$100","v":"Kälte"},{"$f":"'Anlagenartenkatalog UZH'!$D$104","v":"Kälteübergabestation"},{"$f":"Hilfstabelle!$O$6","v":"Artikelgruppe"},"Text",{"$f":"'Anlagenartenkatalog UZH'!$A$100","v":"02.08"}]
[null,null,{"$f":"'Anlagenartenkatalog UZH'!$B$100","v":"Kälte"},{"$f":"'Anlagenartenkatalog UZH'!$D$104","v":"Kälteübergabestation"},{"$f":"Hilfstabelle!$O$7","v":"Hauptanlage"},"Text"]
[null,null,{"$f":"'Anlagenartenkatalog UZH'!$B$100","v":"Kälte"},{"$f":"'Anlagenartenkatalog UZH'!$D$104","v":"Kälteübergabestation"},{"$f":"Hilfstabelle!$O$8","v":"Objekt"},"Text","FRE"]
[null,null,{"$f":"'Anlagenartenkatalog UZH'!$B$100","v":"Kälte"},{"$f":"'Anlagenartenkatalog UZH'!$D$104","v":"Kälteübergabestation"},{"$f":"Hilfstabelle!$O$9","v":"Raumkennzeichen"},"Text","D-03"]
[null,null,{"$f":"'Anlagenartenkatalog UZH'!$B$100","v":"Kälte"},{"$f":"'Anlagenartenkatalog UZH'!$D$104","v":"Kälteübergabestation"},{"$f":"Hilfstabelle!$O$10","v":"Hersteller / Marke"},"Text","-"]
[null,null,{"$f":"'Anlagenartenkatalog UZH'!$B$100","v":"Kälte"},{"$f":"'Anlagenartenkatalog UZH'!$D$104","v":"Kälteübergabestation"},{"$f":"Hilfstabelle!$O$11","v":"Modell / Artikel"},"Text","-"]
[null,null,{"$f":"'Anlagenartenkatalog UZH'!$B$100","v":"Kälte"},{"$f":"'Anlagenartenkatalog UZH'!$D$104","v":"Kälteübergabestation"},{"$f":"Hilfstabelle!$O$12","v":"Seriennummer"},"Text","-"]
[null,null,{"$f":"'Anlagenartenkatalog UZH'!$B$100","v":"Kälte"},{"$f":"'Anlagenartenkatalog UZH'!$D$104","v":"Kälteübergabestation"},{"$f":"Hilfstabelle!$O$13","v":"Servicefirma"},"Text","-",{"$f":"Hilfstabelle!$P$10","v":"Gemäss Offerte in Submission"}]
[null,null,{"$f":"'Anlagenartenkatalog UZH'!$B$100","v":"Kälte"},{"$f":"'Anlagenartenkatalog UZH'!$D$104","v":"Kälteübergabestation"},{"$f":"Hilfstabelle!$O$14","v":"Inbetriebnahmedatum"},"Text","06.06.2030"]
[null,null,{"$f":"'Anlagenartenkatalog UZH'!$B$100","v":"Kälte"},{"$f":"'Anlagenartenkatalog UZH'!$D$104","v":"Kälteübergabestation"},{"$f":"Hilfstabelle!$O$15","v":"Garantieende"},"Text","06.06.2035"]
[null,null,{"$f":"'Anlagenartenkatalog UZH'!$B$100","v":"Kälte"},{"$f":"'Anlagenartenkatalog UZH'!$D$104","v":"Kälteübergabestation"},{"$f":"Hilfstabelle!$O$16","v":"Erwartetes technisches Enddatum"},"Text","06.06.2045"]
[null,null,{"$f":"'Anlagenartenkatalog UZH'!$B$100","v":"Kälte"},{"$f":"'Anlagenartenkatalog UZH'!$D$107","v":"Kühlraum"},{"$f":"Hilfstabelle!$O$3","v":"Code (MSRL-Code)"},"Text","SOC-US11-L001-1-U8-F09","Vollständiger MSRL-Code für die Zuordnung benötigt"]
[null,null,{"$f":"'Anlagenartenkatalog UZH'!$B$100","v":"Kälte"},{"$f":"'Anlagenartenkatalog UZH'!$D$107","v":"Kühlraum"},{"$f":"Hilfstabelle!$O$4","v":"Bezeichnung"},"Text","Kühlraum",{"$f":"Hilfstabelle!$P$7","v":"Die Bezeichnung einer Anlage muss eindeutig sein, sofern mehrere Anlagen im gleichen Raum sind. "}]
[null,null,{"$f":"'Anlagenartenkatalog UZH'!$B$100","v":"Kälte"},{"$f":"'Anlagenartenkatalog UZH'!$D$107","v":"Kühlraum"},{"$f":"Hilfstabelle!$O$5","v":"Anlagentyp (Beschreibung)"},"Text",null,{"$f":"Hilfstabelle!$P$8","v":"Verbindlich gemäss Anlagenartenkatalog"}]
[null,null,{"$f":"'Anlagenartenkatalog UZH'!$B$100","v":"Kälte"},{"$f":"'Anlagenartenkatalog UZH'!$D$107","v":"Kühlraum"},{"$f":"Hilfstabelle!$O$6","v":"Artikelgruppe"},"Text",{"$f":"'Anlagenartenkatalog UZH'!$A$100","v":"02.08"}]
[null,null,{"$f":"'Anlagenartenkatalog UZH'!$B$100","v":"Kälte"},{"$f":"'Anlagenartenkatalog UZH'!$D$107","v":"Kühlraum"},{"$f":"Hilfstabelle!$O$7","v":"Hauptanlage"},"Text"]
[null,null,{"$f":"'Anlagenartenkatalog UZH'!$B$100","v":"Kälte"},{"$f":"'Anlagenartenkatalog UZH'!$D$107","v":"Kühlraum"},{"$f":"Hilfstabelle!$O$8","v":"Objekt"},"Text","SOC"]
[null,null,{"$f":"'Anlagenartenkatalog UZH'!$B$100","v":"Kälte"},{"$f":"'Anlagenartenkatalog UZH'!$D$107","v":"Kühlraum"},{"$f":"Hilfstabelle!$O$9","v":"Raumkennzeichen"},"Text","E-02"]
[null,null,{"$f":"'Anlagenartenkatalog UZH'!$B$100","v":"Kälte"},{"$f":"'Anlagenartenkatalog UZH'!$D$107","v":"Kühlraum"},{"$f":"Hilfstabelle!$O$10","v":"Hersteller / Marke"},"Text","KBS Gastrotechnik GmbH"]
[null,null,{"$f":"'Anlagenartenkatalog UZH'!$B$100","v":"Kälte"},{"$f":"'Anlagenartenkatalog UZH'!$D$107","v":"Kühlraum"},{"$f":"Hilfstabelle!$O$11","v":"Modell / Artikel"},"Text","Kühlzelle EVO80-05 / 9180057"]
[null,null,{"$f":"'Anlagenartenkatalog UZH'!$B$100","v":"Kälte"},{"$f":"'Anlagenartenkatalog UZH'!$D$107","v":"Kühlraum"},{"$f":"Hilfstabelle!$O$12","v":"Seriennummer"},"Text","3456657"]
[null,null,{"$f":"'Anlagenartenkatalog UZH'!$B$100","v":"Kälte"},{"$f":"'Anlagenartenkatalog UZH'!$D$107","v":"Kühlraum"},{"$f":"Hilfstabelle!$O$13","v":"Servicefirma"},"Text","KBS Gastrotechnik GmbH",{"$f":"Hilfstabelle!$P$10","v":"Gemäss Offerte in Submission"}]
[null,null,{"$f":"'Anlagenartenkatalog UZH'!$B$100","v":"Kälte"},{"$f":"'Anlagenartenkatalog UZH'!$D$107","v":"Kühlraum"},{"$f":"Hilfstabelle!$O$14","v":"Inbetriebnahmedatum"},"Text","06.06.2030"]
[null,null,{"$f":"'Anlagenartenkatalog UZH'!$B$100","v":"Kälte"},{"$f":"'Anlagenartenkatalog UZH'!$D$107","v":"Kühlraum"},{"$f":"Hilfstabelle!$O$15","v":"Garantieende"},"Text","06.06.2035"]
[null,null,{"$f":"'Anlagenartenkatalog UZH'!$B$100","v":"Kälte"},{"$f":"'Anlagenartenkatalog UZH'!$D$107","v":"Kühlraum"},{"$f":"Hilfstabelle!$O$16","v":"Erwartetes technisches Enddatum"},"Text","06.06.2045"]
[null,null,{"$f":"'Anlagenartenkatalog UZH'!$B$100","v":"Kälte"},{"$f":"'Anlagenartenkatalog UZH'!$D$107","v":"Kühlraum"},"Anmerkung: Anwendungsbereich","Text","Anwendungsbereich: Gastronomie","Mögliche Alternative u.a. \"Laborbereich\""]
[null,null,{"$f":"'Anlagenartenkatalog UZH'!$B$100","v":"Kälte"},{"$f":"'Anlagenartenkatalog UZH'!$D$107","v":"Kühlraum"},{"$f":"Hilfstabelle!$O$17","v":"Anmerkung: Anzahl Wartungen pro Jahr"},"Text","Anzahl Wartungen pro Jahr: 1"]
[null,null,{"$f":"'Anlagenartenkatalog UZH'!$B$100","v":"Kälte"},{"$f":"'Anlagenartenkatalog UZH'!$D$105","v":"Kälteunterstation"},{"$f":"Hilfstabelle!$O$3","v":"Code (MSRL-Code)"},"Text","FRE_G501_S001"]
[null,null,{"$f":"'Anlagenartenkatalog UZH'!$B$100","v":"Kälte"},{"$f":"'Anlagenartenkatalog UZH'!$D$105","v":"Kälteunterstation"},{"$f":"Hilfstabelle!$O$4","v":"Bezeichnung"},"Text","Kälteunterstation",{"$f":"Hilfstabelle!$P$7","v":"Die Bezeichnung einer Anlage muss eindeutig sein, sofern mehrere Anlagen im gleichen Raum sind. "}]
[null,null,{"$f":"'Anlagenartenkatalog UZH'!$B$100","v":"Kälte"},{"$f":"'Anlagenartenkatalog UZH'!$D$105","v":"Kälteunterstation"},{"$f":"Hilfstabelle!$O$5","v":"Anlagentyp (Beschreibung)"},"Text",null,{"$f":"Hilfstabelle!$P$8","v":"Verbindlich gemäss Anlagenartenkatalog"}]
[null,null,{"$f":"'Anlagenartenkatalog UZH'!$B$100","v":"Kälte"},{"$f":"'Anlagenartenkatalog UZH'!$D$105","v":"Kälteunterstation"},{"$f":"Hilfstabelle!$O$6","v":"Artikelgruppe"},"Text",{"$f":"'Anlagenartenkatalog UZH'!$A$100","v":"02.08"}]
[null,null,{"$f":"'Anlagenartenkatalog UZH'!$B$100","v":"Kälte"},{"$f":"'Anlagenartenkatalog UZH'!$D$105","v":"Kälteunterstation"},{"$f":"Hilfstabelle!$O$7","v":"Hauptanlage"},"Text"]
[null,null,{"$f":"'Anlagenartenkatalog UZH'!$B$100","v":"Kälte"},{"$f":"'Anlagenartenkatalog UZH'!$D$105","v":"Kälteunterstation"},{"$f":"Hilfstabelle!$O$8","v":"Objekt"},"Text","FRE"]
[null,null,{"$f":"'Anlagenartenkatalog UZH'!$B$100","v":"Kälte"},{"$f":"'Anlagenartenkatalog UZH'!$D$105","v":"Kälteunterstation"},{"$f":"Hilfstabelle!$O$9","v":"Raumkennzeichen"},"Text","D-01"]
[null,null,{"$f":"'Anlagenartenkatalog UZH'!$B$100","v":"Kälte"},{"$f":"'Anlagenartenkatalog UZH'!$D$105","v":"Kälteunterstation"},{"$f":"Hilfstabelle!$O$10","v":"Hersteller / Marke"},"Text","-"]
[null,null,{"$f":"'Anlagenartenkatalog UZH'!$B$100","v":"Kälte"},{"$f":"'Anlagenartenkatalog UZH'!$D$105","v":"Kälteunterstation"},{"$f":"Hilfstabelle!$O$11","v":"Modell / Artikel"},"Text","-"]
[null,null,{"$f":"'Anlagenartenkatalog UZH'!$B$100","v":"Kälte"},{"$f":"'Anlagenartenkatalog UZH'!$D$105","v":"Kälteunterstation"},{"$f":"Hilfstabelle!$O$12","v":"Seriennummer"},"Text","-"]
[null,null,{"$f":"'Anlagenartenkatalog UZH'!$B$100","v":"Kälte"},{"$f":"'Anlagenartenkatalog UZH'!$D$105","v":"Kälteunterstation"},{"$f":"Hilfstabelle!$O$13","v":"Servicefirma"},"Text","-",{"$f":"Hilfstabelle!$P$10","v":"Gemäss Offerte in Submission"}]
[null,null,{"$f":"'Anlagenartenkatalog UZH'!$B$100","v":"Kälte"},{"$f":"'Anlagenartenkatalog UZH'!$D$105","v":"Kälteunterstation"},{"$f":"Hilfstabelle!$O$14","v":"Inbetriebnahmedatum"},"Text","06.06.2030"]
[null,null,{"$f":"'Anlagenartenkatalog UZH'!$B$100","v":"Kälte"},{"$f":"'Anlagenartenkatalog UZH'!$D$105","v":"Kälteunterstation"},{"$f":"Hilfstabelle!$O$15","v":"Garantieende"},"Text","06.06.2035"]
[null,null,{"$f":"'Anlagenartenkatalog UZH'!$B$100","v":"Kälte"},{"$f":"'Anlagenartenkatalog UZH'!$D$105","v":"Kälteunterstation"},{"$f":"Hilfstabelle!$O$16","v":"Erwartetes technisches Enddatum"},"Text","06.06.2045"]
[null,null,{"$f":"'Anlagenartenkatalog UZH'!$B$100","v":"Kälte"},{"$f":"'Anlagenartenkatalog UZH'!$D$106","v":"Kühldecke"},{"$f":"Hilfstabelle!$O$3","v":"Code (MSRL-Code)"},"Text","SOC-§1654199554"]
[null,null,{"$f":"'Anlagenartenkatalog UZH'!$B$100","v":"Kälte"},{"$f":"'Anlagenartenkatalog UZH'!$D$106","v":"Kühldecke"},{"$f":"Hilfstabelle!$O$4","v":"Bezeichnung"},"Text","Kühldecke",{"$f":"Hilfstabelle!$P$7","v":"Die Bezeichnung einer Anlage muss eindeutig sein, sofern mehrere Anlagen im gleichen Raum sind. "}]
[null,null,{"$f":"'Anlagenartenkatalog UZH'!$B$100","v":"Kälte"},{"$f":"'Anlagenartenkatalog UZH'!$D$106","v":"Kühldecke"},{"$f":"Hilfstabelle!$O$5","v":"Anlagentyp (Beschreibung)"},"Text",null,{"$f":"Hilfstabelle!$P$8","v":"Verbindlich gemäss Anlagenartenkatalog"}]
[null,null,{"$f":"'Anlagenartenkatalog UZH'!$B$100","v":"Kälte"},{"$f":"'Anlagenartenkatalog UZH'!$D$106","v":"Kühldecke"},{"$f":"Hilfstabelle!$O$6","v":"Artikelgruppe"},"Text",{"$f":"'Anlagenartenkatalog UZH'!$A$100","v":"02.08"}]
[null,null,{"$f":"'Anlagenartenkatalog UZH'!$B$100","v":"Kälte"},{"$f":"'Anlagenartenkatalog UZH'!$D$106","v":"Kühldecke"},{"$f":"Hilfstabelle!$O$7","v":"Hauptanlage"},"Text"]
[null,null,{"$f":"'Anlagenartenkatalog UZH'!$B$100","v":"Kälte"},{"$f":"'Anlagenartenkatalog UZH'!$D$106","v":"Kühldecke"},{"$f":"Hilfstabelle!$O$8","v":"Objekt"},"Text","SOC"]
[null,null,{"$f":"'Anlagenartenkatalog UZH'!$B$100","v":"Kälte"},{"$f":"'Anlagenartenkatalog UZH'!$D$106","v":"Kühldecke"},{"$f":"Hilfstabelle!$O$9","v":"Raumkennzeichen"},"Text","E-06"]
[null,null,{"$f":"'Anlagenartenkatalog UZH'!$B$100","v":"Kälte"},{"$f":"'Anlagenartenkatalog UZH'!$D$106","v":"Kühldecke"},{"$f":"Hilfstabelle!$O$10","v":"Hersteller / Marke"},"Text","-"]
[null,null,{"$f":"'Anlagenartenkatalog UZH'!$B$100","v":"Kälte"},{"$f":"'Anlagenartenkatalog UZH'!$D$106","v":"Kühldecke"},{"$f":"Hilfstabelle!$O$11","v":"Modell / Artikel"},"Text","-"]
[null,null,{"$f":"'Anlagenartenkatalog UZH'!$B$100","v":"Kälte"},{"$f":"'Anlagenartenkatalog UZH'!$D$106","v":"Kühldecke"},{"$f":"Hilfstabelle!$O$12","v":"Seriennummer"},"Text","-"]
[null,null,{"$f":"'Anlagenartenkatalog UZH'!$B$100","v":"Kälte"},{"$f":"'Anlagenartenkatalog UZH'!$D$106","v":"Kühldecke"},{"$f":"Hilfstabelle!$O$13","v":"Servicefirma"},"Text","KBS Gastrotechnik GmbH",{"$f":"Hilfstabelle!$P$10","v":"Gemäss Offerte in Submission"}]
[null,null,{"$f":"'Anlagenartenkatalog UZH'!$B$100","v":"Kälte"},{"$f":"'Anlagenartenkatalog UZH'!$D$106","v":"Kühldecke"},{"$f":"Hilfstabelle!$O$14","v":"Inbetriebnahmedatum"},"Text","06.06.2030"]
[null,null,{"$f":"'Anlagenartenkatalog UZH'!$B$100","v":"Kälte"},{"$f":"'Anlagenartenkatalog UZH'!$D$106","v":"Kühldecke"},{"$f":"Hilfstabelle!$O$15","v":"Garantieende"},"Text","06.06.2035"]
[null,null,{"$f":"'Anlagenartenkatalog UZH'!$B$100","v":"Kälte"},{"$f":"'Anlagenartenkatalog UZH'!$D$106","v":"Kühldecke"},{"$f":"Hilfstabelle!$O$16","v":"Erwartetes technisches Enddatum"},"Text","06.06.2045"]
[null,null,{"$f":"'Anlagenartenkatalog UZH'!$B$100","v":"Kälte"},{"$f":"'Anlagenartenkatalog UZH'!$D$106","v":"Kühldecke"},{"$f":"Hilfstabelle!$O$17","v":"Anmerkung: Anzahl Wartungen pro Jahr"},"Text","Anzahl Wartungen pro Jahr: 1"]
[null,null,{"$f":"'Anlagenartenkatalog UZH'!$B$100","v":"Kälte"},{"$f":"'Anlagenartenkatalog UZH'!$D$108","v":"Tiefkühlraum"},{"$f":"Hilfstabelle!$O$3","v":"Code (MSRL-Code)"},"Text","SOC-US11-L001-1-U8-F09","Vollständiger MSRL-Code für die Zuordnung benötigt"]
[null,null,{"$f":"'Anlagenartenkatalog UZH'!$B$100","v":"Kälte"},{"$f":"'Anlagenartenkatalog UZH'!$D$108","v":"Tiefkühlraum"},{"$f":"Hilfstabelle!$O$4","v":"Bezeichnung"},"Text","Tiefkühlraum ",{"$f":"Hilfstabelle!$P$7","v":"Die Bezeichnung einer Anlage muss eindeutig sein, sofern mehrere Anlagen im gleichen Raum sind. "}]
[null,null,{"$f":"'Anlagenartenkatalog UZH'!$B$100","v":"Kälte"},{"$f":"'Anlagenartenkatalog UZH'!$D$108","v":"Tiefkühlraum"},{"$f":"Hilfstabelle!$O$5","v":"Anlagentyp (Beschreibung)"},"Text",null,{"$f":"Hilfstabelle!$P$8","v":"Verbindlich gemäss Anlagenartenkatalog"}]
[null,null,{"$f":"'Anlagenartenkatalog UZH'!$B$100","v":"Kälte"},{"$f":"'Anlagenartenkatalog UZH'!$D$108","v":"Tiefkühlraum"},{"$f":"Hilfstabelle!$O$6","v":"Artikelgruppe"},"Text",{"$f":"'Anlagenartenkatalog UZH'!$A$100","v":"02.08"}]
[null,null,{"$f":"'Anlagenartenkatalog UZH'!$B$100","v":"Kälte"},{"$f":"'Anlagenartenkatalog UZH'!$D$108","v":"Tiefkühlraum"},{"$f":"Hilfstabelle!$O$7","v":"Hauptanlage"},"Text"]
[null,null,{"$f":"'Anlagenartenkatalog UZH'!$B$100","v":"Kälte"},{"$f":"'Anlagenartenkatalog UZH'!$D$108","v":"Tiefkühlraum"},{"$f":"Hilfstabelle!$O$8","v":"Objekt"},"Text","SOC"]
[null,null,{"$f":"'Anlagenartenkatalog UZH'!$B$100","v":"Kälte"},{"$f":"'Anlagenartenkatalog UZH'!$D$108","v":"Tiefkühlraum"},{"$f":"Hilfstabelle!$O$9","v":"Raumkennzeichen"},"Text","E-06"]
[null,null,{"$f":"'Anlagenartenkatalog UZH'!$B$100","v":"Kälte"},{"$f":"'Anlagenartenkatalog UZH'!$D$108","v":"Tiefkühlraum"},{"$f":"Hilfstabelle!$O$10","v":"Hersteller / Marke"},"Text","KBS Gastrotechnik GmbH"]
[null,null,{"$f":"'Anlagenartenkatalog UZH'!$B$100","v":"Kälte"},{"$f":"'Anlagenartenkatalog UZH'!$D$108","v":"Tiefkühlraum"},{"$f":"Hilfstabelle!$O$11","v":"Modell / Artikel"},"Text","Tiefkühlzelle EVO100-01"]
[null,null,{"$f":"'Anlagenartenkatalog UZH'!$B$100","v":"Kälte"},{"$f":"'Anlagenartenkatalog UZH'!$D$108","v":"Tiefkühlraum"},{"$f":"Hilfstabelle!$O$12","v":"Seriennummer"},"Text","234436346"]
[null,null,{"$f":"'Anlagenartenkatalog UZH'!$B$100","v":"Kälte"},{"$f":"'Anlagenartenkatalog UZH'!$D$108","v":"Tiefkühlraum"},{"$f":"Hilfstabelle!$O$13","v":"Servicefirma"},"Text","KBS Gastrotechnik GmbH",{"$f":"Hilfstabelle!$P$10","v":"Gemäss Offerte in Submission"}]
[null,null,{"$f":"'Anlagenartenkatalog UZH'!$B$100","v":"Kälte"},{"$f":"'Anlagenartenkatalog UZH'!$D$108","v":"Tiefkühlraum"},{"$f":"Hilfstabelle!$O$14","v":"Inbetriebnahmedatum"},"Text","06.06.2030"]
[null,null,{"$f":"'Anlagenartenkatalog UZH'!$B$100","v":"Kälte"},{"$f":"'Anlagenartenkatalog UZH'!$D$108","v":"Tiefkühlraum"},{"$f":"Hilfstabelle!$O$15","v":"Garantieende"},"Text","06.06.2035"]
[null,null,{"$f":"'Anlagenartenkatalog UZH'!$B$100","v":"Kälte"},{"$f":"'Anlagenartenkatalog UZH'!$D$108","v":"Tiefkühlraum"},{"$f":"Hilfstabelle!$O$16","v":"Erwartetes technisches Enddatum"},"Text","06.06.2045"]
[null,null,{"$f":"'Anlagenartenkatalog UZH'!$B$100","v":"Kälte"},{"$f":"'Anlagenartenkatalog UZH'!$D$108","v":"Tiefkühlraum"},"Anmerkung: Anwendungsbereich","Text","Anwendungsbereich: Gastronomie","Mögliche Alternative u.a. \"Laborbereich\""]
[null,null,{"$f":"'Anlagenartenkatalog UZH'!$B$100","v":"Kälte"},{"$f":"'Anlagenartenkatalog UZH'!$D$108","v":"Tiefkühlraum"},{"$f":"Hilfstabelle!$O$17","v":"Anmerkung: Anzahl Wartungen pro Jahr"},"Text","Anzahl Wartungen pro Jahr: 1"]
[null,null,{"$f":"'Anlagenartenkatalog UZH'!$B$34","v":"Klimaanlagen"},{"$f":"'Anlagenartenkatalog UZH'!$D$37","v":"Kühlgerät (mobil)"},{"$f":"Hilfstabelle!$O$3","v":"Code (MSRL-Code)"},"Text","SOC-§1654899474"]
[null,null,{"$f":"'Anlagenartenkatalog UZH'!$B$34","v":"Klimaanlagen"},{"$f":"'Anlagenartenkatalog UZH'!$D$37","v":"Kühlgerät (mobil)"},{"$f":"Hilfstabelle!$O$4","v":"Bezeichnung"},"Text","Kühlgerät (mobil) Nr. 5",{"$f":"Hilfstabelle!$P$7","v":"Die Bezeichnung einer Anlage muss eindeutig sein, sofern mehrere Anlagen im gleichen Raum sind. "}]
[null,null,{"$f":"'Anlagenartenkatalog UZH'!$B$34","v":"Klimaanlagen"},{"$f":"'Anlagenartenkatalog UZH'!$D$37","v":"Kühlgerät (mobil)"},{"$f":"Hilfstabelle!$O$5","v":"Anlagentyp (Beschreibung)"},"Text",null,{"$f":"Hilfstabelle!$P$8","v":"Verbindlich gemäss Anlagenartenkatalog"}]
[null,null,{"$f":"'Anlagenartenkatalog UZH'!$B$34","v":"Klimaanlagen"},{"$f":"'Anlagenartenkatalog UZH'!$D$37","v":"Kühlgerät (mobil)"},{"$f":"Hilfstabelle!$O$6","v":"Artikelgruppe"},"Text",{"$f":"'Anlagenartenkatalog UZH'!$A$34","v":"02.02.02"}]
[null,null,{"$f":"'Anlagenartenkatalog UZH'!$B$34","v":"Klimaanlagen"},{"$f":"'Anlagenartenkatalog UZH'!$D$37","v":"Kühlgerät (mobil)"},{"$f":"Hilfstabelle!$O$7","v":"Hauptanlage"},"Text"]
[null,null,{"$f":"'Anlagenartenkatalog UZH'!$B$34","v":"Klimaanlagen"},{"$f":"'Anlagenartenkatalog UZH'!$D$37","v":"Kühlgerät (mobil)"},{"$f":"Hilfstabelle!$O$8","v":"Objekt"},"Text","SOC"]
[null,null,{"$f":"'Anlagenartenkatalog UZH'!$B$34","v":"Klimaanlagen"},{"$f":"'Anlagenartenkatalog UZH'!$D$37","v":"Kühlgerät (mobil)"},{"$f":"Hilfstabelle!$O$9","v":"Raumkennzeichen"},"Text","E-09"]
[null,null,{"$f":"'Anlagenartenkatalog UZH'!$B$34","v":"Klimaanlagen"},{"$f":"'Anlagenartenkatalog UZH'!$D$37","v":"Kühlgerät (mobil)"},{"$f":"Hilfstabelle!$O$10","v":"Hersteller / Marke"},"Text","Krüger + Co. AG"]
[null,null,{"$f":"'Anlagenartenkatalog UZH'!$B$34","v":"Klimaanlagen"},{"$f":"'Anlagenartenkatalog UZH'!$D$37","v":"Kühlgerät (mobil)"},{"$f":"Hilfstabelle!$O$11","v":"Modell / Artikel"},"Text","Argo Milo Plus"]
[null,null,{"$f":"'Anlagenartenkatalog UZH'!$B$34","v":"Klimaanlagen"},{"$f":"'Anlagenartenkatalog UZH'!$D$37","v":"Kühlgerät (mobil)"},{"$f":"Hilfstabelle!$O$12","v":"Seriennummer"},"Text","34564567"]
[null,null,{"$f":"'Anlagenartenkatalog UZH'!$B$34","v":"Klimaanlagen"},{"$f":"'Anlagenartenkatalog UZH'!$D$37","v":"Kühlgerät (mobil)"},{"$f":"Hilfstabelle!$O$13","v":"Servicefirma"},"Text","Krüger + Co. AG",{"$f":"Hilfstabelle!$P$10","v":"Gemäss Offerte in Submission"}]
[null,null,{"$f":"'Anlagenartenkatalog UZH'!$B$34","v":"Klimaanlagen"},{"$f":"'Anlagenartenkatalog UZH'!$D$37","v":"Kühlgerät (mobil)"},{"$f":"Hilfstabelle!$O$14","v":"Inbetriebnahmedatum"},"Text","06.06.2030"]
[null,null,{"$f":"'Anlagenartenkatalog UZH'!$B$34","v":"Klimaanlagen"},{"$f":"'Anlagenartenkatalog UZH'!$D$37","v":"Kühlgerät (mobil)"},{"$f":"Hilfstabelle!$O$15","v":"Garantieende"},"Text","06.06.2035"]
[null,null,{"$f":"'Anlagenartenkatalog UZH'!$B$34","v":"Klimaanlagen"},{"$f":"'Anlagenartenkatalog UZH'!$D$37","v":"Kühlgerät (mobil)"},{"$f":"Hilfstabelle!$O$16","v":"Erwartetes technisches Enddatum"},"Text","06.06.2045"]
[null,null,{"$f":"'Anlagenartenkatalog UZH'!$B$34","v":"Klimaanlagen"},{"$f":"'Anlagenartenkatalog UZH'!$D$37","v":"Kühlgerät (mobil)"},"Anmerkung: Kältemittel","Text","Kältemittel: R290"]
[null,null,{"$f":"'Anlagenartenkatalog UZH'!$B$34","v":"Klimaanlagen"},{"$f":"'Anlagenartenkatalog UZH'!$D$37","v":"Kühlgerät (mobil)"},"Anmerkung: Füllmenge Kältemittel [kg]","Text","Füllmenge Kältemittel: 0.3 kg"]
[null,null,{"$f":"'Anlagenartenkatalog UZH'!$B$34","v":"Klimaanlagen"},{"$f":"'Anlagenartenkatalog UZH'!$D$37","v":"Kühlgerät (mobil)"},"Anmerkung: Meldekarte (Vignette)","Text","Meldekarte (Vignette):  2006 703800 132711","Ggf. \"Keine Meldepflicht\" vermerken"]
[null,null,{"$f":"'Anlagenartenkatalog UZH'!$B$34","v":"Klimaanlagen"},{"$f":"'Anlagenartenkatalog UZH'!$D$37","v":"Kühlgerät (mobil)"},"Anmerkung: Kühlleistung in [kW]","Text","Kühlleistung: 3.5 kW"]
[null,null,{"$f":"'Anlagenartenkatalog UZH'!$B$34","v":"Klimaanlagen"},{"$f":"'Anlagenartenkatalog UZH'!$D$37","v":"Kühlgerät (mobil)"},{"$f":"Hilfstabelle!$O$17","v":"Anmerkung: Anzahl Wartungen pro Jahr"},"Text","Anzahl Wartungen pro Jahr: 1"]
[null,null,{"$f":"'Anlagenartenkatalog UZH'!$B$34","v":"Klimaanlagen"},{"$f":"'Anlagenartenkatalog UZH'!$D$36","v":"Klimaanlage mit integrierter Kältemaschine"},{"$f":"Hilfstabelle!$O$3","v":"Code (MSRL-Code)"},"Text","SOC-US11-L001-1-U8-F09"]
[null,null,{"$f":"'Anlagenartenkatalog UZH'!$B$34","v":"Klimaanlagen"},{"$f":"'Anlagenartenkatalog UZH'!$D$36","v":"Klimaanlage mit integrierter Kältemaschine"},{"$f":"Hilfstabelle!$O$4","v":"Bezeichnung"},"Text","Klimaanlage mit integrierter Kälteanlage",{"$f":"Hilfstabelle!$P$7","v":"Die Bezeichnung einer Anlage muss eindeutig sein, sofern mehrere Anlagen im gleichen Raum sind. "}]
[null,null,{"$f":"'Anlagenartenkatalog UZH'!$B$34","v":"Klimaanlagen"},{"$f":"'Anlagenartenkatalog UZH'!$D$36","v":"Klimaanlage mit integrierter Kältemaschine"},{"$f":"Hilfstabelle!$O$5","v":"Anlagentyp (Beschreibung)"},"Text",null,{"$f":"Hilfstabelle!$P$8","v":"Verbindlich gemäss Anlagenartenkatalog"}]
[null,null,{"$f":"'Anlagenartenkatalog UZH'!$B$34","v":"Klimaanlagen"},{"$f":"'Anlagenartenkatalog UZH'!$D$36","v":"Klimaanlage mit integrierter Kältemaschine"},{"$f":"Hilfstabelle!$O$6","v":"Artikelgruppe"},"Text",{"$f":"'Anlagenartenkatalog UZH'!$A$34","v":"02.02.02"}]
[null,null,{"$f":"'Anlagenartenkatalog UZH'!$B$34","v":"Klimaanlagen"},{"$f":"'Anlagenartenkatalog UZH'!$D$36","v":"Klimaanlage mit integrierter Kältemaschine"},{"$f":"Hilfstabelle!$O$7","v":"Hauptanlage"},"Text"]
[null,null,{"$f":"'Anlagenartenkatalog UZH'!$B$34","v":"Klimaanlagen"},{"$f":"'Anlagenartenkatalog UZH'!$D$36","v":"Klimaanlage mit integrierter Kältemaschine"},{"$f":"Hilfstabelle!$O$8","v":"Objekt"},"Text","SOC"]
[null,null,{"$f":"'Anlagenartenkatalog UZH'!$B$34","v":"Klimaanlagen"},{"$f":"'Anlagenartenkatalog UZH'!$D$36","v":"Klimaanlage mit integrierter Kältemaschine"},{"$f":"Hilfstabelle!$O$9","v":"Raumkennzeichen"},"Text","F-01"]
[null,null,{"$f":"'Anlagenartenkatalog UZH'!$B$34","v":"Klimaanlagen"},{"$f":"'Anlagenartenkatalog UZH'!$D$36","v":"Klimaanlage mit integrierter Kältemaschine"},{"$f":"Hilfstabelle!$O$10","v":"Hersteller / Marke"},"Text","Dantherm Group AG"]
[null,null,{"$f":"'Anlagenartenkatalog UZH'!$B$34","v":"Klimaanlagen"},{"$f":"'Anlagenartenkatalog UZH'!$D$36","v":"Klimaanlage mit integrierter Kältemaschine"},{"$f":"Hilfstabelle!$O$11","v":"Modell / Artikel"},"Text","Fensterklimagerät AIRWELL WFD012-C11 R32"]
[null,null,{"$f":"'Anlagenartenkatalog UZH'!$B$34","v":"Klimaanlagen"},{"$f":"'Anlagenartenkatalog UZH'!$D$36","v":"Klimaanlage mit integrierter Kältemaschine"},{"$f":"Hilfstabelle!$O$12","v":"Seriennummer"},"Text","255624356"]
[null,null,{"$f":"'Anlagenartenkatalog UZH'!$B$34","v":"Klimaanlagen"},{"$f":"'Anlagenartenkatalog UZH'!$D$36","v":"Klimaanlage mit integrierter Kältemaschine"},{"$f":"Hilfstabelle!$O$13","v":"Servicefirma"},"Text","Dantherm Group AG",{"$f":"Hilfstabelle!$P$10","v":"Gemäss Offerte in Submission"}]
[null,null,{"$f":"'Anlagenartenkatalog UZH'!$B$34","v":"Klimaanlagen"},{"$f":"'Anlagenartenkatalog UZH'!$D$36","v":"Klimaanlage mit integrierter Kältemaschine"},{"$f":"Hilfstabelle!$O$14","v":"Inbetriebnahmedatum"},"Text","06.06.2030"]
[null,null,{"$f":"'Anlagenartenkatalog UZH'!$B$34","v":"Klimaanlagen"},{"$f":"'Anlagenartenkatalog UZH'!$D$36","v":"Klimaanlage mit integrierter Kältemaschine"},{"$f":"Hilfstabelle!$O$15","v":"Garantieende"},"Text","06.06.2035"]
[null,null,{"$f":"'Anlagenartenkatalog UZH'!$B$34","v":"Klimaanlagen"},{"$f":"'Anlagenartenkatalog UZH'!$D$36","v":"Klimaanlage mit integrierter Kältemaschine"},{"$f":"Hilfstabelle!$O$16","v":"Erwartetes technisches Enddatum"},"Text","06.06.2045"]
[null,null,{"$f":"'Anlagenartenkatalog UZH'!$B$34","v":"Klimaanlagen"},{"$f":"'Anlagenartenkatalog UZH'!$D$36","v":"Klimaanlage mit integrierter Kältemaschine"},"Anmerkung: Kältemittel","Text","Kältemittel: R32"]
[null,null,{"$f":"'Anlagenartenkatalog UZH'!$B$34","v":"Klimaanlagen"},{"$f":"'Anlagenartenkatalog UZH'!$D$36","v":"Klimaanlage mit integrierter Kältemaschine"},"Anmerkung: Füllmenge Kältemittel [kg]","Text","Füllmenge Kältemittel: 0.63 kg"]
[null,null,{"$f":"'Anlagenartenkatalog UZH'!$B$34","v":"Klimaanlagen"},{"$f":"'Anlagenartenkatalog UZH'!$D$36","v":"Klimaanlage mit integrierter Kältemaschine"},"Anmerkung: Meldekarte (Vignette)","Text","Meldekarte (Vignette):  2006 703800 132711","Ggf. \"Keine Meldepflicht\" vermerken"]
[null,null,{"$f":"'Anlagenartenkatalog UZH'!$B$34","v":"Klimaanlagen"},{"$f":"'Anlagenartenkatalog UZH'!$D$36","v":"Klimaanlage mit integrierter Kältemaschine"},"Anmerkung: Kühlleistung in [kW]","Text","Kühlleistung: 3.70 kW"]
[null,null,{"$f":"'Anlagenartenkatalog UZH'!$B$34","v":"Klimaanlagen"},{"$f":"'Anlagenartenkatalog UZH'!$D$36","v":"Klimaanlage mit integrierter Kältemaschine"},{"$f":"Hilfstabelle!$O$17","v":"Anmerkung: Anzahl Wartungen pro Jahr"},"Text","Anzahl Wartungen pro Jahr: 1"]
[null,null,{"$f":"'Anlagenartenkatalog UZH'!$B$34","v":"Klimaanlagen"},{"$f":"'Anlagenartenkatalog UZH'!$D$35","v":"Umluftkühlgerät (ULK)"},{"$f":"Hilfstabelle!$O$3","v":"Code (MSRL-Code)"},"Text","SOC-US11-L001-1-U8-F09","Vollständiger MSRL-Code für die Zuordnung benötigt"]
[null,null,{"$f":"'Anlagenartenkatalog UZH'!$B$34","v":"Klimaanlagen"},{"$f":"'Anlagenartenkatalog UZH'!$D$35","v":"Umluftkühlgerät (ULK)"},{"$f":"Hilfstabelle!$O$4","v":"Bezeichnung"},"Text","Umluftkühlgerät (ULK)  Nr. 2",{"$f":"Hilfstabelle!$P$7","v":"Die Bezeichnung einer Anlage muss eindeutig sein, sofern mehrere Anlagen im gleichen Raum sind. "}]
[null,null,{"$f":"'Anlagenartenkatalog UZH'!$B$34","v":"Klimaanlagen"},{"$f":"'Anlagenartenkatalog UZH'!$D$35","v":"Umluftkühlgerät (ULK)"},{"$f":"Hilfstabelle!$O$5","v":"Anlagentyp (Beschreibung)"},"Text",null,{"$f":"Hilfstabelle!$P$8","v":"Verbindlich gemäss Anlagenartenkatalog"}]
[null,null,{"$f":"'Anlagenartenkatalog UZH'!$B$34","v":"Klimaanlagen"},{"$f":"'Anlagenartenkatalog UZH'!$D$35","v":"Umluftkühlgerät (ULK)"},{"$f":"Hilfstabelle!$O$6","v":"Artikelgruppe"},"Text",{"$f":"'Anlagenartenkatalog UZH'!$A$34","v":"02.02.02"}]
[null,null,{"$f":"'Anlagenartenkatalog UZH'!$B$34","v":"Klimaanlagen"},{"$f":"'Anlagenartenkatalog UZH'!$D$35","v":"Umluftkühlgerät (ULK)"},{"$f":"Hilfstabelle!$O$7","v":"Hauptanlage"},"Text"]
[null,null,{"$f":"'Anlagenartenkatalog UZH'!$B$34","v":"Klimaanlagen"},{"$f":"'Anlagenartenkatalog UZH'!$D$35","v":"Umluftkühlgerät (ULK)"},{"$f":"Hilfstabelle!$O$8","v":"Objekt"},"Text","SOC"]
[null,null,{"$f":"'Anlagenartenkatalog UZH'!$B$34","v":"Klimaanlagen"},{"$f":"'Anlagenartenkatalog UZH'!$D$35","v":"Umluftkühlgerät (ULK)"},{"$f":"Hilfstabelle!$O$9","v":"Raumkennzeichen"},"Text","F-02"]
[null,null,{"$f":"'Anlagenartenkatalog UZH'!$B$34","v":"Klimaanlagen"},{"$f":"'Anlagenartenkatalog UZH'!$D$35","v":"Umluftkühlgerät (ULK)"},{"$f":"Hilfstabelle!$O$10","v":"Hersteller / Marke"},"Text","CTA AG"]
[null,null,{"$f":"'Anlagenartenkatalog UZH'!$B$34","v":"Klimaanlagen"},{"$f":"'Anlagenartenkatalog UZH'!$D$35","v":"Umluftkühlgerät (ULK)"},{"$f":"Hilfstabelle!$O$11","v":"Modell / Artikel"},"Text","TL-ECM-MB 7.2T / 128840"]
[null,null,{"$f":"'Anlagenartenkatalog UZH'!$B$34","v":"Klimaanlagen"},{"$f":"'Anlagenartenkatalog UZH'!$D$35","v":"Umluftkühlgerät (ULK)"},{"$f":"Hilfstabelle!$O$12","v":"Seriennummer"},"Text","34254567"]
[null,null,{"$f":"'Anlagenartenkatalog UZH'!$B$34","v":"Klimaanlagen"},{"$f":"'Anlagenartenkatalog UZH'!$D$35","v":"Umluftkühlgerät (ULK)"},{"$f":"Hilfstabelle!$O$13","v":"Servicefirma"},"Text","CTA AG",{"$f":"Hilfstabelle!$P$10","v":"Gemäss Offerte in Submission"}]
[null,null,{"$f":"'Anlagenartenkatalog UZH'!$B$34","v":"Klimaanlagen"},{"$f":"'Anlagenartenkatalog UZH'!$D$35","v":"Umluftkühlgerät (ULK)"},{"$f":"Hilfstabelle!$O$14","v":"Inbetriebnahmedatum"},"Text","06.06.2030"]
[null,null,{"$f":"'Anlagenartenkatalog UZH'!$B$34","v":"Klimaanlagen"},{"$f":"'Anlagenartenkatalog UZH'!$D$35","v":"Umluftkühlgerät (ULK)"},{"$f":"Hilfstabelle!$O$15","v":"Garantieende"},"Text","06.06.2035"]
[null,null,{"$f":"'Anlagenartenkatalog UZH'!$B$34","v":"Klimaanlagen"},{"$f":"'Anlagenartenkatalog UZH'!$D$35","v":"Umluftkühlgerät (ULK)"},{"$f":"Hilfstabelle!$O$16","v":"Erwartetes technisches Enddatum"},"Text","06.06.2045"]
[null,null,{"$f":"'Anlagenartenkatalog UZH'!$B$34","v":"Klimaanlagen"},{"$f":"'Anlagenartenkatalog UZH'!$D$35","v":"Umluftkühlgerät (ULK)"},"Anmerkung: Kühlleistung in [kW]","Text","Kühlleistung: 12.59 kW"]
[null,null,{"$f":"'Anlagenartenkatalog UZH'!$B$34","v":"Klimaanlagen"},{"$f":"'Anlagenartenkatalog UZH'!$D$35","v":"Umluftkühlgerät (ULK)"},"Anmerkung: Maximaler Betriebsdruck [bar]","Text","Maximaler Betriebsdruck: 8 bar"]
[null,null,{"$f":"'Anlagenartenkatalog UZH'!$B$34","v":"Klimaanlagen"},{"$f":"'Anlagenartenkatalog UZH'!$D$35","v":"Umluftkühlgerät (ULK)"},{"$f":"Hilfstabelle!$O$17","v":"Anmerkung: Anzahl Wartungen pro Jahr"},"Text","Anzahl Wartungen pro Jahr: 1"]
[null,null,{"$f":"'Anlagenartenkatalog UZH'!$B$34","v":"Klimaanlagen"},{"$f":"'Anlagenartenkatalog UZH'!$D$34","v":"Split-Klimaanlage"},{"$f":"Hilfstabelle!$O$3","v":"Code (MSRL-Code)"},"Text","SOC-US11-L001"]
[null,null,{"$f":"'Anlagenartenkatalog UZH'!$B$34","v":"Klimaanlagen"},{"$f":"'Anlagenartenkatalog UZH'!$D$34","v":"Split-Klimaanlage"},{"$f":"Hilfstabelle!$O$4","v":"Bezeichnung"},"Text","Split-Klimaanlage",{"$f":"Hilfstabelle!$P$7","v":"Die Bezeichnung einer Anlage muss eindeutig sein, sofern mehrere Anlagen im gleichen Raum sind. "}]
[null,null,{"$f":"'Anlagenartenkatalog UZH'!$B$34","v":"Klimaanlagen"},{"$f":"'Anlagenartenkatalog UZH'!$D$34","v":"Split-Klimaanlage"},{"$f":"Hilfstabelle!$O$5","v":"Anlagentyp (Beschreibung)"},"Text",null,{"$f":"Hilfstabelle!$P$8","v":"Verbindlich gemäss Anlagenartenkatalog"}]
[null,null,{"$f":"'Anlagenartenkatalog UZH'!$B$34","v":"Klimaanlagen"},{"$f":"'Anlagenartenkatalog UZH'!$D$34","v":"Split-Klimaanlage"},{"$f":"Hilfstabelle!$O$6","v":"Artikelgruppe"},"Text",{"$f":"'Anlagenartenkatalog UZH'!$A$34","v":"02.02.02"}]
[null,null,{"$f":"'Anlagenartenkatalog UZH'!$B$34","v":"Klimaanlagen"},{"$f":"'Anlagenartenkatalog UZH'!$D$34","v":"Split-Klimaanlage"},{"$f":"Hilfstabelle!$O$7","v":"Hauptanlage"},"Text"]
[null,null,{"$f":"'Anlagenartenkatalog UZH'!$B$34","v":"Klimaanlagen"},{"$f":"'Anlagenartenkatalog UZH'!$D$34","v":"Split-Klimaanlage"},{"$f":"Hilfstabelle!$O$8","v":"Objekt"},"Text","SOC"]
[null,null,{"$f":"'Anlagenartenkatalog UZH'!$B$34","v":"Klimaanlagen"},{"$f":"'Anlagenartenkatalog UZH'!$D$34","v":"Split-Klimaanlage"},{"$f":"Hilfstabelle!$O$9","v":"Raumkennzeichen"},"Text","E-03"]
[null,null,{"$f":"'Anlagenartenkatalog UZH'!$B$34","v":"Klimaanlagen"},{"$f":"'Anlagenartenkatalog UZH'!$D$34","v":"Split-Klimaanlage"},{"$f":"Hilfstabelle!$O$10","v":"Hersteller / Marke"},"Text","Bosch Thermotechnik GmbH"]
[null,null,{"$f":"'Anlagenartenkatalog UZH'!$B$34","v":"Klimaanlagen"},{"$f":"'Anlagenartenkatalog UZH'!$D$34","v":"Split-Klimaanlage"},{"$f":"Hilfstabelle!$O$11","v":"Modell / Artikel"},"Text","Climate 3000i"]
[null,null,{"$f":"'Anlagenartenkatalog UZH'!$B$34","v":"Klimaanlagen"},{"$f":"'Anlagenartenkatalog UZH'!$D$34","v":"Split-Klimaanlage"},{"$f":"Hilfstabelle!$O$12","v":"Seriennummer"},"Text","2345264"]
[null,null,{"$f":"'Anlagenartenkatalog UZH'!$B$34","v":"Klimaanlagen"},{"$f":"'Anlagenartenkatalog UZH'!$D$34","v":"Split-Klimaanlage"},{"$f":"Hilfstabelle!$O$13","v":"Servicefirma"},"Text","Bosch Thermotechnik GmbH",{"$f":"Hilfstabelle!$P$10","v":"Gemäss Offerte in Submission"}]
[null,null,{"$f":"'Anlagenartenkatalog UZH'!$B$34","v":"Klimaanlagen"},{"$f":"'Anlagenartenkatalog UZH'!$D$34","v":"Split-Klimaanlage"},{"$f":"Hilfstabelle!$O$14","v":"Inbetriebnahmedatum"},"Text","06.06.2030"]
[null,null,{"$f":"'Anlagenartenkatalog UZH'!$B$34","v":"Klimaanlagen"},{"$f":"'Anlagenartenkatalog UZH'!$D$34","v":"Split-Klimaanlage"},{"$f":"Hilfstabelle!$O$15","v":"Garantieende"},"Text","06.06.2035"]
[null,null,{"$f":"'Anlagenartenkatalog UZH'!$B$34","v":"Klimaanlagen"},{"$f":"'Anlagenartenkatalog UZH'!$D$34","v":"Split-Klimaanlage"},{"$f":"Hilfstabelle!$O$16","v":"Erwartetes technisches Enddatum"},"Text","06.06.2045"]
[null,null,{"$f":"'Anlagenartenkatalog UZH'!$B$34","v":"Klimaanlagen"},{"$f":"'Anlagenartenkatalog UZH'!$D$34","v":"Split-Klimaanlage"},"Anmerkung: Kältemittel","Text","Kältemittel: R32"]
[null,null,{"$f":"'Anlagenartenkatalog UZH'!$B$34","v":"Klimaanlagen"},{"$f":"'Anlagenartenkatalog UZH'!$D$34","v":"Split-Klimaanlage"},"Anmerkung: Füllmenge Kältemittel [kg]","Text","Füllmenge Kältemittel: 0.6 kg"]
[null,null,{"$f":"'Anlagenartenkatalog UZH'!$B$34","v":"Klimaanlagen"},{"$f":"'Anlagenartenkatalog UZH'!$D$34","v":"Split-Klimaanlage"},"Anmerkung: Meldekarte (Vignette)","Text","Meldekarte (Vignette):  2006 703800 132711","Ggf. \"Keine Meldepflicht\" vermerken"]
[null,null,{"$f":"'Anlagenartenkatalog UZH'!$B$34","v":"Klimaanlagen"},{"$f":"'Anlagenartenkatalog UZH'!$D$34","v":"Split-Klimaanlage"},"Anmerkung: Kühlleistung in [kW]","Text","Kühlleistung: 2.6 kW"]
[null,null,{"$f":"'Anlagenartenkatalog UZH'!$B$34","v":"Klimaanlagen"},{"$f":"'Anlagenartenkatalog UZH'!$D$34","v":"Split-Klimaanlage"},{"$f":"Hilfstabelle!$O$17","v":"Anmerkung: Anzahl Wartungen pro Jahr"},"Text","Anzahl Wartungen pro Jahr: 1"]
[null,null,{"$f":"'Anlagenartenkatalog UZH'!$B$116","v":"Kraneinrichtungen"},{"$f":"'Anlagenartenkatalog UZH'!$D$117","v":"Krahnbahnanlage"},{"$f":"Hilfstabelle!$O$3","v":"Code (MSRL-Code)"},"Text","KO2-§1654199298"]
[null,null,{"$f":"'Anlagenartenkatalog UZH'!$B$116","v":"Kraneinrichtungen"},{"$f":"'Anlagenartenkatalog UZH'!$D$117","v":"Krahnbahnanlage"},{"$f":"Hilfstabelle!$O$4","v":"Bezeichnung"},"Text","Krahnbahnanlage Nr. 2596-1",{"$f":"Hilfstabelle!$P$7","v":"Die Bezeichnung einer Anlage muss eindeutig sein, sofern mehrere Anlagen im gleichen Raum sind. "}]
[null,null,{"$f":"'Anlagenartenkatalog UZH'!$B$116","v":"Kraneinrichtungen"},{"$f":"'Anlagenartenkatalog UZH'!$D$117","v":"Krahnbahnanlage"},{"$f":"Hilfstabelle!$O$5","v":"Anlagentyp (Beschreibung)"},"Text",null,{"$f":"Hilfstabelle!$P$8","v":"Verbindlich gemäss Anlagenartenkatalog"}]
[null,null,{"$f":"'Anlagenartenkatalog UZH'!$B$116","v":"Kraneinrichtungen"},{"$f":"'Anlagenartenkatalog UZH'!$D$117","v":"Krahnbahnanlage"},{"$f":"Hilfstabelle!$O$6","v":"Artikelgruppe"},"Text",{"$f":"'Anlagenartenkatalog UZH'!$A$116","v":"02.09.04"}]
[null,null,{"$f":"'Anlagenartenkatalog UZH'!$B$116","v":"Kraneinrichtungen"},{"$f":"'Anlagenartenkatalog UZH'!$D$117","v":"Krahnbahnanlage"},{"$f":"Hilfstabelle!$O$7","v":"Hauptanlage"},"Text","Hauptanlage"]
[null,null,{"$f":"'Anlagenartenkatalog UZH'!$B$116","v":"Kraneinrichtungen"},{"$f":"'Anlagenartenkatalog UZH'!$D$117","v":"Krahnbahnanlage"},{"$f":"Hilfstabelle!$O$8","v":"Objekt"},"Text","KO2 "]
[null,null,{"$f":"'Anlagenartenkatalog UZH'!$B$116","v":"Kraneinrichtungen"},{"$f":"'Anlagenartenkatalog UZH'!$D$117","v":"Krahnbahnanlage"},{"$f":"Hilfstabelle!$O$9","v":"Raumkennzeichen"},"Text","-"]
[null,null,{"$f":"'Anlagenartenkatalog UZH'!$B$116","v":"Kraneinrichtungen"},{"$f":"'Anlagenartenkatalog UZH'!$D$117","v":"Krahnbahnanlage"},{"$f":"Hilfstabelle!$O$10","v":"Hersteller / Marke"},"Text","GIS AG"]
[null,null,{"$f":"'Anlagenartenkatalog UZH'!$B$116","v":"Kraneinrichtungen"},{"$f":"'Anlagenartenkatalog UZH'!$D$117","v":"Krahnbahnanlage"},{"$f":"Hilfstabelle!$O$11","v":"Modell / Artikel"},"Text","Einträger-Laufkran"]
[null,null,{"$f":"'Anlagenartenkatalog UZH'!$B$116","v":"Kraneinrichtungen"},{"$f":"'Anlagenartenkatalog UZH'!$D$117","v":"Krahnbahnanlage"},{"$f":"Hilfstabelle!$O$12","v":"Seriennummer"},"Text","2596-1"]
[null,null,{"$f":"'Anlagenartenkatalog UZH'!$B$116","v":"Kraneinrichtungen"},{"$f":"'Anlagenartenkatalog UZH'!$D$117","v":"Krahnbahnanlage"},{"$f":"Hilfstabelle!$O$13","v":"Servicefirma"},"Text","GIS AG",{"$f":"Hilfstabelle!$P$10","v":"Gemäss Offerte in Submission"}]
[null,null,{"$f":"'Anlagenartenkatalog UZH'!$B$116","v":"Kraneinrichtungen"},{"$f":"'Anlagenartenkatalog UZH'!$D$117","v":"Krahnbahnanlage"},{"$f":"Hilfstabelle!$O$14","v":"Inbetriebnahmedatum"},"Text","06.06.2030"]
[null,null,{"$f":"'Anlagenartenkatalog UZH'!$B$116","v":"Kraneinrichtungen"},{"$f":"'Anlagenartenkatalog UZH'!$D$117","v":"Krahnbahnanlage"},{"$f":"Hilfstabelle!$O$15","v":"Garantieende"},"Text","06.06.2035"]
[null,null,{"$f":"'Anlagenartenkatalog UZH'!$B$116","v":"Kraneinrichtungen"},{"$f":"'Anlagenartenkatalog UZH'!$D$117","v":"Krahnbahnanlage"},{"$f":"Hilfstabelle!$O$16","v":"Erwartetes technisches Enddatum"},"Text","06.06.2045"]
[null,null,{"$f":"'Anlagenartenkatalog UZH'!$B$116","v":"Kraneinrichtungen"},{"$f":"'Anlagenartenkatalog UZH'!$D$117","v":"Krahnbahnanlage"},"Anmerkung: Maximallast [kg]","Text","Maximallast: 1'000 kg"]
[null,null,{"$f":"'Anlagenartenkatalog UZH'!$B$116","v":"Kraneinrichtungen"},{"$f":"'Anlagenartenkatalog UZH'!$D$117","v":"Krahnbahnanlage"},{"$f":"Hilfstabelle!$O$17","v":"Anmerkung: Anzahl Wartungen pro Jahr"},"Text","Anzahl Wartungen pro Jahr: 1"]
[null,null,{"$f":"'Anlagenartenkatalog UZH'!$B$116","v":"Kraneinrichtungen"},{"$f":"'Anlagenartenkatalog UZH'!$D$116","v":"Fassadenbefahranlage"},{"$f":"Hilfstabelle!$O$3","v":"Code (MSRL-Code)"},"Text","KO2-§1654199298"]
[null,null,{"$f":"'Anlagenartenkatalog UZH'!$B$116","v":"Kraneinrichtungen"},{"$f":"'Anlagenartenkatalog UZH'!$D$116","v":"Fassadenbefahranlage"},{"$f":"Hilfstabelle!$O$4","v":"Bezeichnung"},"Text","Fassadenbefahranlage Nr. 2596-1",{"$f":"Hilfstabelle!$P$7","v":"Die Bezeichnung einer Anlage muss eindeutig sein, sofern mehrere Anlagen im gleichen Raum sind. "}]
[null,null,{"$f":"'Anlagenartenkatalog UZH'!$B$116","v":"Kraneinrichtungen"},{"$f":"'Anlagenartenkatalog UZH'!$D$116","v":"Fassadenbefahranlage"},{"$f":"Hilfstabelle!$O$5","v":"Anlagentyp (Beschreibung)"},"Text",null,{"$f":"Hilfstabelle!$P$8","v":"Verbindlich gemäss Anlagenartenkatalog"}]
[null,null,{"$f":"'Anlagenartenkatalog UZH'!$B$116","v":"Kraneinrichtungen"},{"$f":"'Anlagenartenkatalog UZH'!$D$116","v":"Fassadenbefahranlage"},{"$f":"Hilfstabelle!$O$6","v":"Artikelgruppe"},"Text",{"$f":"'Anlagenartenkatalog UZH'!$A$116","v":"02.09.04"}]
[null,null,{"$f":"'Anlagenartenkatalog UZH'!$B$116","v":"Kraneinrichtungen"},{"$f":"'Anlagenartenkatalog UZH'!$D$116","v":"Fassadenbefahranlage"},{"$f":"Hilfstabelle!$O$7","v":"Hauptanlage"},"Text","Hauptanlage"]
[null,null,{"$f":"'Anlagenartenkatalog UZH'!$B$116","v":"Kraneinrichtungen"},{"$f":"'Anlagenartenkatalog UZH'!$D$116","v":"Fassadenbefahranlage"},{"$f":"Hilfstabelle!$O$8","v":"Objekt"},"Text","KO2 "]
[null,null,{"$f":"'Anlagenartenkatalog UZH'!$B$116","v":"Kraneinrichtungen"},{"$f":"'Anlagenartenkatalog UZH'!$D$116","v":"Fassadenbefahranlage"},{"$f":"Hilfstabelle!$O$9","v":"Raumkennzeichen"},"Text","-"]
[null,null,{"$f":"'Anlagenartenkatalog UZH'!$B$116","v":"Kraneinrichtungen"},{"$f":"'Anlagenartenkatalog UZH'!$D$116","v":"Fassadenbefahranlage"},{"$f":"Hilfstabelle!$O$10","v":"Hersteller / Marke"},"Text","BMU Access GmbH"]
[null,null,{"$f":"'Anlagenartenkatalog UZH'!$B$116","v":"Kraneinrichtungen"},{"$f":"'Anlagenartenkatalog UZH'!$D$116","v":"Fassadenbefahranlage"},{"$f":"Hilfstabelle!$O$11","v":"Modell / Artikel"},"Text","PK-2S"]
[null,null,{"$f":"'Anlagenartenkatalog UZH'!$B$116","v":"Kraneinrichtungen"},{"$f":"'Anlagenartenkatalog UZH'!$D$116","v":"Fassadenbefahranlage"},{"$f":"Hilfstabelle!$O$12","v":"Seriennummer"},"Text","2596-1"]
[null,null,{"$f":"'Anlagenartenkatalog UZH'!$B$116","v":"Kraneinrichtungen"},{"$f":"'Anlagenartenkatalog UZH'!$D$116","v":"Fassadenbefahranlage"},{"$f":"Hilfstabelle!$O$13","v":"Servicefirma"},"Text","BMU Access GmbH",{"$f":"Hilfstabelle!$P$10","v":"Gemäss Offerte in Submission"}]
[null,null,{"$f":"'Anlagenartenkatalog UZH'!$B$116","v":"Kraneinrichtungen"},{"$f":"'Anlagenartenkatalog UZH'!$D$116","v":"Fassadenbefahranlage"},{"$f":"Hilfstabelle!$O$14","v":"Inbetriebnahmedatum"},"Text","06.06.2030"]
[null,null,{"$f":"'Anlagenartenkatalog UZH'!$B$116","v":"Kraneinrichtungen"},{"$f":"'Anlagenartenkatalog UZH'!$D$116","v":"Fassadenbefahranlage"},{"$f":"Hilfstabelle!$O$15","v":"Garantieende"},"Text","06.06.2035"]
[null,null,{"$f":"'Anlagenartenkatalog UZH'!$B$116","v":"Kraneinrichtungen"},{"$f":"'Anlagenartenkatalog UZH'!$D$116","v":"Fassadenbefahranlage"},{"$f":"Hilfstabelle!$O$16","v":"Erwartetes technisches Enddatum"},"Text","06.06.2045"]
[null,null,{"$f":"'Anlagenartenkatalog UZH'!$B$116","v":"Kraneinrichtungen"},{"$f":"'Anlagenartenkatalog UZH'!$D$116","v":"Fassadenbefahranlage"},"Anmerkung: Pikett-Tel.","Text","Pikett-Tel.: 044 515 65 95"]
[null,null,{"$f":"'Anlagenartenkatalog UZH'!$B$116","v":"Kraneinrichtungen"},{"$f":"'Anlagenartenkatalog UZH'!$D$116","v":"Fassadenbefahranlage"},"Anmerkung: Reinigungsbereich","Text","Reinigungsbereich: Gesamte Aussenhülle"]
[null,null,{"$f":"'Anlagenartenkatalog UZH'!$B$116","v":"Kraneinrichtungen"},{"$f":"'Anlagenartenkatalog UZH'!$D$116","v":"Fassadenbefahranlage"},"Anmerkung: Standort Maschinenraum","Text","Standort Maschinenraum: An Anlage auf Dach, im Süden parkiert"]
[null,null,{"$f":"'Anlagenartenkatalog UZH'!$B$116","v":"Kraneinrichtungen"},{"$f":"'Anlagenartenkatalog UZH'!$D$116","v":"Fassadenbefahranlage"},"Anmerkung: Lift ausser Betrieb nehmen bei Netzwerkunterbruch zur Sicherheit","Text","Lift ausser Betrieb nehmen bei Netzwerkunterbruch zur Sicherheit: Nein"]
[null,null,{"$f":"'Anlagenartenkatalog UZH'!$B$116","v":"Kraneinrichtungen"},{"$f":"'Anlagenartenkatalog UZH'!$D$116","v":"Fassadenbefahranlage"},{"$f":"Hilfstabelle!$O$17","v":"Anmerkung: Anzahl Wartungen pro Jahr"},"Text","Anzahl Wartungen pro Jahr: 1"]
[null,null,{"$f":"'Anlagenartenkatalog UZH'!$B$125","v":"Kücheneinrichtungen"},{"$f":"'Anlagenartenkatalog UZH'!$D$150","v":"Tiefkühlkorpus"},{"$f":"Hilfstabelle!$O$3","v":"Code (MSRL-Code)"},"Text","MEN-§1654899474"]
[null,null,{"$f":"'Anlagenartenkatalog UZH'!$B$125","v":"Kücheneinrichtungen"},{"$f":"'Anlagenartenkatalog UZH'!$D$150","v":"Tiefkühlkorpus"},{"$f":"Hilfstabelle!$O$4","v":"Bezeichnung"},"Text","Tiefkühlkorpus 1",{"$f":"Hilfstabelle!$P$7","v":"Die Bezeichnung einer Anlage muss eindeutig sein, sofern mehrere Anlagen im gleichen Raum sind. "}]
[null,null,{"$f":"'Anlagenartenkatalog UZH'!$B$125","v":"Kücheneinrichtungen"},{"$f":"'Anlagenartenkatalog UZH'!$D$150","v":"Tiefkühlkorpus"},{"$f":"Hilfstabelle!$O$5","v":"Anlagentyp (Beschreibung)"},"Text",null,{"$f":"Hilfstabelle!$P$8","v":"Verbindlich gemäss Anlagenartenkatalog"}]
[null,null,{"$f":"'Anlagenartenkatalog UZH'!$B$125","v":"Kücheneinrichtungen"},{"$f":"'Anlagenartenkatalog UZH'!$D$150","v":"Tiefkühlkorpus"},{"$f":"Hilfstabelle!$O$6","v":"Artikelgruppe"},"Text",{"$f":"'Anlagenartenkatalog UZH'!$A$125","v":"04.07"}]
[null,null,{"$f":"'Anlagenartenkatalog UZH'!$B$125","v":"Kücheneinrichtungen"},{"$f":"'Anlagenartenkatalog UZH'!$D$150","v":"Tiefkühlkorpus"},{"$f":"Hilfstabelle!$O$7","v":"Hauptanlage"},"Text","Ja"]
[null,null,{"$f":"'Anlagenartenkatalog UZH'!$B$125","v":"Kücheneinrichtungen"},{"$f":"'Anlagenartenkatalog UZH'!$D$150","v":"Tiefkühlkorpus"},{"$f":"Hilfstabelle!$O$8","v":"Objekt"},"Text","MEN "]
[null,null,{"$f":"'Anlagenartenkatalog UZH'!$B$125","v":"Kücheneinrichtungen"},{"$f":"'Anlagenartenkatalog UZH'!$D$150","v":"Tiefkühlkorpus"},{"$f":"Hilfstabelle!$O$9","v":"Raumkennzeichen"},"Text","A-18"]
[null,null,{"$f":"'Anlagenartenkatalog UZH'!$B$125","v":"Kücheneinrichtungen"},{"$f":"'Anlagenartenkatalog UZH'!$D$150","v":"Tiefkühlkorpus"},{"$f":"Hilfstabelle!$O$10","v":"Hersteller / Marke"},"Text","GKM AG"]
[null,null,{"$f":"'Anlagenartenkatalog UZH'!$B$125","v":"Kücheneinrichtungen"},{"$f":"'Anlagenartenkatalog UZH'!$D$150","v":"Tiefkühlkorpus"},{"$f":"Hilfstabelle!$O$11","v":"Modell / Artikel"},"Text","MKG-1414-BT-M"]
[null,null,{"$f":"'Anlagenartenkatalog UZH'!$B$125","v":"Kücheneinrichtungen"},{"$f":"'Anlagenartenkatalog UZH'!$D$150","v":"Tiefkühlkorpus"},{"$f":"Hilfstabelle!$O$12","v":"Seriennummer"},"Text","3683368"]
[null,null,{"$f":"'Anlagenartenkatalog UZH'!$B$125","v":"Kücheneinrichtungen"},{"$f":"'Anlagenartenkatalog UZH'!$D$150","v":"Tiefkühlkorpus"},{"$f":"Hilfstabelle!$O$13","v":"Servicefirma"},"Text","GKM AG",{"$f":"Hilfstabelle!$P$10","v":"Gemäss Offerte in Submission"}]
[null,null,{"$f":"'Anlagenartenkatalog UZH'!$B$125","v":"Kücheneinrichtungen"},{"$f":"'Anlagenartenkatalog UZH'!$D$150","v":"Tiefkühlkorpus"},{"$f":"Hilfstabelle!$O$14","v":"Inbetriebnahmedatum"},"Text","06.06.2030"]
[null,null,{"$f":"'Anlagenartenkatalog UZH'!$B$125","v":"Kücheneinrichtungen"},{"$f":"'Anlagenartenkatalog UZH'!$D$150","v":"Tiefkühlkorpus"},{"$f":"Hilfstabelle!$O$15","v":"Garantieende"},"Text","06.06.2035"]
[null,null,{"$f":"'Anlagenartenkatalog UZH'!$B$125","v":"Kücheneinrichtungen"},{"$f":"'Anlagenartenkatalog UZH'!$D$150","v":"Tiefkühlkorpus"},{"$f":"Hilfstabelle!$O$16","v":"Erwartetes technisches Enddatum"},"Text","06.06.2045"]
[null,null,{"$f":"'Anlagenartenkatalog UZH'!$B$125","v":"Kücheneinrichtungen"},{"$f":"'Anlagenartenkatalog UZH'!$D$150","v":"Tiefkühlkorpus"},"Anmerkung: Kältemittel","Text","Kältemittel: R290"]
[null,null,{"$f":"'Anlagenartenkatalog UZH'!$B$125","v":"Kücheneinrichtungen"},{"$f":"'Anlagenartenkatalog UZH'!$D$150","v":"Tiefkühlkorpus"},"Anmerkung: Füllmenge Kältemittel [kg]","Text","Füllmenge Kältemittel: 0.15kg"]
[null,null,{"$f":"'Anlagenartenkatalog UZH'!$B$125","v":"Kücheneinrichtungen"},{"$f":"'Anlagenartenkatalog UZH'!$D$150","v":"Tiefkühlkorpus"},"Anmerkung: Meldekarte (Vignette)","Text","Meldekarte (Vignette): Nein",{"$f":"Hilfstabelle!$P$12","v":"Nein oder 16-Stellige Zahl"}]
[null,null,{"$f":"'Anlagenartenkatalog UZH'!$B$125","v":"Kücheneinrichtungen"},{"$f":"'Anlagenartenkatalog UZH'!$D$150","v":"Tiefkühlkorpus"},"Anmerkung: Zuständigkeit","Text","Zuständigkeit: Gastro",{"$f":"Hilfstabelle!$P$11","v":"Bei mobilen Geräten (steckbar / mit eigenem Kompressor) ist die Gastronomie zuständig. Für festverbaute Anlagen / am Kältenetz ist die UZH zuständig."}]
[null,null,{"$f":"'Anlagenartenkatalog UZH'!$B$125","v":"Kücheneinrichtungen"},{"$f":"'Anlagenartenkatalog UZH'!$D$150","v":"Tiefkühlkorpus"},{"$f":"Hilfstabelle!$O$17","v":"Anmerkung: Anzahl Wartungen pro Jahr"},"Text","Anzahl Wartungen pro Jahr: 1"]
[null,null,{"$f":"'Anlagenartenkatalog UZH'!$B$125","v":"Kücheneinrichtungen"},{"$f":"'Anlagenartenkatalog UZH'!$D$125","v":"Fritteuse"},{"$f":"Hilfstabelle!$O$3","v":"Code (MSRL-Code)"},"Text","MEN-§1654899474"]
[null,null,{"$f":"'Anlagenartenkatalog UZH'!$B$125","v":"Kücheneinrichtungen"},{"$f":"'Anlagenartenkatalog UZH'!$D$125","v":"Fritteuse"},{"$f":"Hilfstabelle!$O$4","v":"Bezeichnung"},"Text","Fritteuse 1",{"$f":"Hilfstabelle!$P$7","v":"Die Bezeichnung einer Anlage muss eindeutig sein, sofern mehrere Anlagen im gleichen Raum sind. "}]
[null,null,{"$f":"'Anlagenartenkatalog UZH'!$B$125","v":"Kücheneinrichtungen"},{"$f":"'Anlagenartenkatalog UZH'!$D$125","v":"Fritteuse"},{"$f":"Hilfstabelle!$O$5","v":"Anlagentyp (Beschreibung)"},"Text",null,{"$f":"Hilfstabelle!$P$8","v":"Verbindlich gemäss Anlagenartenkatalog"}]
[null,null,{"$f":"'Anlagenartenkatalog UZH'!$B$125","v":"Kücheneinrichtungen"},{"$f":"'Anlagenartenkatalog UZH'!$D$125","v":"Fritteuse"},{"$f":"Hilfstabelle!$O$6","v":"Artikelgruppe"},"Text",{"$f":"'Anlagenartenkatalog UZH'!$A$125","v":"04.07"}]
[null,null,{"$f":"'Anlagenartenkatalog UZH'!$B$125","v":"Kücheneinrichtungen"},{"$f":"'Anlagenartenkatalog UZH'!$D$125","v":"Fritteuse"},{"$f":"Hilfstabelle!$O$7","v":"Hauptanlage"},"Text","Ja"]
[null,null,{"$f":"'Anlagenartenkatalog UZH'!$B$125","v":"Kücheneinrichtungen"},{"$f":"'Anlagenartenkatalog UZH'!$D$125","v":"Fritteuse"},{"$f":"Hilfstabelle!$O$8","v":"Objekt"},"Text","MEN"]
[null,null,{"$f":"'Anlagenartenkatalog UZH'!$B$125","v":"Kücheneinrichtungen"},{"$f":"'Anlagenartenkatalog UZH'!$D$125","v":"Fritteuse"},{"$f":"Hilfstabelle!$O$9","v":"Raumkennzeichen"},"Text","A-18"]
[null,null,{"$f":"'Anlagenartenkatalog UZH'!$B$125","v":"Kücheneinrichtungen"},{"$f":"'Anlagenartenkatalog UZH'!$D$125","v":"Fritteuse"},{"$f":"Hilfstabelle!$O$10","v":"Hersteller / Marke"},"Text","Roller Grill"]
[null,null,{"$f":"'Anlagenartenkatalog UZH'!$B$125","v":"Kücheneinrichtungen"},{"$f":"'Anlagenartenkatalog UZH'!$D$125","v":"Fritteuse"},{"$f":"Hilfstabelle!$O$11","v":"Modell / Artikel"},"Text","OFS 16"]
[null,null,{"$f":"'Anlagenartenkatalog UZH'!$B$125","v":"Kücheneinrichtungen"},{"$f":"'Anlagenartenkatalog UZH'!$D$125","v":"Fritteuse"},{"$f":"Hilfstabelle!$O$12","v":"Seriennummer"},"Text","DE37939005"]
[null,null,{"$f":"'Anlagenartenkatalog UZH'!$B$125","v":"Kücheneinrichtungen"},{"$f":"'Anlagenartenkatalog UZH'!$D$125","v":"Fritteuse"},{"$f":"Hilfstabelle!$O$13","v":"Servicefirma"},"Text","Meiko AG",{"$f":"Hilfstabelle!$P$10","v":"Gemäss Offerte in Submission"}]
[null,null,{"$f":"'Anlagenartenkatalog UZH'!$B$125","v":"Kücheneinrichtungen"},{"$f":"'Anlagenartenkatalog UZH'!$D$125","v":"Fritteuse"},{"$f":"Hilfstabelle!$O$14","v":"Inbetriebnahmedatum"},"Text","06.06.2030"]
[null,null,{"$f":"'Anlagenartenkatalog UZH'!$B$125","v":"Kücheneinrichtungen"},{"$f":"'Anlagenartenkatalog UZH'!$D$125","v":"Fritteuse"},{"$f":"Hilfstabelle!$O$15","v":"Garantieende"},"Text","06.06.2035"]
[null,null,{"$f":"'Anlagenartenkatalog UZH'!$B$125","v":"Kücheneinrichtungen"},{"$f":"'Anlagenartenkatalog UZH'!$D$125","v":"Fritteuse"},{"$f":"Hilfstabelle!$O$16","v":"Erwartetes technisches Enddatum"},"Text","06.06.2045"]
[null,null,"Kücheneinrichtungen","Fritteuse","Anmekrung: Elektrische Leistung [kW]","Zahl","Elektrische Leistung: 12.0 kW"]
[null,null,"Kücheneinrichtungen","Fritteuse","Anmerkung: Zuständigkeit","Text","Zuständigkeit: Gastro",{"$f":"Hilfstabelle!$P$11","v":"Bei mobilen Geräten (steckbar / mit eigenem Kompressor) ist die Gastronomie zuständig. Für festverbaute Anlagen / am Kältenetz ist die UZH zuständig."}]
[null,null,{"$f":"'Anlagenartenkatalog UZH'!$B$125","v":"Kücheneinrichtungen"},{"$f":"'Anlagenartenkatalog UZH'!$D$125","v":"Fritteuse"},{"$f":"Hilfstabelle!$O$17","v":"Anmerkung: Anzahl Wartungen pro Jahr"},"Text","Anzahl Wartungen pro Jahr: 1"]
[null,null,{"$f":"'Anlagenartenkatalog UZH'!$B$125","v":"Kücheneinrichtungen"},{"$f":"'Anlagenartenkatalog UZH'!$D$126","v":"Kippkochkessel"},{"$f":"Hilfstabelle!$O$3","v":"Code (MSRL-Code)"},"Text","MEN-§1654899474"]
[null,null,{"$f":"'Anlagenartenkatalog UZH'!$B$125","v":"Kücheneinrichtungen"},{"$f":"'Anlagenartenkatalog UZH'!$D$126","v":"Kippkochkessel"},{"$f":"Hilfstabelle!$O$4","v":"Bezeichnung"},"Text","Kippkochkessel 1",{"$f":"Hilfstabelle!$P$7","v":"Die Bezeichnung einer Anlage muss eindeutig sein, sofern mehrere Anlagen im gleichen Raum sind. "}]
[null,null,{"$f":"'Anlagenartenkatalog UZH'!$B$125","v":"Kücheneinrichtungen"},{"$f":"'Anlagenartenkatalog UZH'!$D$126","v":"Kippkochkessel"},{"$f":"Hilfstabelle!$O$5","v":"Anlagentyp (Beschreibung)"},"Text",null,{"$f":"Hilfstabelle!$P$8","v":"Verbindlich gemäss Anlagenartenkatalog"}]
[null,null,{"$f":"'Anlagenartenkatalog UZH'!$B$125","v":"Kücheneinrichtungen"},{"$f":"'Anlagenartenkatalog UZH'!$D$126","v":"Kippkochkessel"},{"$f":"Hilfstabelle!$O$6","v":"Artikelgruppe"},"Text",{"$f":"'Anlagenartenkatalog UZH'!$A$125","v":"04.07"}]
[null,null,{"$f":"'Anlagenartenkatalog UZH'!$B$125","v":"Kücheneinrichtungen"},{"$f":"'Anlagenartenkatalog UZH'!$D$126","v":"Kippkochkessel"},{"$f":"Hilfstabelle!$O$7","v":"Hauptanlage"},"Text","Ja"]
[null,null,{"$f":"'Anlagenartenkatalog UZH'!$B$125","v":"Kücheneinrichtungen"},{"$f":"'Anlagenartenkatalog UZH'!$D$126","v":"Kippkochkessel"},{"$f":"Hilfstabelle!$O$8","v":"Objekt"},"Text","MEN"]
[null,null,{"$f":"'Anlagenartenkatalog UZH'!$B$125","v":"Kücheneinrichtungen"},{"$f":"'Anlagenartenkatalog UZH'!$D$126","v":"Kippkochkessel"},{"$f":"Hilfstabelle!$O$9","v":"Raumkennzeichen"},"Text","A-18"]
[null,null,{"$f":"'Anlagenartenkatalog UZH'!$B$125","v":"Kücheneinrichtungen"},{"$f":"'Anlagenartenkatalog UZH'!$D$126","v":"Kippkochkessel"},{"$f":"Hilfstabelle!$O$10","v":"Hersteller / Marke"},"Text","Electrolux Professional AG"]
[null,null,{"$f":"'Anlagenartenkatalog UZH'!$B$125","v":"Kücheneinrichtungen"},{"$f":"'Anlagenartenkatalog UZH'!$D$126","v":"Kippkochkessel"},{"$f":"Hilfstabelle!$O$11","v":"Modell / Artikel"},"Text","COD 586017"]
[null,null,{"$f":"'Anlagenartenkatalog UZH'!$B$125","v":"Kücheneinrichtungen"},{"$f":"'Anlagenartenkatalog UZH'!$D$126","v":"Kippkochkessel"},{"$f":"Hilfstabelle!$O$12","v":"Seriennummer"},"Text","654257"]
[null,null,{"$f":"'Anlagenartenkatalog UZH'!$B$125","v":"Kücheneinrichtungen"},{"$f":"'Anlagenartenkatalog UZH'!$D$126","v":"Kippkochkessel"},{"$f":"Hilfstabelle!$O$13","v":"Servicefirma"},"Text","Electrolux Professional AG",{"$f":"Hilfstabelle!$P$10","v":"Gemäss Offerte in Submission"}]
[null,null,{"$f":"'Anlagenartenkatalog UZH'!$B$125","v":"Kücheneinrichtungen"},{"$f":"'Anlagenartenkatalog UZH'!$D$126","v":"Kippkochkessel"},{"$f":"Hilfstabelle!$O$14","v":"Inbetriebnahmedatum"},"Text","06.06.2030"]
[null,null,{"$f":"'Anlagenartenkatalog UZH'!$B$125","v":"Kücheneinrichtungen"},{"$f":"'Anlagenartenkatalog UZH'!$D$126","v":"Kippkochkessel"},{"$f":"Hilfstabelle!$O$15","v":"Garantieende"},"Text","06.06.2035"]
[null,null,{"$f":"'Anlagenartenkatalog UZH'!$B$125","v":"Kücheneinrichtungen"},{"$f":"'Anlagenartenkatalog UZH'!$D$126","v":"Kippkochkessel"},{"$f":"Hilfstabelle!$O$16","v":"Erwartetes technisches Enddatum"},"Text","06.06.2045"]
[null,null,{"$f":"'Anlagenartenkatalog UZH'!$B$125","v":"Kücheneinrichtungen"},{"$f":"'Anlagenartenkatalog UZH'!$D$126","v":"Kippkochkessel"},"Anmerkung: Zuständigkeit","Text","Zuständigkeit: UZH",{"$f":"Hilfstabelle!$P$11","v":"Bei mobilen Geräten (steckbar / mit eigenem Kompressor) ist die Gastronomie zuständig. Für festverbaute Anlagen / am Kältenetz ist die UZH zuständig."}]
[null,null,{"$f":"'Anlagenartenkatalog UZH'!$B$125","v":"Kücheneinrichtungen"},{"$f":"'Anlagenartenkatalog UZH'!$D$126","v":"Kippkochkessel"},{"$f":"Hilfstabelle!$O$17","v":"Anmerkung: Anzahl Wartungen pro Jahr"},"Text","Anzahl Wartungen pro Jahr: 1"]
[null,null,{"$f":"'Anlagenartenkatalog UZH'!$B$125","v":"Kücheneinrichtungen"},{"$f":"'Anlagenartenkatalog UZH'!$D$127","v":"Kippbratpfanne"},{"$f":"Hilfstabelle!$O$3","v":"Code (MSRL-Code)"},"Text","MEN-§1654899474"]
[null,null,{"$f":"'Anlagenartenkatalog UZH'!$B$125","v":"Kücheneinrichtungen"},{"$f":"'Anlagenartenkatalog UZH'!$D$127","v":"Kippbratpfanne"},{"$f":"Hilfstabelle!$O$4","v":"Bezeichnung"},"Text","Kippbratpfanne 2",{"$f":"Hilfstabelle!$P$7","v":"Die Bezeichnung einer Anlage muss eindeutig sein, sofern mehrere Anlagen im gleichen Raum sind. "}]
[null,null,{"$f":"'Anlagenartenkatalog UZH'!$B$125","v":"Kücheneinrichtungen"},{"$f":"'Anlagenartenkatalog UZH'!$D$127","v":"Kippbratpfanne"},{"$f":"Hilfstabelle!$O$5","v":"Anlagentyp (Beschreibung)"},"Text",null,{"$f":"Hilfstabelle!$P$8","v":"Verbindlich gemäss Anlagenartenkatalog"}]
[null,null,{"$f":"'Anlagenartenkatalog UZH'!$B$125","v":"Kücheneinrichtungen"},{"$f":"'Anlagenartenkatalog UZH'!$D$127","v":"Kippbratpfanne"},{"$f":"Hilfstabelle!$O$6","v":"Artikelgruppe"},"Text",{"$f":"'Anlagenartenkatalog UZH'!$A$125","v":"04.07"}]
[null,null,{"$f":"'Anlagenartenkatalog UZH'!$B$125","v":"Kücheneinrichtungen"},{"$f":"'Anlagenartenkatalog UZH'!$D$127","v":"Kippbratpfanne"},{"$f":"Hilfstabelle!$O$7","v":"Hauptanlage"},"Text","Ja"]
[null,null,{"$f":"'Anlagenartenkatalog UZH'!$B$125","v":"Kücheneinrichtungen"},{"$f":"'Anlagenartenkatalog UZH'!$D$127","v":"Kippbratpfanne"},{"$f":"Hilfstabelle!$O$8","v":"Objekt"},"Text","MEN"]
[null,null,{"$f":"'Anlagenartenkatalog UZH'!$B$125","v":"Kücheneinrichtungen"},{"$f":"'Anlagenartenkatalog UZH'!$D$127","v":"Kippbratpfanne"},{"$f":"Hilfstabelle!$O$9","v":"Raumkennzeichen"},"Text","A-18"]
[null,null,{"$f":"'Anlagenartenkatalog UZH'!$B$125","v":"Kücheneinrichtungen"},{"$f":"'Anlagenartenkatalog UZH'!$D$127","v":"Kippbratpfanne"},{"$f":"Hilfstabelle!$O$10","v":"Hersteller / Marke"},"Text","Electrolux Professional AG"]
[null,null,{"$f":"'Anlagenartenkatalog UZH'!$B$125","v":"Kücheneinrichtungen"},{"$f":"'Anlagenartenkatalog UZH'!$D$127","v":"Kippbratpfanne"},{"$f":"Hilfstabelle!$O$11","v":"Modell / Artikel"},"Text","COD 586285"]
[null,null,{"$f":"'Anlagenartenkatalog UZH'!$B$125","v":"Kücheneinrichtungen"},{"$f":"'Anlagenartenkatalog UZH'!$D$127","v":"Kippbratpfanne"},{"$f":"Hilfstabelle!$O$12","v":"Seriennummer"},"Text","9381885"]
[null,null,{"$f":"'Anlagenartenkatalog UZH'!$B$125","v":"Kücheneinrichtungen"},{"$f":"'Anlagenartenkatalog UZH'!$D$127","v":"Kippbratpfanne"},{"$f":"Hilfstabelle!$O$13","v":"Servicefirma"},"Text","Electrolux Professional AG",{"$f":"Hilfstabelle!$P$10","v":"Gemäss Offerte in Submission"}]
[null,null,{"$f":"'Anlagenartenkatalog UZH'!$B$125","v":"Kücheneinrichtungen"},{"$f":"'Anlagenartenkatalog UZH'!$D$127","v":"Kippbratpfanne"},{"$f":"Hilfstabelle!$O$14","v":"Inbetriebnahmedatum"},"Text","06.06.2030"]
[null,null,{"$f":"'Anlagenartenkatalog UZH'!$B$125","v":"Kücheneinrichtungen"},{"$f":"'Anlagenartenkatalog UZH'!$D$127","v":"Kippbratpfanne"},{"$f":"Hilfstabelle!$O$15","v":"Garantieende"},"Text","06.06.2035"]
[null,null,{"$f":"'Anlagenartenkatalog UZH'!$B$125","v":"Kücheneinrichtungen"},{"$f":"'Anlagenartenkatalog UZH'!$D$127","v":"Kippbratpfanne"},{"$f":"Hilfstabelle!$O$16","v":"Erwartetes technisches Enddatum"},"Text","06.06.2045"]
[null,null,{"$f":"'Anlagenartenkatalog UZH'!$B$125","v":"Kücheneinrichtungen"},{"$f":"'Anlagenartenkatalog UZH'!$D$127","v":"Kippbratpfanne"},"Anmerkung: Zuständigkeit","Text","Zuständigkeit: UZH",{"$f":"Hilfstabelle!$P$11","v":"Bei mobilen Geräten (steckbar / mit eigenem Kompressor) ist die Gastronomie zuständig. Für festverbaute Anlagen / am Kältenetz ist die UZH zuständig."}]
[null,null,{"$f":"'Anlagenartenkatalog UZH'!$B$125","v":"Kücheneinrichtungen"},{"$f":"'Anlagenartenkatalog UZH'!$D$127","v":"Kippbratpfanne"},{"$f":"Hilfstabelle!$O$17","v":"Anmerkung: Anzahl Wartungen pro Jahr"},"Text","Anzahl Wartungen pro Jahr: 1"]
[null,null,{"$f":"'Anlagenartenkatalog UZH'!$B$125","v":"Kücheneinrichtungen"},{"$f":"'Anlagenartenkatalog UZH'!$D$128","v":"Kombi-Steamer"},{"$f":"Hilfstabelle!$O$3","v":"Code (MSRL-Code)"},"Text","MEN-§1654899474"]
[null,null,{"$f":"'Anlagenartenkatalog UZH'!$B$125","v":"Kücheneinrichtungen"},{"$f":"'Anlagenartenkatalog UZH'!$D$128","v":"Kombi-Steamer"},{"$f":"Hilfstabelle!$O$4","v":"Bezeichnung"},"Text","Kombi-Steamer 3",{"$f":"Hilfstabelle!$P$7","v":"Die Bezeichnung einer Anlage muss eindeutig sein, sofern mehrere Anlagen im gleichen Raum sind. "}]
[null,null,{"$f":"'Anlagenartenkatalog UZH'!$B$125","v":"Kücheneinrichtungen"},{"$f":"'Anlagenartenkatalog UZH'!$D$128","v":"Kombi-Steamer"},{"$f":"Hilfstabelle!$O$5","v":"Anlagentyp (Beschreibung)"},"Text",null,{"$f":"Hilfstabelle!$P$8","v":"Verbindlich gemäss Anlagenartenkatalog"}]
[null,null,{"$f":"'Anlagenartenkatalog UZH'!$B$125","v":"Kücheneinrichtungen"},{"$f":"'Anlagenartenkatalog UZH'!$D$128","v":"Kombi-Steamer"},{"$f":"Hilfstabelle!$O$6","v":"Artikelgruppe"},"Text",{"$f":"'Anlagenartenkatalog UZH'!$A$125","v":"04.07"}]
[null,null,{"$f":"'Anlagenartenkatalog UZH'!$B$125","v":"Kücheneinrichtungen"},{"$f":"'Anlagenartenkatalog UZH'!$D$128","v":"Kombi-Steamer"},{"$f":"Hilfstabelle!$O$7","v":"Hauptanlage"},"Text","Ja"]
[null,null,{"$f":"'Anlagenartenkatalog UZH'!$B$125","v":"Kücheneinrichtungen"},{"$f":"'Anlagenartenkatalog UZH'!$D$128","v":"Kombi-Steamer"},{"$f":"Hilfstabelle!$O$8","v":"Objekt"},"Text","MEN"]
[null,null,{"$f":"'Anlagenartenkatalog UZH'!$B$125","v":"Kücheneinrichtungen"},{"$f":"'Anlagenartenkatalog UZH'!$D$128","v":"Kombi-Steamer"},{"$f":"Hilfstabelle!$O$9","v":"Raumkennzeichen"},"Text","A-18"]
[null,null,{"$f":"'Anlagenartenkatalog UZH'!$B$125","v":"Kücheneinrichtungen"},{"$f":"'Anlagenartenkatalog UZH'!$D$128","v":"Kombi-Steamer"},{"$f":"Hilfstabelle!$O$10","v":"Hersteller / Marke"},"Text","Hugentobler AG"]
[null,null,{"$f":"'Anlagenartenkatalog UZH'!$B$125","v":"Kücheneinrichtungen"},{"$f":"'Anlagenartenkatalog UZH'!$D$128","v":"Kombi-Steamer"},{"$f":"Hilfstabelle!$O$11","v":"Modell / Artikel"},"Text","Practico Vision Plus 1011"]
[null,null,{"$f":"'Anlagenartenkatalog UZH'!$B$125","v":"Kücheneinrichtungen"},{"$f":"'Anlagenartenkatalog UZH'!$D$128","v":"Kombi-Steamer"},{"$f":"Hilfstabelle!$O$12","v":"Seriennummer"},"Text","21693623"]
[null,null,{"$f":"'Anlagenartenkatalog UZH'!$B$125","v":"Kücheneinrichtungen"},{"$f":"'Anlagenartenkatalog UZH'!$D$128","v":"Kombi-Steamer"},{"$f":"Hilfstabelle!$O$13","v":"Servicefirma"},"Text","Hugentobler AG",{"$f":"Hilfstabelle!$P$10","v":"Gemäss Offerte in Submission"}]
[null,null,{"$f":"'Anlagenartenkatalog UZH'!$B$125","v":"Kücheneinrichtungen"},{"$f":"'Anlagenartenkatalog UZH'!$D$128","v":"Kombi-Steamer"},{"$f":"Hilfstabelle!$O$14","v":"Inbetriebnahmedatum"},"Text","06.06.2030"]
[null,null,{"$f":"'Anlagenartenkatalog UZH'!$B$125","v":"Kücheneinrichtungen"},{"$f":"'Anlagenartenkatalog UZH'!$D$128","v":"Kombi-Steamer"},{"$f":"Hilfstabelle!$O$15","v":"Garantieende"},"Text","06.06.2035"]
[null,null,{"$f":"'Anlagenartenkatalog UZH'!$B$125","v":"Kücheneinrichtungen"},{"$f":"'Anlagenartenkatalog UZH'!$D$128","v":"Kombi-Steamer"},{"$f":"Hilfstabelle!$O$16","v":"Erwartetes technisches Enddatum"},"Text","06.06.2045"]
[null,null,{"$f":"'Anlagenartenkatalog UZH'!$B$125","v":"Kücheneinrichtungen"},{"$f":"'Anlagenartenkatalog UZH'!$D$128","v":"Kombi-Steamer"},"Anmerkung: Zuständigkeit","Text","Zuständigkeit: UZH",{"$f":"Hilfstabelle!$P$11","v":"Bei mobilen Geräten (steckbar / mit eigenem Kompressor) ist die Gastronomie zuständig. Für festverbaute Anlagen / am Kältenetz ist die UZH zuständig."}]
[null,null,{"$f":"'Anlagenartenkatalog UZH'!$B$125","v":"Kücheneinrichtungen"},{"$f":"'Anlagenartenkatalog UZH'!$D$128","v":"Kombi-Steamer"},{"$f":"Hilfstabelle!$O$17","v":"Anmerkung: Anzahl Wartungen pro Jahr"},"Text","Anzahl Wartungen pro Jahr: 1"]
[null,null,{"$f":"'Anlagenartenkatalog UZH'!$B$125","v":"Kücheneinrichtungen"},{"$f":"'Anlagenartenkatalog UZH'!$D$129","v":"Induktionsherd"},{"$f":"Hilfstabelle!$O$3","v":"Code (MSRL-Code)"},"Text","MEN-§1654899474"]
[null,null,{"$f":"'Anlagenartenkatalog UZH'!$B$125","v":"Kücheneinrichtungen"},{"$f":"'Anlagenartenkatalog UZH'!$D$129","v":"Induktionsherd"},{"$f":"Hilfstabelle!$O$4","v":"Bezeichnung"},"Text","Induktionsherd 4",{"$f":"Hilfstabelle!$P$7","v":"Die Bezeichnung einer Anlage muss eindeutig sein, sofern mehrere Anlagen im gleichen Raum sind. "}]
[null,null,{"$f":"'Anlagenartenkatalog UZH'!$B$125","v":"Kücheneinrichtungen"},{"$f":"'Anlagenartenkatalog UZH'!$D$129","v":"Induktionsherd"},{"$f":"Hilfstabelle!$O$5","v":"Anlagentyp (Beschreibung)"},"Text",null,{"$f":"Hilfstabelle!$P$8","v":"Verbindlich gemäss Anlagenartenkatalog"}]
[null,null,{"$f":"'Anlagenartenkatalog UZH'!$B$125","v":"Kücheneinrichtungen"},{"$f":"'Anlagenartenkatalog UZH'!$D$129","v":"Induktionsherd"},{"$f":"Hilfstabelle!$O$6","v":"Artikelgruppe"},"Text",{"$f":"'Anlagenartenkatalog UZH'!$A$125","v":"04.07"}]
[null,null,{"$f":"'Anlagenartenkatalog UZH'!$B$125","v":"Kücheneinrichtungen"},{"$f":"'Anlagenartenkatalog UZH'!$D$129","v":"Induktionsherd"},{"$f":"Hilfstabelle!$O$7","v":"Hauptanlage"},"Text","Ja"]
[null,null,{"$f":"'Anlagenartenkatalog UZH'!$B$125","v":"Kücheneinrichtungen"},{"$f":"'Anlagenartenkatalog UZH'!$D$129","v":"Induktionsherd"},{"$f":"Hilfstabelle!$O$8","v":"Objekt"},"Text","MEN"]
[null,null,{"$f":"'Anlagenartenkatalog UZH'!$B$125","v":"Kücheneinrichtungen"},{"$f":"'Anlagenartenkatalog UZH'!$D$129","v":"Induktionsherd"},{"$f":"Hilfstabelle!$O$9","v":"Raumkennzeichen"},"Text","A-18"]
[null,null,{"$f":"'Anlagenartenkatalog UZH'!$B$125","v":"Kücheneinrichtungen"},{"$f":"'Anlagenartenkatalog UZH'!$D$129","v":"Induktionsherd"},{"$f":"Hilfstabelle!$O$10","v":"Hersteller / Marke"},"Text","GastroHeld AG"]
[null,null,{"$f":"'Anlagenartenkatalog UZH'!$B$125","v":"Kücheneinrichtungen"},{"$f":"'Anlagenartenkatalog UZH'!$D$129","v":"Induktionsherd"},{"$f":"Hilfstabelle!$O$11","v":"Modell / Artikel"},"Text","GastroHero Serie 77"]
[null,null,{"$f":"'Anlagenartenkatalog UZH'!$B$125","v":"Kücheneinrichtungen"},{"$f":"'Anlagenartenkatalog UZH'!$D$129","v":"Induktionsherd"},{"$f":"Hilfstabelle!$O$12","v":"Seriennummer"},"Text","51635168"]
[null,null,{"$f":"'Anlagenartenkatalog UZH'!$B$125","v":"Kücheneinrichtungen"},{"$f":"'Anlagenartenkatalog UZH'!$D$129","v":"Induktionsherd"},{"$f":"Hilfstabelle!$O$13","v":"Servicefirma"},"Text","GastroHeld AG",{"$f":"Hilfstabelle!$P$10","v":"Gemäss Offerte in Submission"}]
[null,null,{"$f":"'Anlagenartenkatalog UZH'!$B$125","v":"Kücheneinrichtungen"},{"$f":"'Anlagenartenkatalog UZH'!$D$129","v":"Induktionsherd"},{"$f":"Hilfstabelle!$O$14","v":"Inbetriebnahmedatum"},"Text","06.06.2030"]
[null,null,{"$f":"'Anlagenartenkatalog UZH'!$B$125","v":"Kücheneinrichtungen"},{"$f":"'Anlagenartenkatalog UZH'!$D$129","v":"Induktionsherd"},{"$f":"Hilfstabelle!$O$15","v":"Garantieende"},"Text","06.06.2035"]
[null,null,{"$f":"'Anlagenartenkatalog UZH'!$B$125","v":"Kücheneinrichtungen"},{"$f":"'Anlagenartenkatalog UZH'!$D$129","v":"Induktionsherd"},{"$f":"Hilfstabelle!$O$16","v":"Erwartetes technisches Enddatum"},"Text","06.06.2045"]
[null,null,{"$f":"'Anlagenartenkatalog UZH'!$B$125","v":"Kücheneinrichtungen"},{"$f":"'Anlagenartenkatalog UZH'!$D$129","v":"Induktionsherd"},"Anmerkung: Zuständigkeit","Text","Zuständigkeit: UZH",{"$f":"Hilfstabelle!$P$11","v":"Bei mobilen Geräten (steckbar / mit eigenem Kompressor) ist die Gastronomie zuständig. Für festverbaute Anlagen / am Kältenetz ist die UZH zuständig."}]
[null,null,{"$f":"'Anlagenartenkatalog UZH'!$B$125","v":"Kücheneinrichtungen"},{"$f":"'Anlagenartenkatalog UZH'!$D$129","v":"Induktionsherd"},{"$f":"Hilfstabelle!$O$17","v":"Anmerkung: Anzahl Wartungen pro Jahr"},"Text","Anzahl Wartungen pro Jahr: 1"]
[null,null,{"$f":"'Anlagenartenkatalog UZH'!$B$125","v":"Kücheneinrichtungen"},{"$f":"'Anlagenartenkatalog UZH'!$D$130","v":"Kühlschrank"},{"$f":"Hilfstabelle!$O$3","v":"Code (MSRL-Code)"},"Text","MEN-§1654899474"]
[null,null,{"$f":"'Anlagenartenkatalog UZH'!$B$125","v":"Kücheneinrichtungen"},{"$f":"'Anlagenartenkatalog UZH'!$D$130","v":"Kühlschrank"},{"$f":"Hilfstabelle!$O$4","v":"Bezeichnung"},"Text","Kühlschrank 9",{"$f":"Hilfstabelle!$P$7","v":"Die Bezeichnung einer Anlage muss eindeutig sein, sofern mehrere Anlagen im gleichen Raum sind. "}]
[null,null,{"$f":"'Anlagenartenkatalog UZH'!$B$125","v":"Kücheneinrichtungen"},{"$f":"'Anlagenartenkatalog UZH'!$D$130","v":"Kühlschrank"},{"$f":"Hilfstabelle!$O$5","v":"Anlagentyp (Beschreibung)"},"Text",null,{"$f":"Hilfstabelle!$P$8","v":"Verbindlich gemäss Anlagenartenkatalog"}]
[null,null,{"$f":"'Anlagenartenkatalog UZH'!$B$125","v":"Kücheneinrichtungen"},{"$f":"'Anlagenartenkatalog UZH'!$D$130","v":"Kühlschrank"},{"$f":"Hilfstabelle!$O$6","v":"Artikelgruppe"},"Text",{"$f":"'Anlagenartenkatalog UZH'!$A$125","v":"04.07"}]
[null,null,{"$f":"'Anlagenartenkatalog UZH'!$B$125","v":"Kücheneinrichtungen"},{"$f":"'Anlagenartenkatalog UZH'!$D$130","v":"Kühlschrank"},{"$f":"Hilfstabelle!$O$7","v":"Hauptanlage"},"Text","Ja"]
[null,null,{"$f":"'Anlagenartenkatalog UZH'!$B$125","v":"Kücheneinrichtungen"},{"$f":"'Anlagenartenkatalog UZH'!$D$130","v":"Kühlschrank"},{"$f":"Hilfstabelle!$O$8","v":"Objekt"},"Text","MEN"]
[null,null,{"$f":"'Anlagenartenkatalog UZH'!$B$125","v":"Kücheneinrichtungen"},{"$f":"'Anlagenartenkatalog UZH'!$D$130","v":"Kühlschrank"},{"$f":"Hilfstabelle!$O$9","v":"Raumkennzeichen"},"Text","A-18"]
[null,null,{"$f":"'Anlagenartenkatalog UZH'!$B$125","v":"Kücheneinrichtungen"},{"$f":"'Anlagenartenkatalog UZH'!$D$130","v":"Kühlschrank"},{"$f":"Hilfstabelle!$O$10","v":"Hersteller / Marke"},"Text","Intergastro GmbH & Co. KG"]
[null,null,{"$f":"'Anlagenartenkatalog UZH'!$B$125","v":"Kücheneinrichtungen"},{"$f":"'Anlagenartenkatalog UZH'!$D$130","v":"Kühlschrank"},{"$f":"Hilfstabelle!$O$11","v":"Modell / Artikel"},"Text","HK 200 s/s - Saro "]
[null,null,{"$f":"'Anlagenartenkatalog UZH'!$B$125","v":"Kücheneinrichtungen"},{"$f":"'Anlagenartenkatalog UZH'!$D$130","v":"Kühlschrank"},{"$f":"Hilfstabelle!$O$12","v":"Seriennummer"},"Text","37325687"]
[null,null,{"$f":"'Anlagenartenkatalog UZH'!$B$125","v":"Kücheneinrichtungen"},{"$f":"'Anlagenartenkatalog UZH'!$D$130","v":"Kühlschrank"},{"$f":"Hilfstabelle!$O$13","v":"Servicefirma"},"Text","Intergastro GmbH & Co. KG",{"$f":"Hilfstabelle!$P$10","v":"Gemäss Offerte in Submission"}]
[null,null,{"$f":"'Anlagenartenkatalog UZH'!$B$125","v":"Kücheneinrichtungen"},{"$f":"'Anlagenartenkatalog UZH'!$D$130","v":"Kühlschrank"},{"$f":"Hilfstabelle!$O$14","v":"Inbetriebnahmedatum"},"Text","06.06.2030"]
[null,null,{"$f":"'Anlagenartenkatalog UZH'!$B$125","v":"Kücheneinrichtungen"},{"$f":"'Anlagenartenkatalog UZH'!$D$130","v":"Kühlschrank"},{"$f":"Hilfstabelle!$O$15","v":"Garantieende"},"Text","06.06.2035"]
[null,null,{"$f":"'Anlagenartenkatalog UZH'!$B$125","v":"Kücheneinrichtungen"},{"$f":"'Anlagenartenkatalog UZH'!$D$130","v":"Kühlschrank"},{"$f":"Hilfstabelle!$O$16","v":"Erwartetes technisches Enddatum"},"Text","06.06.2045"]
[null,null,{"$f":"'Anlagenartenkatalog UZH'!$B$125","v":"Kücheneinrichtungen"},{"$f":"'Anlagenartenkatalog UZH'!$D$130","v":"Kühlschrank"},"Anmerkung: Kältemittel","Text","Kältemittel: R290"]
[null,null,{"$f":"'Anlagenartenkatalog UZH'!$B$125","v":"Kücheneinrichtungen"},{"$f":"'Anlagenartenkatalog UZH'!$D$130","v":"Kühlschrank"},"Anmerkung: Füllmenge Kältemittel [kg]","Text","Füllmenge Kältemittel: 0.13kg"]
[null,null,{"$f":"'Anlagenartenkatalog UZH'!$B$125","v":"Kücheneinrichtungen"},{"$f":"'Anlagenartenkatalog UZH'!$D$130","v":"Kühlschrank"},"Anmerkung: Meldekarte (Vignette)","Text","Meldekarte (Vignette): Nein",{"$f":"Hilfstabelle!$P$12","v":"Nein oder 16-Stellige Zahl"}]
[null,null,{"$f":"'Anlagenartenkatalog UZH'!$B$125","v":"Kücheneinrichtungen"},{"$f":"'Anlagenartenkatalog UZH'!$D$130","v":"Kühlschrank"},"Anmerkung: Zuständigkeit","Text","Zuständigkeit: Gastro",{"$f":"Hilfstabelle!$P$11","v":"Bei mobilen Geräten (steckbar / mit eigenem Kompressor) ist die Gastronomie zuständig. Für festverbaute Anlagen / am Kältenetz ist die UZH zuständig."}]
[null,null,{"$f":"'Anlagenartenkatalog UZH'!$B$125","v":"Kücheneinrichtungen"},{"$f":"'Anlagenartenkatalog UZH'!$D$130","v":"Kühlschrank"},{"$f":"Hilfstabelle!$O$17","v":"Anmerkung: Anzahl Wartungen pro Jahr"},"Text","Anzahl Wartungen pro Jahr: 1"]
[null,null,{"$f":"'Anlagenartenkatalog UZH'!$B$125","v":"Kücheneinrichtungen"},{"$f":"'Anlagenartenkatalog UZH'!$D$131","v":"Getränkekühlschrank"},{"$f":"Hilfstabelle!$O$3","v":"Code (MSRL-Code)"},"Text","MEN-§1654899474"]
[null,null,{"$f":"'Anlagenartenkatalog UZH'!$B$125","v":"Kücheneinrichtungen"},{"$f":"'Anlagenartenkatalog UZH'!$D$131","v":"Getränkekühlschrank"},{"$f":"Hilfstabelle!$O$4","v":"Bezeichnung"},"Text","Getränkekühlschrank 7",{"$f":"Hilfstabelle!$P$7","v":"Die Bezeichnung einer Anlage muss eindeutig sein, sofern mehrere Anlagen im gleichen Raum sind. "}]
[null,null,{"$f":"'Anlagenartenkatalog UZH'!$B$125","v":"Kücheneinrichtungen"},{"$f":"'Anlagenartenkatalog UZH'!$D$131","v":"Getränkekühlschrank"},{"$f":"Hilfstabelle!$O$5","v":"Anlagentyp (Beschreibung)"},"Text",null,{"$f":"Hilfstabelle!$P$8","v":"Verbindlich gemäss Anlagenartenkatalog"}]
[null,null,{"$f":"'Anlagenartenkatalog UZH'!$B$125","v":"Kücheneinrichtungen"},{"$f":"'Anlagenartenkatalog UZH'!$D$131","v":"Getränkekühlschrank"},{"$f":"Hilfstabelle!$O$6","v":"Artikelgruppe"},"Text",{"$f":"'Anlagenartenkatalog UZH'!$A$125","v":"04.07"}]
[null,null,{"$f":"'Anlagenartenkatalog UZH'!$B$125","v":"Kücheneinrichtungen"},{"$f":"'Anlagenartenkatalog UZH'!$D$131","v":"Getränkekühlschrank"},{"$f":"Hilfstabelle!$O$7","v":"Hauptanlage"},"Text","Ja"]
[null,null,{"$f":"'Anlagenartenkatalog UZH'!$B$125","v":"Kücheneinrichtungen"},{"$f":"'Anlagenartenkatalog UZH'!$D$131","v":"Getränkekühlschrank"},{"$f":"Hilfstabelle!$O$8","v":"Objekt"},"Text","MEN"]
[null,null,{"$f":"'Anlagenartenkatalog UZH'!$B$125","v":"Kücheneinrichtungen"},{"$f":"'Anlagenartenkatalog UZH'!$D$131","v":"Getränkekühlschrank"},{"$f":"Hilfstabelle!$O$9","v":"Raumkennzeichen"},"Text","A-18"]
[null,null,{"$f":"'Anlagenartenkatalog UZH'!$B$125","v":"Kücheneinrichtungen"},{"$f":"'Anlagenartenkatalog UZH'!$D$131","v":"Getränkekühlschrank"},{"$f":"Hilfstabelle!$O$10","v":"Hersteller / Marke"},"Text","Intergastro GmbH & Co. KG"]
[null,null,{"$f":"'Anlagenartenkatalog UZH'!$B$125","v":"Kücheneinrichtungen"},{"$f":"'Anlagenartenkatalog UZH'!$D$131","v":"Getränkekühlschrank"},{"$f":"Hilfstabelle!$O$11","v":"Modell / Artikel"},"Text","KBS 402 GU"]
[null,null,{"$f":"'Anlagenartenkatalog UZH'!$B$125","v":"Kücheneinrichtungen"},{"$f":"'Anlagenartenkatalog UZH'!$D$131","v":"Getränkekühlschrank"},{"$f":"Hilfstabelle!$O$12","v":"Seriennummer"},"Text","373439"]
[null,null,{"$f":"'Anlagenartenkatalog UZH'!$B$125","v":"Kücheneinrichtungen"},{"$f":"'Anlagenartenkatalog UZH'!$D$131","v":"Getränkekühlschrank"},{"$f":"Hilfstabelle!$O$13","v":"Servicefirma"},"Text","Intergastro GmbH & Co. KG",{"$f":"Hilfstabelle!$P$10","v":"Gemäss Offerte in Submission"}]
[null,null,{"$f":"'Anlagenartenkatalog UZH'!$B$125","v":"Kücheneinrichtungen"},{"$f":"'Anlagenartenkatalog UZH'!$D$131","v":"Getränkekühlschrank"},{"$f":"Hilfstabelle!$O$14","v":"Inbetriebnahmedatum"},"Text","06.06.2030"]
[null,null,{"$f":"'Anlagenartenkatalog UZH'!$B$125","v":"Kücheneinrichtungen"},{"$f":"'Anlagenartenkatalog UZH'!$D$131","v":"Getränkekühlschrank"},{"$f":"Hilfstabelle!$O$15","v":"Garantieende"},"Text","06.06.2035"]
[null,null,{"$f":"'Anlagenartenkatalog UZH'!$B$125","v":"Kücheneinrichtungen"},{"$f":"'Anlagenartenkatalog UZH'!$D$131","v":"Getränkekühlschrank"},{"$f":"Hilfstabelle!$O$16","v":"Erwartetes technisches Enddatum"},"Text","06.06.2045"]
[null,null,{"$f":"'Anlagenartenkatalog UZH'!$B$125","v":"Kücheneinrichtungen"},{"$f":"'Anlagenartenkatalog UZH'!$D$131","v":"Getränkekühlschrank"},"Anmerkung: Kältemittel","Text","Kältemittel: R290"]
[null,null,{"$f":"'Anlagenartenkatalog UZH'!$B$125","v":"Kücheneinrichtungen"},{"$f":"'Anlagenartenkatalog UZH'!$D$131","v":"Getränkekühlschrank"},"Anmerkung: Füllmenge Kältemittel [kg]","Text","Füllmenge Kältemittel: 0.13kg"]
[null,null,{"$f":"'Anlagenartenkatalog UZH'!$B$125","v":"Kücheneinrichtungen"},{"$f":"'Anlagenartenkatalog UZH'!$D$131","v":"Getränkekühlschrank"},"Anmerkung: Meldekarte (Vignette)","Text","Meldekarte (Vignette): Nein",{"$f":"Hilfstabelle!$P$12","v":"Nein oder 16-Stellige Zahl"}]
[null,null,{"$f":"'Anlagenartenkatalog UZH'!$B$125","v":"Kücheneinrichtungen"},{"$f":"'Anlagenartenkatalog UZH'!$D$131","v":"Getränkekühlschrank"},"Anmerkung: Zuständigkeit","Text","Zuständigkeit: Gastro",{"$f":"Hilfstabelle!$P$11","v":"Bei mobilen Geräten (steckbar / mit eigenem Kompressor) ist die Gastronomie zuständig. Für festverbaute Anlagen / am Kältenetz ist die UZH zuständig."}]
[null,null,{"$f":"'Anlagenartenkatalog UZH'!$B$125","v":"Kücheneinrichtungen"},{"$f":"'Anlagenartenkatalog UZH'!$D$131","v":"Getränkekühlschrank"},{"$f":"Hilfstabelle!$O$17","v":"Anmerkung: Anzahl Wartungen pro Jahr"},"Text","Anzahl Wartungen pro Jahr: 1"]
[null,null,{"$f":"'Anlagenartenkatalog UZH'!$B$125","v":"Kücheneinrichtungen"},{"$f":"'Anlagenartenkatalog UZH'!$D$132","v":"Bainmarie"},{"$f":"Hilfstabelle!$O$3","v":"Code (MSRL-Code)"},"Text","MEN-§1654899474"]
[null,null,{"$f":"'Anlagenartenkatalog UZH'!$B$125","v":"Kücheneinrichtungen"},{"$f":"'Anlagenartenkatalog UZH'!$D$132","v":"Bainmarie"},{"$f":"Hilfstabelle!$O$4","v":"Bezeichnung"},"Text","Bainmarie 22",{"$f":"Hilfstabelle!$P$7","v":"Die Bezeichnung einer Anlage muss eindeutig sein, sofern mehrere Anlagen im gleichen Raum sind. "}]
[null,null,{"$f":"'Anlagenartenkatalog UZH'!$B$125","v":"Kücheneinrichtungen"},{"$f":"'Anlagenartenkatalog UZH'!$D$132","v":"Bainmarie"},{"$f":"Hilfstabelle!$O$5","v":"Anlagentyp (Beschreibung)"},"Text",null,{"$f":"Hilfstabelle!$P$8","v":"Verbindlich gemäss Anlagenartenkatalog"}]
[null,null,{"$f":"'Anlagenartenkatalog UZH'!$B$125","v":"Kücheneinrichtungen"},{"$f":"'Anlagenartenkatalog UZH'!$D$132","v":"Bainmarie"},{"$f":"Hilfstabelle!$O$6","v":"Artikelgruppe"},"Text",{"$f":"'Anlagenartenkatalog UZH'!$A$125","v":"04.07"}]
[null,null,{"$f":"'Anlagenartenkatalog UZH'!$B$125","v":"Kücheneinrichtungen"},{"$f":"'Anlagenartenkatalog UZH'!$D$132","v":"Bainmarie"},{"$f":"Hilfstabelle!$O$7","v":"Hauptanlage"},"Text","Ja"]
[null,null,{"$f":"'Anlagenartenkatalog UZH'!$B$125","v":"Kücheneinrichtungen"},{"$f":"'Anlagenartenkatalog UZH'!$D$132","v":"Bainmarie"},{"$f":"Hilfstabelle!$O$8","v":"Objekt"},"Text","MEN"]
[null,null,{"$f":"'Anlagenartenkatalog UZH'!$B$125","v":"Kücheneinrichtungen"},{"$f":"'Anlagenartenkatalog UZH'!$D$132","v":"Bainmarie"},{"$f":"Hilfstabelle!$O$9","v":"Raumkennzeichen"},"Text","A-18"]
[null,null,{"$f":"'Anlagenartenkatalog UZH'!$B$125","v":"Kücheneinrichtungen"},{"$f":"'Anlagenartenkatalog UZH'!$D$132","v":"Bainmarie"},{"$f":"Hilfstabelle!$O$10","v":"Hersteller / Marke"},"Text","Bartscher AG"]
[null,null,{"$f":"'Anlagenartenkatalog UZH'!$B$125","v":"Kücheneinrichtungen"},{"$f":"'Anlagenartenkatalog UZH'!$D$132","v":"Bainmarie"},{"$f":"Hilfstabelle!$O$11","v":"Modell / Artikel"},"Text","S700 GN"]
[null,null,{"$f":"'Anlagenartenkatalog UZH'!$B$125","v":"Kücheneinrichtungen"},{"$f":"'Anlagenartenkatalog UZH'!$D$132","v":"Bainmarie"},{"$f":"Hilfstabelle!$O$12","v":"Seriennummer"},"Text","687.4681"]
[null,null,{"$f":"'Anlagenartenkatalog UZH'!$B$125","v":"Kücheneinrichtungen"},{"$f":"'Anlagenartenkatalog UZH'!$D$132","v":"Bainmarie"},{"$f":"Hilfstabelle!$O$13","v":"Servicefirma"},"Text","Bartscher AG",{"$f":"Hilfstabelle!$P$10","v":"Gemäss Offerte in Submission"}]
[null,null,{"$f":"'Anlagenartenkatalog UZH'!$B$125","v":"Kücheneinrichtungen"},{"$f":"'Anlagenartenkatalog UZH'!$D$132","v":"Bainmarie"},{"$f":"Hilfstabelle!$O$14","v":"Inbetriebnahmedatum"},"Text","06.06.2030"]
[null,null,{"$f":"'Anlagenartenkatalog UZH'!$B$125","v":"Kücheneinrichtungen"},{"$f":"'Anlagenartenkatalog UZH'!$D$132","v":"Bainmarie"},{"$f":"Hilfstabelle!$O$15","v":"Garantieende"},"Text","06.06.2035"]
[null,null,{"$f":"'Anlagenartenkatalog UZH'!$B$125","v":"Kücheneinrichtungen"},{"$f":"'Anlagenartenkatalog UZH'!$D$132","v":"Bainmarie"},{"$f":"Hilfstabelle!$O$16","v":"Erwartetes technisches Enddatum"},"Text","06.06.2045"]
[null,null,{"$f":"'Anlagenartenkatalog UZH'!$B$125","v":"Kücheneinrichtungen"},{"$f":"'Anlagenartenkatalog UZH'!$D$132","v":"Bainmarie"},"Anmerkung: Zuständigkeit","Text","Zuständigkeit: Gastro",{"$f":"Hilfstabelle!$P$11","v":"Bei mobilen Geräten (steckbar / mit eigenem Kompressor) ist die Gastronomie zuständig. Für festverbaute Anlagen / am Kältenetz ist die UZH zuständig."}]
[null,null,{"$f":"'Anlagenartenkatalog UZH'!$B$125","v":"Kücheneinrichtungen"},{"$f":"'Anlagenartenkatalog UZH'!$D$132","v":"Bainmarie"},{"$f":"Hilfstabelle!$O$17","v":"Anmerkung: Anzahl Wartungen pro Jahr"},"Text","Anzahl Wartungen pro Jahr: 1"]
[null,null,{"$f":"'Anlagenartenkatalog UZH'!$B$125","v":"Kücheneinrichtungen"},{"$f":"'Anlagenartenkatalog UZH'!$D$133","v":"Wärmestrahler"},{"$f":"Hilfstabelle!$O$3","v":"Code (MSRL-Code)"},"Text","MEN-§1654899474"]
[null,null,{"$f":"'Anlagenartenkatalog UZH'!$B$125","v":"Kücheneinrichtungen"},{"$f":"'Anlagenartenkatalog UZH'!$D$133","v":"Wärmestrahler"},{"$f":"Hilfstabelle!$O$4","v":"Bezeichnung"},"Text","Wärmestrahler 2",{"$f":"Hilfstabelle!$P$7","v":"Die Bezeichnung einer Anlage muss eindeutig sein, sofern mehrere Anlagen im gleichen Raum sind. "}]
[null,null,{"$f":"'Anlagenartenkatalog UZH'!$B$125","v":"Kücheneinrichtungen"},{"$f":"'Anlagenartenkatalog UZH'!$D$133","v":"Wärmestrahler"},{"$f":"Hilfstabelle!$O$5","v":"Anlagentyp (Beschreibung)"},"Text",null,{"$f":"Hilfstabelle!$P$8","v":"Verbindlich gemäss Anlagenartenkatalog"}]
[null,null,{"$f":"'Anlagenartenkatalog UZH'!$B$125","v":"Kücheneinrichtungen"},{"$f":"'Anlagenartenkatalog UZH'!$D$133","v":"Wärmestrahler"},{"$f":"Hilfstabelle!$O$6","v":"Artikelgruppe"},"Text",{"$f":"'Anlagenartenkatalog UZH'!$A$125","v":"04.07"}]
[null,null,{"$f":"'Anlagenartenkatalog UZH'!$B$125","v":"Kücheneinrichtungen"},{"$f":"'Anlagenartenkatalog UZH'!$D$133","v":"Wärmestrahler"},{"$f":"Hilfstabelle!$O$7","v":"Hauptanlage"},"Text","Ja"]
[null,null,{"$f":"'Anlagenartenkatalog UZH'!$B$125","v":"Kücheneinrichtungen"},{"$f":"'Anlagenartenkatalog UZH'!$D$133","v":"Wärmestrahler"},{"$f":"Hilfstabelle!$O$8","v":"Objekt"},"Text","MEN"]
[null,null,{"$f":"'Anlagenartenkatalog UZH'!$B$125","v":"Kücheneinrichtungen"},{"$f":"'Anlagenartenkatalog UZH'!$D$133","v":"Wärmestrahler"},{"$f":"Hilfstabelle!$O$9","v":"Raumkennzeichen"},"Text","A-18"]
[null,null,{"$f":"'Anlagenartenkatalog UZH'!$B$125","v":"Kücheneinrichtungen"},{"$f":"'Anlagenartenkatalog UZH'!$D$133","v":"Wärmestrahler"},{"$f":"Hilfstabelle!$O$10","v":"Hersteller / Marke"},"Text","Intergastro GmbH & Co. KG"]
[null,null,{"$f":"'Anlagenartenkatalog UZH'!$B$125","v":"Kücheneinrichtungen"},{"$f":"'Anlagenartenkatalog UZH'!$D$133","v":"Wärmestrahler"},{"$f":"Hilfstabelle!$O$11","v":"Modell / Artikel"},"Text","LSH-003"]
[null,null,{"$f":"'Anlagenartenkatalog UZH'!$B$125","v":"Kücheneinrichtungen"},{"$f":"'Anlagenartenkatalog UZH'!$D$133","v":"Wärmestrahler"},{"$f":"Hilfstabelle!$O$12","v":"Seriennummer"},"Text","354583"]
[null,null,{"$f":"'Anlagenartenkatalog UZH'!$B$125","v":"Kücheneinrichtungen"},{"$f":"'Anlagenartenkatalog UZH'!$D$133","v":"Wärmestrahler"},{"$f":"Hilfstabelle!$O$13","v":"Servicefirma"},"Text","Intergastro GmbH & Co. KG",{"$f":"Hilfstabelle!$P$10","v":"Gemäss Offerte in Submission"}]
[null,null,{"$f":"'Anlagenartenkatalog UZH'!$B$125","v":"Kücheneinrichtungen"},{"$f":"'Anlagenartenkatalog UZH'!$D$133","v":"Wärmestrahler"},{"$f":"Hilfstabelle!$O$14","v":"Inbetriebnahmedatum"},"Text","06.06.2030"]
[null,null,{"$f":"'Anlagenartenkatalog UZH'!$B$125","v":"Kücheneinrichtungen"},{"$f":"'Anlagenartenkatalog UZH'!$D$133","v":"Wärmestrahler"},{"$f":"Hilfstabelle!$O$15","v":"Garantieende"},"Text","06.06.2035"]
[null,null,{"$f":"'Anlagenartenkatalog UZH'!$B$125","v":"Kücheneinrichtungen"},{"$f":"'Anlagenartenkatalog UZH'!$D$133","v":"Wärmestrahler"},{"$f":"Hilfstabelle!$O$16","v":"Erwartetes technisches Enddatum"},"Text","06.06.2045"]
[null,null,{"$f":"'Anlagenartenkatalog UZH'!$B$125","v":"Kücheneinrichtungen"},{"$f":"'Anlagenartenkatalog UZH'!$D$133","v":"Wärmestrahler"},"Anmerkung: Zuständigkeit","Text","Zuständigkeit: Gastro",{"$f":"Hilfstabelle!$P$11","v":"Bei mobilen Geräten (steckbar / mit eigenem Kompressor) ist die Gastronomie zuständig. Für festverbaute Anlagen / am Kältenetz ist die UZH zuständig."}]
[null,null,{"$f":"'Anlagenartenkatalog UZH'!$B$125","v":"Kücheneinrichtungen"},{"$f":"'Anlagenartenkatalog UZH'!$D$133","v":"Wärmestrahler"},{"$f":"Hilfstabelle!$O$17","v":"Anmerkung: Anzahl Wartungen pro Jahr"},"Text","Anzahl Wartungen pro Jahr: 1"]
[null,null,{"$f":"'Anlagenartenkatalog UZH'!$B$125","v":"Kücheneinrichtungen"},{"$f":"'Anlagenartenkatalog UZH'!$D$134","v":"Bandwaschmaschine"},{"$f":"Hilfstabelle!$O$3","v":"Code (MSRL-Code)"},"Text","MEN-§1654899474"]
[null,null,{"$f":"'Anlagenartenkatalog UZH'!$B$125","v":"Kücheneinrichtungen"},{"$f":"'Anlagenartenkatalog UZH'!$D$134","v":"Bandwaschmaschine"},{"$f":"Hilfstabelle!$O$4","v":"Bezeichnung"},"Text","Bandwaschmaschine 2",{"$f":"Hilfstabelle!$P$7","v":"Die Bezeichnung einer Anlage muss eindeutig sein, sofern mehrere Anlagen im gleichen Raum sind. "}]
[null,null,{"$f":"'Anlagenartenkatalog UZH'!$B$125","v":"Kücheneinrichtungen"},{"$f":"'Anlagenartenkatalog UZH'!$D$134","v":"Bandwaschmaschine"},{"$f":"Hilfstabelle!$O$5","v":"Anlagentyp (Beschreibung)"},"Text",null,{"$f":"Hilfstabelle!$P$8","v":"Verbindlich gemäss Anlagenartenkatalog"}]
[null,null,{"$f":"'Anlagenartenkatalog UZH'!$B$125","v":"Kücheneinrichtungen"},{"$f":"'Anlagenartenkatalog UZH'!$D$134","v":"Bandwaschmaschine"},{"$f":"Hilfstabelle!$O$6","v":"Artikelgruppe"},"Text",{"$f":"'Anlagenartenkatalog UZH'!$A$125","v":"04.07"}]
[null,null,{"$f":"'Anlagenartenkatalog UZH'!$B$125","v":"Kücheneinrichtungen"},{"$f":"'Anlagenartenkatalog UZH'!$D$134","v":"Bandwaschmaschine"},{"$f":"Hilfstabelle!$O$7","v":"Hauptanlage"},"Text"]
[null,null,{"$f":"'Anlagenartenkatalog UZH'!$B$125","v":"Kücheneinrichtungen"},{"$f":"'Anlagenartenkatalog UZH'!$D$134","v":"Bandwaschmaschine"},{"$f":"Hilfstabelle!$O$8","v":"Objekt"},"Text","MEN"]
[null,null,{"$f":"'Anlagenartenkatalog UZH'!$B$125","v":"Kücheneinrichtungen"},{"$f":"'Anlagenartenkatalog UZH'!$D$134","v":"Bandwaschmaschine"},{"$f":"Hilfstabelle!$O$9","v":"Raumkennzeichen"},"Text","A-18"]
[null,null,{"$f":"'Anlagenartenkatalog UZH'!$B$125","v":"Kücheneinrichtungen"},{"$f":"'Anlagenartenkatalog UZH'!$D$134","v":"Bandwaschmaschine"},{"$f":"Hilfstabelle!$O$10","v":"Hersteller / Marke"},"Text","Meiko AG"]
[null,null,{"$f":"'Anlagenartenkatalog UZH'!$B$125","v":"Kücheneinrichtungen"},{"$f":"'Anlagenartenkatalog UZH'!$D$134","v":"Bandwaschmaschine"},{"$f":"Hilfstabelle!$O$11","v":"Modell / Artikel"},"Text","M-iQ B-Serie"]
[null,null,{"$f":"'Anlagenartenkatalog UZH'!$B$125","v":"Kücheneinrichtungen"},{"$f":"'Anlagenartenkatalog UZH'!$D$134","v":"Bandwaschmaschine"},{"$f":"Hilfstabelle!$O$12","v":"Seriennummer"},"Text","357.2635"]
[null,null,{"$f":"'Anlagenartenkatalog UZH'!$B$125","v":"Kücheneinrichtungen"},{"$f":"'Anlagenartenkatalog UZH'!$D$134","v":"Bandwaschmaschine"},{"$f":"Hilfstabelle!$O$13","v":"Servicefirma"},"Text","Meiko AG",{"$f":"Hilfstabelle!$P$10","v":"Gemäss Offerte in Submission"}]
[null,null,{"$f":"'Anlagenartenkatalog UZH'!$B$125","v":"Kücheneinrichtungen"},{"$f":"'Anlagenartenkatalog UZH'!$D$134","v":"Bandwaschmaschine"},{"$f":"Hilfstabelle!$O$14","v":"Inbetriebnahmedatum"},"Text","06.06.2030"]
[null,null,{"$f":"'Anlagenartenkatalog UZH'!$B$125","v":"Kücheneinrichtungen"},{"$f":"'Anlagenartenkatalog UZH'!$D$134","v":"Bandwaschmaschine"},{"$f":"Hilfstabelle!$O$15","v":"Garantieende"},"Text","06.06.2035"]
[null,null,{"$f":"'Anlagenartenkatalog UZH'!$B$125","v":"Kücheneinrichtungen"},{"$f":"'Anlagenartenkatalog UZH'!$D$134","v":"Bandwaschmaschine"},{"$f":"Hilfstabelle!$O$16","v":"Erwartetes technisches Enddatum"},"Text","06.06.2045"]
[null,null,{"$f":"'Anlagenartenkatalog UZH'!$B$125","v":"Kücheneinrichtungen"},{"$f":"'Anlagenartenkatalog UZH'!$D$134","v":"Bandwaschmaschine"},"Anmerkung: Zuständigkeit","Text","Zuständigkeit: UZH",{"$f":"Hilfstabelle!$P$11","v":"Bei mobilen Geräten (steckbar / mit eigenem Kompressor) ist die Gastronomie zuständig. Für festverbaute Anlagen / am Kältenetz ist die UZH zuständig."}]
[null,null,{"$f":"'Anlagenartenkatalog UZH'!$B$125","v":"Kücheneinrichtungen"},{"$f":"'Anlagenartenkatalog UZH'!$D$134","v":"Bandwaschmaschine"},{"$f":"Hilfstabelle!$O$17","v":"Anmerkung: Anzahl Wartungen pro Jahr"},"Text","Anzahl Wartungen pro Jahr: 1"]
[null,null,{"$f":"'Anlagenartenkatalog UZH'!$B$125","v":"Kücheneinrichtungen"},{"$f":"'Anlagenartenkatalog UZH'!$D$135","v":"Schlauchhaspel"},{"$f":"Hilfstabelle!$O$3","v":"Code (MSRL-Code)"},"Text","MEN-§1654899474"]
[null,null,{"$f":"'Anlagenartenkatalog UZH'!$B$125","v":"Kücheneinrichtungen"},{"$f":"'Anlagenartenkatalog UZH'!$D$135","v":"Schlauchhaspel"},{"$f":"Hilfstabelle!$O$4","v":"Bezeichnung"},"Text","Schlauchhaspel 2",{"$f":"Hilfstabelle!$P$7","v":"Die Bezeichnung einer Anlage muss eindeutig sein, sofern mehrere Anlagen im gleichen Raum sind. "}]
[null,null,{"$f":"'Anlagenartenkatalog UZH'!$B$125","v":"Kücheneinrichtungen"},{"$f":"'Anlagenartenkatalog UZH'!$D$135","v":"Schlauchhaspel"},{"$f":"Hilfstabelle!$O$5","v":"Anlagentyp (Beschreibung)"},"Text",null,{"$f":"Hilfstabelle!$P$8","v":"Verbindlich gemäss Anlagenartenkatalog"}]
[null,null,{"$f":"'Anlagenartenkatalog UZH'!$B$125","v":"Kücheneinrichtungen"},{"$f":"'Anlagenartenkatalog UZH'!$D$135","v":"Schlauchhaspel"},{"$f":"Hilfstabelle!$O$6","v":"Artikelgruppe"},"Text",{"$f":"'Anlagenartenkatalog UZH'!$A$125","v":"04.07"}]
[null,null,{"$f":"'Anlagenartenkatalog UZH'!$B$125","v":"Kücheneinrichtungen"},{"$f":"'Anlagenartenkatalog UZH'!$D$135","v":"Schlauchhaspel"},{"$f":"Hilfstabelle!$O$7","v":"Hauptanlage"},"Text","Ja"]
[null,null,{"$f":"'Anlagenartenkatalog UZH'!$B$125","v":"Kücheneinrichtungen"},{"$f":"'Anlagenartenkatalog UZH'!$D$135","v":"Schlauchhaspel"},{"$f":"Hilfstabelle!$O$8","v":"Objekt"},"Text","MEN"]
[null,null,{"$f":"'Anlagenartenkatalog UZH'!$B$125","v":"Kücheneinrichtungen"},{"$f":"'Anlagenartenkatalog UZH'!$D$135","v":"Schlauchhaspel"},{"$f":"Hilfstabelle!$O$9","v":"Raumkennzeichen"},"Text","A-18"]
[null,null,{"$f":"'Anlagenartenkatalog UZH'!$B$125","v":"Kücheneinrichtungen"},{"$f":"'Anlagenartenkatalog UZH'!$D$135","v":"Schlauchhaspel"},{"$f":"Hilfstabelle!$O$10","v":"Hersteller / Marke"},"Text","Intergastro GmbH & Co. KG"]
[null,null,{"$f":"'Anlagenartenkatalog UZH'!$B$125","v":"Kücheneinrichtungen"},{"$f":"'Anlagenartenkatalog UZH'!$D$135","v":"Schlauchhaspel"},{"$f":"Hilfstabelle!$O$11","v":"Modell / Artikel"},"Text","-"]
[null,null,{"$f":"'Anlagenartenkatalog UZH'!$B$125","v":"Kücheneinrichtungen"},{"$f":"'Anlagenartenkatalog UZH'!$D$135","v":"Schlauchhaspel"},{"$f":"Hilfstabelle!$O$12","v":"Seriennummer"},"Text","-"]
[null,null,{"$f":"'Anlagenartenkatalog UZH'!$B$125","v":"Kücheneinrichtungen"},{"$f":"'Anlagenartenkatalog UZH'!$D$135","v":"Schlauchhaspel"},{"$f":"Hilfstabelle!$O$13","v":"Servicefirma"},"Text","Intergastro GmbH & Co. KG",{"$f":"Hilfstabelle!$P$10","v":"Gemäss Offerte in Submission"}]
[null,null,{"$f":"'Anlagenartenkatalog UZH'!$B$125","v":"Kücheneinrichtungen"},{"$f":"'Anlagenartenkatalog UZH'!$D$135","v":"Schlauchhaspel"},{"$f":"Hilfstabelle!$O$14","v":"Inbetriebnahmedatum"},"Text","06.06.2030"]
[null,null,{"$f":"'Anlagenartenkatalog UZH'!$B$125","v":"Kücheneinrichtungen"},{"$f":"'Anlagenartenkatalog UZH'!$D$135","v":"Schlauchhaspel"},{"$f":"Hilfstabelle!$O$15","v":"Garantieende"},"Text","06.06.2035"]
[null,null,{"$f":"'Anlagenartenkatalog UZH'!$B$125","v":"Kücheneinrichtungen"},{"$f":"'Anlagenartenkatalog UZH'!$D$135","v":"Schlauchhaspel"},{"$f":"Hilfstabelle!$O$16","v":"Erwartetes technisches Enddatum"},"Text","06.06.2045"]
[null,null,{"$f":"'Anlagenartenkatalog UZH'!$B$125","v":"Kücheneinrichtungen"},{"$f":"'Anlagenartenkatalog UZH'!$D$135","v":"Schlauchhaspel"},"Anmerkung: Zuständigkeit","Text","Zuständigkeit: UZH",{"$f":"Hilfstabelle!$P$11","v":"Bei mobilen Geräten (steckbar / mit eigenem Kompressor) ist die Gastronomie zuständig. Für festverbaute Anlagen / am Kältenetz ist die UZH zuständig."}]
[null,null,{"$f":"'Anlagenartenkatalog UZH'!$B$125","v":"Kücheneinrichtungen"},{"$f":"'Anlagenartenkatalog UZH'!$D$135","v":"Schlauchhaspel"},{"$f":"Hilfstabelle!$O$17","v":"Anmerkung: Anzahl Wartungen pro Jahr"},"Text","Anzahl Wartungen pro Jahr: 1"]
[null,null,{"$f":"'Anlagenartenkatalog UZH'!$B$125","v":"Kücheneinrichtungen"},{"$f":"'Anlagenartenkatalog UZH'!$D$136","v":"Förderband"},{"$f":"Hilfstabelle!$O$3","v":"Code (MSRL-Code)"},"Text","MEN-§1654899474"]
[null,null,{"$f":"'Anlagenartenkatalog UZH'!$B$125","v":"Kücheneinrichtungen"},{"$f":"'Anlagenartenkatalog UZH'!$D$136","v":"Förderband"},{"$f":"Hilfstabelle!$O$4","v":"Bezeichnung"},"Text","Förderband 3",{"$f":"Hilfstabelle!$P$7","v":"Die Bezeichnung einer Anlage muss eindeutig sein, sofern mehrere Anlagen im gleichen Raum sind. "}]
[null,null,{"$f":"'Anlagenartenkatalog UZH'!$B$125","v":"Kücheneinrichtungen"},{"$f":"'Anlagenartenkatalog UZH'!$D$136","v":"Förderband"},{"$f":"Hilfstabelle!$O$5","v":"Anlagentyp (Beschreibung)"},"Text",null,{"$f":"Hilfstabelle!$P$8","v":"Verbindlich gemäss Anlagenartenkatalog"}]
[null,null,{"$f":"'Anlagenartenkatalog UZH'!$B$125","v":"Kücheneinrichtungen"},{"$f":"'Anlagenartenkatalog UZH'!$D$136","v":"Förderband"},{"$f":"Hilfstabelle!$O$6","v":"Artikelgruppe"},"Text",{"$f":"'Anlagenartenkatalog UZH'!$A$125","v":"04.07"}]
[null,null,{"$f":"'Anlagenartenkatalog UZH'!$B$125","v":"Kücheneinrichtungen"},{"$f":"'Anlagenartenkatalog UZH'!$D$136","v":"Förderband"},{"$f":"Hilfstabelle!$O$7","v":"Hauptanlage"},"Text","Ja"]
[null,null,{"$f":"'Anlagenartenkatalog UZH'!$B$125","v":"Kücheneinrichtungen"},{"$f":"'Anlagenartenkatalog UZH'!$D$136","v":"Förderband"},{"$f":"Hilfstabelle!$O$8","v":"Objekt"},"Text","MEN"]
[null,null,{"$f":"'Anlagenartenkatalog UZH'!$B$125","v":"Kücheneinrichtungen"},{"$f":"'Anlagenartenkatalog UZH'!$D$136","v":"Förderband"},{"$f":"Hilfstabelle!$O$9","v":"Raumkennzeichen"},"Text","A-18"]
[null,null,{"$f":"'Anlagenartenkatalog UZH'!$B$125","v":"Kücheneinrichtungen"},{"$f":"'Anlagenartenkatalog UZH'!$D$136","v":"Förderband"},{"$f":"Hilfstabelle!$O$10","v":"Hersteller / Marke"},"Text","Hildebrand Industry AG"]
[null,null,{"$f":"'Anlagenartenkatalog UZH'!$B$125","v":"Kücheneinrichtungen"},{"$f":"'Anlagenartenkatalog UZH'!$D$136","v":"Förderband"},{"$f":"Hilfstabelle!$O$11","v":"Modell / Artikel"},"Text","HR-4 Band"]
[null,null,{"$f":"'Anlagenartenkatalog UZH'!$B$125","v":"Kücheneinrichtungen"},{"$f":"'Anlagenartenkatalog UZH'!$D$136","v":"Förderband"},{"$f":"Hilfstabelle!$O$12","v":"Seriennummer"},"Text","-"]
[null,null,{"$f":"'Anlagenartenkatalog UZH'!$B$125","v":"Kücheneinrichtungen"},{"$f":"'Anlagenartenkatalog UZH'!$D$136","v":"Förderband"},{"$f":"Hilfstabelle!$O$13","v":"Servicefirma"},"Text","Hildebrand Industry AG",{"$f":"Hilfstabelle!$P$10","v":"Gemäss Offerte in Submission"}]
[null,null,{"$f":"'Anlagenartenkatalog UZH'!$B$125","v":"Kücheneinrichtungen"},{"$f":"'Anlagenartenkatalog UZH'!$D$136","v":"Förderband"},{"$f":"Hilfstabelle!$O$14","v":"Inbetriebnahmedatum"},"Text","06.06.2030"]
[null,null,{"$f":"'Anlagenartenkatalog UZH'!$B$125","v":"Kücheneinrichtungen"},{"$f":"'Anlagenartenkatalog UZH'!$D$136","v":"Förderband"},{"$f":"Hilfstabelle!$O$15","v":"Garantieende"},"Text","06.06.2035"]
[null,null,{"$f":"'Anlagenartenkatalog UZH'!$B$125","v":"Kücheneinrichtungen"},{"$f":"'Anlagenartenkatalog UZH'!$D$136","v":"Förderband"},{"$f":"Hilfstabelle!$O$16","v":"Erwartetes technisches Enddatum"},"Text","06.06.2045"]
[null,null,{"$f":"'Anlagenartenkatalog UZH'!$B$125","v":"Kücheneinrichtungen"},{"$f":"'Anlagenartenkatalog UZH'!$D$136","v":"Förderband"},"Anmerkung: Zuständigkeit","Text","Zuständigkeit: UZH",{"$f":"Hilfstabelle!$P$11","v":"Bei mobilen Geräten (steckbar / mit eigenem Kompressor) ist die Gastronomie zuständig. Für festverbaute Anlagen / am Kältenetz ist die UZH zuständig."}]
[null,null,{"$f":"'Anlagenartenkatalog UZH'!$B$125","v":"Kücheneinrichtungen"},{"$f":"'Anlagenartenkatalog UZH'!$D$136","v":"Förderband"},{"$f":"Hilfstabelle!$O$17","v":"Anmerkung: Anzahl Wartungen pro Jahr"},"Text","Anzahl Wartungen pro Jahr: 1"]
[null,null,{"$f":"'Anlagenartenkatalog UZH'!$B$125","v":"Kücheneinrichtungen"},{"$f":"'Anlagenartenkatalog UZH'!$D$137","v":"Elektrokochherd"},{"$f":"Hilfstabelle!$O$3","v":"Code (MSRL-Code)"},"Text","MEN-§1654899474"]
[null,null,{"$f":"'Anlagenartenkatalog UZH'!$B$125","v":"Kücheneinrichtungen"},{"$f":"'Anlagenartenkatalog UZH'!$D$137","v":"Elektrokochherd"},{"$f":"Hilfstabelle!$O$4","v":"Bezeichnung"},"Text","Elektrokochherd 4",{"$f":"Hilfstabelle!$P$7","v":"Die Bezeichnung einer Anlage muss eindeutig sein, sofern mehrere Anlagen im gleichen Raum sind. "}]
[null,null,{"$f":"'Anlagenartenkatalog UZH'!$B$125","v":"Kücheneinrichtungen"},{"$f":"'Anlagenartenkatalog UZH'!$D$137","v":"Elektrokochherd"},{"$f":"Hilfstabelle!$O$5","v":"Anlagentyp (Beschreibung)"},"Text",null,{"$f":"Hilfstabelle!$P$8","v":"Verbindlich gemäss Anlagenartenkatalog"}]
[null,null,{"$f":"'Anlagenartenkatalog UZH'!$B$125","v":"Kücheneinrichtungen"},{"$f":"'Anlagenartenkatalog UZH'!$D$137","v":"Elektrokochherd"},{"$f":"Hilfstabelle!$O$6","v":"Artikelgruppe"},"Text",{"$f":"'Anlagenartenkatalog UZH'!$A$125","v":"04.07"}]
[null,null,{"$f":"'Anlagenartenkatalog UZH'!$B$125","v":"Kücheneinrichtungen"},{"$f":"'Anlagenartenkatalog UZH'!$D$137","v":"Elektrokochherd"},{"$f":"Hilfstabelle!$O$7","v":"Hauptanlage"},"Text","Ja"]
[null,null,{"$f":"'Anlagenartenkatalog UZH'!$B$125","v":"Kücheneinrichtungen"},{"$f":"'Anlagenartenkatalog UZH'!$D$137","v":"Elektrokochherd"},{"$f":"Hilfstabelle!$O$8","v":"Objekt"},"Text","MEN"]
[null,null,{"$f":"'Anlagenartenkatalog UZH'!$B$125","v":"Kücheneinrichtungen"},{"$f":"'Anlagenartenkatalog UZH'!$D$137","v":"Elektrokochherd"},{"$f":"Hilfstabelle!$O$9","v":"Raumkennzeichen"},"Text","A-18"]
[null,null,{"$f":"'Anlagenartenkatalog UZH'!$B$125","v":"Kücheneinrichtungen"},{"$f":"'Anlagenartenkatalog UZH'!$D$137","v":"Elektrokochherd"},{"$f":"Hilfstabelle!$O$10","v":"Hersteller / Marke"},"Text","Intergastro GmbH & Co. KG"]
[null,null,{"$f":"'Anlagenartenkatalog UZH'!$B$125","v":"Kücheneinrichtungen"},{"$f":"'Anlagenartenkatalog UZH'!$D$137","v":"Elektrokochherd"},{"$f":"Hilfstabelle!$O$11","v":"Modell / Artikel"},"Text","Elektroherd E7/CUET6BA"]
[null,null,{"$f":"'Anlagenartenkatalog UZH'!$B$125","v":"Kücheneinrichtungen"},{"$f":"'Anlagenartenkatalog UZH'!$D$137","v":"Elektrokochherd"},{"$f":"Hilfstabelle!$O$12","v":"Seriennummer"},"Text","052338"]
[null,null,{"$f":"'Anlagenartenkatalog UZH'!$B$125","v":"Kücheneinrichtungen"},{"$f":"'Anlagenartenkatalog UZH'!$D$137","v":"Elektrokochherd"},{"$f":"Hilfstabelle!$O$13","v":"Servicefirma"},"Text","Intergastro GmbH & Co. KG",{"$f":"Hilfstabelle!$P$10","v":"Gemäss Offerte in Submission"}]
[null,null,{"$f":"'Anlagenartenkatalog UZH'!$B$125","v":"Kücheneinrichtungen"},{"$f":"'Anlagenartenkatalog UZH'!$D$137","v":"Elektrokochherd"},{"$f":"Hilfstabelle!$O$14","v":"Inbetriebnahmedatum"},"Text","06.06.2030"]
[null,null,{"$f":"'Anlagenartenkatalog UZH'!$B$125","v":"Kücheneinrichtungen"},{"$f":"'Anlagenartenkatalog UZH'!$D$137","v":"Elektrokochherd"},{"$f":"Hilfstabelle!$O$15","v":"Garantieende"},"Text","06.06.2035"]
[null,null,{"$f":"'Anlagenartenkatalog UZH'!$B$125","v":"Kücheneinrichtungen"},{"$f":"'Anlagenartenkatalog UZH'!$D$137","v":"Elektrokochherd"},{"$f":"Hilfstabelle!$O$16","v":"Erwartetes technisches Enddatum"},"Text","06.06.2045"]
[null,null,{"$f":"'Anlagenartenkatalog UZH'!$B$125","v":"Kücheneinrichtungen"},{"$f":"'Anlagenartenkatalog UZH'!$D$137","v":"Elektrokochherd"},"Anmerkung: Zuständigkeit","Text","Zuständigkeit: UZH",{"$f":"Hilfstabelle!$P$11","v":"Bei mobilen Geräten (steckbar / mit eigenem Kompressor) ist die Gastronomie zuständig. Für festverbaute Anlagen / am Kältenetz ist die UZH zuständig."}]
[null,null,{"$f":"'Anlagenartenkatalog UZH'!$B$125","v":"Kücheneinrichtungen"},{"$f":"'Anlagenartenkatalog UZH'!$D$137","v":"Elektrokochherd"},{"$f":"Hilfstabelle!$O$17","v":"Anmerkung: Anzahl Wartungen pro Jahr"},"Text","Anzahl Wartungen pro Jahr: 1"]
[null,null,{"$f":"'Anlagenartenkatalog UZH'!$B$125","v":"Kücheneinrichtungen"},{"$f":"'Anlagenartenkatalog UZH'!$D$138","v":"Ofen"},{"$f":"Hilfstabelle!$O$3","v":"Code (MSRL-Code)"},"Text","MEN-§1654899474"]
[null,null,{"$f":"'Anlagenartenkatalog UZH'!$B$125","v":"Kücheneinrichtungen"},{"$f":"'Anlagenartenkatalog UZH'!$D$138","v":"Ofen"},{"$f":"Hilfstabelle!$O$4","v":"Bezeichnung"},"Text","Ofen 4",{"$f":"Hilfstabelle!$P$7","v":"Die Bezeichnung einer Anlage muss eindeutig sein, sofern mehrere Anlagen im gleichen Raum sind. "}]
[null,null,{"$f":"'Anlagenartenkatalog UZH'!$B$125","v":"Kücheneinrichtungen"},{"$f":"'Anlagenartenkatalog UZH'!$D$138","v":"Ofen"},{"$f":"Hilfstabelle!$O$5","v":"Anlagentyp (Beschreibung)"},"Text",null,{"$f":"Hilfstabelle!$P$8","v":"Verbindlich gemäss Anlagenartenkatalog"}]
[null,null,{"$f":"'Anlagenartenkatalog UZH'!$B$125","v":"Kücheneinrichtungen"},{"$f":"'Anlagenartenkatalog UZH'!$D$138","v":"Ofen"},{"$f":"Hilfstabelle!$O$6","v":"Artikelgruppe"},"Text",{"$f":"'Anlagenartenkatalog UZH'!$A$125","v":"04.07"}]
[null,null,{"$f":"'Anlagenartenkatalog UZH'!$B$125","v":"Kücheneinrichtungen"},{"$f":"'Anlagenartenkatalog UZH'!$D$138","v":"Ofen"},{"$f":"Hilfstabelle!$O$7","v":"Hauptanlage"},"Text","Ja"]
[null,null,{"$f":"'Anlagenartenkatalog UZH'!$B$125","v":"Kücheneinrichtungen"},{"$f":"'Anlagenartenkatalog UZH'!$D$138","v":"Ofen"},{"$f":"Hilfstabelle!$O$8","v":"Objekt"},"Text","MEN"]
[null,null,{"$f":"'Anlagenartenkatalog UZH'!$B$125","v":"Kücheneinrichtungen"},{"$f":"'Anlagenartenkatalog UZH'!$D$138","v":"Ofen"},{"$f":"Hilfstabelle!$O$9","v":"Raumkennzeichen"},"Text","A-18"]
[null,null,{"$f":"'Anlagenartenkatalog UZH'!$B$125","v":"Kücheneinrichtungen"},{"$f":"'Anlagenartenkatalog UZH'!$D$138","v":"Ofen"},{"$f":"Hilfstabelle!$O$10","v":"Hersteller / Marke"},"Text","Intergastro GmbH & Co. KG"]
[null,null,{"$f":"'Anlagenartenkatalog UZH'!$B$125","v":"Kücheneinrichtungen"},{"$f":"'Anlagenartenkatalog UZH'!$D$138","v":"Ofen"},{"$f":"Hilfstabelle!$O$11","v":"Modell / Artikel"},"Text","AT90 - Bartscher"]
[null,null,{"$f":"'Anlagenartenkatalog UZH'!$B$125","v":"Kücheneinrichtungen"},{"$f":"'Anlagenartenkatalog UZH'!$D$138","v":"Ofen"},{"$f":"Hilfstabelle!$O$12","v":"Seriennummer"},"Text","27327234"]
[null,null,{"$f":"'Anlagenartenkatalog UZH'!$B$125","v":"Kücheneinrichtungen"},{"$f":"'Anlagenartenkatalog UZH'!$D$138","v":"Ofen"},{"$f":"Hilfstabelle!$O$13","v":"Servicefirma"},"Text","Intergastro GmbH & Co. KG",{"$f":"Hilfstabelle!$P$10","v":"Gemäss Offerte in Submission"}]
[null,null,{"$f":"'Anlagenartenkatalog UZH'!$B$125","v":"Kücheneinrichtungen"},{"$f":"'Anlagenartenkatalog UZH'!$D$138","v":"Ofen"},{"$f":"Hilfstabelle!$O$14","v":"Inbetriebnahmedatum"},"Text","06.06.2030"]
[null,null,{"$f":"'Anlagenartenkatalog UZH'!$B$125","v":"Kücheneinrichtungen"},{"$f":"'Anlagenartenkatalog UZH'!$D$138","v":"Ofen"},{"$f":"Hilfstabelle!$O$15","v":"Garantieende"},"Text","06.06.2035"]
[null,null,{"$f":"'Anlagenartenkatalog UZH'!$B$125","v":"Kücheneinrichtungen"},{"$f":"'Anlagenartenkatalog UZH'!$D$138","v":"Ofen"},{"$f":"Hilfstabelle!$O$16","v":"Erwartetes technisches Enddatum"},"Text","06.06.2045"]
[null,null,{"$f":"'Anlagenartenkatalog UZH'!$B$125","v":"Kücheneinrichtungen"},{"$f":"'Anlagenartenkatalog UZH'!$D$138","v":"Ofen"},"Anmerkung: Zuständigkeit","Text","Zuständigkeit: UZH",{"$f":"Hilfstabelle!$P$11","v":"Bei mobilen Geräten (steckbar / mit eigenem Kompressor) ist die Gastronomie zuständig. Für festverbaute Anlagen / am Kältenetz ist die UZH zuständig."}]
[null,null,{"$f":"'Anlagenartenkatalog UZH'!$B$125","v":"Kücheneinrichtungen"},{"$f":"'Anlagenartenkatalog UZH'!$D$138","v":"Ofen"},{"$f":"Hilfstabelle!$O$17","v":"Anmerkung: Anzahl Wartungen pro Jahr"},"Text","Anzahl Wartungen pro Jahr: 1"]
[null,null,{"$f":"'Anlagenartenkatalog UZH'!$B$125","v":"Kücheneinrichtungen"},{"$f":"'Anlagenartenkatalog UZH'!$D$139","v":"Tellerwärmevorrichtung"},{"$f":"Hilfstabelle!$O$3","v":"Code (MSRL-Code)"},"Text","MEN-§1654899474"]
[null,null,{"$f":"'Anlagenartenkatalog UZH'!$B$125","v":"Kücheneinrichtungen"},{"$f":"'Anlagenartenkatalog UZH'!$D$139","v":"Tellerwärmevorrichtung"},{"$f":"Hilfstabelle!$O$4","v":"Bezeichnung"},"Text","Tellerwärmevorrichtung 8",{"$f":"Hilfstabelle!$P$7","v":"Die Bezeichnung einer Anlage muss eindeutig sein, sofern mehrere Anlagen im gleichen Raum sind. "}]
[null,null,{"$f":"'Anlagenartenkatalog UZH'!$B$125","v":"Kücheneinrichtungen"},{"$f":"'Anlagenartenkatalog UZH'!$D$139","v":"Tellerwärmevorrichtung"},{"$f":"Hilfstabelle!$O$5","v":"Anlagentyp (Beschreibung)"},"Text",null,"Verbindlich gemäss Anlagenartenkatalog. \"Tellerwärmevorrichtung\" wird als Überbegriff für Tellerwärmeschrank, Tellerwermeschubladen, Tassenwärmestapel usw. verwendet."]
[null,null,{"$f":"'Anlagenartenkatalog UZH'!$B$125","v":"Kücheneinrichtungen"},{"$f":"'Anlagenartenkatalog UZH'!$D$139","v":"Tellerwärmevorrichtung"},{"$f":"Hilfstabelle!$O$6","v":"Artikelgruppe"},"Text",{"$f":"'Anlagenartenkatalog UZH'!$A$125","v":"04.07"}]
[null,null,{"$f":"'Anlagenartenkatalog UZH'!$B$125","v":"Kücheneinrichtungen"},{"$f":"'Anlagenartenkatalog UZH'!$D$139","v":"Tellerwärmevorrichtung"},{"$f":"Hilfstabelle!$O$7","v":"Hauptanlage"},"Text","Ja"]
[null,null,{"$f":"'Anlagenartenkatalog UZH'!$B$125","v":"Kücheneinrichtungen"},{"$f":"'Anlagenartenkatalog UZH'!$D$139","v":"Tellerwärmevorrichtung"},{"$f":"Hilfstabelle!$O$8","v":"Objekt"},"Text","MEN"]
[null,null,{"$f":"'Anlagenartenkatalog UZH'!$B$125","v":"Kücheneinrichtungen"},{"$f":"'Anlagenartenkatalog UZH'!$D$139","v":"Tellerwärmevorrichtung"},{"$f":"Hilfstabelle!$O$9","v":"Raumkennzeichen"},"Text","A-18"]
[null,null,{"$f":"'Anlagenartenkatalog UZH'!$B$125","v":"Kücheneinrichtungen"},{"$f":"'Anlagenartenkatalog UZH'!$D$139","v":"Tellerwärmevorrichtung"},{"$f":"Hilfstabelle!$O$10","v":"Hersteller / Marke"},"Text","Maxima"]
[null,null,{"$f":"'Anlagenartenkatalog UZH'!$B$125","v":"Kücheneinrichtungen"},{"$f":"'Anlagenartenkatalog UZH'!$D$139","v":"Tellerwärmevorrichtung"},{"$f":"Hilfstabelle!$O$11","v":"Modell / Artikel"},"Text","TWHB80"]
[null,null,{"$f":"'Anlagenartenkatalog UZH'!$B$125","v":"Kücheneinrichtungen"},{"$f":"'Anlagenartenkatalog UZH'!$D$139","v":"Tellerwärmevorrichtung"},{"$f":"Hilfstabelle!$O$12","v":"Seriennummer"},"Text","362361"]
[null,null,{"$f":"'Anlagenartenkatalog UZH'!$B$125","v":"Kücheneinrichtungen"},{"$f":"'Anlagenartenkatalog UZH'!$D$139","v":"Tellerwärmevorrichtung"},{"$f":"Hilfstabelle!$O$13","v":"Servicefirma"},"Text","Maxima",{"$f":"Hilfstabelle!$P$10","v":"Gemäss Offerte in Submission"}]
[null,null,{"$f":"'Anlagenartenkatalog UZH'!$B$125","v":"Kücheneinrichtungen"},{"$f":"'Anlagenartenkatalog UZH'!$D$139","v":"Tellerwärmevorrichtung"},{"$f":"Hilfstabelle!$O$14","v":"Inbetriebnahmedatum"},"Text","06.06.2030"]
[null,null,{"$f":"'Anlagenartenkatalog UZH'!$B$125","v":"Kücheneinrichtungen"},{"$f":"'Anlagenartenkatalog UZH'!$D$139","v":"Tellerwärmevorrichtung"},{"$f":"Hilfstabelle!$O$15","v":"Garantieende"},"Text","06.06.2035"]
[null,null,{"$f":"'Anlagenartenkatalog UZH'!$B$125","v":"Kücheneinrichtungen"},{"$f":"'Anlagenartenkatalog UZH'!$D$139","v":"Tellerwärmevorrichtung"},{"$f":"Hilfstabelle!$O$16","v":"Erwartetes technisches Enddatum"},"Text","06.06.2045"]
[null,null,{"$f":"'Anlagenartenkatalog UZH'!$B$125","v":"Kücheneinrichtungen"},{"$f":"'Anlagenartenkatalog UZH'!$D$139","v":"Tellerwärmevorrichtung"},"Anmerkung: Zuständigkeit","Text","Zuständigkeit: Gastro",{"$f":"Hilfstabelle!$P$11","v":"Bei mobilen Geräten (steckbar / mit eigenem Kompressor) ist die Gastronomie zuständig. Für festverbaute Anlagen / am Kältenetz ist die UZH zuständig."}]
[null,null,{"$f":"'Anlagenartenkatalog UZH'!$B$125","v":"Kücheneinrichtungen"},{"$f":"'Anlagenartenkatalog UZH'!$D$139","v":"Tellerwärmevorrichtung"},{"$f":"Hilfstabelle!$O$17","v":"Anmerkung: Anzahl Wartungen pro Jahr"},"Text","Anzahl Wartungen pro Jahr: 1"]
[null,null,{"$f":"'Anlagenartenkatalog UZH'!$B$125","v":"Kücheneinrichtungen"},{"$f":"'Anlagenartenkatalog UZH'!$D$140","v":"Steamer"},{"$f":"Hilfstabelle!$O$3","v":"Code (MSRL-Code)"},"Text","MEN-§1654899474"]
[null,null,{"$f":"'Anlagenartenkatalog UZH'!$B$125","v":"Kücheneinrichtungen"},{"$f":"'Anlagenartenkatalog UZH'!$D$140","v":"Steamer"},{"$f":"Hilfstabelle!$O$4","v":"Bezeichnung"},"Text","Stamer 2",{"$f":"Hilfstabelle!$P$7","v":"Die Bezeichnung einer Anlage muss eindeutig sein, sofern mehrere Anlagen im gleichen Raum sind. "}]
[null,null,{"$f":"'Anlagenartenkatalog UZH'!$B$125","v":"Kücheneinrichtungen"},{"$f":"'Anlagenartenkatalog UZH'!$D$140","v":"Steamer"},{"$f":"Hilfstabelle!$O$5","v":"Anlagentyp (Beschreibung)"},"Text",null,"Verbindlich gemäss Anlagenartenkatalog (inkl. Heissluftdämpfer)"]
[null,null,{"$f":"'Anlagenartenkatalog UZH'!$B$125","v":"Kücheneinrichtungen"},{"$f":"'Anlagenartenkatalog UZH'!$D$140","v":"Steamer"},{"$f":"Hilfstabelle!$O$6","v":"Artikelgruppe"},"Text",{"$f":"'Anlagenartenkatalog UZH'!$A$125","v":"04.07"}]
[null,null,{"$f":"'Anlagenartenkatalog UZH'!$B$125","v":"Kücheneinrichtungen"},{"$f":"'Anlagenartenkatalog UZH'!$D$140","v":"Steamer"},{"$f":"Hilfstabelle!$O$7","v":"Hauptanlage"},"Text","Ja"]
[null,null,{"$f":"'Anlagenartenkatalog UZH'!$B$125","v":"Kücheneinrichtungen"},{"$f":"'Anlagenartenkatalog UZH'!$D$140","v":"Steamer"},{"$f":"Hilfstabelle!$O$8","v":"Objekt"},"Text","MEN"]
[null,null,{"$f":"'Anlagenartenkatalog UZH'!$B$125","v":"Kücheneinrichtungen"},{"$f":"'Anlagenartenkatalog UZH'!$D$140","v":"Steamer"},{"$f":"Hilfstabelle!$O$9","v":"Raumkennzeichen"},"Text","A-18"]
[null,null,{"$f":"'Anlagenartenkatalog UZH'!$B$125","v":"Kücheneinrichtungen"},{"$f":"'Anlagenartenkatalog UZH'!$D$140","v":"Steamer"},{"$f":"Hilfstabelle!$O$10","v":"Hersteller / Marke"},"Text","Hugentobler AG"]
[null,null,{"$f":"'Anlagenartenkatalog UZH'!$B$125","v":"Kücheneinrichtungen"},{"$f":"'Anlagenartenkatalog UZH'!$D$140","v":"Steamer"},{"$f":"Hilfstabelle!$O$11","v":"Modell / Artikel"},"Text","HG 3000"]
[null,null,{"$f":"'Anlagenartenkatalog UZH'!$B$125","v":"Kücheneinrichtungen"},{"$f":"'Anlagenartenkatalog UZH'!$D$140","v":"Steamer"},{"$f":"Hilfstabelle!$O$12","v":"Seriennummer"},"Text","64.24815"]
[null,null,{"$f":"'Anlagenartenkatalog UZH'!$B$125","v":"Kücheneinrichtungen"},{"$f":"'Anlagenartenkatalog UZH'!$D$140","v":"Steamer"},{"$f":"Hilfstabelle!$O$13","v":"Servicefirma"},"Text","Hugentobler AG",{"$f":"Hilfstabelle!$P$10","v":"Gemäss Offerte in Submission"}]
[null,null,{"$f":"'Anlagenartenkatalog UZH'!$B$125","v":"Kücheneinrichtungen"},{"$f":"'Anlagenartenkatalog UZH'!$D$140","v":"Steamer"},{"$f":"Hilfstabelle!$O$14","v":"Inbetriebnahmedatum"},"Text","06.06.2030"]
[null,null,{"$f":"'Anlagenartenkatalog UZH'!$B$125","v":"Kücheneinrichtungen"},{"$f":"'Anlagenartenkatalog UZH'!$D$140","v":"Steamer"},{"$f":"Hilfstabelle!$O$15","v":"Garantieende"},"Text","06.06.2035"]
[null,null,{"$f":"'Anlagenartenkatalog UZH'!$B$125","v":"Kücheneinrichtungen"},{"$f":"'Anlagenartenkatalog UZH'!$D$140","v":"Steamer"},{"$f":"Hilfstabelle!$O$16","v":"Erwartetes technisches Enddatum"},"Text","06.06.2045"]
[null,null,{"$f":"'Anlagenartenkatalog UZH'!$B$125","v":"Kücheneinrichtungen"},{"$f":"'Anlagenartenkatalog UZH'!$D$140","v":"Steamer"},"Anmerkung: Zuständigkeit","Text","Zuständigkeit: Gastro",{"$f":"Hilfstabelle!$P$11","v":"Bei mobilen Geräten (steckbar / mit eigenem Kompressor) ist die Gastronomie zuständig. Für festverbaute Anlagen / am Kältenetz ist die UZH zuständig."}]
[null,null,{"$f":"'Anlagenartenkatalog UZH'!$B$125","v":"Kücheneinrichtungen"},{"$f":"'Anlagenartenkatalog UZH'!$D$140","v":"Steamer"},{"$f":"Hilfstabelle!$O$17","v":"Anmerkung: Anzahl Wartungen pro Jahr"},"Text","Anzahl Wartungen pro Jahr: 1"]
[null,null,{"$f":"'Anlagenartenkatalog UZH'!$B$125","v":"Kücheneinrichtungen"},{"$f":"'Anlagenartenkatalog UZH'!$D$141","v":"Abfallkühlschrank"},{"$f":"Hilfstabelle!$O$3","v":"Code (MSRL-Code)"},"Text","MEN-§1654899474"]
[null,null,{"$f":"'Anlagenartenkatalog UZH'!$B$125","v":"Kücheneinrichtungen"},{"$f":"'Anlagenartenkatalog UZH'!$D$141","v":"Abfallkühlschrank"},{"$f":"Hilfstabelle!$O$4","v":"Bezeichnung"},"Text","Abfallkühlschrank 4",{"$f":"Hilfstabelle!$P$7","v":"Die Bezeichnung einer Anlage muss eindeutig sein, sofern mehrere Anlagen im gleichen Raum sind. "}]
[null,null,{"$f":"'Anlagenartenkatalog UZH'!$B$125","v":"Kücheneinrichtungen"},{"$f":"'Anlagenartenkatalog UZH'!$D$141","v":"Abfallkühlschrank"},{"$f":"Hilfstabelle!$O$5","v":"Anlagentyp (Beschreibung)"},"Text",null,{"$f":"Hilfstabelle!$P$8","v":"Verbindlich gemäss Anlagenartenkatalog"}]
[null,null,{"$f":"'Anlagenartenkatalog UZH'!$B$125","v":"Kücheneinrichtungen"},{"$f":"'Anlagenartenkatalog UZH'!$D$141","v":"Abfallkühlschrank"},{"$f":"Hilfstabelle!$O$6","v":"Artikelgruppe"},"Text",{"$f":"'Anlagenartenkatalog UZH'!$A$125","v":"04.07"}]
[null,null,{"$f":"'Anlagenartenkatalog UZH'!$B$125","v":"Kücheneinrichtungen"},{"$f":"'Anlagenartenkatalog UZH'!$D$141","v":"Abfallkühlschrank"},{"$f":"Hilfstabelle!$O$7","v":"Hauptanlage"},"Text","Ja"]
[null,null,{"$f":"'Anlagenartenkatalog UZH'!$B$125","v":"Kücheneinrichtungen"},{"$f":"'Anlagenartenkatalog UZH'!$D$141","v":"Abfallkühlschrank"},{"$f":"Hilfstabelle!$O$8","v":"Objekt"},"Text","MEN"]
[null,null,{"$f":"'Anlagenartenkatalog UZH'!$B$125","v":"Kücheneinrichtungen"},{"$f":"'Anlagenartenkatalog UZH'!$D$141","v":"Abfallkühlschrank"},{"$f":"Hilfstabelle!$O$9","v":"Raumkennzeichen"},"Text","A-18"]
[null,null,{"$f":"'Anlagenartenkatalog UZH'!$B$125","v":"Kücheneinrichtungen"},{"$f":"'Anlagenartenkatalog UZH'!$D$141","v":"Abfallkühlschrank"},{"$f":"Hilfstabelle!$O$10","v":"Hersteller / Marke"},"Text","Intergastro GmbH & Co. KG"]
[null,null,{"$f":"'Anlagenartenkatalog UZH'!$B$125","v":"Kücheneinrichtungen"},{"$f":"'Anlagenartenkatalog UZH'!$D$141","v":"Abfallkühlschrank"},{"$f":"Hilfstabelle!$O$11","v":"Modell / Artikel"},"Text","KOMORA 2"]
[null,null,{"$f":"'Anlagenartenkatalog UZH'!$B$125","v":"Kücheneinrichtungen"},{"$f":"'Anlagenartenkatalog UZH'!$D$141","v":"Abfallkühlschrank"},{"$f":"Hilfstabelle!$O$12","v":"Seriennummer"},"Text","6435468"]
[null,null,{"$f":"'Anlagenartenkatalog UZH'!$B$125","v":"Kücheneinrichtungen"},{"$f":"'Anlagenartenkatalog UZH'!$D$141","v":"Abfallkühlschrank"},{"$f":"Hilfstabelle!$O$13","v":"Servicefirma"},"Text","Intergastro GmbH & Co. KG",{"$f":"Hilfstabelle!$P$10","v":"Gemäss Offerte in Submission"}]
[null,null,{"$f":"'Anlagenartenkatalog UZH'!$B$125","v":"Kücheneinrichtungen"},{"$f":"'Anlagenartenkatalog UZH'!$D$141","v":"Abfallkühlschrank"},{"$f":"Hilfstabelle!$O$14","v":"Inbetriebnahmedatum"},"Text","06.06.2030"]
[null,null,{"$f":"'Anlagenartenkatalog UZH'!$B$125","v":"Kücheneinrichtungen"},{"$f":"'Anlagenartenkatalog UZH'!$D$141","v":"Abfallkühlschrank"},{"$f":"Hilfstabelle!$O$15","v":"Garantieende"},"Text","06.06.2035"]
[null,null,{"$f":"'Anlagenartenkatalog UZH'!$B$125","v":"Kücheneinrichtungen"},{"$f":"'Anlagenartenkatalog UZH'!$D$141","v":"Abfallkühlschrank"},{"$f":"Hilfstabelle!$O$16","v":"Erwartetes technisches Enddatum"},"Text","06.06.2045"]
[null,null,{"$f":"'Anlagenartenkatalog UZH'!$B$125","v":"Kücheneinrichtungen"},{"$f":"'Anlagenartenkatalog UZH'!$D$141","v":"Abfallkühlschrank"},"Anmerkung: Kältemittel","Text","Kältemittel: R290"]
[null,null,{"$f":"'Anlagenartenkatalog UZH'!$B$125","v":"Kücheneinrichtungen"},{"$f":"'Anlagenartenkatalog UZH'!$D$141","v":"Abfallkühlschrank"},"Anmerkung: Füllmenge Kältemittel [kg]","Text","Füllmenge Kältemittel: 0.13kg"]
[null,null,{"$f":"'Anlagenartenkatalog UZH'!$B$125","v":"Kücheneinrichtungen"},{"$f":"'Anlagenartenkatalog UZH'!$D$141","v":"Abfallkühlschrank"},"Anmerkung: Meldekarte (Vignette)","Text","Meldekarte (Vignette): Nein",{"$f":"Hilfstabelle!$P$12","v":"Nein oder 16-Stellige Zahl"}]
[null,null,{"$f":"'Anlagenartenkatalog UZH'!$B$125","v":"Kücheneinrichtungen"},{"$f":"'Anlagenartenkatalog UZH'!$D$141","v":"Abfallkühlschrank"},"Anmerkung: Zuständigkeit","Text","Zuständigkeit: Gastro",{"$f":"Hilfstabelle!$P$11","v":"Bei mobilen Geräten (steckbar / mit eigenem Kompressor) ist die Gastronomie zuständig. Für festverbaute Anlagen / am Kältenetz ist die UZH zuständig."}]
[null,null,{"$f":"'Anlagenartenkatalog UZH'!$B$125","v":"Kücheneinrichtungen"},{"$f":"'Anlagenartenkatalog UZH'!$D$141","v":"Abfallkühlschrank"},{"$f":"Hilfstabelle!$O$17","v":"Anmerkung: Anzahl Wartungen pro Jahr"},"Text","Anzahl Wartungen pro Jahr: 1"]
[null,null,{"$f":"'Anlagenartenkatalog UZH'!$B$125","v":"Kücheneinrichtungen"},{"$f":"'Anlagenartenkatalog UZH'!$D$142","v":"Haubenspülmaschine"},{"$f":"Hilfstabelle!$O$3","v":"Code (MSRL-Code)"},"Text","MEN-§1654899474"]
[null,null,{"$f":"'Anlagenartenkatalog UZH'!$B$125","v":"Kücheneinrichtungen"},{"$f":"'Anlagenartenkatalog UZH'!$D$142","v":"Haubenspülmaschine"},{"$f":"Hilfstabelle!$O$4","v":"Bezeichnung"},"Text","Haubenspülmaschine 1",{"$f":"Hilfstabelle!$P$7","v":"Die Bezeichnung einer Anlage muss eindeutig sein, sofern mehrere Anlagen im gleichen Raum sind. "}]
[null,null,{"$f":"'Anlagenartenkatalog UZH'!$B$125","v":"Kücheneinrichtungen"},{"$f":"'Anlagenartenkatalog UZH'!$D$142","v":"Haubenspülmaschine"},{"$f":"Hilfstabelle!$O$5","v":"Anlagentyp (Beschreibung)"},"Text",null,{"$f":"Hilfstabelle!$P$8","v":"Verbindlich gemäss Anlagenartenkatalog"}]
[null,null,{"$f":"'Anlagenartenkatalog UZH'!$B$125","v":"Kücheneinrichtungen"},{"$f":"'Anlagenartenkatalog UZH'!$D$142","v":"Haubenspülmaschine"},{"$f":"Hilfstabelle!$O$6","v":"Artikelgruppe"},"Text",{"$f":"'Anlagenartenkatalog UZH'!$A$125","v":"04.07"}]
[null,null,{"$f":"'Anlagenartenkatalog UZH'!$B$125","v":"Kücheneinrichtungen"},{"$f":"'Anlagenartenkatalog UZH'!$D$142","v":"Haubenspülmaschine"},{"$f":"Hilfstabelle!$O$7","v":"Hauptanlage"},"Text","Ja"]
[null,null,{"$f":"'Anlagenartenkatalog UZH'!$B$125","v":"Kücheneinrichtungen"},{"$f":"'Anlagenartenkatalog UZH'!$D$142","v":"Haubenspülmaschine"},{"$f":"Hilfstabelle!$O$8","v":"Objekt"},"Text","MEN"]
[null,null,{"$f":"'Anlagenartenkatalog UZH'!$B$125","v":"Kücheneinrichtungen"},{"$f":"'Anlagenartenkatalog UZH'!$D$142","v":"Haubenspülmaschine"},{"$f":"Hilfstabelle!$O$9","v":"Raumkennzeichen"},"Text","A-18"]
[null,null,{"$f":"'Anlagenartenkatalog UZH'!$B$125","v":"Kücheneinrichtungen"},{"$f":"'Anlagenartenkatalog UZH'!$D$142","v":"Haubenspülmaschine"},{"$f":"Hilfstabelle!$O$10","v":"Hersteller / Marke"},"Text","Miele AG"]
[null,null,{"$f":"'Anlagenartenkatalog UZH'!$B$125","v":"Kücheneinrichtungen"},{"$f":"'Anlagenartenkatalog UZH'!$D$142","v":"Haubenspülmaschine"},{"$f":"Hilfstabelle!$O$11","v":"Modell / Artikel"},"Text","PTD 901"]
[null,null,{"$f":"'Anlagenartenkatalog UZH'!$B$125","v":"Kücheneinrichtungen"},{"$f":"'Anlagenartenkatalog UZH'!$D$142","v":"Haubenspülmaschine"},{"$f":"Hilfstabelle!$O$12","v":"Seriennummer"},"Text","6.568654"]
[null,null,{"$f":"'Anlagenartenkatalog UZH'!$B$125","v":"Kücheneinrichtungen"},{"$f":"'Anlagenartenkatalog UZH'!$D$142","v":"Haubenspülmaschine"},{"$f":"Hilfstabelle!$O$13","v":"Servicefirma"},"Text","Miele AG",{"$f":"Hilfstabelle!$P$10","v":"Gemäss Offerte in Submission"}]
[null,null,{"$f":"'Anlagenartenkatalog UZH'!$B$125","v":"Kücheneinrichtungen"},{"$f":"'Anlagenartenkatalog UZH'!$D$142","v":"Haubenspülmaschine"},{"$f":"Hilfstabelle!$O$14","v":"Inbetriebnahmedatum"},"Text","06.06.2030"]
[null,null,{"$f":"'Anlagenartenkatalog UZH'!$B$125","v":"Kücheneinrichtungen"},{"$f":"'Anlagenartenkatalog UZH'!$D$142","v":"Haubenspülmaschine"},{"$f":"Hilfstabelle!$O$15","v":"Garantieende"},"Text","06.06.2035"]
[null,null,{"$f":"'Anlagenartenkatalog UZH'!$B$125","v":"Kücheneinrichtungen"},{"$f":"'Anlagenartenkatalog UZH'!$D$142","v":"Haubenspülmaschine"},{"$f":"Hilfstabelle!$O$16","v":"Erwartetes technisches Enddatum"},"Text","06.06.2045"]
[null,null,{"$f":"'Anlagenartenkatalog UZH'!$B$125","v":"Kücheneinrichtungen"},{"$f":"'Anlagenartenkatalog UZH'!$D$142","v":"Haubenspülmaschine"},"Anmerkung: Zuständigkeit","Text","Zuständigkeit: UZH",{"$f":"Hilfstabelle!$P$11","v":"Bei mobilen Geräten (steckbar / mit eigenem Kompressor) ist die Gastronomie zuständig. Für festverbaute Anlagen / am Kältenetz ist die UZH zuständig."}]
[null,null,{"$f":"'Anlagenartenkatalog UZH'!$B$125","v":"Kücheneinrichtungen"},{"$f":"'Anlagenartenkatalog UZH'!$D$142","v":"Haubenspülmaschine"},{"$f":"Hilfstabelle!$O$17","v":"Anmerkung: Anzahl Wartungen pro Jahr"},"Text","Anzahl Wartungen pro Jahr: 1"]
[null,null,{"$f":"'Anlagenartenkatalog UZH'!$B$125","v":"Kücheneinrichtungen"},{"$f":"'Anlagenartenkatalog UZH'!$D$143","v":"Gläserspülmaschine"},{"$f":"Hilfstabelle!$O$3","v":"Code (MSRL-Code)"},"Text","MEN-§1654899474"]
[null,null,{"$f":"'Anlagenartenkatalog UZH'!$B$125","v":"Kücheneinrichtungen"},{"$f":"'Anlagenartenkatalog UZH'!$D$143","v":"Gläserspülmaschine"},{"$f":"Hilfstabelle!$O$4","v":"Bezeichnung"},"Text","Gläserspülmaschine 3",{"$f":"Hilfstabelle!$P$7","v":"Die Bezeichnung einer Anlage muss eindeutig sein, sofern mehrere Anlagen im gleichen Raum sind. "}]
[null,null,{"$f":"'Anlagenartenkatalog UZH'!$B$125","v":"Kücheneinrichtungen"},{"$f":"'Anlagenartenkatalog UZH'!$D$143","v":"Gläserspülmaschine"},{"$f":"Hilfstabelle!$O$5","v":"Anlagentyp (Beschreibung)"},"Text",null,{"$f":"Hilfstabelle!$P$8","v":"Verbindlich gemäss Anlagenartenkatalog"}]
[null,null,{"$f":"'Anlagenartenkatalog UZH'!$B$125","v":"Kücheneinrichtungen"},{"$f":"'Anlagenartenkatalog UZH'!$D$143","v":"Gläserspülmaschine"},{"$f":"Hilfstabelle!$O$6","v":"Artikelgruppe"},"Text",{"$f":"'Anlagenartenkatalog UZH'!$A$125","v":"04.07"}]
[null,null,{"$f":"'Anlagenartenkatalog UZH'!$B$125","v":"Kücheneinrichtungen"},{"$f":"'Anlagenartenkatalog UZH'!$D$143","v":"Gläserspülmaschine"},{"$f":"Hilfstabelle!$O$7","v":"Hauptanlage"},"Text","Ja"]
[null,null,{"$f":"'Anlagenartenkatalog UZH'!$B$125","v":"Kücheneinrichtungen"},{"$f":"'Anlagenartenkatalog UZH'!$D$143","v":"Gläserspülmaschine"},{"$f":"Hilfstabelle!$O$8","v":"Objekt"},"Text","MEN "]
[null,null,{"$f":"'Anlagenartenkatalog UZH'!$B$125","v":"Kücheneinrichtungen"},{"$f":"'Anlagenartenkatalog UZH'!$D$143","v":"Gläserspülmaschine"},{"$f":"Hilfstabelle!$O$9","v":"Raumkennzeichen"},"Text","A-18"]
[null,null,{"$f":"'Anlagenartenkatalog UZH'!$B$125","v":"Kücheneinrichtungen"},{"$f":"'Anlagenartenkatalog UZH'!$D$143","v":"Gläserspülmaschine"},{"$f":"Hilfstabelle!$O$10","v":"Hersteller / Marke"},"Text","Miele AG"]
[null,null,{"$f":"'Anlagenartenkatalog UZH'!$B$125","v":"Kücheneinrichtungen"},{"$f":"'Anlagenartenkatalog UZH'!$D$143","v":"Gläserspülmaschine"},{"$f":"Hilfstabelle!$O$11","v":"Modell / Artikel"},"Text","PTD 701"]
[null,null,{"$f":"'Anlagenartenkatalog UZH'!$B$125","v":"Kücheneinrichtungen"},{"$f":"'Anlagenartenkatalog UZH'!$D$143","v":"Gläserspülmaschine"},{"$f":"Hilfstabelle!$O$12","v":"Seriennummer"},"Text","354.2158"]
[null,null,{"$f":"'Anlagenartenkatalog UZH'!$B$125","v":"Kücheneinrichtungen"},{"$f":"'Anlagenartenkatalog UZH'!$D$143","v":"Gläserspülmaschine"},{"$f":"Hilfstabelle!$O$13","v":"Servicefirma"},"Text","Miele AG",{"$f":"Hilfstabelle!$P$10","v":"Gemäss Offerte in Submission"}]
[null,null,{"$f":"'Anlagenartenkatalog UZH'!$B$125","v":"Kücheneinrichtungen"},{"$f":"'Anlagenartenkatalog UZH'!$D$143","v":"Gläserspülmaschine"},{"$f":"Hilfstabelle!$O$14","v":"Inbetriebnahmedatum"},"Text","06.06.2030"]
[null,null,{"$f":"'Anlagenartenkatalog UZH'!$B$125","v":"Kücheneinrichtungen"},{"$f":"'Anlagenartenkatalog UZH'!$D$143","v":"Gläserspülmaschine"},{"$f":"Hilfstabelle!$O$15","v":"Garantieende"},"Text","06.06.2035"]
[null,null,{"$f":"'Anlagenartenkatalog UZH'!$B$125","v":"Kücheneinrichtungen"},{"$f":"'Anlagenartenkatalog UZH'!$D$143","v":"Gläserspülmaschine"},{"$f":"Hilfstabelle!$O$16","v":"Erwartetes technisches Enddatum"},"Text","06.06.2045"]
[null,null,{"$f":"'Anlagenartenkatalog UZH'!$B$125","v":"Kücheneinrichtungen"},{"$f":"'Anlagenartenkatalog UZH'!$D$143","v":"Gläserspülmaschine"},"Anmerkung: Zuständigkeit","Text","Zuständigkeit: UZH",{"$f":"Hilfstabelle!$P$11","v":"Bei mobilen Geräten (steckbar / mit eigenem Kompressor) ist die Gastronomie zuständig. Für festverbaute Anlagen / am Kältenetz ist die UZH zuständig."}]
[null,null,{"$f":"'Anlagenartenkatalog UZH'!$B$125","v":"Kücheneinrichtungen"},{"$f":"'Anlagenartenkatalog UZH'!$D$143","v":"Gläserspülmaschine"},{"$f":"Hilfstabelle!$O$17","v":"Anmerkung: Anzahl Wartungen pro Jahr"},"Text","Anzahl Wartungen pro Jahr: 1"]
[null,null,{"$f":"'Anlagenartenkatalog UZH'!$B$125","v":"Kücheneinrichtungen"},{"$f":"'Anlagenartenkatalog UZH'!$D$144","v":"Schockfroster"},{"$f":"Hilfstabelle!$O$3","v":"Code (MSRL-Code)"},"Text","MEN-§1654899474"]
[null,null,{"$f":"'Anlagenartenkatalog UZH'!$B$125","v":"Kücheneinrichtungen"},{"$f":"'Anlagenartenkatalog UZH'!$D$144","v":"Schockfroster"},{"$f":"Hilfstabelle!$O$4","v":"Bezeichnung"},"Text","Schockfroster 2",{"$f":"Hilfstabelle!$P$7","v":"Die Bezeichnung einer Anlage muss eindeutig sein, sofern mehrere Anlagen im gleichen Raum sind. "}]
[null,null,{"$f":"'Anlagenartenkatalog UZH'!$B$125","v":"Kücheneinrichtungen"},{"$f":"'Anlagenartenkatalog UZH'!$D$144","v":"Schockfroster"},{"$f":"Hilfstabelle!$O$5","v":"Anlagentyp (Beschreibung)"},"Text",null,{"$f":"Hilfstabelle!$P$8","v":"Verbindlich gemäss Anlagenartenkatalog"}]
[null,null,{"$f":"'Anlagenartenkatalog UZH'!$B$125","v":"Kücheneinrichtungen"},{"$f":"'Anlagenartenkatalog UZH'!$D$144","v":"Schockfroster"},{"$f":"Hilfstabelle!$O$6","v":"Artikelgruppe"},"Text",{"$f":"'Anlagenartenkatalog UZH'!$A$125","v":"04.07"}]
[null,null,{"$f":"'Anlagenartenkatalog UZH'!$B$125","v":"Kücheneinrichtungen"},{"$f":"'Anlagenartenkatalog UZH'!$D$144","v":"Schockfroster"},{"$f":"Hilfstabelle!$O$7","v":"Hauptanlage"},"Text","Ja"]
[null,null,{"$f":"'Anlagenartenkatalog UZH'!$B$125","v":"Kücheneinrichtungen"},{"$f":"'Anlagenartenkatalog UZH'!$D$144","v":"Schockfroster"},{"$f":"Hilfstabelle!$O$8","v":"Objekt"},"Text","MEN"]
[null,null,{"$f":"'Anlagenartenkatalog UZH'!$B$125","v":"Kücheneinrichtungen"},{"$f":"'Anlagenartenkatalog UZH'!$D$144","v":"Schockfroster"},{"$f":"Hilfstabelle!$O$9","v":"Raumkennzeichen"},"Text","A-18"]
[null,null,{"$f":"'Anlagenartenkatalog UZH'!$B$125","v":"Kücheneinrichtungen"},{"$f":"'Anlagenartenkatalog UZH'!$D$144","v":"Schockfroster"},{"$f":"Hilfstabelle!$O$10","v":"Hersteller / Marke"},"Text","Intergastro GmbH & Co. KG"]
[null,null,{"$f":"'Anlagenartenkatalog UZH'!$B$125","v":"Kücheneinrichtungen"},{"$f":"'Anlagenartenkatalog UZH'!$D$144","v":"Schockfroster"},{"$f":"Hilfstabelle!$O$11","v":"Modell / Artikel"},"Text","R 051 SA"]
[null,null,{"$f":"'Anlagenartenkatalog UZH'!$B$125","v":"Kücheneinrichtungen"},{"$f":"'Anlagenartenkatalog UZH'!$D$144","v":"Schockfroster"},{"$f":"Hilfstabelle!$O$12","v":"Seriennummer"},"Text","36353"]
[null,null,{"$f":"'Anlagenartenkatalog UZH'!$B$125","v":"Kücheneinrichtungen"},{"$f":"'Anlagenartenkatalog UZH'!$D$144","v":"Schockfroster"},{"$f":"Hilfstabelle!$O$13","v":"Servicefirma"},"Text","Intergastro GmbH & Co. KG",{"$f":"Hilfstabelle!$P$10","v":"Gemäss Offerte in Submission"}]
[null,null,{"$f":"'Anlagenartenkatalog UZH'!$B$125","v":"Kücheneinrichtungen"},{"$f":"'Anlagenartenkatalog UZH'!$D$144","v":"Schockfroster"},{"$f":"Hilfstabelle!$O$14","v":"Inbetriebnahmedatum"},"Text","06.06.2030"]
[null,null,{"$f":"'Anlagenartenkatalog UZH'!$B$125","v":"Kücheneinrichtungen"},{"$f":"'Anlagenartenkatalog UZH'!$D$144","v":"Schockfroster"},{"$f":"Hilfstabelle!$O$15","v":"Garantieende"},"Text","06.06.2035"]
[null,null,{"$f":"'Anlagenartenkatalog UZH'!$B$125","v":"Kücheneinrichtungen"},{"$f":"'Anlagenartenkatalog UZH'!$D$144","v":"Schockfroster"},{"$f":"Hilfstabelle!$O$16","v":"Erwartetes technisches Enddatum"},"Text","06.06.2045"]
[null,null,{"$f":"'Anlagenartenkatalog UZH'!$B$125","v":"Kücheneinrichtungen"},{"$f":"'Anlagenartenkatalog UZH'!$D$144","v":"Schockfroster"},"Anmerkung: Kältemittel","Text","Kältemittel: R290"]
[null,null,{"$f":"'Anlagenartenkatalog UZH'!$B$125","v":"Kücheneinrichtungen"},{"$f":"'Anlagenartenkatalog UZH'!$D$144","v":"Schockfroster"},"Anmerkung: Füllmenge Kältemittel [kg]","Text","Füllmenge Kältemittel: 0.13kg"]
[null,null,{"$f":"'Anlagenartenkatalog UZH'!$B$125","v":"Kücheneinrichtungen"},{"$f":"'Anlagenartenkatalog UZH'!$D$144","v":"Schockfroster"},"Anmerkung: Meldekarte (Vignette)","Text","Meldekarte (Vignette): Nein",{"$f":"Hilfstabelle!$P$12","v":"Nein oder 16-Stellige Zahl"}]
[null,null,{"$f":"'Anlagenartenkatalog UZH'!$B$125","v":"Kücheneinrichtungen"},{"$f":"'Anlagenartenkatalog UZH'!$D$144","v":"Schockfroster"},"Anmerkung: Zuständigkeit","Text","Zuständigkeit: Gastro",{"$f":"Hilfstabelle!$P$11","v":"Bei mobilen Geräten (steckbar / mit eigenem Kompressor) ist die Gastronomie zuständig. Für festverbaute Anlagen / am Kältenetz ist die UZH zuständig."}]
[null,null,{"$f":"'Anlagenartenkatalog UZH'!$B$125","v":"Kücheneinrichtungen"},{"$f":"'Anlagenartenkatalog UZH'!$D$144","v":"Schockfroster"},{"$f":"Hilfstabelle!$O$17","v":"Anmerkung: Anzahl Wartungen pro Jahr"},"Text","Anzahl Wartungen pro Jahr: 1"]
[null,null,{"$f":"'Anlagenartenkatalog UZH'!$B$125","v":"Kücheneinrichtungen"},{"$f":"'Anlagenartenkatalog UZH'!$D$145","v":"Kühlkorpus"},{"$f":"Hilfstabelle!$O$3","v":"Code (MSRL-Code)"},"Text","MEN-§1654899474"]
[null,null,{"$f":"'Anlagenartenkatalog UZH'!$B$125","v":"Kücheneinrichtungen"},{"$f":"'Anlagenartenkatalog UZH'!$D$145","v":"Kühlkorpus"},{"$f":"Hilfstabelle!$O$4","v":"Bezeichnung"},"Text","Kühlkorpus 1",{"$f":"Hilfstabelle!$P$7","v":"Die Bezeichnung einer Anlage muss eindeutig sein, sofern mehrere Anlagen im gleichen Raum sind. "}]
[null,null,{"$f":"'Anlagenartenkatalog UZH'!$B$125","v":"Kücheneinrichtungen"},{"$f":"'Anlagenartenkatalog UZH'!$D$145","v":"Kühlkorpus"},{"$f":"Hilfstabelle!$O$5","v":"Anlagentyp (Beschreibung)"},"Text",null,{"$f":"Hilfstabelle!$P$8","v":"Verbindlich gemäss Anlagenartenkatalog"}]
[null,null,{"$f":"'Anlagenartenkatalog UZH'!$B$125","v":"Kücheneinrichtungen"},{"$f":"'Anlagenartenkatalog UZH'!$D$145","v":"Kühlkorpus"},{"$f":"Hilfstabelle!$O$6","v":"Artikelgruppe"},"Text",{"$f":"'Anlagenartenkatalog UZH'!$A$125","v":"04.07"}]
[null,null,{"$f":"'Anlagenartenkatalog UZH'!$B$125","v":"Kücheneinrichtungen"},{"$f":"'Anlagenartenkatalog UZH'!$D$145","v":"Kühlkorpus"},{"$f":"Hilfstabelle!$O$7","v":"Hauptanlage"},"Text"]
[null,null,{"$f":"'Anlagenartenkatalog UZH'!$B$125","v":"Kücheneinrichtungen"},{"$f":"'Anlagenartenkatalog UZH'!$D$145","v":"Kühlkorpus"},{"$f":"Hilfstabelle!$O$8","v":"Objekt"},"Text","MEN"]
[null,null,{"$f":"'Anlagenartenkatalog UZH'!$B$125","v":"Kücheneinrichtungen"},{"$f":"'Anlagenartenkatalog UZH'!$D$145","v":"Kühlkorpus"},{"$f":"Hilfstabelle!$O$9","v":"Raumkennzeichen"},"Text","A-18"]
[null,null,{"$f":"'Anlagenartenkatalog UZH'!$B$125","v":"Kücheneinrichtungen"},{"$f":"'Anlagenartenkatalog UZH'!$D$145","v":"Kühlkorpus"},{"$f":"Hilfstabelle!$O$10","v":"Hersteller / Marke"},"Text","GKM AG"]
[null,null,{"$f":"'Anlagenartenkatalog UZH'!$B$125","v":"Kücheneinrichtungen"},{"$f":"'Anlagenartenkatalog UZH'!$D$145","v":"Kühlkorpus"},{"$f":"Hilfstabelle!$O$11","v":"Modell / Artikel"},"Text","MKG-1414-TN-M"]
[null,null,{"$f":"'Anlagenartenkatalog UZH'!$B$125","v":"Kücheneinrichtungen"},{"$f":"'Anlagenartenkatalog UZH'!$D$145","v":"Kühlkorpus"},{"$f":"Hilfstabelle!$O$12","v":"Seriennummer"},"Text","345334"]
[null,null,{"$f":"'Anlagenartenkatalog UZH'!$B$125","v":"Kücheneinrichtungen"},{"$f":"'Anlagenartenkatalog UZH'!$D$145","v":"Kühlkorpus"},{"$f":"Hilfstabelle!$O$13","v":"Servicefirma"},"Text","GKM AG",{"$f":"Hilfstabelle!$P$10","v":"Gemäss Offerte in Submission"}]
[null,null,{"$f":"'Anlagenartenkatalog UZH'!$B$125","v":"Kücheneinrichtungen"},{"$f":"'Anlagenartenkatalog UZH'!$D$145","v":"Kühlkorpus"},{"$f":"Hilfstabelle!$O$14","v":"Inbetriebnahmedatum"},"Text","06.06.2030"]
[null,null,{"$f":"'Anlagenartenkatalog UZH'!$B$125","v":"Kücheneinrichtungen"},{"$f":"'Anlagenartenkatalog UZH'!$D$145","v":"Kühlkorpus"},{"$f":"Hilfstabelle!$O$15","v":"Garantieende"},"Text","06.06.2035"]
[null,null,{"$f":"'Anlagenartenkatalog UZH'!$B$125","v":"Kücheneinrichtungen"},{"$f":"'Anlagenartenkatalog UZH'!$D$145","v":"Kühlkorpus"},{"$f":"Hilfstabelle!$O$16","v":"Erwartetes technisches Enddatum"},"Text","06.06.2045"]
[null,null,{"$f":"'Anlagenartenkatalog UZH'!$B$125","v":"Kücheneinrichtungen"},{"$f":"'Anlagenartenkatalog UZH'!$D$145","v":"Kühlkorpus"},"Anmerkung: Kältemittel","Text",null,"Die Angabe des Kältemittels inkl. Füllmenge wird nur bei eigenem Kompressor benötigt (nicht am Kältenetz angeschlossen)."]
[null,null,{"$f":"'Anlagenartenkatalog UZH'!$B$125","v":"Kücheneinrichtungen"},{"$f":"'Anlagenartenkatalog UZH'!$D$145","v":"Kühlkorpus"},"Anmerkung: Füllmenge Kältemittel [kg]","Text",null,"Die Angabe des Kältemittels inkl. Füllmenge wird nur bei eigenem Kompressor benötigt (nicht am Kältenetz angeschlossen)."]
[null,null,{"$f":"'Anlagenartenkatalog UZH'!$B$125","v":"Kücheneinrichtungen"},{"$f":"'Anlagenartenkatalog UZH'!$D$145","v":"Kühlkorpus"},"Anmerkung: Meldekarte (Vignette)","Text","Meldekarte (Vignette): Nein",{"$f":"Hilfstabelle!$P$12","v":"Nein oder 16-Stellige Zahl"}]
[null,null,{"$f":"'Anlagenartenkatalog UZH'!$B$125","v":"Kücheneinrichtungen"},{"$f":"'Anlagenartenkatalog UZH'!$D$145","v":"Kühlkorpus"},"Anmerkung: Zuständigkeit","Text","Zuständigkeit: UZH",{"$f":"Hilfstabelle!$P$11","v":"Bei mobilen Geräten (steckbar / mit eigenem Kompressor) ist die Gastronomie zuständig. Für festverbaute Anlagen / am Kältenetz ist die UZH zuständig."}]
[null,null,{"$f":"'Anlagenartenkatalog UZH'!$B$125","v":"Kücheneinrichtungen"},{"$f":"'Anlagenartenkatalog UZH'!$D$145","v":"Kühlkorpus"},{"$f":"Hilfstabelle!$O$17","v":"Anmerkung: Anzahl Wartungen pro Jahr"},"Text","Anzahl Wartungen pro Jahr: 1"]
[null,null,{"$f":"'Anlagenartenkatalog UZH'!$B$125","v":"Kücheneinrichtungen"},{"$f":"'Anlagenartenkatalog UZH'!$D$146","v":"Kühlschublade"},{"$f":"Hilfstabelle!$O$3","v":"Code (MSRL-Code)"},"Text","MEN-§1654899474"]
[null,null,{"$f":"'Anlagenartenkatalog UZH'!$B$125","v":"Kücheneinrichtungen"},{"$f":"'Anlagenartenkatalog UZH'!$D$146","v":"Kühlschublade"},{"$f":"Hilfstabelle!$O$4","v":"Bezeichnung"},"Text","Kühlschublade 23",{"$f":"Hilfstabelle!$P$7","v":"Die Bezeichnung einer Anlage muss eindeutig sein, sofern mehrere Anlagen im gleichen Raum sind. "}]
[null,null,{"$f":"'Anlagenartenkatalog UZH'!$B$125","v":"Kücheneinrichtungen"},{"$f":"'Anlagenartenkatalog UZH'!$D$146","v":"Kühlschublade"},{"$f":"Hilfstabelle!$O$5","v":"Anlagentyp (Beschreibung)"},"Text",null,{"$f":"Hilfstabelle!$P$8","v":"Verbindlich gemäss Anlagenartenkatalog"}]
[null,null,{"$f":"'Anlagenartenkatalog UZH'!$B$125","v":"Kücheneinrichtungen"},{"$f":"'Anlagenartenkatalog UZH'!$D$146","v":"Kühlschublade"},{"$f":"Hilfstabelle!$O$6","v":"Artikelgruppe"},"Text",{"$f":"'Anlagenartenkatalog UZH'!$A$125","v":"04.07"}]
[null,null,{"$f":"'Anlagenartenkatalog UZH'!$B$125","v":"Kücheneinrichtungen"},{"$f":"'Anlagenartenkatalog UZH'!$D$146","v":"Kühlschublade"},{"$f":"Hilfstabelle!$O$7","v":"Hauptanlage"},"Text"]
[null,null,{"$f":"'Anlagenartenkatalog UZH'!$B$125","v":"Kücheneinrichtungen"},{"$f":"'Anlagenartenkatalog UZH'!$D$146","v":"Kühlschublade"},{"$f":"Hilfstabelle!$O$8","v":"Objekt"},"Text","MEN"]
[null,null,{"$f":"'Anlagenartenkatalog UZH'!$B$125","v":"Kücheneinrichtungen"},{"$f":"'Anlagenartenkatalog UZH'!$D$146","v":"Kühlschublade"},{"$f":"Hilfstabelle!$O$9","v":"Raumkennzeichen"},"Text","A-18"]
[null,null,{"$f":"'Anlagenartenkatalog UZH'!$B$125","v":"Kücheneinrichtungen"},{"$f":"'Anlagenartenkatalog UZH'!$D$146","v":"Kühlschublade"},{"$f":"Hilfstabelle!$O$10","v":"Hersteller / Marke"},"Text","Intergastro GmbH & Co. KG"]
[null,null,{"$f":"'Anlagenartenkatalog UZH'!$B$125","v":"Kücheneinrichtungen"},{"$f":"'Anlagenartenkatalog UZH'!$D$146","v":"Kühlschublade"},{"$f":"Hilfstabelle!$O$11","v":"Modell / Artikel"},"Text","KTM 106 - KBS Gastrotechnik"]
[null,null,{"$f":"'Anlagenartenkatalog UZH'!$B$125","v":"Kücheneinrichtungen"},{"$f":"'Anlagenartenkatalog UZH'!$D$146","v":"Kühlschublade"},{"$f":"Hilfstabelle!$O$12","v":"Seriennummer"},"Text","687138"]
[null,null,{"$f":"'Anlagenartenkatalog UZH'!$B$125","v":"Kücheneinrichtungen"},{"$f":"'Anlagenartenkatalog UZH'!$D$146","v":"Kühlschublade"},{"$f":"Hilfstabelle!$O$13","v":"Servicefirma"},"Text","Intergastro GmbH & Co. KG",{"$f":"Hilfstabelle!$P$10","v":"Gemäss Offerte in Submission"}]
[null,null,{"$f":"'Anlagenartenkatalog UZH'!$B$125","v":"Kücheneinrichtungen"},{"$f":"'Anlagenartenkatalog UZH'!$D$146","v":"Kühlschublade"},{"$f":"Hilfstabelle!$O$14","v":"Inbetriebnahmedatum"},"Text","06.06.2030"]
[null,null,{"$f":"'Anlagenartenkatalog UZH'!$B$125","v":"Kücheneinrichtungen"},{"$f":"'Anlagenartenkatalog UZH'!$D$146","v":"Kühlschublade"},{"$f":"Hilfstabelle!$O$15","v":"Garantieende"},"Text","06.06.2035"]
[null,null,{"$f":"'Anlagenartenkatalog UZH'!$B$125","v":"Kücheneinrichtungen"},{"$f":"'Anlagenartenkatalog UZH'!$D$146","v":"Kühlschublade"},{"$f":"Hilfstabelle!$O$16","v":"Erwartetes technisches Enddatum"},"Text","06.06.2045"]
[null,null,{"$f":"'Anlagenartenkatalog UZH'!$B$125","v":"Kücheneinrichtungen"},{"$f":"'Anlagenartenkatalog UZH'!$D$146","v":"Kühlschublade"},"Anmerkung: Kältemittel","Text",null,"Die Angabe des Kältemittels inkl. Füllmenge wird nur bei eigenem Kompressor benötigt (nicht am Kältenetz angeschlossen)."]
[null,null,{"$f":"'Anlagenartenkatalog UZH'!$B$125","v":"Kücheneinrichtungen"},{"$f":"'Anlagenartenkatalog UZH'!$D$146","v":"Kühlschublade"},"Anmerkung: Füllmenge Kältemittel [kg]","Text",null,"Die Angabe des Kältemittels inkl. Füllmenge wird nur bei eigenem Kompressor benötigt (nicht am Kältenetz angeschlossen)."]
[null,null,{"$f":"'Anlagenartenkatalog UZH'!$B$125","v":"Kücheneinrichtungen"},{"$f":"'Anlagenartenkatalog UZH'!$D$146","v":"Kühlschublade"},"Anmerkung: Meldekarte (Vignette)","Text","Meldekarte (Vignette): Nein",{"$f":"Hilfstabelle!$P$12","v":"Nein oder 16-Stellige Zahl"}]
[null,null,{"$f":"'Anlagenartenkatalog UZH'!$B$125","v":"Kücheneinrichtungen"},{"$f":"'Anlagenartenkatalog UZH'!$D$146","v":"Kühlschublade"},"Anmerkung: Zuständigkeit","Text","Zuständigkeit: UZH",{"$f":"Hilfstabelle!$P$11","v":"Bei mobilen Geräten (steckbar / mit eigenem Kompressor) ist die Gastronomie zuständig. Für festverbaute Anlagen / am Kältenetz ist die UZH zuständig."}]
[null,null,{"$f":"'Anlagenartenkatalog UZH'!$B$125","v":"Kücheneinrichtungen"},{"$f":"'Anlagenartenkatalog UZH'!$D$146","v":"Kühlschublade"},{"$f":"Hilfstabelle!$O$17","v":"Anmerkung: Anzahl Wartungen pro Jahr"},"Text","Anzahl Wartungen pro Jahr: 1"]
[null,null,{"$f":"'Anlagenartenkatalog UZH'!$B$125","v":"Kücheneinrichtungen"},{"$f":"'Anlagenartenkatalog UZH'!$D$147","v":"Kühlwanne"},{"$f":"Hilfstabelle!$O$3","v":"Code (MSRL-Code)"},"Text","MEN-§1654899474"]
[null,null,{"$f":"'Anlagenartenkatalog UZH'!$B$125","v":"Kücheneinrichtungen"},{"$f":"'Anlagenartenkatalog UZH'!$D$147","v":"Kühlwanne"},{"$f":"Hilfstabelle!$O$4","v":"Bezeichnung"},"Text","Kühlwanne 3",{"$f":"Hilfstabelle!$P$7","v":"Die Bezeichnung einer Anlage muss eindeutig sein, sofern mehrere Anlagen im gleichen Raum sind. "}]
[null,null,{"$f":"'Anlagenartenkatalog UZH'!$B$125","v":"Kücheneinrichtungen"},{"$f":"'Anlagenartenkatalog UZH'!$D$147","v":"Kühlwanne"},{"$f":"Hilfstabelle!$O$5","v":"Anlagentyp (Beschreibung)"},"Text",null,{"$f":"Hilfstabelle!$P$8","v":"Verbindlich gemäss Anlagenartenkatalog"}]
[null,null,{"$f":"'Anlagenartenkatalog UZH'!$B$125","v":"Kücheneinrichtungen"},{"$f":"'Anlagenartenkatalog UZH'!$D$147","v":"Kühlwanne"},{"$f":"Hilfstabelle!$O$6","v":"Artikelgruppe"},"Text",{"$f":"'Anlagenartenkatalog UZH'!$A$125","v":"04.07"}]
[null,null,{"$f":"'Anlagenartenkatalog UZH'!$B$125","v":"Kücheneinrichtungen"},{"$f":"'Anlagenartenkatalog UZH'!$D$147","v":"Kühlwanne"},{"$f":"Hilfstabelle!$O$7","v":"Hauptanlage"},"Text"]
[null,null,{"$f":"'Anlagenartenkatalog UZH'!$B$125","v":"Kücheneinrichtungen"},{"$f":"'Anlagenartenkatalog UZH'!$D$147","v":"Kühlwanne"},{"$f":"Hilfstabelle!$O$8","v":"Objekt"},"Text","MEN"]
[null,null,{"$f":"'Anlagenartenkatalog UZH'!$B$125","v":"Kücheneinrichtungen"},{"$f":"'Anlagenartenkatalog UZH'!$D$147","v":"Kühlwanne"},{"$f":"Hilfstabelle!$O$9","v":"Raumkennzeichen"},"Text","A-18"]
[null,null,{"$f":"'Anlagenartenkatalog UZH'!$B$125","v":"Kücheneinrichtungen"},{"$f":"'Anlagenartenkatalog UZH'!$D$147","v":"Kühlwanne"},{"$f":"Hilfstabelle!$O$10","v":"Hersteller / Marke"},"Text","GastroHeld AG"]
[null,null,{"$f":"'Anlagenartenkatalog UZH'!$B$125","v":"Kücheneinrichtungen"},{"$f":"'Anlagenartenkatalog UZH'!$D$147","v":"Kühlwanne"},{"$f":"Hilfstabelle!$O$11","v":"Modell / Artikel"},"Text","GH-EKWS-311 "]
[null,null,{"$f":"'Anlagenartenkatalog UZH'!$B$125","v":"Kücheneinrichtungen"},{"$f":"'Anlagenartenkatalog UZH'!$D$147","v":"Kühlwanne"},{"$f":"Hilfstabelle!$O$12","v":"Seriennummer"},"Text","643468"]
[null,null,{"$f":"'Anlagenartenkatalog UZH'!$B$125","v":"Kücheneinrichtungen"},{"$f":"'Anlagenartenkatalog UZH'!$D$147","v":"Kühlwanne"},{"$f":"Hilfstabelle!$O$13","v":"Servicefirma"},"Text","GastroHeld AG",{"$f":"Hilfstabelle!$P$10","v":"Gemäss Offerte in Submission"}]
[null,null,{"$f":"'Anlagenartenkatalog UZH'!$B$125","v":"Kücheneinrichtungen"},{"$f":"'Anlagenartenkatalog UZH'!$D$147","v":"Kühlwanne"},{"$f":"Hilfstabelle!$O$14","v":"Inbetriebnahmedatum"},"Text","06.06.2030"]
[null,null,{"$f":"'Anlagenartenkatalog UZH'!$B$125","v":"Kücheneinrichtungen"},{"$f":"'Anlagenartenkatalog UZH'!$D$147","v":"Kühlwanne"},{"$f":"Hilfstabelle!$O$15","v":"Garantieende"},"Text","06.06.2035"]
[null,null,{"$f":"'Anlagenartenkatalog UZH'!$B$125","v":"Kücheneinrichtungen"},{"$f":"'Anlagenartenkatalog UZH'!$D$147","v":"Kühlwanne"},{"$f":"Hilfstabelle!$O$16","v":"Erwartetes technisches Enddatum"},"Text","06.06.2045"]
[null,null,{"$f":"'Anlagenartenkatalog UZH'!$B$125","v":"Kücheneinrichtungen"},{"$f":"'Anlagenartenkatalog UZH'!$D$147","v":"Kühlwanne"},"Anmerkung: Kältemittel","Text",null,"Die Angabe des Kältemittels inkl. Füllmenge wird nur bei eigenem Kompressor benötigt (nicht am Kältenetz angeschlossen)."]
[null,null,{"$f":"'Anlagenartenkatalog UZH'!$B$125","v":"Kücheneinrichtungen"},{"$f":"'Anlagenartenkatalog UZH'!$D$147","v":"Kühlwanne"},"Anmerkung: Füllmenge Kältemittel [kg]","Text",null,"Die Angabe des Kältemittels inkl. Füllmenge wird nur bei eigenem Kompressor benötigt (nicht am Kältenetz angeschlossen)."]
[null,null,{"$f":"'Anlagenartenkatalog UZH'!$B$125","v":"Kücheneinrichtungen"},{"$f":"'Anlagenartenkatalog UZH'!$D$147","v":"Kühlwanne"},"Anmerkung: Meldekarte (Vignette)","Text","Meldekarte (Vignette): Nein",{"$f":"Hilfstabelle!$P$12","v":"Nein oder 16-Stellige Zahl"}]
[null,null,{"$f":"'Anlagenartenkatalog UZH'!$B$125","v":"Kücheneinrichtungen"},{"$f":"'Anlagenartenkatalog UZH'!$D$147","v":"Kühlwanne"},"Anmerkung: Zuständigkeit","Text","Zuständigkeit: UZH",{"$f":"Hilfstabelle!$P$11","v":"Bei mobilen Geräten (steckbar / mit eigenem Kompressor) ist die Gastronomie zuständig. Für festverbaute Anlagen / am Kältenetz ist die UZH zuständig."}]
[null,null,{"$f":"'Anlagenartenkatalog UZH'!$B$125","v":"Kücheneinrichtungen"},{"$f":"'Anlagenartenkatalog UZH'!$D$147","v":"Kühlwanne"},{"$f":"Hilfstabelle!$O$17","v":"Anmerkung: Anzahl Wartungen pro Jahr"},"Text","Anzahl Wartungen pro Jahr: 1"]
[null,null,{"$f":"'Anlagenartenkatalog UZH'!$B$125","v":"Kücheneinrichtungen"},{"$f":"'Anlagenartenkatalog UZH'!$D$148","v":"Tiefkühlschrank"},{"$f":"Hilfstabelle!$O$3","v":"Code (MSRL-Code)"},"Text","MEN-§1654899474"]
[null,null,{"$f":"'Anlagenartenkatalog UZH'!$B$125","v":"Kücheneinrichtungen"},{"$f":"'Anlagenartenkatalog UZH'!$D$148","v":"Tiefkühlschrank"},{"$f":"Hilfstabelle!$O$4","v":"Bezeichnung"},"Text","Tiefkühlschrank 5",{"$f":"Hilfstabelle!$P$7","v":"Die Bezeichnung einer Anlage muss eindeutig sein, sofern mehrere Anlagen im gleichen Raum sind. "}]
[null,null,{"$f":"'Anlagenartenkatalog UZH'!$B$125","v":"Kücheneinrichtungen"},{"$f":"'Anlagenartenkatalog UZH'!$D$148","v":"Tiefkühlschrank"},{"$f":"Hilfstabelle!$O$5","v":"Anlagentyp (Beschreibung)"},"Text",null,{"$f":"Hilfstabelle!$P$8","v":"Verbindlich gemäss Anlagenartenkatalog"}]
[null,null,{"$f":"'Anlagenartenkatalog UZH'!$B$125","v":"Kücheneinrichtungen"},{"$f":"'Anlagenartenkatalog UZH'!$D$148","v":"Tiefkühlschrank"},{"$f":"Hilfstabelle!$O$6","v":"Artikelgruppe"},"Text",{"$f":"'Anlagenartenkatalog UZH'!$A$125","v":"04.07"}]
[null,null,{"$f":"'Anlagenartenkatalog UZH'!$B$125","v":"Kücheneinrichtungen"},{"$f":"'Anlagenartenkatalog UZH'!$D$148","v":"Tiefkühlschrank"},{"$f":"Hilfstabelle!$O$7","v":"Hauptanlage"},"Text"]
[null,null,{"$f":"'Anlagenartenkatalog UZH'!$B$125","v":"Kücheneinrichtungen"},{"$f":"'Anlagenartenkatalog UZH'!$D$148","v":"Tiefkühlschrank"},{"$f":"Hilfstabelle!$O$8","v":"Objekt"},"Text","MEN"]
[null,null,{"$f":"'Anlagenartenkatalog UZH'!$B$125","v":"Kücheneinrichtungen"},{"$f":"'Anlagenartenkatalog UZH'!$D$148","v":"Tiefkühlschrank"},{"$f":"Hilfstabelle!$O$9","v":"Raumkennzeichen"},"Text","A-18"]
[null,null,{"$f":"'Anlagenartenkatalog UZH'!$B$125","v":"Kücheneinrichtungen"},{"$f":"'Anlagenartenkatalog UZH'!$D$148","v":"Tiefkühlschrank"},{"$f":"Hilfstabelle!$O$10","v":"Hersteller / Marke"},"Text","GKM AG"]
[null,null,{"$f":"'Anlagenartenkatalog UZH'!$B$125","v":"Kücheneinrichtungen"},{"$f":"'Anlagenartenkatalog UZH'!$D$148","v":"Tiefkühlschrank"},{"$f":"Hilfstabelle!$O$11","v":"Modell / Artikel"},"Text","MKG-1414-TN-O"]
[null,null,{"$f":"'Anlagenartenkatalog UZH'!$B$125","v":"Kücheneinrichtungen"},{"$f":"'Anlagenartenkatalog UZH'!$D$148","v":"Tiefkühlschrank"},{"$f":"Hilfstabelle!$O$12","v":"Seriennummer"},"Text","6543456"]
[null,null,{"$f":"'Anlagenartenkatalog UZH'!$B$125","v":"Kücheneinrichtungen"},{"$f":"'Anlagenartenkatalog UZH'!$D$148","v":"Tiefkühlschrank"},{"$f":"Hilfstabelle!$O$13","v":"Servicefirma"},"Text","GKM AG",{"$f":"Hilfstabelle!$P$10","v":"Gemäss Offerte in Submission"}]
[null,null,{"$f":"'Anlagenartenkatalog UZH'!$B$125","v":"Kücheneinrichtungen"},{"$f":"'Anlagenartenkatalog UZH'!$D$148","v":"Tiefkühlschrank"},{"$f":"Hilfstabelle!$O$14","v":"Inbetriebnahmedatum"},"Text","06.06.2030"]
[null,null,{"$f":"'Anlagenartenkatalog UZH'!$B$125","v":"Kücheneinrichtungen"},{"$f":"'Anlagenartenkatalog UZH'!$D$148","v":"Tiefkühlschrank"},{"$f":"Hilfstabelle!$O$15","v":"Garantieende"},"Text","06.06.2035"]
[null,null,{"$f":"'Anlagenartenkatalog UZH'!$B$125","v":"Kücheneinrichtungen"},{"$f":"'Anlagenartenkatalog UZH'!$D$148","v":"Tiefkühlschrank"},{"$f":"Hilfstabelle!$O$16","v":"Erwartetes technisches Enddatum"},"Text","06.06.2045"]
[null,null,{"$f":"'Anlagenartenkatalog UZH'!$B$125","v":"Kücheneinrichtungen"},{"$f":"'Anlagenartenkatalog UZH'!$D$148","v":"Tiefkühlschrank"},"Anmerkung: Kältemittel","Text",null,"Die Angabe des Kältemittels inkl. Füllmenge wird nur bei eigenem Kompressor benötigt (nicht am Kältenetz angeschlossen)."]
[null,null,{"$f":"'Anlagenartenkatalog UZH'!$B$125","v":"Kücheneinrichtungen"},{"$f":"'Anlagenartenkatalog UZH'!$D$148","v":"Tiefkühlschrank"},"Anmerkung: Füllmenge Kältemittel [kg]","Text",null,"Die Angabe des Kältemittels inkl. Füllmenge wird nur bei eigenem Kompressor benötigt (nicht am Kältenetz angeschlossen)."]
[null,null,{"$f":"'Anlagenartenkatalog UZH'!$B$125","v":"Kücheneinrichtungen"},{"$f":"'Anlagenartenkatalog UZH'!$D$148","v":"Tiefkühlschrank"},"Anmerkung: Meldekarte (Vignette)","Text","Meldekarte (Vignette): Nein",{"$f":"Hilfstabelle!$P$12","v":"Nein oder 16-Stellige Zahl"}]
[null,null,{"$f":"'Anlagenartenkatalog UZH'!$B$125","v":"Kücheneinrichtungen"},{"$f":"'Anlagenartenkatalog UZH'!$D$148","v":"Tiefkühlschrank"},"Anmerkung: Zuständigkeit","Text","Zuständigkeit: UZH",{"$f":"Hilfstabelle!$P$11","v":"Bei mobilen Geräten (steckbar / mit eigenem Kompressor) ist die Gastronomie zuständig. Für festverbaute Anlagen / am Kältenetz ist die UZH zuständig."}]
[null,null,{"$f":"'Anlagenartenkatalog UZH'!$B$125","v":"Kücheneinrichtungen"},{"$f":"'Anlagenartenkatalog UZH'!$D$148","v":"Tiefkühlschrank"},{"$f":"Hilfstabelle!$O$17","v":"Anmerkung: Anzahl Wartungen pro Jahr"},"Text","Anzahl Wartungen pro Jahr: 1"]
[null,null,{"$f":"'Anlagenartenkatalog UZH'!$B$125","v":"Kücheneinrichtungen"},{"$f":"'Anlagenartenkatalog UZH'!$D$149","v":"Kühlvitrine"},{"$f":"Hilfstabelle!$O$3","v":"Code (MSRL-Code)"},"Text","MEN-§1654899474"]
[null,null,{"$f":"'Anlagenartenkatalog UZH'!$B$125","v":"Kücheneinrichtungen"},{"$f":"'Anlagenartenkatalog UZH'!$D$149","v":"Kühlvitrine"},{"$f":"Hilfstabelle!$O$4","v":"Bezeichnung"},"Text","Kühlvitrine 2",{"$f":"Hilfstabelle!$P$7","v":"Die Bezeichnung einer Anlage muss eindeutig sein, sofern mehrere Anlagen im gleichen Raum sind. "}]
[null,null,{"$f":"'Anlagenartenkatalog UZH'!$B$125","v":"Kücheneinrichtungen"},{"$f":"'Anlagenartenkatalog UZH'!$D$149","v":"Kühlvitrine"},{"$f":"Hilfstabelle!$O$5","v":"Anlagentyp (Beschreibung)"},"Text",null,{"$f":"Hilfstabelle!$P$8","v":"Verbindlich gemäss Anlagenartenkatalog"}]
[null,null,{"$f":"'Anlagenartenkatalog UZH'!$B$125","v":"Kücheneinrichtungen"},{"$f":"'Anlagenartenkatalog UZH'!$D$149","v":"Kühlvitrine"},{"$f":"Hilfstabelle!$O$6","v":"Artikelgruppe"},"Text",{"$f":"'Anlagenartenkatalog UZH'!$A$125","v":"04.07"}]
[null,null,{"$f":"'Anlagenartenkatalog UZH'!$B$125","v":"Kücheneinrichtungen"},{"$f":"'Anlagenartenkatalog UZH'!$D$149","v":"Kühlvitrine"},{"$f":"Hilfstabelle!$O$7","v":"Hauptanlage"},"Text"]
[null,null,{"$f":"'Anlagenartenkatalog UZH'!$B$125","v":"Kücheneinrichtungen"},{"$f":"'Anlagenartenkatalog UZH'!$D$149","v":"Kühlvitrine"},{"$f":"Hilfstabelle!$O$8","v":"Objekt"},"Text","MEN"]
[null,null,{"$f":"'Anlagenartenkatalog UZH'!$B$125","v":"Kücheneinrichtungen"},{"$f":"'Anlagenartenkatalog UZH'!$D$149","v":"Kühlvitrine"},{"$f":"Hilfstabelle!$O$9","v":"Raumkennzeichen"},"Text","A-18"]
[null,null,{"$f":"'Anlagenartenkatalog UZH'!$B$125","v":"Kücheneinrichtungen"},{"$f":"'Anlagenartenkatalog UZH'!$D$149","v":"Kühlvitrine"},{"$f":"Hilfstabelle!$O$10","v":"Hersteller / Marke"},"Text","Intergastro GmbH & Co. KG"]
[null,null,{"$f":"'Anlagenartenkatalog UZH'!$B$125","v":"Kücheneinrichtungen"},{"$f":"'Anlagenartenkatalog UZH'!$D$149","v":"Kühlvitrine"},{"$f":"Hilfstabelle!$O$11","v":"Modell / Artikel"},"Text","700213G - Bartscher"]
[null,null,{"$f":"'Anlagenartenkatalog UZH'!$B$125","v":"Kücheneinrichtungen"},{"$f":"'Anlagenartenkatalog UZH'!$D$149","v":"Kühlvitrine"},{"$f":"Hilfstabelle!$O$12","v":"Seriennummer"},"Text","1683623"]
[null,null,{"$f":"'Anlagenartenkatalog UZH'!$B$125","v":"Kücheneinrichtungen"},{"$f":"'Anlagenartenkatalog UZH'!$D$149","v":"Kühlvitrine"},{"$f":"Hilfstabelle!$O$13","v":"Servicefirma"},"Text","Intergastro GmbH & Co. KG",{"$f":"Hilfstabelle!$P$10","v":"Gemäss Offerte in Submission"}]
[null,null,{"$f":"'Anlagenartenkatalog UZH'!$B$125","v":"Kücheneinrichtungen"},{"$f":"'Anlagenartenkatalog UZH'!$D$149","v":"Kühlvitrine"},{"$f":"Hilfstabelle!$O$14","v":"Inbetriebnahmedatum"},"Text","06.06.2030"]
[null,null,{"$f":"'Anlagenartenkatalog UZH'!$B$125","v":"Kücheneinrichtungen"},{"$f":"'Anlagenartenkatalog UZH'!$D$149","v":"Kühlvitrine"},{"$f":"Hilfstabelle!$O$15","v":"Garantieende"},"Text","06.06.2035"]
[null,null,{"$f":"'Anlagenartenkatalog UZH'!$B$125","v":"Kücheneinrichtungen"},{"$f":"'Anlagenartenkatalog UZH'!$D$149","v":"Kühlvitrine"},{"$f":"Hilfstabelle!$O$16","v":"Erwartetes technisches Enddatum"},"Text","06.06.2045"]
[null,null,{"$f":"'Anlagenartenkatalog UZH'!$B$125","v":"Kücheneinrichtungen"},{"$f":"'Anlagenartenkatalog UZH'!$D$149","v":"Kühlvitrine"},"Anmerkung: Kältemittel","Text",null,"Die Angabe des Kältemittels inkl. Füllmenge wird nur bei eigenem Kompressor benötigt (nicht am Kältenetz angeschlossen)."]
[null,null,{"$f":"'Anlagenartenkatalog UZH'!$B$125","v":"Kücheneinrichtungen"},{"$f":"'Anlagenartenkatalog UZH'!$D$149","v":"Kühlvitrine"},"Anmerkung: Füllmenge Kältemittel [kg]","Text",null,"Die Angabe des Kältemittels inkl. Füllmenge wird nur bei eigenem Kompressor benötigt (nicht am Kältenetz angeschlossen)."]
[null,null,{"$f":"'Anlagenartenkatalog UZH'!$B$125","v":"Kücheneinrichtungen"},{"$f":"'Anlagenartenkatalog UZH'!$D$149","v":"Kühlvitrine"},"Anmerkung: Meldekarte (Vignette)","Text","Meldekarte (Vignette): Nein",{"$f":"Hilfstabelle!$P$12","v":"Nein oder 16-Stellige Zahl"}]
[null,null,{"$f":"'Anlagenartenkatalog UZH'!$B$125","v":"Kücheneinrichtungen"},{"$f":"'Anlagenartenkatalog UZH'!$D$149","v":"Kühlvitrine"},"Anmerkung: Zuständigkeit","Text","Zuständigkeit: UZH",{"$f":"Hilfstabelle!$P$11","v":"Bei mobilen Geräten (steckbar / mit eigenem Kompressor) ist die Gastronomie zuständig. Für festverbaute Anlagen / am Kältenetz ist die UZH zuständig."}]
[null,null,{"$f":"'Anlagenartenkatalog UZH'!$B$125","v":"Kücheneinrichtungen"},{"$f":"'Anlagenartenkatalog UZH'!$D$149","v":"Kühlvitrine"},{"$f":"Hilfstabelle!$O$17","v":"Anmerkung: Anzahl Wartungen pro Jahr"},"Text","Anzahl Wartungen pro Jahr: 1"]
[null,null,{"$f":"'Anlagenartenkatalog UZH'!$B$125","v":"Kücheneinrichtungen"},{"$f":"'Anlagenartenkatalog UZH'!$D$151","v":"Einfahrkühlschrank"},{"$f":"Hilfstabelle!$O$3","v":"Code (MSRL-Code)"},"Text","MEN-§1654899474"]
[null,null,{"$f":"'Anlagenartenkatalog UZH'!$B$125","v":"Kücheneinrichtungen"},{"$f":"'Anlagenartenkatalog UZH'!$D$151","v":"Einfahrkühlschrank"},{"$f":"Hilfstabelle!$O$4","v":"Bezeichnung"},"Text","Einfahrkühlschrank 1",{"$f":"Hilfstabelle!$P$7","v":"Die Bezeichnung einer Anlage muss eindeutig sein, sofern mehrere Anlagen im gleichen Raum sind. "}]
[null,null,{"$f":"'Anlagenartenkatalog UZH'!$B$125","v":"Kücheneinrichtungen"},{"$f":"'Anlagenartenkatalog UZH'!$D$151","v":"Einfahrkühlschrank"},{"$f":"Hilfstabelle!$O$5","v":"Anlagentyp (Beschreibung)"},"Text",null,{"$f":"Hilfstabelle!$P$8","v":"Verbindlich gemäss Anlagenartenkatalog"}]
[null,null,{"$f":"'Anlagenartenkatalog UZH'!$B$125","v":"Kücheneinrichtungen"},{"$f":"'Anlagenartenkatalog UZH'!$D$151","v":"Einfahrkühlschrank"},{"$f":"Hilfstabelle!$O$6","v":"Artikelgruppe"},"Text",{"$f":"'Anlagenartenkatalog UZH'!$A$125","v":"04.07"}]
[null,null,{"$f":"'Anlagenartenkatalog UZH'!$B$125","v":"Kücheneinrichtungen"},{"$f":"'Anlagenartenkatalog UZH'!$D$151","v":"Einfahrkühlschrank"},{"$f":"Hilfstabelle!$O$7","v":"Hauptanlage"},"Text"]
[null,null,{"$f":"'Anlagenartenkatalog UZH'!$B$125","v":"Kücheneinrichtungen"},{"$f":"'Anlagenartenkatalog UZH'!$D$151","v":"Einfahrkühlschrank"},{"$f":"Hilfstabelle!$O$8","v":"Objekt"},"Text","MEN"]
[null,null,{"$f":"'Anlagenartenkatalog UZH'!$B$125","v":"Kücheneinrichtungen"},{"$f":"'Anlagenartenkatalog UZH'!$D$151","v":"Einfahrkühlschrank"},{"$f":"Hilfstabelle!$O$9","v":"Raumkennzeichen"},"Text","A-18"]
[null,null,{"$f":"'Anlagenartenkatalog UZH'!$B$125","v":"Kücheneinrichtungen"},{"$f":"'Anlagenartenkatalog UZH'!$D$151","v":"Einfahrkühlschrank"},{"$f":"Hilfstabelle!$O$10","v":"Hersteller / Marke"},"Text","GGM Gastro International GmbH"]
[null,null,{"$f":"'Anlagenartenkatalog UZH'!$B$125","v":"Kücheneinrichtungen"},{"$f":"'Anlagenartenkatalog UZH'!$D$151","v":"Einfahrkühlschrank"},{"$f":"Hilfstabelle!$O$11","v":"Modell / Artikel"},"Text","EKF912T1"]
[null,null,{"$f":"'Anlagenartenkatalog UZH'!$B$125","v":"Kücheneinrichtungen"},{"$f":"'Anlagenartenkatalog UZH'!$D$151","v":"Einfahrkühlschrank"},{"$f":"Hilfstabelle!$O$12","v":"Seriennummer"},"Text","38383"]
[null,null,{"$f":"'Anlagenartenkatalog UZH'!$B$125","v":"Kücheneinrichtungen"},{"$f":"'Anlagenartenkatalog UZH'!$D$151","v":"Einfahrkühlschrank"},{"$f":"Hilfstabelle!$O$13","v":"Servicefirma"},"Text","GGM Gastro International GmbH",{"$f":"Hilfstabelle!$P$10","v":"Gemäss Offerte in Submission"}]
[null,null,{"$f":"'Anlagenartenkatalog UZH'!$B$125","v":"Kücheneinrichtungen"},{"$f":"'Anlagenartenkatalog UZH'!$D$151","v":"Einfahrkühlschrank"},{"$f":"Hilfstabelle!$O$14","v":"Inbetriebnahmedatum"},"Text","06.06.2030"]
[null,null,{"$f":"'Anlagenartenkatalog UZH'!$B$125","v":"Kücheneinrichtungen"},{"$f":"'Anlagenartenkatalog UZH'!$D$151","v":"Einfahrkühlschrank"},{"$f":"Hilfstabelle!$O$15","v":"Garantieende"},"Text","06.06.2035"]
[null,null,{"$f":"'Anlagenartenkatalog UZH'!$B$125","v":"Kücheneinrichtungen"},{"$f":"'Anlagenartenkatalog UZH'!$D$151","v":"Einfahrkühlschrank"},{"$f":"Hilfstabelle!$O$16","v":"Erwartetes technisches Enddatum"},"Text","06.06.2045"]
[null,null,{"$f":"'Anlagenartenkatalog UZH'!$B$125","v":"Kücheneinrichtungen"},{"$f":"'Anlagenartenkatalog UZH'!$D$151","v":"Einfahrkühlschrank"},"Anmerkung: Kältemittel","Text",null,"Die Angabe des Kältemittels inkl. Füllmenge wird nur bei eigenem Kompressor benötigt (nicht am Kältenetz angeschlossen)."]
[null,null,{"$f":"'Anlagenartenkatalog UZH'!$B$125","v":"Kücheneinrichtungen"},{"$f":"'Anlagenartenkatalog UZH'!$D$151","v":"Einfahrkühlschrank"},"Anmerkung: Füllmenge Kältemittel [kg]","Text",null,"Die Angabe des Kältemittels inkl. Füllmenge wird nur bei eigenem Kompressor benötigt (nicht am Kältenetz angeschlossen)."]
[null,null,{"$f":"'Anlagenartenkatalog UZH'!$B$125","v":"Kücheneinrichtungen"},{"$f":"'Anlagenartenkatalog UZH'!$D$151","v":"Einfahrkühlschrank"},"Anmerkung: Meldekarte (Vignette)","Text","Meldekarte (Vignette): Nein",{"$f":"Hilfstabelle!$P$12","v":"Nein oder 16-Stellige Zahl"}]
[null,null,{"$f":"'Anlagenartenkatalog UZH'!$B$125","v":"Kücheneinrichtungen"},{"$f":"'Anlagenartenkatalog UZH'!$D$151","v":"Einfahrkühlschrank"},"Anmerkung: Zuständigkeit","Text","Zuständigkeit: UZH",{"$f":"Hilfstabelle!$P$11","v":"Bei mobilen Geräten (steckbar / mit eigenem Kompressor) ist die Gastronomie zuständig. Für festverbaute Anlagen / am Kältenetz ist die UZH zuständig."}]
[null,null,{"$f":"'Anlagenartenkatalog UZH'!$B$125","v":"Kücheneinrichtungen"},{"$f":"'Anlagenartenkatalog UZH'!$D$151","v":"Einfahrkühlschrank"},{"$f":"Hilfstabelle!$O$17","v":"Anmerkung: Anzahl Wartungen pro Jahr"},"Text","Anzahl Wartungen pro Jahr: 1"]
[null,null,{"$f":"'Anlagenartenkatalog UZH'!$B$125","v":"Kücheneinrichtungen"},{"$f":"'Anlagenartenkatalog UZH'!$D$152","v":"Kombikühlschrank"},{"$f":"Hilfstabelle!$O$3","v":"Code (MSRL-Code)"},"Text","MEN-§1654899474"]
[null,null,{"$f":"'Anlagenartenkatalog UZH'!$B$125","v":"Kücheneinrichtungen"},{"$f":"'Anlagenartenkatalog UZH'!$D$152","v":"Kombikühlschrank"},{"$f":"Hilfstabelle!$O$4","v":"Bezeichnung"},"Text","Kombikühlschrank 3",{"$f":"Hilfstabelle!$P$7","v":"Die Bezeichnung einer Anlage muss eindeutig sein, sofern mehrere Anlagen im gleichen Raum sind. "}]
[null,null,{"$f":"'Anlagenartenkatalog UZH'!$B$125","v":"Kücheneinrichtungen"},{"$f":"'Anlagenartenkatalog UZH'!$D$152","v":"Kombikühlschrank"},{"$f":"Hilfstabelle!$O$5","v":"Anlagentyp (Beschreibung)"},"Text",null,{"$f":"Hilfstabelle!$P$8","v":"Verbindlich gemäss Anlagenartenkatalog"}]
[null,null,{"$f":"'Anlagenartenkatalog UZH'!$B$125","v":"Kücheneinrichtungen"},{"$f":"'Anlagenartenkatalog UZH'!$D$152","v":"Kombikühlschrank"},{"$f":"Hilfstabelle!$O$6","v":"Artikelgruppe"},"Text",{"$f":"'Anlagenartenkatalog UZH'!$A$125","v":"04.07"}]
[null,null,{"$f":"'Anlagenartenkatalog UZH'!$B$125","v":"Kücheneinrichtungen"},{"$f":"'Anlagenartenkatalog UZH'!$D$152","v":"Kombikühlschrank"},{"$f":"Hilfstabelle!$O$7","v":"Hauptanlage"},"Text"]
[null,null,{"$f":"'Anlagenartenkatalog UZH'!$B$125","v":"Kücheneinrichtungen"},{"$f":"'Anlagenartenkatalog UZH'!$D$152","v":"Kombikühlschrank"},{"$f":"Hilfstabelle!$O$8","v":"Objekt"},"Text","MEN"]
[null,null,{"$f":"'Anlagenartenkatalog UZH'!$B$125","v":"Kücheneinrichtungen"},{"$f":"'Anlagenartenkatalog UZH'!$D$152","v":"Kombikühlschrank"},{"$f":"Hilfstabelle!$O$9","v":"Raumkennzeichen"},"Text","A-18"]
[null,null,{"$f":"'Anlagenartenkatalog UZH'!$B$125","v":"Kücheneinrichtungen"},{"$f":"'Anlagenartenkatalog UZH'!$D$152","v":"Kombikühlschrank"},{"$f":"Hilfstabelle!$O$10","v":"Hersteller / Marke"},"Text","Intergastro GmbH & Co. KG"]
[null,null,{"$f":"'Anlagenartenkatalog UZH'!$B$125","v":"Kücheneinrichtungen"},{"$f":"'Anlagenartenkatalog UZH'!$D$152","v":"Kombikühlschrank"},{"$f":"Hilfstabelle!$O$11","v":"Modell / Artikel"},"Text","GN60DTV GN2/1 - SARO"]
[null,null,{"$f":"'Anlagenartenkatalog UZH'!$B$125","v":"Kücheneinrichtungen"},{"$f":"'Anlagenartenkatalog UZH'!$D$152","v":"Kombikühlschrank"},{"$f":"Hilfstabelle!$O$12","v":"Seriennummer"},"Text","38839.438"]
[null,null,{"$f":"'Anlagenartenkatalog UZH'!$B$125","v":"Kücheneinrichtungen"},{"$f":"'Anlagenartenkatalog UZH'!$D$152","v":"Kombikühlschrank"},{"$f":"Hilfstabelle!$O$13","v":"Servicefirma"},"Text","Intergastro GmbH & Co. KG",{"$f":"Hilfstabelle!$P$10","v":"Gemäss Offerte in Submission"}]
[null,null,{"$f":"'Anlagenartenkatalog UZH'!$B$125","v":"Kücheneinrichtungen"},{"$f":"'Anlagenartenkatalog UZH'!$D$152","v":"Kombikühlschrank"},{"$f":"Hilfstabelle!$O$14","v":"Inbetriebnahmedatum"},"Text","06.06.2030"]
[null,null,{"$f":"'Anlagenartenkatalog UZH'!$B$125","v":"Kücheneinrichtungen"},{"$f":"'Anlagenartenkatalog UZH'!$D$152","v":"Kombikühlschrank"},{"$f":"Hilfstabelle!$O$15","v":"Garantieende"},"Text","06.06.2035"]
[null,null,{"$f":"'Anlagenartenkatalog UZH'!$B$125","v":"Kücheneinrichtungen"},{"$f":"'Anlagenartenkatalog UZH'!$D$152","v":"Kombikühlschrank"},{"$f":"Hilfstabelle!$O$16","v":"Erwartetes technisches Enddatum"},"Text","06.06.2045"]
[null,null,{"$f":"'Anlagenartenkatalog UZH'!$B$125","v":"Kücheneinrichtungen"},{"$f":"'Anlagenartenkatalog UZH'!$D$152","v":"Kombikühlschrank"},"Anmerkung: Kältemittel","Text","Kältemittel: Kühlteil R600a / Tiefkühlteil R290","Die Angabe des Kältemittels inkl. Füllmenge wird nur bei eigenem Kompressor benötigt (nicht am Kältenetz angeschlossen)."]
[null,null,{"$f":"'Anlagenartenkatalog UZH'!$B$125","v":"Kücheneinrichtungen"},{"$f":"'Anlagenartenkatalog UZH'!$D$152","v":"Kombikühlschrank"},"Anmerkung: Füllmenge Kältemittel [kg]","Text","Füllmenge Kältemittel: Kühlteil 0.12 kg / Tiefkühlteil 0.10 kg","Die Angabe des Kältemittels inkl. Füllmenge wird nur bei eigenem Kompressor benötigt (nicht am Kältenetz angeschlossen)."]
[null,null,{"$f":"'Anlagenartenkatalog UZH'!$B$125","v":"Kücheneinrichtungen"},{"$f":"'Anlagenartenkatalog UZH'!$D$152","v":"Kombikühlschrank"},"Anmerkung: Meldekarte (Vignette)","Text","Meldekarte (Vignette): Nein",{"$f":"Hilfstabelle!$P$12","v":"Nein oder 16-Stellige Zahl"}]
[null,null,{"$f":"'Anlagenartenkatalog UZH'!$B$125","v":"Kücheneinrichtungen"},{"$f":"'Anlagenartenkatalog UZH'!$D$152","v":"Kombikühlschrank"},"Anmerkung: Zuständigkeit","Text","Zuständigkeit: UZH",{"$f":"Hilfstabelle!$P$11","v":"Bei mobilen Geräten (steckbar / mit eigenem Kompressor) ist die Gastronomie zuständig. Für festverbaute Anlagen / am Kältenetz ist die UZH zuständig."}]
[null,null,{"$f":"'Anlagenartenkatalog UZH'!$B$125","v":"Kücheneinrichtungen"},{"$f":"'Anlagenartenkatalog UZH'!$D$152","v":"Kombikühlschrank"},{"$f":"Hilfstabelle!$O$17","v":"Anmerkung: Anzahl Wartungen pro Jahr"},"Text","Anzahl Wartungen pro Jahr: 1"]
[null,null,{"$f":"'Anlagenartenkatalog UZH'!$B$125","v":"Kücheneinrichtungen"},{"$f":"'Anlagenartenkatalog UZH'!$D$155","v":"Weinkühler"},{"$f":"Hilfstabelle!$O$3","v":"Code (MSRL-Code)"},"Text","MEN-§1654899474"]
[null,null,{"$f":"'Anlagenartenkatalog UZH'!$B$125","v":"Kücheneinrichtungen"},{"$f":"'Anlagenartenkatalog UZH'!$D$155","v":"Weinkühler"},{"$f":"Hilfstabelle!$O$4","v":"Bezeichnung"},"Text","Weinkühler 12",{"$f":"Hilfstabelle!$P$7","v":"Die Bezeichnung einer Anlage muss eindeutig sein, sofern mehrere Anlagen im gleichen Raum sind. "}]
[null,null,{"$f":"'Anlagenartenkatalog UZH'!$B$125","v":"Kücheneinrichtungen"},{"$f":"'Anlagenartenkatalog UZH'!$D$155","v":"Weinkühler"},{"$f":"Hilfstabelle!$O$5","v":"Anlagentyp (Beschreibung)"},"Text",null,{"$f":"Hilfstabelle!$P$8","v":"Verbindlich gemäss Anlagenartenkatalog"}]
[null,null,{"$f":"'Anlagenartenkatalog UZH'!$B$125","v":"Kücheneinrichtungen"},{"$f":"'Anlagenartenkatalog UZH'!$D$155","v":"Weinkühler"},{"$f":"Hilfstabelle!$O$6","v":"Artikelgruppe"},"Text",{"$f":"'Anlagenartenkatalog UZH'!$A$125","v":"04.07"}]
[null,null,{"$f":"'Anlagenartenkatalog UZH'!$B$125","v":"Kücheneinrichtungen"},{"$f":"'Anlagenartenkatalog UZH'!$D$155","v":"Weinkühler"},{"$f":"Hilfstabelle!$O$7","v":"Hauptanlage"},"Text"]
[null,null,{"$f":"'Anlagenartenkatalog UZH'!$B$125","v":"Kücheneinrichtungen"},{"$f":"'Anlagenartenkatalog UZH'!$D$155","v":"Weinkühler"},{"$f":"Hilfstabelle!$O$8","v":"Objekt"},"Text","MEN"]
[null,null,{"$f":"'Anlagenartenkatalog UZH'!$B$125","v":"Kücheneinrichtungen"},{"$f":"'Anlagenartenkatalog UZH'!$D$155","v":"Weinkühler"},{"$f":"Hilfstabelle!$O$9","v":"Raumkennzeichen"},"Text","A-18"]
[null,null,{"$f":"'Anlagenartenkatalog UZH'!$B$125","v":"Kücheneinrichtungen"},{"$f":"'Anlagenartenkatalog UZH'!$D$155","v":"Weinkühler"},{"$f":"Hilfstabelle!$O$10","v":"Hersteller / Marke"},"Text","Intergastro GmbH & Co. KG"]
[null,null,{"$f":"'Anlagenartenkatalog UZH'!$B$125","v":"Kücheneinrichtungen"},{"$f":"'Anlagenartenkatalog UZH'!$D$155","v":"Weinkühler"},{"$f":"Hilfstabelle!$O$11","v":"Modell / Artikel"},"Text","WFbli 7741 - KBS Gastrotechnik"]
[null,null,{"$f":"'Anlagenartenkatalog UZH'!$B$125","v":"Kücheneinrichtungen"},{"$f":"'Anlagenartenkatalog UZH'!$D$155","v":"Weinkühler"},{"$f":"Hilfstabelle!$O$12","v":"Seriennummer"},"Text","3852271"]
[null,null,{"$f":"'Anlagenartenkatalog UZH'!$B$125","v":"Kücheneinrichtungen"},{"$f":"'Anlagenartenkatalog UZH'!$D$155","v":"Weinkühler"},{"$f":"Hilfstabelle!$O$13","v":"Servicefirma"},"Text","Intergastro GmbH & Co. KG",{"$f":"Hilfstabelle!$P$10","v":"Gemäss Offerte in Submission"}]
[null,null,{"$f":"'Anlagenartenkatalog UZH'!$B$125","v":"Kücheneinrichtungen"},{"$f":"'Anlagenartenkatalog UZH'!$D$155","v":"Weinkühler"},{"$f":"Hilfstabelle!$O$14","v":"Inbetriebnahmedatum"},"Text","06.06.2030"]
[null,null,{"$f":"'Anlagenartenkatalog UZH'!$B$125","v":"Kücheneinrichtungen"},{"$f":"'Anlagenartenkatalog UZH'!$D$155","v":"Weinkühler"},{"$f":"Hilfstabelle!$O$15","v":"Garantieende"},"Text","06.06.2035"]
[null,null,{"$f":"'Anlagenartenkatalog UZH'!$B$125","v":"Kücheneinrichtungen"},{"$f":"'Anlagenartenkatalog UZH'!$D$155","v":"Weinkühler"},{"$f":"Hilfstabelle!$O$16","v":"Erwartetes technisches Enddatum"},"Text","06.06.2045"]
[null,null,{"$f":"'Anlagenartenkatalog UZH'!$B$125","v":"Kücheneinrichtungen"},{"$f":"'Anlagenartenkatalog UZH'!$D$155","v":"Weinkühler"},"Anmerkung: Kältemittel","Text","Kältemittel: R 600 a","Die Angabe des Kältemittels inkl. Füllmenge wird nur bei eigenem Kompressor benötigt (nicht am Kältenetz angeschlossen)."]
[null,null,{"$f":"'Anlagenartenkatalog UZH'!$B$125","v":"Kücheneinrichtungen"},{"$f":"'Anlagenartenkatalog UZH'!$D$155","v":"Weinkühler"},"Anmerkung: Füllmenge Kältemittel [kg]","Text","Füllmenge Kältemittel: 0.13 kg","Die Angabe des Kältemittels inkl. Füllmenge wird nur bei eigenem Kompressor benötigt (nicht am Kältenetz angeschlossen)."]
[null,null,{"$f":"'Anlagenartenkatalog UZH'!$B$125","v":"Kücheneinrichtungen"},{"$f":"'Anlagenartenkatalog UZH'!$D$155","v":"Weinkühler"},"Anmerkung: Meldekarte (Vignette)","Text","Meldekarte (Vignette): Nein",{"$f":"Hilfstabelle!$P$12","v":"Nein oder 16-Stellige Zahl"}]
[null,null,{"$f":"'Anlagenartenkatalog UZH'!$B$125","v":"Kücheneinrichtungen"},{"$f":"'Anlagenartenkatalog UZH'!$D$155","v":"Weinkühler"},"Anmerkung: Zuständigkeit","Text","Zuständigkeit: UZH",{"$f":"Hilfstabelle!$P$11","v":"Bei mobilen Geräten (steckbar / mit eigenem Kompressor) ist die Gastronomie zuständig. Für festverbaute Anlagen / am Kältenetz ist die UZH zuständig."}]
[null,null,{"$f":"'Anlagenartenkatalog UZH'!$B$125","v":"Kücheneinrichtungen"},{"$f":"'Anlagenartenkatalog UZH'!$D$155","v":"Weinkühler"},{"$f":"Hilfstabelle!$O$17","v":"Anmerkung: Anzahl Wartungen pro Jahr"},"Text","Anzahl Wartungen pro Jahr: 1"]
[null,null,{"$f":"'Anlagenartenkatalog UZH'!$B$125","v":"Kücheneinrichtungen"},{"$f":"'Anlagenartenkatalog UZH'!$D$156","v":"Geschirrspüler"},{"$f":"Hilfstabelle!$O$3","v":"Code (MSRL-Code)"},"Text","MEN-§1654899474"]
[null,null,{"$f":"'Anlagenartenkatalog UZH'!$B$125","v":"Kücheneinrichtungen"},{"$f":"'Anlagenartenkatalog UZH'!$D$156","v":"Geschirrspüler"},{"$f":"Hilfstabelle!$O$4","v":"Bezeichnung"},"Text","Geschirrspüler 2",{"$f":"Hilfstabelle!$P$7","v":"Die Bezeichnung einer Anlage muss eindeutig sein, sofern mehrere Anlagen im gleichen Raum sind. "}]
[null,null,{"$f":"'Anlagenartenkatalog UZH'!$B$125","v":"Kücheneinrichtungen"},{"$f":"'Anlagenartenkatalog UZH'!$D$156","v":"Geschirrspüler"},{"$f":"Hilfstabelle!$O$5","v":"Anlagentyp (Beschreibung)"},"Text",null,{"$f":"Hilfstabelle!$P$8","v":"Verbindlich gemäss Anlagenartenkatalog"}]
[null,null,{"$f":"'Anlagenartenkatalog UZH'!$B$125","v":"Kücheneinrichtungen"},{"$f":"'Anlagenartenkatalog UZH'!$D$156","v":"Geschirrspüler"},{"$f":"Hilfstabelle!$O$6","v":"Artikelgruppe"},"Text",{"$f":"'Anlagenartenkatalog UZH'!$A$125","v":"04.07"}]
[null,null,{"$f":"'Anlagenartenkatalog UZH'!$B$125","v":"Kücheneinrichtungen"},{"$f":"'Anlagenartenkatalog UZH'!$D$156","v":"Geschirrspüler"},{"$f":"Hilfstabelle!$O$7","v":"Hauptanlage"},"Text","Ja"]
[null,null,{"$f":"'Anlagenartenkatalog UZH'!$B$125","v":"Kücheneinrichtungen"},{"$f":"'Anlagenartenkatalog UZH'!$D$156","v":"Geschirrspüler"},{"$f":"Hilfstabelle!$O$8","v":"Objekt"},"Text","MEN "]
[null,null,{"$f":"'Anlagenartenkatalog UZH'!$B$125","v":"Kücheneinrichtungen"},{"$f":"'Anlagenartenkatalog UZH'!$D$156","v":"Geschirrspüler"},{"$f":"Hilfstabelle!$O$9","v":"Raumkennzeichen"},"Text","A-18"]
[null,null,{"$f":"'Anlagenartenkatalog UZH'!$B$125","v":"Kücheneinrichtungen"},{"$f":"'Anlagenartenkatalog UZH'!$D$156","v":"Geschirrspüler"},{"$f":"Hilfstabelle!$O$10","v":"Hersteller / Marke"},"Text","Miele AG"]
[null,null,{"$f":"'Anlagenartenkatalog UZH'!$B$125","v":"Kücheneinrichtungen"},{"$f":"'Anlagenartenkatalog UZH'!$D$156","v":"Geschirrspüler"},{"$f":"Hilfstabelle!$O$11","v":"Modell / Artikel"},"Text","PTD 703"]
[null,null,{"$f":"'Anlagenartenkatalog UZH'!$B$125","v":"Kücheneinrichtungen"},{"$f":"'Anlagenartenkatalog UZH'!$D$156","v":"Geschirrspüler"},{"$f":"Hilfstabelle!$O$12","v":"Seriennummer"},"Text","373453"]
[null,null,{"$f":"'Anlagenartenkatalog UZH'!$B$125","v":"Kücheneinrichtungen"},{"$f":"'Anlagenartenkatalog UZH'!$D$156","v":"Geschirrspüler"},{"$f":"Hilfstabelle!$O$13","v":"Servicefirma"},"Text","Miele AG",{"$f":"Hilfstabelle!$P$10","v":"Gemäss Offerte in Submission"}]
[null,null,{"$f":"'Anlagenartenkatalog UZH'!$B$125","v":"Kücheneinrichtungen"},{"$f":"'Anlagenartenkatalog UZH'!$D$156","v":"Geschirrspüler"},{"$f":"Hilfstabelle!$O$14","v":"Inbetriebnahmedatum"},"Text","06.06.2030"]
[null,null,{"$f":"'Anlagenartenkatalog UZH'!$B$125","v":"Kücheneinrichtungen"},{"$f":"'Anlagenartenkatalog UZH'!$D$156","v":"Geschirrspüler"},{"$f":"Hilfstabelle!$O$15","v":"Garantieende"},"Text","06.06.2035"]
[null,null,{"$f":"'Anlagenartenkatalog UZH'!$B$125","v":"Kücheneinrichtungen"},{"$f":"'Anlagenartenkatalog UZH'!$D$156","v":"Geschirrspüler"},{"$f":"Hilfstabelle!$O$16","v":"Erwartetes technisches Enddatum"},"Text","06.06.2045"]
[null,null,"Kücheneinrichtungen","Geschirrspüler","Anmerkung: Zuständigkeit","Text","Zuständigkeit: UZH",{"$f":"Hilfstabelle!$P$11","v":"Bei mobilen Geräten (steckbar / mit eigenem Kompressor) ist die Gastronomie zuständig. Für festverbaute Anlagen / am Kältenetz ist die UZH zuständig."}]
[null,null,{"$f":"'Anlagenartenkatalog UZH'!$B$125","v":"Kücheneinrichtungen"},{"$f":"'Anlagenartenkatalog UZH'!$D$156","v":"Geschirrspüler"},{"$f":"Hilfstabelle!$O$17","v":"Anmerkung: Anzahl Wartungen pro Jahr"},"Text","Anzahl Wartungen pro Jahr: 1"]
[null,null,{"$f":"'Anlagenartenkatalog UZH'!$B$125","v":"Kücheneinrichtungen"},{"$f":"'Anlagenartenkatalog UZH'!$D$153","v":"Dampfabzug"},{"$f":"Hilfstabelle!$O$3","v":"Code (MSRL-Code)"},"Text","SOC-US11-L001-1-U8-F09","Vollständiger MSRL-Code für die Zuordnung benötigt (sofern vorhanden)"]
[null,null,{"$f":"'Anlagenartenkatalog UZH'!$B$125","v":"Kücheneinrichtungen"},{"$f":"'Anlagenartenkatalog UZH'!$D$153","v":"Dampfabzug"},{"$f":"Hilfstabelle!$O$4","v":"Bezeichnung"},"Text","Dampfabzug",{"$f":"Hilfstabelle!$P$7","v":"Die Bezeichnung einer Anlage muss eindeutig sein, sofern mehrere Anlagen im gleichen Raum sind. "}]
[null,null,{"$f":"'Anlagenartenkatalog UZH'!$B$125","v":"Kücheneinrichtungen"},{"$f":"'Anlagenartenkatalog UZH'!$D$153","v":"Dampfabzug"},{"$f":"Hilfstabelle!$O$5","v":"Anlagentyp (Beschreibung)"},"Text",null,{"$f":"Hilfstabelle!$P$8","v":"Verbindlich gemäss Anlagenartenkatalog"}]
[null,null,{"$f":"'Anlagenartenkatalog UZH'!$B$125","v":"Kücheneinrichtungen"},{"$f":"'Anlagenartenkatalog UZH'!$D$153","v":"Dampfabzug"},{"$f":"Hilfstabelle!$O$6","v":"Artikelgruppe"},"Text","04.07"]
[null,null,{"$f":"'Anlagenartenkatalog UZH'!$B$125","v":"Kücheneinrichtungen"},{"$f":"'Anlagenartenkatalog UZH'!$D$153","v":"Dampfabzug"},{"$f":"Hilfstabelle!$O$7","v":"Hauptanlage"},"Text"]
[null,null,{"$f":"'Anlagenartenkatalog UZH'!$B$125","v":"Kücheneinrichtungen"},{"$f":"'Anlagenartenkatalog UZH'!$D$153","v":"Dampfabzug"},{"$f":"Hilfstabelle!$O$8","v":"Objekt"},"Text","MEN"]
[null,null,{"$f":"'Anlagenartenkatalog UZH'!$B$125","v":"Kücheneinrichtungen"},{"$f":"'Anlagenartenkatalog UZH'!$D$153","v":"Dampfabzug"},{"$f":"Hilfstabelle!$O$9","v":"Raumkennzeichen"},"Text","E13"]
[null,null,{"$f":"'Anlagenartenkatalog UZH'!$B$125","v":"Kücheneinrichtungen"},{"$f":"'Anlagenartenkatalog UZH'!$D$153","v":"Dampfabzug"},{"$f":"Hilfstabelle!$O$10","v":"Hersteller / Marke"},"Text","CHROMOnorm GmbH"]
[null,null,{"$f":"'Anlagenartenkatalog UZH'!$B$125","v":"Kücheneinrichtungen"},{"$f":"'Anlagenartenkatalog UZH'!$D$153","v":"Dampfabzug"},{"$f":"Hilfstabelle!$O$11","v":"Modell / Artikel"},"Text","WH0920XL00"]
[null,null,{"$f":"'Anlagenartenkatalog UZH'!$B$125","v":"Kücheneinrichtungen"},{"$f":"'Anlagenartenkatalog UZH'!$D$153","v":"Dampfabzug"},{"$f":"Hilfstabelle!$O$12","v":"Seriennummer"},"Text","324564578"]
[null,null,{"$f":"'Anlagenartenkatalog UZH'!$B$125","v":"Kücheneinrichtungen"},{"$f":"'Anlagenartenkatalog UZH'!$D$153","v":"Dampfabzug"},{"$f":"Hilfstabelle!$O$13","v":"Servicefirma"},"Text","CHROMOnorm",{"$f":"Hilfstabelle!$P$10","v":"Gemäss Offerte in Submission"}]
[null,null,{"$f":"'Anlagenartenkatalog UZH'!$B$125","v":"Kücheneinrichtungen"},{"$f":"'Anlagenartenkatalog UZH'!$D$153","v":"Dampfabzug"},{"$f":"Hilfstabelle!$O$14","v":"Inbetriebnahmedatum"},"Text","06.06.2030"]
[null,null,{"$f":"'Anlagenartenkatalog UZH'!$B$125","v":"Kücheneinrichtungen"},{"$f":"'Anlagenartenkatalog UZH'!$D$153","v":"Dampfabzug"},{"$f":"Hilfstabelle!$O$15","v":"Garantieende"},"Text","06.06.2035"]
[null,null,{"$f":"'Anlagenartenkatalog UZH'!$B$125","v":"Kücheneinrichtungen"},{"$f":"'Anlagenartenkatalog UZH'!$D$153","v":"Dampfabzug"},{"$f":"Hilfstabelle!$O$16","v":"Erwartetes technisches Enddatum"},"Text","06.06.2045"]
[null,null,{"$f":"'Anlagenartenkatalog UZH'!$B$125","v":"Kücheneinrichtungen"},{"$f":"'Anlagenartenkatalog UZH'!$D$153","v":"Dampfabzug"},"Anmerkung: Modell und Hersteller des Filters","Text","Modell und Hersteller des Filters: Flammschutzfilter Typ A 400x500x40mm aus Edelstahl, CHROMOnorm GmbH"]
[null,null,{"$f":"'Anlagenartenkatalog UZH'!$B$125","v":"Kücheneinrichtungen"},{"$f":"'Anlagenartenkatalog UZH'!$D$153","v":"Dampfabzug"},{"$f":"Hilfstabelle!$O$17","v":"Anmerkung: Anzahl Wartungen pro Jahr"},"Text","Anzahl Wartungen pro Jahr: 1"]
[null,null,{"$f":"'Anlagenartenkatalog UZH'!$B$125","v":"Kücheneinrichtungen"},{"$f":"'Anlagenartenkatalog UZH'!$D$154","v":"Eismaschine (Küche)"},{"$f":"Hilfstabelle!$O$3","v":"Code (MSRL-Code)"},"Text","MEN-§1654899474"]
[null,null,{"$f":"'Anlagenartenkatalog UZH'!$B$125","v":"Kücheneinrichtungen"},{"$f":"'Anlagenartenkatalog UZH'!$D$154","v":"Eismaschine (Küche)"},{"$f":"Hilfstabelle!$O$4","v":"Bezeichnung"},"Text","Eismaschine (Küche) 3",{"$f":"Hilfstabelle!$P$7","v":"Die Bezeichnung einer Anlage muss eindeutig sein, sofern mehrere Anlagen im gleichen Raum sind. "}]
[null,null,{"$f":"'Anlagenartenkatalog UZH'!$B$125","v":"Kücheneinrichtungen"},{"$f":"'Anlagenartenkatalog UZH'!$D$154","v":"Eismaschine (Küche)"},{"$f":"Hilfstabelle!$O$5","v":"Anlagentyp (Beschreibung)"},"Text",null,{"$f":"Hilfstabelle!$P$8","v":"Verbindlich gemäss Anlagenartenkatalog"}]
[null,null,{"$f":"'Anlagenartenkatalog UZH'!$B$125","v":"Kücheneinrichtungen"},{"$f":"'Anlagenartenkatalog UZH'!$D$154","v":"Eismaschine (Küche)"},{"$f":"Hilfstabelle!$O$6","v":"Artikelgruppe"},"Text","04.07"]
[null,null,{"$f":"'Anlagenartenkatalog UZH'!$B$125","v":"Kücheneinrichtungen"},{"$f":"'Anlagenartenkatalog UZH'!$D$154","v":"Eismaschine (Küche)"},{"$f":"Hilfstabelle!$O$7","v":"Hauptanlage"},"Text"]
[null,null,{"$f":"'Anlagenartenkatalog UZH'!$B$125","v":"Kücheneinrichtungen"},{"$f":"'Anlagenartenkatalog UZH'!$D$154","v":"Eismaschine (Küche)"},{"$f":"Hilfstabelle!$O$8","v":"Objekt"},"Text","MEN"]
[null,null,{"$f":"'Anlagenartenkatalog UZH'!$B$125","v":"Kücheneinrichtungen"},{"$f":"'Anlagenartenkatalog UZH'!$D$154","v":"Eismaschine (Küche)"},{"$f":"Hilfstabelle!$O$9","v":"Raumkennzeichen"},"Text","A-18"]
[null,null,{"$f":"'Anlagenartenkatalog UZH'!$B$125","v":"Kücheneinrichtungen"},{"$f":"'Anlagenartenkatalog UZH'!$D$154","v":"Eismaschine (Küche)"},{"$f":"Hilfstabelle!$O$10","v":"Hersteller / Marke"},"Text","Kibernetik AG"]
[null,null,{"$f":"'Anlagenartenkatalog UZH'!$B$125","v":"Kücheneinrichtungen"},{"$f":"'Anlagenartenkatalog UZH'!$D$154","v":"Eismaschine (Küche)"},{"$f":"Hilfstabelle!$O$11","v":"Modell / Artikel"},"Text","Feineismaschine Micro-Cube "]
[null,null,{"$f":"'Anlagenartenkatalog UZH'!$B$125","v":"Kücheneinrichtungen"},{"$f":"'Anlagenartenkatalog UZH'!$D$154","v":"Eismaschine (Küche)"},{"$f":"Hilfstabelle!$O$12","v":"Seriennummer"},"Text","23456357"]
[null,null,{"$f":"'Anlagenartenkatalog UZH'!$B$125","v":"Kücheneinrichtungen"},{"$f":"'Anlagenartenkatalog UZH'!$D$154","v":"Eismaschine (Küche)"},{"$f":"Hilfstabelle!$O$13","v":"Servicefirma"},"Text","Kibernetik AG",{"$f":"Hilfstabelle!$P$10","v":"Gemäss Offerte in Submission"}]
[null,null,{"$f":"'Anlagenartenkatalog UZH'!$B$125","v":"Kücheneinrichtungen"},{"$f":"'Anlagenartenkatalog UZH'!$D$154","v":"Eismaschine (Küche)"},{"$f":"Hilfstabelle!$O$14","v":"Inbetriebnahmedatum"},"Text","06.06.2030"]
[null,null,{"$f":"'Anlagenartenkatalog UZH'!$B$125","v":"Kücheneinrichtungen"},{"$f":"'Anlagenartenkatalog UZH'!$D$154","v":"Eismaschine (Küche)"},{"$f":"Hilfstabelle!$O$15","v":"Garantieende"},"Text","06.06.2035"]
[null,null,{"$f":"'Anlagenartenkatalog UZH'!$B$125","v":"Kücheneinrichtungen"},{"$f":"'Anlagenartenkatalog UZH'!$D$154","v":"Eismaschine (Küche)"},{"$f":"Hilfstabelle!$O$16","v":"Erwartetes technisches Enddatum"},"Text","06.06.2045"]
[null,null,{"$f":"'Anlagenartenkatalog UZH'!$B$125","v":"Kücheneinrichtungen"},{"$f":"'Anlagenartenkatalog UZH'!$D$154","v":"Eismaschine (Küche)"},"Anmerkung: Kältemittel","Text","Kältemittel: R404","Die Angabe des Kältemittels inkl. Füllmenge wird nur bei eigenem Kompressor benötigt (nicht am Kältenetz angeschlossen)."]
[null,null,{"$f":"'Anlagenartenkatalog UZH'!$B$125","v":"Kücheneinrichtungen"},{"$f":"'Anlagenartenkatalog UZH'!$D$154","v":"Eismaschine (Küche)"},"Anmerkung: Füllmenge Kältemittel [kg]","Text","Füllmenge Kältemittel: 0.125 kg","Die Angabe des Kältemittels inkl. Füllmenge wird nur bei eigenem Kompressor benötigt (nicht am Kältenetz angeschlossen)."]
[null,null,{"$f":"'Anlagenartenkatalog UZH'!$B$125","v":"Kücheneinrichtungen"},{"$f":"'Anlagenartenkatalog UZH'!$D$154","v":"Eismaschine (Küche)"},"Anmerkung: Meldekarte (Vignette)","Text","Meldekarte (Vignette): Nein",{"$f":"Hilfstabelle!$P$12","v":"Nein oder 16-Stellige Zahl"}]
[null,null,{"$f":"'Anlagenartenkatalog UZH'!$B$125","v":"Kücheneinrichtungen"},{"$f":"'Anlagenartenkatalog UZH'!$D$154","v":"Eismaschine (Küche)"},"Anmerkung: Zuständigkeit","Text","Zuständigkeit: UZH",{"$f":"Hilfstabelle!$P$11","v":"Bei mobilen Geräten (steckbar / mit eigenem Kompressor) ist die Gastronomie zuständig. Für festverbaute Anlagen / am Kältenetz ist die UZH zuständig."}]
[null,null,{"$f":"'Anlagenartenkatalog UZH'!$B$125","v":"Kücheneinrichtungen"},{"$f":"'Anlagenartenkatalog UZH'!$D$154","v":"Eismaschine (Küche)"},{"$f":"Hilfstabelle!$O$17","v":"Anmerkung: Anzahl Wartungen pro Jahr"},"Text","Anzahl Wartungen pro Jahr: 1"]
[null,null,{"$f":"'Anlagenartenkatalog UZH'!$B$157","v":"Laboreinrichtung"},{"$f":"'Anlagenartenkatalog UZH'!$D$157","v":"Erdgas- Bunsenbrenner"},{"$f":"Hilfstabelle!$O$3","v":"Code (MSRL-Code)"},"Text","BOT-§1654199899"]
[null,null,{"$f":"'Anlagenartenkatalog UZH'!$B$157","v":"Laboreinrichtung"},{"$f":"'Anlagenartenkatalog UZH'!$D$157","v":"Erdgas- Bunsenbrenner"},{"$f":"Hilfstabelle!$O$4","v":"Bezeichnung"},"Text","Erdgas- Bunsenbrenner",{"$f":"Hilfstabelle!$P$7","v":"Die Bezeichnung einer Anlage muss eindeutig sein, sofern mehrere Anlagen im gleichen Raum sind. "}]
[null,null,{"$f":"'Anlagenartenkatalog UZH'!$B$157","v":"Laboreinrichtung"},{"$f":"'Anlagenartenkatalog UZH'!$D$157","v":"Erdgas- Bunsenbrenner"},{"$f":"Hilfstabelle!$O$5","v":"Anlagentyp (Beschreibung)"},"Text",null,{"$f":"Hilfstabelle!$P$8","v":"Verbindlich gemäss Anlagenartenkatalog"}]
[null,null,{"$f":"'Anlagenartenkatalog UZH'!$B$157","v":"Laboreinrichtung"},{"$f":"'Anlagenartenkatalog UZH'!$D$157","v":"Erdgas- Bunsenbrenner"},{"$f":"Hilfstabelle!$O$6","v":"Artikelgruppe"},"Text",4.08]
[null,null,{"$f":"'Anlagenartenkatalog UZH'!$B$157","v":"Laboreinrichtung"},{"$f":"'Anlagenartenkatalog UZH'!$D$157","v":"Erdgas- Bunsenbrenner"},{"$f":"Hilfstabelle!$O$7","v":"Hauptanlage"},"Text"]
[null,null,{"$f":"'Anlagenartenkatalog UZH'!$B$157","v":"Laboreinrichtung"},{"$f":"'Anlagenartenkatalog UZH'!$D$157","v":"Erdgas- Bunsenbrenner"},{"$f":"Hilfstabelle!$O$8","v":"Objekt"},"Text","BOT "]
[null,null,{"$f":"'Anlagenartenkatalog UZH'!$B$157","v":"Laboreinrichtung"},{"$f":"'Anlagenartenkatalog UZH'!$D$157","v":"Erdgas- Bunsenbrenner"},{"$f":"Hilfstabelle!$O$9","v":"Raumkennzeichen"},"Text","M1-12"]
[null,null,{"$f":"'Anlagenartenkatalog UZH'!$B$157","v":"Laboreinrichtung"},{"$f":"'Anlagenartenkatalog UZH'!$D$157","v":"Erdgas- Bunsenbrenner"},{"$f":"Hilfstabelle!$O$10","v":"Hersteller / Marke"},"Text","ingold-biwa Suisselearn Media AG"]
[null,null,{"$f":"'Anlagenartenkatalog UZH'!$B$157","v":"Laboreinrichtung"},{"$f":"'Anlagenartenkatalog UZH'!$D$157","v":"Erdgas- Bunsenbrenner"},{"$f":"Hilfstabelle!$O$11","v":"Modell / Artikel"},"Text","34.428.12.00"]
[null,null,{"$f":"'Anlagenartenkatalog UZH'!$B$157","v":"Laboreinrichtung"},{"$f":"'Anlagenartenkatalog UZH'!$D$157","v":"Erdgas- Bunsenbrenner"},{"$f":"Hilfstabelle!$O$12","v":"Seriennummer"},"Text","23654567"]
[null,null,{"$f":"'Anlagenartenkatalog UZH'!$B$157","v":"Laboreinrichtung"},{"$f":"'Anlagenartenkatalog UZH'!$D$157","v":"Erdgas- Bunsenbrenner"},{"$f":"Hilfstabelle!$O$13","v":"Servicefirma"},"Text","ingold-biwa Suisselearn Media AG",{"$f":"Hilfstabelle!$P$10","v":"Gemäss Offerte in Submission"}]
[null,null,{"$f":"'Anlagenartenkatalog UZH'!$B$157","v":"Laboreinrichtung"},{"$f":"'Anlagenartenkatalog UZH'!$D$157","v":"Erdgas- Bunsenbrenner"},{"$f":"Hilfstabelle!$O$14","v":"Inbetriebnahmedatum"},"Text","06.06.2030"]
[null,null,{"$f":"'Anlagenartenkatalog UZH'!$B$157","v":"Laboreinrichtung"},{"$f":"'Anlagenartenkatalog UZH'!$D$157","v":"Erdgas- Bunsenbrenner"},{"$f":"Hilfstabelle!$O$15","v":"Garantieende"},"Text","06.06.2035"]
[null,null,{"$f":"'Anlagenartenkatalog UZH'!$B$157","v":"Laboreinrichtung"},{"$f":"'Anlagenartenkatalog UZH'!$D$157","v":"Erdgas- Bunsenbrenner"},{"$f":"Hilfstabelle!$O$16","v":"Erwartetes technisches Enddatum"},"Text","06.06.2045"]
[null,null,{"$f":"'Anlagenartenkatalog UZH'!$B$157","v":"Laboreinrichtung"},{"$f":"'Anlagenartenkatalog UZH'!$D$157","v":"Erdgas- Bunsenbrenner"},"Anmerkung: Brenner mit Sicherheit (Überwacht)","Text","Brenner mit Sicherheit (Überwacht):  1x "]
[null,null,{"$f":"'Anlagenartenkatalog UZH'!$B$157","v":"Laboreinrichtung"},{"$f":"'Anlagenartenkatalog UZH'!$D$157","v":"Erdgas- Bunsenbrenner"},"Anmerkung: Gas 48 Volt Magnetventil","Text","Gas 48 Volt Magnetventil: 1 "]
[null,null,{"$f":"'Anlagenartenkatalog UZH'!$B$157","v":"Laboreinrichtung"},{"$f":"'Anlagenartenkatalog UZH'!$D$157","v":"Erdgas- Bunsenbrenner"},"Anmerkung: Gasrückflammsicherung","Text","Gasrückflammsicherung: 1 "]
[null,null,"Laboreinrichtung","Erdgas- Bunsenbrenner","Anmerkung: Elektro-/  Gas Abschaltung","Text","Elektro-/  Gas Abschaltung: 1"]
[null,null,"Laboreinrichtung","Erdgas- Bunsenbrenner","Anmerkung: Gasanschlüsse Armaturen (Anzahl Gasanschlüsse nach Raum)","Text","Gasanschlüsse Armaturen (Anzahl Gasanschlüsse nach Raum): 7"]
[null,null,"Laboreinrichtung","Erdgas- Bunsenbrenner","Anmerkung: Gasüberwachung Raum (Ja / Nein)","Text","Gasüberwachung Raum: Ja"]
[null,null,"Laboreinrichtung","Erdgas- Bunsenbrenner","Standort Abstellhahn","Text","2OG / Maschinenraum"]
[null,null,{"$f":"'Anlagenartenkatalog UZH'!$B$157","v":"Laboreinrichtung"},{"$f":"'Anlagenartenkatalog UZH'!$D$157","v":"Erdgas- Bunsenbrenner"},{"$f":"Hilfstabelle!$O$17","v":"Anmerkung: Anzahl Wartungen pro Jahr"},"Text","Anzahl Wartungen pro Jahr: 1"]
[null,null,{"$f":"'Anlagenartenkatalog UZH'!$B$157","v":"Laboreinrichtung"},{"$f":"'Anlagenartenkatalog UZH'!$D$165","v":"Tiefkühler (mobil)"},{"$f":"Hilfstabelle!$O$3","v":"Code (MSRL-Code)"},"Text","SOC-§1234567890"]
[null,null,{"$f":"'Anlagenartenkatalog UZH'!$B$157","v":"Laboreinrichtung"},{"$f":"'Anlagenartenkatalog UZH'!$D$165","v":"Tiefkühler (mobil)"},{"$f":"Hilfstabelle!$O$4","v":"Bezeichnung"},"Text","Tiefkühler (mobil)",{"$f":"Hilfstabelle!$P$7","v":"Die Bezeichnung einer Anlage muss eindeutig sein, sofern mehrere Anlagen im gleichen Raum sind. "}]
[null,null,{"$f":"'Anlagenartenkatalog UZH'!$B$157","v":"Laboreinrichtung"},{"$f":"'Anlagenartenkatalog UZH'!$D$165","v":"Tiefkühler (mobil)"},{"$f":"Hilfstabelle!$O$5","v":"Anlagentyp (Beschreibung)"},"Text",null,{"$f":"Hilfstabelle!$P$8","v":"Verbindlich gemäss Anlagenartenkatalog"}]
[null,null,{"$f":"'Anlagenartenkatalog UZH'!$B$157","v":"Laboreinrichtung"},{"$f":"'Anlagenartenkatalog UZH'!$D$165","v":"Tiefkühler (mobil)"},{"$f":"Hilfstabelle!$O$6","v":"Artikelgruppe"},"Text",{"$f":"'Anlagenartenkatalog UZH'!$A$157","v":"04.08"}]
[null,null,{"$f":"'Anlagenartenkatalog UZH'!$B$157","v":"Laboreinrichtung"},{"$f":"'Anlagenartenkatalog UZH'!$D$165","v":"Tiefkühler (mobil)"},{"$f":"Hilfstabelle!$O$7","v":"Hauptanlage"},"Text"]
[null,null,{"$f":"'Anlagenartenkatalog UZH'!$B$157","v":"Laboreinrichtung"},{"$f":"'Anlagenartenkatalog UZH'!$D$165","v":"Tiefkühler (mobil)"},{"$f":"Hilfstabelle!$O$8","v":"Objekt"},"Text","SOC"]
[null,null,{"$f":"'Anlagenartenkatalog UZH'!$B$157","v":"Laboreinrichtung"},{"$f":"'Anlagenartenkatalog UZH'!$D$165","v":"Tiefkühler (mobil)"},{"$f":"Hilfstabelle!$O$9","v":"Raumkennzeichen"},"Text","E-04"]
[null,null,{"$f":"'Anlagenartenkatalog UZH'!$B$157","v":"Laboreinrichtung"},{"$f":"'Anlagenartenkatalog UZH'!$D$165","v":"Tiefkühler (mobil)"},{"$f":"Hilfstabelle!$O$10","v":"Hersteller / Marke"},"Text","ProfiLab24 GmbH"]
[null,null,{"$f":"'Anlagenartenkatalog UZH'!$B$157","v":"Laboreinrichtung"},{"$f":"'Anlagenartenkatalog UZH'!$D$165","v":"Tiefkühler (mobil)"},{"$f":"Hilfstabelle!$O$11","v":"Modell / Artikel"},"Text","GFL Tiefkühltruhe 6385"]
[null,null,{"$f":"'Anlagenartenkatalog UZH'!$B$157","v":"Laboreinrichtung"},{"$f":"'Anlagenartenkatalog UZH'!$D$165","v":"Tiefkühler (mobil)"},{"$f":"Hilfstabelle!$O$12","v":"Seriennummer"},"Text","436457"]
[null,null,{"$f":"'Anlagenartenkatalog UZH'!$B$157","v":"Laboreinrichtung"},{"$f":"'Anlagenartenkatalog UZH'!$D$165","v":"Tiefkühler (mobil)"},{"$f":"Hilfstabelle!$O$13","v":"Servicefirma"},"Text","ProfiLab24 GmbH",{"$f":"Hilfstabelle!$P$10","v":"Gemäss Offerte in Submission"}]
[null,null,{"$f":"'Anlagenartenkatalog UZH'!$B$157","v":"Laboreinrichtung"},{"$f":"'Anlagenartenkatalog UZH'!$D$165","v":"Tiefkühler (mobil)"},{"$f":"Hilfstabelle!$O$14","v":"Inbetriebnahmedatum"},"Text","06.06.2030"]
[null,null,{"$f":"'Anlagenartenkatalog UZH'!$B$157","v":"Laboreinrichtung"},{"$f":"'Anlagenartenkatalog UZH'!$D$165","v":"Tiefkühler (mobil)"},{"$f":"Hilfstabelle!$O$15","v":"Garantieende"},"Text","06.06.2035"]
[null,null,{"$f":"'Anlagenartenkatalog UZH'!$B$157","v":"Laboreinrichtung"},{"$f":"'Anlagenartenkatalog UZH'!$D$165","v":"Tiefkühler (mobil)"},{"$f":"Hilfstabelle!$O$16","v":"Erwartetes technisches Enddatum"},"Text","06.06.2045"]
[null,null,{"$f":"'Anlagenartenkatalog UZH'!$B$157","v":"Laboreinrichtung"},{"$f":"'Anlagenartenkatalog UZH'!$D$165","v":"Tiefkühler (mobil)"},{"$f":"Hilfstabelle!$O$17","v":"Anmerkung: Anzahl Wartungen pro Jahr"},"Text","Anzahl Wartungen pro Jahr: 1"]
[null,null,{"$f":"'Anlagenartenkatalog UZH'!$B$157","v":"Laboreinrichtung"},{"$f":"'Anlagenartenkatalog UZH'!$D$161","v":"Konstantraum"},{"$f":"Hilfstabelle!$O$3","v":"Code (MSRL-Code)"},"Text","FRE_G501_S001"]
[null,null,{"$f":"'Anlagenartenkatalog UZH'!$B$157","v":"Laboreinrichtung"},{"$f":"'Anlagenartenkatalog UZH'!$D$161","v":"Konstantraum"},{"$f":"Hilfstabelle!$O$4","v":"Bezeichnung"},"Text","Konstantraum",{"$f":"Hilfstabelle!$P$7","v":"Die Bezeichnung einer Anlage muss eindeutig sein, sofern mehrere Anlagen im gleichen Raum sind. "}]
[null,null,{"$f":"'Anlagenartenkatalog UZH'!$B$157","v":"Laboreinrichtung"},{"$f":"'Anlagenartenkatalog UZH'!$D$161","v":"Konstantraum"},{"$f":"Hilfstabelle!$O$5","v":"Anlagentyp (Beschreibung)"},"Text",null,{"$f":"Hilfstabelle!$P$8","v":"Verbindlich gemäss Anlagenartenkatalog"}]
[null,null,{"$f":"'Anlagenartenkatalog UZH'!$B$157","v":"Laboreinrichtung"},{"$f":"'Anlagenartenkatalog UZH'!$D$161","v":"Konstantraum"},{"$f":"Hilfstabelle!$O$6","v":"Artikelgruppe"},"Text",{"$f":"'Anlagenartenkatalog UZH'!$A$157","v":"04.08"}]
[null,null,{"$f":"'Anlagenartenkatalog UZH'!$B$157","v":"Laboreinrichtung"},{"$f":"'Anlagenartenkatalog UZH'!$D$161","v":"Konstantraum"},{"$f":"Hilfstabelle!$O$7","v":"Hauptanlage"},"Text"]
[null,null,{"$f":"'Anlagenartenkatalog UZH'!$B$157","v":"Laboreinrichtung"},{"$f":"'Anlagenartenkatalog UZH'!$D$161","v":"Konstantraum"},{"$f":"Hilfstabelle!$O$8","v":"Objekt"},"Text","FRE"]
[null,null,{"$f":"'Anlagenartenkatalog UZH'!$B$157","v":"Laboreinrichtung"},{"$f":"'Anlagenartenkatalog UZH'!$D$161","v":"Konstantraum"},{"$f":"Hilfstabelle!$O$9","v":"Raumkennzeichen"},"Text","E-04"]
[null,null,{"$f":"'Anlagenartenkatalog UZH'!$B$157","v":"Laboreinrichtung"},{"$f":"'Anlagenartenkatalog UZH'!$D$161","v":"Konstantraum"},{"$f":"Hilfstabelle!$O$10","v":"Hersteller / Marke"},"Text","häberle LABORTECHNIK GmbH & Co.KG"]
[null,null,{"$f":"'Anlagenartenkatalog UZH'!$B$157","v":"Laboreinrichtung"},{"$f":"'Anlagenartenkatalog UZH'!$D$161","v":"Konstantraum"},{"$f":"Hilfstabelle!$O$11","v":"Modell / Artikel"},"Text","Konstantklima-Kammern HPPeco / 9868030"]
[null,null,{"$f":"'Anlagenartenkatalog UZH'!$B$157","v":"Laboreinrichtung"},{"$f":"'Anlagenartenkatalog UZH'!$D$161","v":"Konstantraum"},{"$f":"Hilfstabelle!$O$12","v":"Seriennummer"},"Text","34564587"]
[null,null,{"$f":"'Anlagenartenkatalog UZH'!$B$157","v":"Laboreinrichtung"},{"$f":"'Anlagenartenkatalog UZH'!$D$161","v":"Konstantraum"},{"$f":"Hilfstabelle!$O$13","v":"Servicefirma"},"Text","häberle LABORTECHNIK GmbH & Co.KG",{"$f":"Hilfstabelle!$P$10","v":"Gemäss Offerte in Submission"}]
[null,null,{"$f":"'Anlagenartenkatalog UZH'!$B$157","v":"Laboreinrichtung"},{"$f":"'Anlagenartenkatalog UZH'!$D$161","v":"Konstantraum"},{"$f":"Hilfstabelle!$O$14","v":"Inbetriebnahmedatum"},"Text","06.06.2030"]
[null,null,{"$f":"'Anlagenartenkatalog UZH'!$B$157","v":"Laboreinrichtung"},{"$f":"'Anlagenartenkatalog UZH'!$D$161","v":"Konstantraum"},{"$f":"Hilfstabelle!$O$15","v":"Garantieende"},"Text","06.06.2035"]
[null,null,{"$f":"'Anlagenartenkatalog UZH'!$B$157","v":"Laboreinrichtung"},{"$f":"'Anlagenartenkatalog UZH'!$D$161","v":"Konstantraum"},{"$f":"Hilfstabelle!$O$16","v":"Erwartetes technisches Enddatum"},"Text","06.06.2045"]
[null,null,{"$f":"'Anlagenartenkatalog UZH'!$B$157","v":"Laboreinrichtung"},{"$f":"'Anlagenartenkatalog UZH'!$D$161","v":"Konstantraum"},{"$f":"Hilfstabelle!$O$17","v":"Anmerkung: Anzahl Wartungen pro Jahr"},"Text","Anzahl Wartungen pro Jahr: 1"]
[null,null,{"$f":"'Anlagenartenkatalog UZH'!$B$157","v":"Laboreinrichtung"},{"$f":"'Anlagenartenkatalog UZH'!$D$160","v":"Phytotron"},{"$f":"Hilfstabelle!$O$3","v":"Code (MSRL-Code)"},"Text","FRE_G501_S001"]
[null,null,{"$f":"'Anlagenartenkatalog UZH'!$B$157","v":"Laboreinrichtung"},{"$f":"'Anlagenartenkatalog UZH'!$D$160","v":"Phytotron"},{"$f":"Hilfstabelle!$O$4","v":"Bezeichnung"},"Text","Phytotron",{"$f":"Hilfstabelle!$P$7","v":"Die Bezeichnung einer Anlage muss eindeutig sein, sofern mehrere Anlagen im gleichen Raum sind. "}]
[null,null,{"$f":"'Anlagenartenkatalog UZH'!$B$157","v":"Laboreinrichtung"},{"$f":"'Anlagenartenkatalog UZH'!$D$160","v":"Phytotron"},{"$f":"Hilfstabelle!$O$5","v":"Anlagentyp (Beschreibung)"},"Text",null,{"$f":"Hilfstabelle!$P$8","v":"Verbindlich gemäss Anlagenartenkatalog"}]
[null,null,{"$f":"'Anlagenartenkatalog UZH'!$B$157","v":"Laboreinrichtung"},{"$f":"'Anlagenartenkatalog UZH'!$D$160","v":"Phytotron"},{"$f":"Hilfstabelle!$O$6","v":"Artikelgruppe"},"Text",{"$f":"'Anlagenartenkatalog UZH'!$A$157","v":"04.08"}]
[null,null,{"$f":"'Anlagenartenkatalog UZH'!$B$157","v":"Laboreinrichtung"},{"$f":"'Anlagenartenkatalog UZH'!$D$160","v":"Phytotron"},{"$f":"Hilfstabelle!$O$7","v":"Hauptanlage"},"Text"]
[null,null,{"$f":"'Anlagenartenkatalog UZH'!$B$157","v":"Laboreinrichtung"},{"$f":"'Anlagenartenkatalog UZH'!$D$160","v":"Phytotron"},{"$f":"Hilfstabelle!$O$8","v":"Objekt"},"Text","FRE"]
[null,null,{"$f":"'Anlagenartenkatalog UZH'!$B$157","v":"Laboreinrichtung"},{"$f":"'Anlagenartenkatalog UZH'!$D$160","v":"Phytotron"},{"$f":"Hilfstabelle!$O$9","v":"Raumkennzeichen"},"Text","F-03"]
[null,null,{"$f":"'Anlagenartenkatalog UZH'!$B$157","v":"Laboreinrichtung"},{"$f":"'Anlagenartenkatalog UZH'!$D$160","v":"Phytotron"},{"$f":"Hilfstabelle!$O$10","v":"Hersteller / Marke"},"Text","CiK Solutions GmbH"]
[null,null,{"$f":"'Anlagenartenkatalog UZH'!$B$157","v":"Laboreinrichtung"},{"$f":"'Anlagenartenkatalog UZH'!$D$160","v":"Phytotron"},{"$f":"Hilfstabelle!$O$11","v":"Modell / Artikel"},"Text","RK-1000 CH"]
[null,null,{"$f":"'Anlagenartenkatalog UZH'!$B$157","v":"Laboreinrichtung"},{"$f":"'Anlagenartenkatalog UZH'!$D$160","v":"Phytotron"},{"$f":"Hilfstabelle!$O$12","v":"Seriennummer"},"Text","45674578"]
[null,null,{"$f":"'Anlagenartenkatalog UZH'!$B$157","v":"Laboreinrichtung"},{"$f":"'Anlagenartenkatalog UZH'!$D$160","v":"Phytotron"},{"$f":"Hilfstabelle!$O$13","v":"Servicefirma"},"Text","CiK Solutions GmbH",{"$f":"Hilfstabelle!$P$10","v":"Gemäss Offerte in Submission"}]
[null,null,{"$f":"'Anlagenartenkatalog UZH'!$B$157","v":"Laboreinrichtung"},{"$f":"'Anlagenartenkatalog UZH'!$D$160","v":"Phytotron"},{"$f":"Hilfstabelle!$O$14","v":"Inbetriebnahmedatum"},"Text","06.06.2030"]
[null,null,{"$f":"'Anlagenartenkatalog UZH'!$B$157","v":"Laboreinrichtung"},{"$f":"'Anlagenartenkatalog UZH'!$D$160","v":"Phytotron"},{"$f":"Hilfstabelle!$O$15","v":"Garantieende"},"Text","06.06.2035"]
[null,null,{"$f":"'Anlagenartenkatalog UZH'!$B$157","v":"Laboreinrichtung"},{"$f":"'Anlagenartenkatalog UZH'!$D$160","v":"Phytotron"},{"$f":"Hilfstabelle!$O$16","v":"Erwartetes technisches Enddatum"},"Text","06.06.2045"]
[null,null,{"$f":"'Anlagenartenkatalog UZH'!$B$157","v":"Laboreinrichtung"},{"$f":"'Anlagenartenkatalog UZH'!$D$160","v":"Phytotron"},{"$f":"Hilfstabelle!$O$17","v":"Anmerkung: Anzahl Wartungen pro Jahr"},"Text","Anzahl Wartungen pro Jahr: 1"]
[null,null,{"$f":"'Anlagenartenkatalog UZH'!$B$157","v":"Laboreinrichtung"},{"$f":"'Anlagenartenkatalog UZH'!$D$159","v":"Autoklav"},{"$f":"Hilfstabelle!$O$3","v":"Code (MSRL-Code)"},"Text","FRE_G501_S001"]
[null,null,{"$f":"'Anlagenartenkatalog UZH'!$B$157","v":"Laboreinrichtung"},{"$f":"'Anlagenartenkatalog UZH'!$D$159","v":"Autoklav"},{"$f":"Hilfstabelle!$O$4","v":"Bezeichnung"},"Text","Autoklav",{"$f":"Hilfstabelle!$P$7","v":"Die Bezeichnung einer Anlage muss eindeutig sein, sofern mehrere Anlagen im gleichen Raum sind. "}]
[null,null,{"$f":"'Anlagenartenkatalog UZH'!$B$157","v":"Laboreinrichtung"},{"$f":"'Anlagenartenkatalog UZH'!$D$159","v":"Autoklav"},{"$f":"Hilfstabelle!$O$5","v":"Anlagentyp (Beschreibung)"},"Text",null,{"$f":"Hilfstabelle!$P$8","v":"Verbindlich gemäss Anlagenartenkatalog"}]
[null,null,{"$f":"'Anlagenartenkatalog UZH'!$B$157","v":"Laboreinrichtung"},{"$f":"'Anlagenartenkatalog UZH'!$D$159","v":"Autoklav"},{"$f":"Hilfstabelle!$O$6","v":"Artikelgruppe"},"Text",{"$f":"'Anlagenartenkatalog UZH'!$A$157","v":"04.08"}]
[null,null,{"$f":"'Anlagenartenkatalog UZH'!$B$157","v":"Laboreinrichtung"},{"$f":"'Anlagenartenkatalog UZH'!$D$159","v":"Autoklav"},{"$f":"Hilfstabelle!$O$7","v":"Hauptanlage"},"Text"]
[null,null,{"$f":"'Anlagenartenkatalog UZH'!$B$157","v":"Laboreinrichtung"},{"$f":"'Anlagenartenkatalog UZH'!$D$159","v":"Autoklav"},{"$f":"Hilfstabelle!$O$8","v":"Objekt"},"Text","FRE"]
[null,null,{"$f":"'Anlagenartenkatalog UZH'!$B$157","v":"Laboreinrichtung"},{"$f":"'Anlagenartenkatalog UZH'!$D$159","v":"Autoklav"},{"$f":"Hilfstabelle!$O$9","v":"Raumkennzeichen"},"Text","E-04"]
[null,null,{"$f":"'Anlagenartenkatalog UZH'!$B$157","v":"Laboreinrichtung"},{"$f":"'Anlagenartenkatalog UZH'!$D$159","v":"Autoklav"},{"$f":"Hilfstabelle!$O$10","v":"Hersteller / Marke"},"Text","ZIRBUS technology GmbH"]
[null,null,{"$f":"'Anlagenartenkatalog UZH'!$B$157","v":"Laboreinrichtung"},{"$f":"'Anlagenartenkatalog UZH'!$D$159","v":"Autoklav"},{"$f":"Hilfstabelle!$O$11","v":"Modell / Artikel"},"Text","Serie 6H / HST 9x6x9"]
[null,null,{"$f":"'Anlagenartenkatalog UZH'!$B$157","v":"Laboreinrichtung"},{"$f":"'Anlagenartenkatalog UZH'!$D$159","v":"Autoklav"},{"$f":"Hilfstabelle!$O$12","v":"Seriennummer"},"Text","34754687"]
[null,null,{"$f":"'Anlagenartenkatalog UZH'!$B$157","v":"Laboreinrichtung"},{"$f":"'Anlagenartenkatalog UZH'!$D$159","v":"Autoklav"},{"$f":"Hilfstabelle!$O$13","v":"Servicefirma"},"Text","ZIRBUS technology GmbH",{"$f":"Hilfstabelle!$P$10","v":"Gemäss Offerte in Submission"}]
[null,null,{"$f":"'Anlagenartenkatalog UZH'!$B$157","v":"Laboreinrichtung"},{"$f":"'Anlagenartenkatalog UZH'!$D$159","v":"Autoklav"},{"$f":"Hilfstabelle!$O$14","v":"Inbetriebnahmedatum"},"Text","06.06.2030"]
[null,null,{"$f":"'Anlagenartenkatalog UZH'!$B$157","v":"Laboreinrichtung"},{"$f":"'Anlagenartenkatalog UZH'!$D$159","v":"Autoklav"},{"$f":"Hilfstabelle!$O$15","v":"Garantieende"},"Text","06.06.2035"]
[null,null,{"$f":"'Anlagenartenkatalog UZH'!$B$157","v":"Laboreinrichtung"},{"$f":"'Anlagenartenkatalog UZH'!$D$159","v":"Autoklav"},{"$f":"Hilfstabelle!$O$16","v":"Erwartetes technisches Enddatum"},"Text","06.06.2045"]
[null,null,{"$f":"'Anlagenartenkatalog UZH'!$B$157","v":"Laboreinrichtung"},{"$f":"'Anlagenartenkatalog UZH'!$D$159","v":"Autoklav"},{"$f":"Hilfstabelle!$O$17","v":"Anmerkung: Anzahl Wartungen pro Jahr"},"Text","Anzahl Wartungen pro Jahr: 1"]
[null,null,{"$f":"'Anlagenartenkatalog UZH'!$B$157","v":"Laboreinrichtung"},{"$f":"'Anlagenartenkatalog UZH'!$D$158","v":"Laborkapelle"},{"$f":"Hilfstabelle!$O$3","v":"Code (MSRL-Code)"},"Text","FRE_G501_S001"]
[null,null,{"$f":"'Anlagenartenkatalog UZH'!$B$157","v":"Laboreinrichtung"},{"$f":"'Anlagenartenkatalog UZH'!$D$158","v":"Laborkapelle"},{"$f":"Hilfstabelle!$O$4","v":"Bezeichnung"},"Text","Laborkapelle 2",{"$f":"Hilfstabelle!$P$7","v":"Die Bezeichnung einer Anlage muss eindeutig sein, sofern mehrere Anlagen im gleichen Raum sind. "}]
[null,null,{"$f":"'Anlagenartenkatalog UZH'!$B$157","v":"Laboreinrichtung"},{"$f":"'Anlagenartenkatalog UZH'!$D$158","v":"Laborkapelle"},{"$f":"Hilfstabelle!$O$5","v":"Anlagentyp (Beschreibung)"},"Text",null,{"$f":"Hilfstabelle!$P$8","v":"Verbindlich gemäss Anlagenartenkatalog"}]
[null,null,{"$f":"'Anlagenartenkatalog UZH'!$B$157","v":"Laboreinrichtung"},{"$f":"'Anlagenartenkatalog UZH'!$D$158","v":"Laborkapelle"},{"$f":"Hilfstabelle!$O$6","v":"Artikelgruppe"},"Text",{"$f":"'Anlagenartenkatalog UZH'!$A$157","v":"04.08"}]
[null,null,{"$f":"'Anlagenartenkatalog UZH'!$B$157","v":"Laboreinrichtung"},{"$f":"'Anlagenartenkatalog UZH'!$D$158","v":"Laborkapelle"},{"$f":"Hilfstabelle!$O$7","v":"Hauptanlage"},"Text"]
[null,null,{"$f":"'Anlagenartenkatalog UZH'!$B$157","v":"Laboreinrichtung"},{"$f":"'Anlagenartenkatalog UZH'!$D$158","v":"Laborkapelle"},{"$f":"Hilfstabelle!$O$8","v":"Objekt"},"Text","FRE"]
[null,null,{"$f":"'Anlagenartenkatalog UZH'!$B$157","v":"Laboreinrichtung"},{"$f":"'Anlagenartenkatalog UZH'!$D$158","v":"Laborkapelle"},{"$f":"Hilfstabelle!$O$9","v":"Raumkennzeichen"},"Text","F-03"]
[null,null,{"$f":"'Anlagenartenkatalog UZH'!$B$157","v":"Laboreinrichtung"},{"$f":"'Anlagenartenkatalog UZH'!$D$158","v":"Laborkapelle"},{"$f":"Hilfstabelle!$O$10","v":"Hersteller / Marke"},"Text","WALDNER Holding SE & Co. KG"]
[null,null,{"$f":"'Anlagenartenkatalog UZH'!$B$157","v":"Laboreinrichtung"},{"$f":"'Anlagenartenkatalog UZH'!$D$158","v":"Laborkapelle"},{"$f":"Hilfstabelle!$O$11","v":"Modell / Artikel"},"Text","Secuflow-Laborabzug"]
[null,null,{"$f":"'Anlagenartenkatalog UZH'!$B$157","v":"Laboreinrichtung"},{"$f":"'Anlagenartenkatalog UZH'!$D$158","v":"Laborkapelle"},{"$f":"Hilfstabelle!$O$12","v":"Seriennummer"},"Text","346745687"]
[null,null,{"$f":"'Anlagenartenkatalog UZH'!$B$157","v":"Laboreinrichtung"},{"$f":"'Anlagenartenkatalog UZH'!$D$158","v":"Laborkapelle"},{"$f":"Hilfstabelle!$O$13","v":"Servicefirma"},"Text","WALDNER Holding SE & Co. KG",{"$f":"Hilfstabelle!$P$10","v":"Gemäss Offerte in Submission"}]
[null,null,{"$f":"'Anlagenartenkatalog UZH'!$B$157","v":"Laboreinrichtung"},{"$f":"'Anlagenartenkatalog UZH'!$D$158","v":"Laborkapelle"},{"$f":"Hilfstabelle!$O$14","v":"Inbetriebnahmedatum"},"Text","06.06.2030"]
[null,null,{"$f":"'Anlagenartenkatalog UZH'!$B$157","v":"Laboreinrichtung"},{"$f":"'Anlagenartenkatalog UZH'!$D$158","v":"Laborkapelle"},{"$f":"Hilfstabelle!$O$15","v":"Garantieende"},"Text","06.06.2035"]
[null,null,{"$f":"'Anlagenartenkatalog UZH'!$B$157","v":"Laboreinrichtung"},{"$f":"'Anlagenartenkatalog UZH'!$D$158","v":"Laborkapelle"},{"$f":"Hilfstabelle!$O$16","v":"Erwartetes technisches Enddatum"},"Text","06.06.2045"]
[null,null,{"$f":"'Anlagenartenkatalog UZH'!$B$157","v":"Laboreinrichtung"},{"$f":"'Anlagenartenkatalog UZH'!$D$158","v":"Laborkapelle"},{"$f":"Hilfstabelle!$O$17","v":"Anmerkung: Anzahl Wartungen pro Jahr"},"Text","Anzahl Wartungen pro Jahr: 1"]
[null,null,{"$f":"'Anlagenartenkatalog UZH'!$B$157","v":"Laboreinrichtung"},{"$f":"'Anlagenartenkatalog UZH'!$D$163","v":"Eismaschine (Labor)"},{"$f":"Hilfstabelle!$O$3","v":"Code (MSRL-Code)"},"Text","MEN-§1654899474"]
[null,null,{"$f":"'Anlagenartenkatalog UZH'!$B$157","v":"Laboreinrichtung"},{"$f":"'Anlagenartenkatalog UZH'!$D$163","v":"Eismaschine (Labor)"},{"$f":"Hilfstabelle!$O$4","v":"Bezeichnung"},"Text","Eismaschine (Labor) 3",{"$f":"Hilfstabelle!$P$7","v":"Die Bezeichnung einer Anlage muss eindeutig sein, sofern mehrere Anlagen im gleichen Raum sind. "}]
[null,null,{"$f":"'Anlagenartenkatalog UZH'!$B$157","v":"Laboreinrichtung"},{"$f":"'Anlagenartenkatalog UZH'!$D$163","v":"Eismaschine (Labor)"},{"$f":"Hilfstabelle!$O$5","v":"Anlagentyp (Beschreibung)"},"Text",null,{"$f":"Hilfstabelle!$P$8","v":"Verbindlich gemäss Anlagenartenkatalog"}]
[null,null,{"$f":"'Anlagenartenkatalog UZH'!$B$157","v":"Laboreinrichtung"},{"$f":"'Anlagenartenkatalog UZH'!$D$163","v":"Eismaschine (Labor)"},{"$f":"Hilfstabelle!$O$6","v":"Artikelgruppe"},"Text","04.08"]
[null,null,{"$f":"'Anlagenartenkatalog UZH'!$B$157","v":"Laboreinrichtung"},{"$f":"'Anlagenartenkatalog UZH'!$D$163","v":"Eismaschine (Labor)"},{"$f":"Hilfstabelle!$O$7","v":"Hauptanlage"},"Text"]
[null,null,{"$f":"'Anlagenartenkatalog UZH'!$B$157","v":"Laboreinrichtung"},{"$f":"'Anlagenartenkatalog UZH'!$D$163","v":"Eismaschine (Labor)"},{"$f":"Hilfstabelle!$O$8","v":"Objekt"},"Text","MEN"]
[null,null,{"$f":"'Anlagenartenkatalog UZH'!$B$157","v":"Laboreinrichtung"},{"$f":"'Anlagenartenkatalog UZH'!$D$163","v":"Eismaschine (Labor)"},{"$f":"Hilfstabelle!$O$9","v":"Raumkennzeichen"},"Text","A-18"]
[null,null,{"$f":"'Anlagenartenkatalog UZH'!$B$157","v":"Laboreinrichtung"},{"$f":"'Anlagenartenkatalog UZH'!$D$163","v":"Eismaschine (Labor)"},{"$f":"Hilfstabelle!$O$10","v":"Hersteller / Marke"},"Text","Kibernetik AG"]
[null,null,{"$f":"'Anlagenartenkatalog UZH'!$B$157","v":"Laboreinrichtung"},{"$f":"'Anlagenartenkatalog UZH'!$D$163","v":"Eismaschine (Labor)"},{"$f":"Hilfstabelle!$O$11","v":"Modell / Artikel"},"Text","Feineismaschine Micro-Cube "]
[null,null,{"$f":"'Anlagenartenkatalog UZH'!$B$157","v":"Laboreinrichtung"},{"$f":"'Anlagenartenkatalog UZH'!$D$163","v":"Eismaschine (Labor)"},{"$f":"Hilfstabelle!$O$12","v":"Seriennummer"},"Text","23456357"]
[null,null,{"$f":"'Anlagenartenkatalog UZH'!$B$157","v":"Laboreinrichtung"},{"$f":"'Anlagenartenkatalog UZH'!$D$163","v":"Eismaschine (Labor)"},{"$f":"Hilfstabelle!$O$13","v":"Servicefirma"},"Text","Kibernetik AG",{"$f":"Hilfstabelle!$P$10","v":"Gemäss Offerte in Submission"}]
[null,null,{"$f":"'Anlagenartenkatalog UZH'!$B$157","v":"Laboreinrichtung"},{"$f":"'Anlagenartenkatalog UZH'!$D$163","v":"Eismaschine (Labor)"},{"$f":"Hilfstabelle!$O$14","v":"Inbetriebnahmedatum"},"Text","06.06.2030"]
[null,null,{"$f":"'Anlagenartenkatalog UZH'!$B$157","v":"Laboreinrichtung"},{"$f":"'Anlagenartenkatalog UZH'!$D$163","v":"Eismaschine (Labor)"},{"$f":"Hilfstabelle!$O$15","v":"Garantieende"},"Text","06.06.2035"]
[null,null,{"$f":"'Anlagenartenkatalog UZH'!$B$157","v":"Laboreinrichtung"},{"$f":"'Anlagenartenkatalog UZH'!$D$163","v":"Eismaschine (Labor)"},{"$f":"Hilfstabelle!$O$16","v":"Erwartetes technisches Enddatum"},"Text","06.06.2045"]
[null,null,{"$f":"'Anlagenartenkatalog UZH'!$B$157","v":"Laboreinrichtung"},{"$f":"'Anlagenartenkatalog UZH'!$D$163","v":"Eismaschine (Labor)"},"Anmerkung: Kältemittel","Text","Kältemittel: R404","Die Angabe des Kältemittels inkl. Füllmenge wird nur bei eigenem Kompressor benötigt (nicht am Kältenetz angeschlossen)."]
[null,null,{"$f":"'Anlagenartenkatalog UZH'!$B$157","v":"Laboreinrichtung"},{"$f":"'Anlagenartenkatalog UZH'!$D$163","v":"Eismaschine (Labor)"},"Anmerkung: Füllmenge Kältemittel [kg]","Text","Füllmenge Kältemittel: 0.125 kg","Die Angabe des Kältemittels inkl. Füllmenge wird nur bei eigenem Kompressor benötigt (nicht am Kältenetz angeschlossen)."]
[null,null,{"$f":"'Anlagenartenkatalog UZH'!$B$157","v":"Laboreinrichtung"},{"$f":"'Anlagenartenkatalog UZH'!$D$163","v":"Eismaschine (Labor)"},"Anmerkung: Meldekarte (Vignette)","Text","Meldekarte (Vignette): Nein",{"$f":"Hilfstabelle!$P$12","v":"Nein oder 16-Stellige Zahl"}]
[null,null,{"$f":"'Anlagenartenkatalog UZH'!$B$157","v":"Laboreinrichtung"},{"$f":"'Anlagenartenkatalog UZH'!$D$163","v":"Eismaschine (Labor)"},"Anmerkung: Zuständigkeit","Text","Zuständigkeit: Institut","Bei mobilen Geräten (steckbar / mit eigenem Kompressor) ist das Institut zuständig. Für festverbaute Anlagen / am Kältenetz ist die DIB zuständig."]
[null,null,{"$f":"'Anlagenartenkatalog UZH'!$B$157","v":"Laboreinrichtung"},{"$f":"'Anlagenartenkatalog UZH'!$D$163","v":"Eismaschine (Labor)"},{"$f":"Hilfstabelle!$O$17","v":"Anmerkung: Anzahl Wartungen pro Jahr"},"Text","Anzahl Wartungen pro Jahr: 1"]
[null,null,{"$f":"'Anlagenartenkatalog UZH'!$B$157","v":"Laboreinrichtung"},{"$f":"'Anlagenartenkatalog UZH'!$D$164","v":"Laborkühlwasseranlage"},{"$f":"Hilfstabelle!$O$3","v":"Code (MSRL-Code)"},"Text","GLM-US11-S008"]
[null,null,{"$f":"'Anlagenartenkatalog UZH'!$B$157","v":"Laboreinrichtung"},{"$f":"'Anlagenartenkatalog UZH'!$D$164","v":"Laborkühlwasseranlage"},{"$f":"Hilfstabelle!$O$4","v":"Bezeichnung"},"Text","Laborkühlwasseranlage 1",{"$f":"Hilfstabelle!$P$7","v":"Die Bezeichnung einer Anlage muss eindeutig sein, sofern mehrere Anlagen im gleichen Raum sind. "}]
[null,null,{"$f":"'Anlagenartenkatalog UZH'!$B$157","v":"Laboreinrichtung"},{"$f":"'Anlagenartenkatalog UZH'!$D$164","v":"Laborkühlwasseranlage"},{"$f":"Hilfstabelle!$O$5","v":"Anlagentyp (Beschreibung)"},"Text",null,{"$f":"Hilfstabelle!$P$8","v":"Verbindlich gemäss Anlagenartenkatalog"}]
[null,null,{"$f":"'Anlagenartenkatalog UZH'!$B$157","v":"Laboreinrichtung"},{"$f":"'Anlagenartenkatalog UZH'!$D$164","v":"Laborkühlwasseranlage"},{"$f":"Hilfstabelle!$O$6","v":"Artikelgruppe"},"Text","04.08"]
[null,null,{"$f":"'Anlagenartenkatalog UZH'!$B$157","v":"Laboreinrichtung"},{"$f":"'Anlagenartenkatalog UZH'!$D$164","v":"Laborkühlwasseranlage"},{"$f":"Hilfstabelle!$O$7","v":"Hauptanlage"},"Text"]
[null,null,{"$f":"'Anlagenartenkatalog UZH'!$B$157","v":"Laboreinrichtung"},{"$f":"'Anlagenartenkatalog UZH'!$D$164","v":"Laborkühlwasseranlage"},{"$f":"Hilfstabelle!$O$8","v":"Objekt"},"Text","GLM"]
[null,null,{"$f":"'Anlagenartenkatalog UZH'!$B$157","v":"Laboreinrichtung"},{"$f":"'Anlagenartenkatalog UZH'!$D$164","v":"Laborkühlwasseranlage"},{"$f":"Hilfstabelle!$O$9","v":"Raumkennzeichen"},"Text","A-18"]
[null,null,{"$f":"'Anlagenartenkatalog UZH'!$B$157","v":"Laboreinrichtung"},{"$f":"'Anlagenartenkatalog UZH'!$D$164","v":"Laborkühlwasseranlage"},{"$f":"Hilfstabelle!$O$10","v":"Hersteller / Marke"},"Text","SCHWÄMMLE GmbH & Co. KG"]
[null,null,{"$f":"'Anlagenartenkatalog UZH'!$B$157","v":"Laboreinrichtung"},{"$f":"'Anlagenartenkatalog UZH'!$D$164","v":"Laborkühlwasseranlage"},{"$f":"Hilfstabelle!$O$11","v":"Modell / Artikel"},"Text","OBK Sonderkühlanlage"]
[null,null,{"$f":"'Anlagenartenkatalog UZH'!$B$157","v":"Laboreinrichtung"},{"$f":"'Anlagenartenkatalog UZH'!$D$164","v":"Laborkühlwasseranlage"},{"$f":"Hilfstabelle!$O$12","v":"Seriennummer"},"Text","23456357"]
[null,null,{"$f":"'Anlagenartenkatalog UZH'!$B$157","v":"Laboreinrichtung"},{"$f":"'Anlagenartenkatalog UZH'!$D$164","v":"Laborkühlwasseranlage"},{"$f":"Hilfstabelle!$O$13","v":"Servicefirma"},"Text","SCHWÄMMLE GmbH & Co. KG",{"$f":"Hilfstabelle!$P$10","v":"Gemäss Offerte in Submission"}]
[null,null,{"$f":"'Anlagenartenkatalog UZH'!$B$157","v":"Laboreinrichtung"},{"$f":"'Anlagenartenkatalog UZH'!$D$164","v":"Laborkühlwasseranlage"},{"$f":"Hilfstabelle!$O$14","v":"Inbetriebnahmedatum"},"Text","06.06.2030"]
[null,null,{"$f":"'Anlagenartenkatalog UZH'!$B$157","v":"Laboreinrichtung"},{"$f":"'Anlagenartenkatalog UZH'!$D$164","v":"Laborkühlwasseranlage"},{"$f":"Hilfstabelle!$O$15","v":"Garantieende"},"Text","06.06.2035"]
[null,null,{"$f":"'Anlagenartenkatalog UZH'!$B$157","v":"Laboreinrichtung"},{"$f":"'Anlagenartenkatalog UZH'!$D$164","v":"Laborkühlwasseranlage"},{"$f":"Hilfstabelle!$O$16","v":"Erwartetes technisches Enddatum"},"Text","06.06.2045"]
[null,null,{"$f":"'Anlagenartenkatalog UZH'!$B$157","v":"Laboreinrichtung"},{"$f":"'Anlagenartenkatalog UZH'!$D$164","v":"Laborkühlwasseranlage"},"Anmerkung: Kältemittel","Text","Kältemittel: R404","Die Angabe des Kältemittels inkl. Füllmenge wird nur bei eigenem Kompressor benötigt (nicht am Kältenetz angeschlossen)."]
[null,null,{"$f":"'Anlagenartenkatalog UZH'!$B$157","v":"Laboreinrichtung"},{"$f":"'Anlagenartenkatalog UZH'!$D$164","v":"Laborkühlwasseranlage"},"Anmerkung: Füllmenge Kältemittel [kg]","Text","Füllmenge Kältemittel: 0.125 kg","Die Angabe des Kältemittels inkl. Füllmenge wird nur bei eigenem Kompressor benötigt (nicht am Kältenetz angeschlossen)."]
[null,null,{"$f":"'Anlagenartenkatalog UZH'!$B$157","v":"Laboreinrichtung"},{"$f":"'Anlagenartenkatalog UZH'!$D$164","v":"Laborkühlwasseranlage"},"Anmerkung: Meldekarte (Vignette)","Text","Meldekarte (Vignette): Nein",{"$f":"Hilfstabelle!$P$12","v":"Nein oder 16-Stellige Zahl"}]
[null,null,{"$f":"'Anlagenartenkatalog UZH'!$B$157","v":"Laboreinrichtung"},{"$f":"'Anlagenartenkatalog UZH'!$D$164","v":"Laborkühlwasseranlage"},"Anmerkung: Zuständigkeit","Text","Zuständigkeit: Institut","Bei mobilen Geräten (steckbar / mit eigenem Kompressor) ist das Institut zuständig. Für festverbaute Anlagen / am Kältenetz ist die DIB zuständig."]
[null,null,{"$f":"'Anlagenartenkatalog UZH'!$B$157","v":"Laboreinrichtung"},{"$f":"'Anlagenartenkatalog UZH'!$D$164","v":"Laborkühlwasseranlage"},{"$f":"Hilfstabelle!$O$17","v":"Anmerkung: Anzahl Wartungen pro Jahr"},"Text","Anzahl Wartungen pro Jahr: 1"]
[null,null,{"$f":"'Anlagenartenkatalog UZH'!$B$19","v":"Löschanlagen"},{"$f":"'Anlagenartenkatalog UZH'!$D$21","v":"Gaslöschanlage"},{"$f":"Hilfstabelle!$O$3","v":"Code (MSRL-Code)"},"Text","Y3101D-§001"]
[null,null,{"$f":"'Anlagenartenkatalog UZH'!$B$19","v":"Löschanlagen"},{"$f":"'Anlagenartenkatalog UZH'!$D$21","v":"Gaslöschanlage"},{"$f":"Hilfstabelle!$O$4","v":"Bezeichnung"},"Text","Gaslöschanlage",{"$f":"Hilfstabelle!$P$7","v":"Die Bezeichnung einer Anlage muss eindeutig sein, sofern mehrere Anlagen im gleichen Raum sind. "}]
[null,null,{"$f":"'Anlagenartenkatalog UZH'!$B$19","v":"Löschanlagen"},{"$f":"'Anlagenartenkatalog UZH'!$D$21","v":"Gaslöschanlage"},{"$f":"Hilfstabelle!$O$5","v":"Anlagentyp (Beschreibung)"},"Text",null,{"$f":"Hilfstabelle!$P$8","v":"Verbindlich gemäss Anlagenartenkatalog"}]
[null,null,{"$f":"'Anlagenartenkatalog UZH'!$B$19","v":"Löschanlagen"},{"$f":"'Anlagenartenkatalog UZH'!$D$21","v":"Gaslöschanlage"},{"$f":"Hilfstabelle!$O$6","v":"Artikelgruppe"},"Text","02.01.03"]
[null,null,{"$f":"'Anlagenartenkatalog UZH'!$B$19","v":"Löschanlagen"},{"$f":"'Anlagenartenkatalog UZH'!$D$21","v":"Gaslöschanlage"},{"$f":"Hilfstabelle!$O$7","v":"Hauptanlage"},"Text","Ja"]
[null,null,{"$f":"'Anlagenartenkatalog UZH'!$B$19","v":"Löschanlagen"},{"$f":"'Anlagenartenkatalog UZH'!$D$21","v":"Gaslöschanlage"},{"$f":"Hilfstabelle!$O$8","v":"Objekt"},"Text","Y31"]
[null,null,{"$f":"'Anlagenartenkatalog UZH'!$B$19","v":"Löschanlagen"},{"$f":"'Anlagenartenkatalog UZH'!$D$21","v":"Gaslöschanlage"},{"$f":"Hilfstabelle!$O$9","v":"Raumkennzeichen"},"Text","D-29A"]
[null,null,{"$f":"'Anlagenartenkatalog UZH'!$B$19","v":"Löschanlagen"},{"$f":"'Anlagenartenkatalog UZH'!$D$21","v":"Gaslöschanlage"},{"$f":"Hilfstabelle!$O$10","v":"Hersteller / Marke"},"Text","Siemens Schweiz AG"]
[null,null,{"$f":"'Anlagenartenkatalog UZH'!$B$19","v":"Löschanlagen"},{"$f":"'Anlagenartenkatalog UZH'!$D$21","v":"Gaslöschanlage"},{"$f":"Hilfstabelle!$O$11","v":"Modell / Artikel"},"Text","XC10"]
[null,null,{"$f":"'Anlagenartenkatalog UZH'!$B$19","v":"Löschanlagen"},{"$f":"'Anlagenartenkatalog UZH'!$D$21","v":"Gaslöschanlage"},{"$f":"Hilfstabelle!$O$12","v":"Seriennummer"},"Text","-"]
[null,null,{"$f":"'Anlagenartenkatalog UZH'!$B$19","v":"Löschanlagen"},{"$f":"'Anlagenartenkatalog UZH'!$D$21","v":"Gaslöschanlage"},{"$f":"Hilfstabelle!$O$13","v":"Servicefirma"},"Text","Siemens Schweiz AG",{"$f":"Hilfstabelle!$P$10","v":"Gemäss Offerte in Submission"}]
[null,null,{"$f":"'Anlagenartenkatalog UZH'!$B$19","v":"Löschanlagen"},{"$f":"'Anlagenartenkatalog UZH'!$D$21","v":"Gaslöschanlage"},{"$f":"Hilfstabelle!$O$14","v":"Inbetriebnahmedatum"},"Text","06.06.2030"]
[null,null,{"$f":"'Anlagenartenkatalog UZH'!$B$19","v":"Löschanlagen"},{"$f":"'Anlagenartenkatalog UZH'!$D$21","v":"Gaslöschanlage"},{"$f":"Hilfstabelle!$O$15","v":"Garantieende"},"Text","06.06.2035"]
[null,null,{"$f":"'Anlagenartenkatalog UZH'!$B$19","v":"Löschanlagen"},{"$f":"'Anlagenartenkatalog UZH'!$D$21","v":"Gaslöschanlage"},{"$f":"Hilfstabelle!$O$16","v":"Erwartetes technisches Enddatum"},"Text","06.06.2045"]
[null,null,{"$f":"'Anlagenartenkatalog UZH'!$B$19","v":"Löschanlagen"},{"$f":"'Anlagenartenkatalog UZH'!$D$21","v":"Gaslöschanlage"},"Anmerkung: Löschgas","Text","Löschgas: CO2"]
[null,null,{"$f":"'Anlagenartenkatalog UZH'!$B$19","v":"Löschanlagen"},{"$f":"'Anlagenartenkatalog UZH'!$D$21","v":"Gaslöschanlage"},{"$f":"Hilfstabelle!$O$17","v":"Anmerkung: Anzahl Wartungen pro Jahr"},"Text","Anzahl Wartungen pro Jahr: 1"]
[null,null,{"$f":"'Anlagenartenkatalog UZH'!$B$19","v":"Löschanlagen"},{"$f":"'Anlagenartenkatalog UZH'!$D$19","v":"Sprinkleranlage"},{"$f":"Hilfstabelle!$O$3","v":"Code (MSRL-Code)"},"Text","RAI-US11-F001"]
[null,null,{"$f":"'Anlagenartenkatalog UZH'!$B$19","v":"Löschanlagen"},{"$f":"'Anlagenartenkatalog UZH'!$D$19","v":"Sprinkleranlage"},{"$f":"Hilfstabelle!$O$4","v":"Bezeichnung"},"Text","Sprinkleranlage",{"$f":"Hilfstabelle!$P$7","v":"Die Bezeichnung einer Anlage muss eindeutig sein, sofern mehrere Anlagen im gleichen Raum sind. "}]
[null,null,{"$f":"'Anlagenartenkatalog UZH'!$B$19","v":"Löschanlagen"},{"$f":"'Anlagenartenkatalog UZH'!$D$19","v":"Sprinkleranlage"},{"$f":"Hilfstabelle!$O$5","v":"Anlagentyp (Beschreibung)"},"Text",null,{"$f":"Hilfstabelle!$P$8","v":"Verbindlich gemäss Anlagenartenkatalog"}]
[null,null,{"$f":"'Anlagenartenkatalog UZH'!$B$19","v":"Löschanlagen"},{"$f":"'Anlagenartenkatalog UZH'!$D$19","v":"Sprinkleranlage"},{"$f":"Hilfstabelle!$O$6","v":"Artikelgruppe"},"Text",{"$f":"'Anlagenartenkatalog UZH'!A19","v":"02.01.03"}]
[null,null,{"$f":"'Anlagenartenkatalog UZH'!$B$19","v":"Löschanlagen"},{"$f":"'Anlagenartenkatalog UZH'!$D$19","v":"Sprinkleranlage"},{"$f":"Hilfstabelle!$O$7","v":"Hauptanlage"},"Text","Ja ","Hauptanlage  "]
[null,null,{"$f":"'Anlagenartenkatalog UZH'!$B$19","v":"Löschanlagen"},{"$f":"'Anlagenartenkatalog UZH'!$D$19","v":"Sprinkleranlage"},{"$f":"Hilfstabelle!$O$8","v":"Objekt"},"Text","RAI "]
[null,null,{"$f":"'Anlagenartenkatalog UZH'!$B$19","v":"Löschanlagen"},{"$f":"'Anlagenartenkatalog UZH'!$D$19","v":"Sprinkleranlage"},{"$f":"Hilfstabelle!$O$9","v":"Raumkennzeichen"},"Text","D-131"]
[null,null,{"$f":"'Anlagenartenkatalog UZH'!$B$19","v":"Löschanlagen"},{"$f":"'Anlagenartenkatalog UZH'!$D$19","v":"Sprinkleranlage"},{"$f":"Hilfstabelle!$O$10","v":"Hersteller / Marke"},"Text","Contrafeu AG"]
[null,null,{"$f":"'Anlagenartenkatalog UZH'!$B$19","v":"Löschanlagen"},{"$f":"'Anlagenartenkatalog UZH'!$D$19","v":"Sprinkleranlage"},{"$f":"Hilfstabelle!$O$11","v":"Modell / Artikel"},"Text","-"]
[null,null,{"$f":"'Anlagenartenkatalog UZH'!$B$19","v":"Löschanlagen"},{"$f":"'Anlagenartenkatalog UZH'!$D$19","v":"Sprinkleranlage"},{"$f":"Hilfstabelle!$O$12","v":"Seriennummer"},"Text","-"]
[null,null,{"$f":"'Anlagenartenkatalog UZH'!$B$19","v":"Löschanlagen"},{"$f":"'Anlagenartenkatalog UZH'!$D$19","v":"Sprinkleranlage"},{"$f":"Hilfstabelle!$O$13","v":"Servicefirma"},"Text","Contrafeu AG",{"$f":"Hilfstabelle!$P$10","v":"Gemäss Offerte in Submission"}]
[null,null,{"$f":"'Anlagenartenkatalog UZH'!$B$19","v":"Löschanlagen"},{"$f":"'Anlagenartenkatalog UZH'!$D$19","v":"Sprinkleranlage"},{"$f":"Hilfstabelle!$O$14","v":"Inbetriebnahmedatum"},"Text","06.06.2030"]
[null,null,{"$f":"'Anlagenartenkatalog UZH'!$B$19","v":"Löschanlagen"},{"$f":"'Anlagenartenkatalog UZH'!$D$19","v":"Sprinkleranlage"},{"$f":"Hilfstabelle!$O$15","v":"Garantieende"},"Text","06.06.2035"]
[null,null,{"$f":"'Anlagenartenkatalog UZH'!$B$19","v":"Löschanlagen"},{"$f":"'Anlagenartenkatalog UZH'!$D$19","v":"Sprinkleranlage"},{"$f":"Hilfstabelle!$O$16","v":"Erwartetes technisches Enddatum"},"Text","06.06.2045"]
[null,null,{"$f":"'Anlagenartenkatalog UZH'!$B$19","v":"Löschanlagen"},{"$f":"'Anlagenartenkatalog UZH'!$D$19","v":"Sprinkleranlage"},{"$f":"Hilfstabelle!$O$17","v":"Anmerkung: Anzahl Wartungen pro Jahr"},"Text","Anzahl Wartungen pro Jahr: 1 + wöchentliche Funktionskontrolle"]
[null,null,{"$f":"'Anlagenartenkatalog UZH'!$B$19","v":"Löschanlagen"},{"$f":"'Anlagenartenkatalog UZH'!$D$20","v":"Wasserlöschposten (WLP)"},{"$f":"Hilfstabelle!$O$3","v":"Code (MSRL-Code)"},"Text","KO2-§1654200211"]
[null,null,{"$f":"'Anlagenartenkatalog UZH'!$B$19","v":"Löschanlagen"},{"$f":"'Anlagenartenkatalog UZH'!$D$20","v":"Wasserlöschposten (WLP)"},{"$f":"Hilfstabelle!$O$4","v":"Bezeichnung"},"Text","Wasserlöschposten (WLP) Korridor; D-72",{"$f":"Hilfstabelle!$P$7","v":"Die Bezeichnung einer Anlage muss eindeutig sein, sofern mehrere Anlagen im gleichen Raum sind. "}]
[null,null,{"$f":"'Anlagenartenkatalog UZH'!$B$19","v":"Löschanlagen"},{"$f":"'Anlagenartenkatalog UZH'!$D$20","v":"Wasserlöschposten (WLP)"},{"$f":"Hilfstabelle!$O$5","v":"Anlagentyp (Beschreibung)"},"Text",null,{"$f":"Hilfstabelle!$P$8","v":"Verbindlich gemäss Anlagenartenkatalog"}]
[null,null,{"$f":"'Anlagenartenkatalog UZH'!$B$19","v":"Löschanlagen"},{"$f":"'Anlagenartenkatalog UZH'!$D$20","v":"Wasserlöschposten (WLP)"},{"$f":"Hilfstabelle!$O$6","v":"Artikelgruppe"},"Text","02.01.03"]
[null,null,{"$f":"'Anlagenartenkatalog UZH'!$B$19","v":"Löschanlagen"},{"$f":"'Anlagenartenkatalog UZH'!$D$20","v":"Wasserlöschposten (WLP)"},{"$f":"Hilfstabelle!$O$7","v":"Hauptanlage"},"Text","Ja, Gruppe","WLP werden als Hauptanlagen erfasst und zur Gruppe zusammengefasst"]
[null,null,{"$f":"'Anlagenartenkatalog UZH'!$B$19","v":"Löschanlagen"},{"$f":"'Anlagenartenkatalog UZH'!$D$20","v":"Wasserlöschposten (WLP)"},{"$f":"Hilfstabelle!$O$8","v":"Objekt"},"Text","KO2"]
[null,null,{"$f":"'Anlagenartenkatalog UZH'!$B$19","v":"Löschanlagen"},{"$f":"'Anlagenartenkatalog UZH'!$D$20","v":"Wasserlöschposten (WLP)"},{"$f":"Hilfstabelle!$O$9","v":"Raumkennzeichen"},"Text","D-72"]
[null,null,{"$f":"'Anlagenartenkatalog UZH'!$B$19","v":"Löschanlagen"},{"$f":"'Anlagenartenkatalog UZH'!$D$20","v":"Wasserlöschposten (WLP)"},{"$f":"Hilfstabelle!$O$10","v":"Hersteller / Marke"},"Text","Minimax GmbH"]
[null,null,{"$f":"'Anlagenartenkatalog UZH'!$B$19","v":"Löschanlagen"},{"$f":"'Anlagenartenkatalog UZH'!$D$20","v":"Wasserlöschposten (WLP)"},{"$f":"Hilfstabelle!$O$11","v":"Modell / Artikel"},"Text","-"]
[null,null,{"$f":"'Anlagenartenkatalog UZH'!$B$19","v":"Löschanlagen"},{"$f":"'Anlagenartenkatalog UZH'!$D$20","v":"Wasserlöschposten (WLP)"},{"$f":"Hilfstabelle!$O$12","v":"Seriennummer"},"Text","-"]
[null,null,{"$f":"'Anlagenartenkatalog UZH'!$B$19","v":"Löschanlagen"},{"$f":"'Anlagenartenkatalog UZH'!$D$20","v":"Wasserlöschposten (WLP)"},{"$f":"Hilfstabelle!$O$13","v":"Servicefirma"},"Text","Minimax GmbH",{"$f":"Hilfstabelle!$P$10","v":"Gemäss Offerte in Submission"}]
[null,null,{"$f":"'Anlagenartenkatalog UZH'!$B$19","v":"Löschanlagen"},{"$f":"'Anlagenartenkatalog UZH'!$D$20","v":"Wasserlöschposten (WLP)"},{"$f":"Hilfstabelle!$O$14","v":"Inbetriebnahmedatum"},"Text","06.06.2030"]
[null,null,{"$f":"'Anlagenartenkatalog UZH'!$B$19","v":"Löschanlagen"},{"$f":"'Anlagenartenkatalog UZH'!$D$20","v":"Wasserlöschposten (WLP)"},{"$f":"Hilfstabelle!$O$15","v":"Garantieende"},"Text","06.06.2035"]
[null,null,{"$f":"'Anlagenartenkatalog UZH'!$B$19","v":"Löschanlagen"},{"$f":"'Anlagenartenkatalog UZH'!$D$20","v":"Wasserlöschposten (WLP)"},{"$f":"Hilfstabelle!$O$16","v":"Erwartetes technisches Enddatum"},"Text","06.06.2045"]
[null,null,{"$f":"'Anlagenartenkatalog UZH'!$B$19","v":"Löschanlagen"},{"$f":"'Anlagenartenkatalog UZH'!$D$20","v":"Wasserlöschposten (WLP)"},{"$f":"Hilfstabelle!$O$17","v":"Anmerkung: Anzahl Wartungen pro Jahr"},"Text","Anzahl Wartungen pro Jahr: 1"]
[null,null,{"$f":"'Anlagenartenkatalog UZH'!$B$24","v":"Lüftungsanlagen"},{"$f":"'Anlagenartenkatalog UZH'!$D$33","v":"Abluftanlage (ABL-Anlage)"},{"$f":"Hilfstabelle!$O$3","v":"Code (MSRL-Code)"},"Text","SOC-US11-L001-1-U8-F09","Vollständiger MSRL-Code für die Zuordnung benötigt"]
[null,null,{"$f":"'Anlagenartenkatalog UZH'!$B$24","v":"Lüftungsanlagen"},{"$f":"'Anlagenartenkatalog UZH'!$D$33","v":"Abluftanlage (ABL-Anlage)"},{"$f":"Hilfstabelle!$O$4","v":"Bezeichnung"},"Text","Abluftanlage (ABL-Anlage)",{"$f":"Hilfstabelle!$P$7","v":"Die Bezeichnung einer Anlage muss eindeutig sein, sofern mehrere Anlagen im gleichen Raum sind. "}]
[null,null,{"$f":"'Anlagenartenkatalog UZH'!$B$24","v":"Lüftungsanlagen"},{"$f":"'Anlagenartenkatalog UZH'!$D$33","v":"Abluftanlage (ABL-Anlage)"},{"$f":"Hilfstabelle!$O$5","v":"Anlagentyp (Beschreibung)"},"Text",null,{"$f":"Hilfstabelle!$P$8","v":"Verbindlich gemäss Anlagenartenkatalog"}]
[null,null,{"$f":"'Anlagenartenkatalog UZH'!$B$24","v":"Lüftungsanlagen"},{"$f":"'Anlagenartenkatalog UZH'!$D$33","v":"Abluftanlage (ABL-Anlage)"},{"$f":"Hilfstabelle!$O$6","v":"Artikelgruppe"},"Text",{"$f":"'Anlagenartenkatalog UZH'!$A$24","v":"02.02.01"}]
[null,null,{"$f":"'Anlagenartenkatalog UZH'!$B$24","v":"Lüftungsanlagen"},{"$f":"'Anlagenartenkatalog UZH'!$D$33","v":"Abluftanlage (ABL-Anlage)"},{"$f":"Hilfstabelle!$O$7","v":"Hauptanlage"},"Text"]
[null,null,{"$f":"'Anlagenartenkatalog UZH'!$B$24","v":"Lüftungsanlagen"},{"$f":"'Anlagenartenkatalog UZH'!$D$33","v":"Abluftanlage (ABL-Anlage)"},{"$f":"Hilfstabelle!$O$8","v":"Objekt"},"Text","SOC"]
[null,null,{"$f":"'Anlagenartenkatalog UZH'!$B$24","v":"Lüftungsanlagen"},{"$f":"'Anlagenartenkatalog UZH'!$D$33","v":"Abluftanlage (ABL-Anlage)"},{"$f":"Hilfstabelle!$O$9","v":"Raumkennzeichen"},"Text","H-05"]
[null,null,{"$f":"'Anlagenartenkatalog UZH'!$B$24","v":"Lüftungsanlagen"},{"$f":"'Anlagenartenkatalog UZH'!$D$33","v":"Abluftanlage (ABL-Anlage)"},{"$f":"Hilfstabelle!$O$10","v":"Hersteller / Marke"},"Text","Seven-Air Gebr. Meyer AG"]
[null,null,{"$f":"'Anlagenartenkatalog UZH'!$B$24","v":"Lüftungsanlagen"},{"$f":"'Anlagenartenkatalog UZH'!$D$33","v":"Abluftanlage (ABL-Anlage)"},{"$f":"Hilfstabelle!$O$11","v":"Modell / Artikel"},"Text","-"]
[null,null,{"$f":"'Anlagenartenkatalog UZH'!$B$24","v":"Lüftungsanlagen"},{"$f":"'Anlagenartenkatalog UZH'!$D$33","v":"Abluftanlage (ABL-Anlage)"},{"$f":"Hilfstabelle!$O$12","v":"Seriennummer"},"Text","-"]
[null,null,{"$f":"'Anlagenartenkatalog UZH'!$B$24","v":"Lüftungsanlagen"},{"$f":"'Anlagenartenkatalog UZH'!$D$33","v":"Abluftanlage (ABL-Anlage)"},{"$f":"Hilfstabelle!$O$13","v":"Servicefirma"},"Text","Seven-Air Gebr. Meyer AG",{"$f":"Hilfstabelle!$P$10","v":"Gemäss Offerte in Submission"}]
[null,null,{"$f":"'Anlagenartenkatalog UZH'!$B$24","v":"Lüftungsanlagen"},{"$f":"'Anlagenartenkatalog UZH'!$D$33","v":"Abluftanlage (ABL-Anlage)"},{"$f":"Hilfstabelle!$O$14","v":"Inbetriebnahmedatum"},"Text","06.06.2030"]
[null,null,{"$f":"'Anlagenartenkatalog UZH'!$B$24","v":"Lüftungsanlagen"},{"$f":"'Anlagenartenkatalog UZH'!$D$33","v":"Abluftanlage (ABL-Anlage)"},{"$f":"Hilfstabelle!$O$15","v":"Garantieende"},"Text","06.06.2035"]
[null,null,{"$f":"'Anlagenartenkatalog UZH'!$B$24","v":"Lüftungsanlagen"},{"$f":"'Anlagenartenkatalog UZH'!$D$33","v":"Abluftanlage (ABL-Anlage)"},{"$f":"Hilfstabelle!$O$16","v":"Erwartetes technisches Enddatum"},"Text","06.06.2045"]
[null,null,{"$f":"'Anlagenartenkatalog UZH'!$B$24","v":"Lüftungsanlagen"},{"$f":"'Anlagenartenkatalog UZH'!$D$33","v":"Abluftanlage (ABL-Anlage)"},{"$f":"Hilfstabelle!$O$17","v":"Anmerkung: Anzahl Wartungen pro Jahr"},"Text","Anzahl Wartungen pro Jahr: 1"]
[null,null,{"$f":"'Anlagenartenkatalog UZH'!$B$24","v":"Lüftungsanlagen"},{"$f":"'Anlagenartenkatalog UZH'!$D$32","v":"Zuluftanlage (ZUL-Anlage)"},{"$f":"Hilfstabelle!$O$3","v":"Code (MSRL-Code)"},"Text","SOC-§1234567890"]
[null,null,{"$f":"'Anlagenartenkatalog UZH'!$B$24","v":"Lüftungsanlagen"},{"$f":"'Anlagenartenkatalog UZH'!$D$32","v":"Zuluftanlage (ZUL-Anlage)"},{"$f":"Hilfstabelle!$O$4","v":"Bezeichnung"},"Text","Zuluftanlage (ZUL-Anlage)",{"$f":"Hilfstabelle!$P$7","v":"Die Bezeichnung einer Anlage muss eindeutig sein, sofern mehrere Anlagen im gleichen Raum sind. "}]
[null,null,{"$f":"'Anlagenartenkatalog UZH'!$B$24","v":"Lüftungsanlagen"},{"$f":"'Anlagenartenkatalog UZH'!$D$32","v":"Zuluftanlage (ZUL-Anlage)"},{"$f":"Hilfstabelle!$O$5","v":"Anlagentyp (Beschreibung)"},"Text",null,{"$f":"Hilfstabelle!$P$8","v":"Verbindlich gemäss Anlagenartenkatalog"}]
[null,null,{"$f":"'Anlagenartenkatalog UZH'!$B$24","v":"Lüftungsanlagen"},{"$f":"'Anlagenartenkatalog UZH'!$D$32","v":"Zuluftanlage (ZUL-Anlage)"},{"$f":"Hilfstabelle!$O$6","v":"Artikelgruppe"},"Text",{"$f":"'Anlagenartenkatalog UZH'!$A$24","v":"02.02.01"}]
[null,null,{"$f":"'Anlagenartenkatalog UZH'!$B$24","v":"Lüftungsanlagen"},{"$f":"'Anlagenartenkatalog UZH'!$D$32","v":"Zuluftanlage (ZUL-Anlage)"},{"$f":"Hilfstabelle!$O$7","v":"Hauptanlage"},"Text"]
[null,null,{"$f":"'Anlagenartenkatalog UZH'!$B$24","v":"Lüftungsanlagen"},{"$f":"'Anlagenartenkatalog UZH'!$D$32","v":"Zuluftanlage (ZUL-Anlage)"},{"$f":"Hilfstabelle!$O$8","v":"Objekt"},"Text","SOC"]
[null,null,{"$f":"'Anlagenartenkatalog UZH'!$B$24","v":"Lüftungsanlagen"},{"$f":"'Anlagenartenkatalog UZH'!$D$32","v":"Zuluftanlage (ZUL-Anlage)"},{"$f":"Hilfstabelle!$O$9","v":"Raumkennzeichen"},"Text","E-03","Standort Zuluft-Monoblock"]
[null,null,{"$f":"'Anlagenartenkatalog UZH'!$B$24","v":"Lüftungsanlagen"},{"$f":"'Anlagenartenkatalog UZH'!$D$32","v":"Zuluftanlage (ZUL-Anlage)"},{"$f":"Hilfstabelle!$O$10","v":"Hersteller / Marke"},"Text","Seven-Air Gebr. Meyer AG"]
[null,null,{"$f":"'Anlagenartenkatalog UZH'!$B$24","v":"Lüftungsanlagen"},{"$f":"'Anlagenartenkatalog UZH'!$D$32","v":"Zuluftanlage (ZUL-Anlage)"},{"$f":"Hilfstabelle!$O$11","v":"Modell / Artikel"},"Text","-"]
[null,null,{"$f":"'Anlagenartenkatalog UZH'!$B$24","v":"Lüftungsanlagen"},{"$f":"'Anlagenartenkatalog UZH'!$D$32","v":"Zuluftanlage (ZUL-Anlage)"},{"$f":"Hilfstabelle!$O$12","v":"Seriennummer"},"Text","-"]
[null,null,{"$f":"'Anlagenartenkatalog UZH'!$B$24","v":"Lüftungsanlagen"},{"$f":"'Anlagenartenkatalog UZH'!$D$32","v":"Zuluftanlage (ZUL-Anlage)"},{"$f":"Hilfstabelle!$O$13","v":"Servicefirma"},"Text","Seven-Air Gebr. Meyer AG",{"$f":"Hilfstabelle!$P$10","v":"Gemäss Offerte in Submission"}]
[null,null,{"$f":"'Anlagenartenkatalog UZH'!$B$24","v":"Lüftungsanlagen"},{"$f":"'Anlagenartenkatalog UZH'!$D$32","v":"Zuluftanlage (ZUL-Anlage)"},{"$f":"Hilfstabelle!$O$14","v":"Inbetriebnahmedatum"},"Text","06.06.2030"]
[null,null,{"$f":"'Anlagenartenkatalog UZH'!$B$24","v":"Lüftungsanlagen"},{"$f":"'Anlagenartenkatalog UZH'!$D$32","v":"Zuluftanlage (ZUL-Anlage)"},{"$f":"Hilfstabelle!$O$15","v":"Garantieende"},"Text","06.06.2035"]
[null,null,{"$f":"'Anlagenartenkatalog UZH'!$B$24","v":"Lüftungsanlagen"},{"$f":"'Anlagenartenkatalog UZH'!$D$32","v":"Zuluftanlage (ZUL-Anlage)"},{"$f":"Hilfstabelle!$O$16","v":"Erwartetes technisches Enddatum"},"Text","06.06.2045"]
[null,null,{"$f":"'Anlagenartenkatalog UZH'!$B$24","v":"Lüftungsanlagen"},{"$f":"'Anlagenartenkatalog UZH'!$D$32","v":"Zuluftanlage (ZUL-Anlage)"},"Anmerkung: WRG Typ","Text","WRG Typ: Rotationswärmetauscher","(Rotationswärmetauscher, Plattenwärmetauscher, Kreisverbundsystem oder \"keine WRG\")"]
[null,null,{"$f":"'Anlagenartenkatalog UZH'!$B$24","v":"Lüftungsanlagen"},{"$f":"'Anlagenartenkatalog UZH'!$D$32","v":"Zuluftanlage (ZUL-Anlage)"},"Anmerkung: Luftmenge [m3/h]","Text","Luftmenge: 13000 m3/h"]
[null,null,{"$f":"'Anlagenartenkatalog UZH'!$B$24","v":"Lüftungsanlagen"},{"$f":"'Anlagenartenkatalog UZH'!$D$32","v":"Zuluftanlage (ZUL-Anlage)"},"Anmerkung: Umluftklappe vorhanen Ja / Nein","Text","Umluftklappe vorhanden: Ja"]
[null,null,{"$f":"'Anlagenartenkatalog UZH'!$B$24","v":"Lüftungsanlagen"},{"$f":"'Anlagenartenkatalog UZH'!$D$32","v":"Zuluftanlage (ZUL-Anlage)"},"Anmerkung: Keilriemen Typ","Text","Keilriemen Typ: SPZ 950LW"]
[null,null,{"$f":"'Anlagenartenkatalog UZH'!$B$24","v":"Lüftungsanlagen"},{"$f":"'Anlagenartenkatalog UZH'!$D$32","v":"Zuluftanlage (ZUL-Anlage)"},"Anmerkung: Anzahl Keilriemen","Text","Anzahl Keilriemen: 2"]
[null,null,{"$f":"'Anlagenartenkatalog UZH'!$B$24","v":"Lüftungsanlagen"},{"$f":"'Anlagenartenkatalog UZH'!$D$32","v":"Zuluftanlage (ZUL-Anlage)"},"Anmerkung: Kühlregister vorhanden Ja / Nein","Text","Kühlregister vorhanden: Nein"]
[null,null,{"$f":"'Anlagenartenkatalog UZH'!$B$24","v":"Lüftungsanlagen"},{"$f":"'Anlagenartenkatalog UZH'!$D$32","v":"Zuluftanlage (ZUL-Anlage)"},{"$f":"Hilfstabelle!$O$17","v":"Anmerkung: Anzahl Wartungen pro Jahr"},"Text","Anzahl Wartungen pro Jahr: 1"]
[null,null,{"$f":"'Anlagenartenkatalog UZH'!$B$24","v":"Lüftungsanlagen"},{"$f":"'Anlagenartenkatalog UZH'!$D$31","v":"Liftventilator"},{"$f":"Hilfstabelle!$O$3","v":"Code (MSRL-Code)"},"Text","PLI-§1234567890"]
[null,null,{"$f":"'Anlagenartenkatalog UZH'!$B$24","v":"Lüftungsanlagen"},{"$f":"'Anlagenartenkatalog UZH'!$D$31","v":"Liftventilator"},{"$f":"Hilfstabelle!$O$4","v":"Bezeichnung"},"Text","Liftventilator",{"$f":"Hilfstabelle!$P$7","v":"Die Bezeichnung einer Anlage muss eindeutig sein, sofern mehrere Anlagen im gleichen Raum sind. "}]
[null,null,{"$f":"'Anlagenartenkatalog UZH'!$B$24","v":"Lüftungsanlagen"},{"$f":"'Anlagenartenkatalog UZH'!$D$31","v":"Liftventilator"},{"$f":"Hilfstabelle!$O$5","v":"Anlagentyp (Beschreibung)"},"Text",null,{"$f":"Hilfstabelle!$P$8","v":"Verbindlich gemäss Anlagenartenkatalog"}]
[null,null,{"$f":"'Anlagenartenkatalog UZH'!$B$24","v":"Lüftungsanlagen"},{"$f":"'Anlagenartenkatalog UZH'!$D$31","v":"Liftventilator"},{"$f":"Hilfstabelle!$O$6","v":"Artikelgruppe"},"Text",{"$f":"'Anlagenartenkatalog UZH'!$A$24","v":"02.02.01"}]
[null,null,{"$f":"'Anlagenartenkatalog UZH'!$B$24","v":"Lüftungsanlagen"},{"$f":"'Anlagenartenkatalog UZH'!$D$31","v":"Liftventilator"},{"$f":"Hilfstabelle!$O$7","v":"Hauptanlage"},"Text"]
[null,null,{"$f":"'Anlagenartenkatalog UZH'!$B$24","v":"Lüftungsanlagen"},{"$f":"'Anlagenartenkatalog UZH'!$D$31","v":"Liftventilator"},{"$f":"Hilfstabelle!$O$8","v":"Objekt"},"Text","PLI"]
[null,null,{"$f":"'Anlagenartenkatalog UZH'!$B$24","v":"Lüftungsanlagen"},{"$f":"'Anlagenartenkatalog UZH'!$D$31","v":"Liftventilator"},{"$f":"Hilfstabelle!$O$9","v":"Raumkennzeichen"},"Text","E-12","Standort Maschinenraum"]
[null,null,{"$f":"'Anlagenartenkatalog UZH'!$B$24","v":"Lüftungsanlagen"},{"$f":"'Anlagenartenkatalog UZH'!$D$31","v":"Liftventilator"},{"$f":"Hilfstabelle!$O$10","v":"Hersteller / Marke"},"Text","Fulltech Electric Co., Ltd."]
[null,null,{"$f":"'Anlagenartenkatalog UZH'!$B$24","v":"Lüftungsanlagen"},{"$f":"'Anlagenartenkatalog UZH'!$D$31","v":"Liftventilator"},{"$f":"Hilfstabelle!$O$11","v":"Modell / Artikel"},"Text","UFT200BPB23H1D4A"]
[null,null,{"$f":"'Anlagenartenkatalog UZH'!$B$24","v":"Lüftungsanlagen"},{"$f":"'Anlagenartenkatalog UZH'!$D$31","v":"Liftventilator"},{"$f":"Hilfstabelle!$O$12","v":"Seriennummer"},"Text","34654567"]
[null,null,{"$f":"'Anlagenartenkatalog UZH'!$B$24","v":"Lüftungsanlagen"},{"$f":"'Anlagenartenkatalog UZH'!$D$31","v":"Liftventilator"},{"$f":"Hilfstabelle!$O$13","v":"Servicefirma"},"Text","Fulltech Electric Co., Ltd.",{"$f":"Hilfstabelle!$P$10","v":"Gemäss Offerte in Submission"}]
[null,null,{"$f":"'Anlagenartenkatalog UZH'!$B$24","v":"Lüftungsanlagen"},{"$f":"'Anlagenartenkatalog UZH'!$D$31","v":"Liftventilator"},{"$f":"Hilfstabelle!$O$14","v":"Inbetriebnahmedatum"},"Text","06.06.2030"]
[null,null,{"$f":"'Anlagenartenkatalog UZH'!$B$24","v":"Lüftungsanlagen"},{"$f":"'Anlagenartenkatalog UZH'!$D$31","v":"Liftventilator"},{"$f":"Hilfstabelle!$O$15","v":"Garantieende"},"Text","06.06.2035"]
[null,null,{"$f":"'Anlagenartenkatalog UZH'!$B$24","v":"Lüftungsanlagen"},{"$f":"'Anlagenartenkatalog UZH'!$D$31","v":"Liftventilator"},{"$f":"Hilfstabelle!$O$16","v":"Erwartetes technisches Enddatum"},"Text","06.06.2045"]
[null,null,{"$f":"'Anlagenartenkatalog UZH'!$B$24","v":"Lüftungsanlagen"},{"$f":"'Anlagenartenkatalog UZH'!$D$31","v":"Liftventilator"},{"$f":"Hilfstabelle!$O$17","v":"Anmerkung: Anzahl Wartungen pro Jahr"},"Text","Anzahl Wartungen pro Jahr: 1"]
[null,null,{"$f":"'Anlagenartenkatalog UZH'!$B$24","v":"Lüftungsanlagen"},{"$f":"'Anlagenartenkatalog UZH'!$D$30","v":"Klein-/Zonenventilator"},{"$f":"Hilfstabelle!$O$3","v":"Code (MSRL-Code)"},"Text","-"]
[null,null,{"$f":"'Anlagenartenkatalog UZH'!$B$24","v":"Lüftungsanlagen"},{"$f":"'Anlagenartenkatalog UZH'!$D$30","v":"Klein-/Zonenventilator"},{"$f":"Hilfstabelle!$O$4","v":"Bezeichnung"},"Text","Klein-/Zonenventilator",{"$f":"Hilfstabelle!$P$7","v":"Die Bezeichnung einer Anlage muss eindeutig sein, sofern mehrere Anlagen im gleichen Raum sind. "}]
[null,null,{"$f":"'Anlagenartenkatalog UZH'!$B$24","v":"Lüftungsanlagen"},{"$f":"'Anlagenartenkatalog UZH'!$D$30","v":"Klein-/Zonenventilator"},{"$f":"Hilfstabelle!$O$5","v":"Anlagentyp (Beschreibung)"},"Text",null,{"$f":"Hilfstabelle!$P$8","v":"Verbindlich gemäss Anlagenartenkatalog"}]
[null,null,{"$f":"'Anlagenartenkatalog UZH'!$B$24","v":"Lüftungsanlagen"},{"$f":"'Anlagenartenkatalog UZH'!$D$30","v":"Klein-/Zonenventilator"},{"$f":"Hilfstabelle!$O$6","v":"Artikelgruppe"},"Text",{"$f":"'Anlagenartenkatalog UZH'!$A$24","v":"02.02.01"}]
[null,null,{"$f":"'Anlagenartenkatalog UZH'!$B$24","v":"Lüftungsanlagen"},{"$f":"'Anlagenartenkatalog UZH'!$D$30","v":"Klein-/Zonenventilator"},{"$f":"Hilfstabelle!$O$7","v":"Hauptanlage"},"Text"]
[null,null,{"$f":"'Anlagenartenkatalog UZH'!$B$24","v":"Lüftungsanlagen"},{"$f":"'Anlagenartenkatalog UZH'!$D$30","v":"Klein-/Zonenventilator"},{"$f":"Hilfstabelle!$O$8","v":"Objekt"},"Text","SOC"]
[null,null,{"$f":"'Anlagenartenkatalog UZH'!$B$24","v":"Lüftungsanlagen"},{"$f":"'Anlagenartenkatalog UZH'!$D$30","v":"Klein-/Zonenventilator"},{"$f":"Hilfstabelle!$O$9","v":"Raumkennzeichen"},"Text","D-11"]
[null,null,{"$f":"'Anlagenartenkatalog UZH'!$B$24","v":"Lüftungsanlagen"},{"$f":"'Anlagenartenkatalog UZH'!$D$30","v":"Klein-/Zonenventilator"},{"$f":"Hilfstabelle!$O$10","v":"Hersteller / Marke"},"Text","Helios Ventilatoren AG"]
[null,null,{"$f":"'Anlagenartenkatalog UZH'!$B$24","v":"Lüftungsanlagen"},{"$f":"'Anlagenartenkatalog UZH'!$D$30","v":"Klein-/Zonenventilator"},{"$f":"Hilfstabelle!$O$11","v":"Modell / Artikel"},"Text","M1/100 P"]
[null,null,{"$f":"'Anlagenartenkatalog UZH'!$B$24","v":"Lüftungsanlagen"},{"$f":"'Anlagenartenkatalog UZH'!$D$30","v":"Klein-/Zonenventilator"},{"$f":"Hilfstabelle!$O$12","v":"Seriennummer"},"Text","34564567"]
[null,null,{"$f":"'Anlagenartenkatalog UZH'!$B$24","v":"Lüftungsanlagen"},{"$f":"'Anlagenartenkatalog UZH'!$D$30","v":"Klein-/Zonenventilator"},{"$f":"Hilfstabelle!$O$13","v":"Servicefirma"},"Text","Helios Ventilatoren AG",{"$f":"Hilfstabelle!$P$10","v":"Gemäss Offerte in Submission"}]
[null,null,{"$f":"'Anlagenartenkatalog UZH'!$B$24","v":"Lüftungsanlagen"},{"$f":"'Anlagenartenkatalog UZH'!$D$30","v":"Klein-/Zonenventilator"},{"$f":"Hilfstabelle!$O$14","v":"Inbetriebnahmedatum"},"Text","06.06.2030"]
[null,null,{"$f":"'Anlagenartenkatalog UZH'!$B$24","v":"Lüftungsanlagen"},{"$f":"'Anlagenartenkatalog UZH'!$D$30","v":"Klein-/Zonenventilator"},{"$f":"Hilfstabelle!$O$15","v":"Garantieende"},"Text","06.06.2035"]
[null,null,{"$f":"'Anlagenartenkatalog UZH'!$B$24","v":"Lüftungsanlagen"},{"$f":"'Anlagenartenkatalog UZH'!$D$30","v":"Klein-/Zonenventilator"},{"$f":"Hilfstabelle!$O$16","v":"Erwartetes technisches Enddatum"},"Text","06.06.2045"]
[null,null,{"$f":"'Anlagenartenkatalog UZH'!$B$24","v":"Lüftungsanlagen"},{"$f":"'Anlagenartenkatalog UZH'!$D$30","v":"Klein-/Zonenventilator"},"Anmerkung: Modell und Hersteller des Filters","Text","Modell und Hersteller des Filters: Ersatz-Einwegfilter zu ELS-VE, Helios Ventilatoren AG","Ggf. \"Kein Filter erforderlich\" einfügen"]
[null,null,{"$f":"'Anlagenartenkatalog UZH'!$B$24","v":"Lüftungsanlagen"},{"$f":"'Anlagenartenkatalog UZH'!$D$30","v":"Klein-/Zonenventilator"},{"$f":"Hilfstabelle!$O$17","v":"Anmerkung: Anzahl Wartungen pro Jahr"},"Text","Anzahl Wartungen pro Jahr: 1"]
[null,null,{"$f":"'Anlagenartenkatalog UZH'!$B$24","v":"Lüftungsanlagen"},{"$f":"'Anlagenartenkatalog UZH'!$D$29","v":"Adsorber-Entfeuchtungsanlage"},{"$f":"Hilfstabelle!$O$3","v":"Code (MSRL-Code)"},"Text","SOC-US11-L001-1-U8-F09","Vollständiger MSRL-Code für die Zuordnung benötigt"]
[null,null,{"$f":"'Anlagenartenkatalog UZH'!$B$24","v":"Lüftungsanlagen"},{"$f":"'Anlagenartenkatalog UZH'!$D$29","v":"Adsorber-Entfeuchtungsanlage"},{"$f":"Hilfstabelle!$O$4","v":"Bezeichnung"},"Text","Adsorber-Entfeuchtungsanlage",{"$f":"Hilfstabelle!$P$7","v":"Die Bezeichnung einer Anlage muss eindeutig sein, sofern mehrere Anlagen im gleichen Raum sind. "}]
[null,null,{"$f":"'Anlagenartenkatalog UZH'!$B$24","v":"Lüftungsanlagen"},{"$f":"'Anlagenartenkatalog UZH'!$D$29","v":"Adsorber-Entfeuchtungsanlage"},{"$f":"Hilfstabelle!$O$5","v":"Anlagentyp (Beschreibung)"},"Text",null,"Adsorber-Entfeuchtungsanlagen werden separat aufgenommen, verbindlich gemäss Anlagenartenkatalog."]
[null,null,{"$f":"'Anlagenartenkatalog UZH'!$B$24","v":"Lüftungsanlagen"},{"$f":"'Anlagenartenkatalog UZH'!$D$29","v":"Adsorber-Entfeuchtungsanlage"},{"$f":"Hilfstabelle!$O$6","v":"Artikelgruppe"},"Text",{"$f":"'Anlagenartenkatalog UZH'!$A$24","v":"02.02.01"}]
[null,null,{"$f":"'Anlagenartenkatalog UZH'!$B$24","v":"Lüftungsanlagen"},{"$f":"'Anlagenartenkatalog UZH'!$D$29","v":"Adsorber-Entfeuchtungsanlage"},{"$f":"Hilfstabelle!$O$7","v":"Hauptanlage"},"Text"]
[null,null,{"$f":"'Anlagenartenkatalog UZH'!$B$24","v":"Lüftungsanlagen"},{"$f":"'Anlagenartenkatalog UZH'!$D$29","v":"Adsorber-Entfeuchtungsanlage"},{"$f":"Hilfstabelle!$O$8","v":"Objekt"},"Text","SOC"]
[null,null,{"$f":"'Anlagenartenkatalog UZH'!$B$24","v":"Lüftungsanlagen"},{"$f":"'Anlagenartenkatalog UZH'!$D$29","v":"Adsorber-Entfeuchtungsanlage"},{"$f":"Hilfstabelle!$O$9","v":"Raumkennzeichen"},"Text","D-08"]
[null,null,{"$f":"'Anlagenartenkatalog UZH'!$B$24","v":"Lüftungsanlagen"},{"$f":"'Anlagenartenkatalog UZH'!$D$29","v":"Adsorber-Entfeuchtungsanlage"},{"$f":"Hilfstabelle!$O$10","v":"Hersteller / Marke"},"Text","Condair AG"]
[null,null,{"$f":"'Anlagenartenkatalog UZH'!$B$24","v":"Lüftungsanlagen"},{"$f":"'Anlagenartenkatalog UZH'!$D$29","v":"Adsorber-Entfeuchtungsanlage"},{"$f":"Hilfstabelle!$O$11","v":"Modell / Artikel"},"Text","Condair DA"]
[null,null,{"$f":"'Anlagenartenkatalog UZH'!$B$24","v":"Lüftungsanlagen"},{"$f":"'Anlagenartenkatalog UZH'!$D$29","v":"Adsorber-Entfeuchtungsanlage"},{"$f":"Hilfstabelle!$O$12","v":"Seriennummer"},"Text","3456567"]
[null,null,{"$f":"'Anlagenartenkatalog UZH'!$B$24","v":"Lüftungsanlagen"},{"$f":"'Anlagenartenkatalog UZH'!$D$29","v":"Adsorber-Entfeuchtungsanlage"},{"$f":"Hilfstabelle!$O$13","v":"Servicefirma"},"Text","Condair AG",{"$f":"Hilfstabelle!$P$10","v":"Gemäss Offerte in Submission"}]
[null,null,{"$f":"'Anlagenartenkatalog UZH'!$B$24","v":"Lüftungsanlagen"},{"$f":"'Anlagenartenkatalog UZH'!$D$29","v":"Adsorber-Entfeuchtungsanlage"},{"$f":"Hilfstabelle!$O$14","v":"Inbetriebnahmedatum"},"Text","06.06.2030"]
[null,null,{"$f":"'Anlagenartenkatalog UZH'!$B$24","v":"Lüftungsanlagen"},{"$f":"'Anlagenartenkatalog UZH'!$D$29","v":"Adsorber-Entfeuchtungsanlage"},{"$f":"Hilfstabelle!$O$15","v":"Garantieende"},"Text","06.06.2035"]
[null,null,{"$f":"'Anlagenartenkatalog UZH'!$B$24","v":"Lüftungsanlagen"},{"$f":"'Anlagenartenkatalog UZH'!$D$29","v":"Adsorber-Entfeuchtungsanlage"},{"$f":"Hilfstabelle!$O$16","v":"Erwartetes technisches Enddatum"},"Text","06.06.2045"]
[null,null,{"$f":"'Anlagenartenkatalog UZH'!$B$24","v":"Lüftungsanlagen"},{"$f":"'Anlagenartenkatalog UZH'!$D$29","v":"Adsorber-Entfeuchtungsanlage"},"Anmerkung: Maximale Trockenluftmenge in [m3]","Text","Maximale Trockenluftmenge: 25000 m3"]
[null,null,{"$f":"'Anlagenartenkatalog UZH'!$B$24","v":"Lüftungsanlagen"},{"$f":"'Anlagenartenkatalog UZH'!$D$29","v":"Adsorber-Entfeuchtungsanlage"},"Anmerkung: Maximale Entfeuchtungsleistung in [kg/h]","Text","Maximale Entfeuchtungsleistung: 182 kg/h"]
[null,null,{"$f":"'Anlagenartenkatalog UZH'!$B$24","v":"Lüftungsanlagen"},{"$f":"'Anlagenartenkatalog UZH'!$D$29","v":"Adsorber-Entfeuchtungsanlage"},{"$f":"Hilfstabelle!$O$17","v":"Anmerkung: Anzahl Wartungen pro Jahr"},"Text","Anzahl Wartungen pro Jahr: 1"]
[null,null,{"$f":"'Anlagenartenkatalog UZH'!$B$24","v":"Lüftungsanlagen"},{"$f":"'Anlagenartenkatalog UZH'!$D$28","v":"Entfeuchter (mobil)"},{"$f":"Hilfstabelle!$O$3","v":"Code (MSRL-Code)"},"Text","-"]
[null,null,{"$f":"'Anlagenartenkatalog UZH'!$B$24","v":"Lüftungsanlagen"},{"$f":"'Anlagenartenkatalog UZH'!$D$28","v":"Entfeuchter (mobil)"},{"$f":"Hilfstabelle!$O$4","v":"Bezeichnung"},"Text","Entfeuchter (mobil)",{"$f":"Hilfstabelle!$P$7","v":"Die Bezeichnung einer Anlage muss eindeutig sein, sofern mehrere Anlagen im gleichen Raum sind. "}]
[null,null,{"$f":"'Anlagenartenkatalog UZH'!$B$24","v":"Lüftungsanlagen"},{"$f":"'Anlagenartenkatalog UZH'!$D$28","v":"Entfeuchter (mobil)"},{"$f":"Hilfstabelle!$O$5","v":"Anlagentyp (Beschreibung)"},"Text",null,{"$f":"Hilfstabelle!$P$8","v":"Verbindlich gemäss Anlagenartenkatalog"}]
[null,null,{"$f":"'Anlagenartenkatalog UZH'!$B$24","v":"Lüftungsanlagen"},{"$f":"'Anlagenartenkatalog UZH'!$D$28","v":"Entfeuchter (mobil)"},{"$f":"Hilfstabelle!$O$6","v":"Artikelgruppe"},"Text",{"$f":"'Anlagenartenkatalog UZH'!$A$24","v":"02.02.01"}]
[null,null,{"$f":"'Anlagenartenkatalog UZH'!$B$24","v":"Lüftungsanlagen"},{"$f":"'Anlagenartenkatalog UZH'!$D$28","v":"Entfeuchter (mobil)"},{"$f":"Hilfstabelle!$O$7","v":"Hauptanlage"},"Text"]
[null,null,{"$f":"'Anlagenartenkatalog UZH'!$B$24","v":"Lüftungsanlagen"},{"$f":"'Anlagenartenkatalog UZH'!$D$28","v":"Entfeuchter (mobil)"},{"$f":"Hilfstabelle!$O$8","v":"Objekt"},"Text","SOC"]
[null,null,{"$f":"'Anlagenartenkatalog UZH'!$B$24","v":"Lüftungsanlagen"},{"$f":"'Anlagenartenkatalog UZH'!$D$28","v":"Entfeuchter (mobil)"},{"$f":"Hilfstabelle!$O$9","v":"Raumkennzeichen"},"Text","D-09","Ist auf das entsprechende Lager zu erfassen. Der aktuelle Standort wird über die Arbeitsliste festgehalten."]
[null,null,{"$f":"'Anlagenartenkatalog UZH'!$B$24","v":"Lüftungsanlagen"},{"$f":"'Anlagenartenkatalog UZH'!$D$28","v":"Entfeuchter (mobil)"},{"$f":"Hilfstabelle!$O$10","v":"Hersteller / Marke"},"Text","Krüger + Co. AG"]
[null,null,{"$f":"'Anlagenartenkatalog UZH'!$B$24","v":"Lüftungsanlagen"},{"$f":"'Anlagenartenkatalog UZH'!$D$28","v":"Entfeuchter (mobil)"},{"$f":"Hilfstabelle!$O$11","v":"Modell / Artikel"},"Text","Kondensationsentfeuchter Airsec 11"]
[null,null,{"$f":"'Anlagenartenkatalog UZH'!$B$24","v":"Lüftungsanlagen"},{"$f":"'Anlagenartenkatalog UZH'!$D$28","v":"Entfeuchter (mobil)"},{"$f":"Hilfstabelle!$O$12","v":"Seriennummer"},"Text","23454367"]
[null,null,{"$f":"'Anlagenartenkatalog UZH'!$B$24","v":"Lüftungsanlagen"},{"$f":"'Anlagenartenkatalog UZH'!$D$28","v":"Entfeuchter (mobil)"},{"$f":"Hilfstabelle!$O$13","v":"Servicefirma"},"Text","Krüger + Co. AG",{"$f":"Hilfstabelle!$P$10","v":"Gemäss Offerte in Submission"}]
[null,null,{"$f":"'Anlagenartenkatalog UZH'!$B$24","v":"Lüftungsanlagen"},{"$f":"'Anlagenartenkatalog UZH'!$D$28","v":"Entfeuchter (mobil)"},{"$f":"Hilfstabelle!$O$14","v":"Inbetriebnahmedatum"},"Text","06.06.2030"]
[null,null,{"$f":"'Anlagenartenkatalog UZH'!$B$24","v":"Lüftungsanlagen"},{"$f":"'Anlagenartenkatalog UZH'!$D$28","v":"Entfeuchter (mobil)"},{"$f":"Hilfstabelle!$O$15","v":"Garantieende"},"Text","06.06.2035"]
[null,null,{"$f":"'Anlagenartenkatalog UZH'!$B$24","v":"Lüftungsanlagen"},{"$f":"'Anlagenartenkatalog UZH'!$D$28","v":"Entfeuchter (mobil)"},{"$f":"Hilfstabelle!$O$16","v":"Erwartetes technisches Enddatum"},"Text","06.06.2045"]
[null,null,{"$f":"'Anlagenartenkatalog UZH'!$B$24","v":"Lüftungsanlagen"},{"$f":"'Anlagenartenkatalog UZH'!$D$28","v":"Entfeuchter (mobil)"},"Anmerkung: Kältemittel","Text","Kältemittel: R404"]
[null,null,{"$f":"'Anlagenartenkatalog UZH'!$B$24","v":"Lüftungsanlagen"},{"$f":"'Anlagenartenkatalog UZH'!$D$28","v":"Entfeuchter (mobil)"},"Anmerkung: Maximale Entfeuchtungsleistung in [kg/h]","Text","Maximale Entfeuchtungsleistung: 0.9 kg/h"]
[null,null,{"$f":"'Anlagenartenkatalog UZH'!$B$24","v":"Lüftungsanlagen"},{"$f":"'Anlagenartenkatalog UZH'!$D$28","v":"Entfeuchter (mobil)"},"Anmerkung: Wassertankvolumen in [l]","Text","Wassertankvolumen: 20l"]
[null,null,{"$f":"'Anlagenartenkatalog UZH'!$B$24","v":"Lüftungsanlagen"},{"$f":"'Anlagenartenkatalog UZH'!$D$28","v":"Entfeuchter (mobil)"},{"$f":"Hilfstabelle!$O$17","v":"Anmerkung: Anzahl Wartungen pro Jahr"},"Text","Anzahl Wartungen pro Jahr: 1"]
[null,null,{"$f":"'Anlagenartenkatalog UZH'!$B$24","v":"Lüftungsanlagen"},{"$f":"'Anlagenartenkatalog UZH'!$D$27","v":"Entfeuchtungsanlage"},{"$f":"Hilfstabelle!$O$3","v":"Code (MSRL-Code)"},"Text","SOC-US11-L001-1-U8-F09","Vollständiger MSRL-Code für die Zuordnung benötigt"]
[null,null,{"$f":"'Anlagenartenkatalog UZH'!$B$24","v":"Lüftungsanlagen"},{"$f":"'Anlagenartenkatalog UZH'!$D$27","v":"Entfeuchtungsanlage"},{"$f":"Hilfstabelle!$O$4","v":"Bezeichnung"},"Text","Entfeuchtungsanlage",{"$f":"Hilfstabelle!$P$7","v":"Die Bezeichnung einer Anlage muss eindeutig sein, sofern mehrere Anlagen im gleichen Raum sind. "}]
[null,null,{"$f":"'Anlagenartenkatalog UZH'!$B$24","v":"Lüftungsanlagen"},{"$f":"'Anlagenartenkatalog UZH'!$D$27","v":"Entfeuchtungsanlage"},{"$f":"Hilfstabelle!$O$5","v":"Anlagentyp (Beschreibung)"},"Text",null,"Adsorber-Entfeuchtungsanlagen werden separat aufgenommen, verbindlich gemäss Anlagenartenkatalog."]
[null,null,{"$f":"'Anlagenartenkatalog UZH'!$B$24","v":"Lüftungsanlagen"},{"$f":"'Anlagenartenkatalog UZH'!$D$27","v":"Entfeuchtungsanlage"},{"$f":"Hilfstabelle!$O$6","v":"Artikelgruppe"},"Text",{"$f":"'Anlagenartenkatalog UZH'!$A$24","v":"02.02.01"}]
[null,null,{"$f":"'Anlagenartenkatalog UZH'!$B$24","v":"Lüftungsanlagen"},{"$f":"'Anlagenartenkatalog UZH'!$D$27","v":"Entfeuchtungsanlage"},{"$f":"Hilfstabelle!$O$7","v":"Hauptanlage"},"Text"]
[null,null,{"$f":"'Anlagenartenkatalog UZH'!$B$24","v":"Lüftungsanlagen"},{"$f":"'Anlagenartenkatalog UZH'!$D$27","v":"Entfeuchtungsanlage"},{"$f":"Hilfstabelle!$O$8","v":"Objekt"},"Text","SOC"]
[null,null,{"$f":"'Anlagenartenkatalog UZH'!$B$24","v":"Lüftungsanlagen"},{"$f":"'Anlagenartenkatalog UZH'!$D$27","v":"Entfeuchtungsanlage"},{"$f":"Hilfstabelle!$O$9","v":"Raumkennzeichen"},"Text","D-08"]
[null,null,{"$f":"'Anlagenartenkatalog UZH'!$B$24","v":"Lüftungsanlagen"},{"$f":"'Anlagenartenkatalog UZH'!$D$27","v":"Entfeuchtungsanlage"},{"$f":"Hilfstabelle!$O$10","v":"Hersteller / Marke"},"Text","Condair AG"]
[null,null,{"$f":"'Anlagenartenkatalog UZH'!$B$24","v":"Lüftungsanlagen"},{"$f":"'Anlagenartenkatalog UZH'!$D$27","v":"Entfeuchtungsanlage"},{"$f":"Hilfstabelle!$O$11","v":"Modell / Artikel"},"Text","Condair DC"]
[null,null,{"$f":"'Anlagenartenkatalog UZH'!$B$24","v":"Lüftungsanlagen"},{"$f":"'Anlagenartenkatalog UZH'!$D$27","v":"Entfeuchtungsanlage"},{"$f":"Hilfstabelle!$O$12","v":"Seriennummer"},"Text","2345456"]
[null,null,{"$f":"'Anlagenartenkatalog UZH'!$B$24","v":"Lüftungsanlagen"},{"$f":"'Anlagenartenkatalog UZH'!$D$27","v":"Entfeuchtungsanlage"},{"$f":"Hilfstabelle!$O$13","v":"Servicefirma"},"Text","Condair AG",{"$f":"Hilfstabelle!$P$10","v":"Gemäss Offerte in Submission"}]
[null,null,{"$f":"'Anlagenartenkatalog UZH'!$B$24","v":"Lüftungsanlagen"},{"$f":"'Anlagenartenkatalog UZH'!$D$27","v":"Entfeuchtungsanlage"},{"$f":"Hilfstabelle!$O$14","v":"Inbetriebnahmedatum"},"Text","06.06.2030"]
[null,null,{"$f":"'Anlagenartenkatalog UZH'!$B$24","v":"Lüftungsanlagen"},{"$f":"'Anlagenartenkatalog UZH'!$D$27","v":"Entfeuchtungsanlage"},{"$f":"Hilfstabelle!$O$15","v":"Garantieende"},"Text","06.06.2035"]
[null,null,{"$f":"'Anlagenartenkatalog UZH'!$B$24","v":"Lüftungsanlagen"},{"$f":"'Anlagenartenkatalog UZH'!$D$27","v":"Entfeuchtungsanlage"},{"$f":"Hilfstabelle!$O$16","v":"Erwartetes technisches Enddatum"},"Text","06.06.2045"]
[null,null,{"$f":"'Anlagenartenkatalog UZH'!$B$24","v":"Lüftungsanlagen"},{"$f":"'Anlagenartenkatalog UZH'!$D$27","v":"Entfeuchtungsanlage"},"Anmerkung: Maximale Trockenluftmenge in [m3]","Text","Maximale Trockenluftmenge: 8500 m3"]
[null,null,{"$f":"'Anlagenartenkatalog UZH'!$B$24","v":"Lüftungsanlagen"},{"$f":"'Anlagenartenkatalog UZH'!$D$27","v":"Entfeuchtungsanlage"},"Anmerkung: Maximale Entfeuchtungsleistung in [kg/h]","Text","Maximale Entfeuchtungsleistung: 39 kg/h"]
[null,null,{"$f":"'Anlagenartenkatalog UZH'!$B$24","v":"Lüftungsanlagen"},{"$f":"'Anlagenartenkatalog UZH'!$D$27","v":"Entfeuchtungsanlage"},{"$f":"Hilfstabelle!$O$17","v":"Anmerkung: Anzahl Wartungen pro Jahr"},"Text","Anzahl Wartungen pro Jahr: 1"]
[null,null,{"$f":"'Anlagenartenkatalog UZH'!$B$24","v":"Lüftungsanlagen"},{"$f":"'Anlagenartenkatalog UZH'!$D$24","v":"Lüftungsanlage"},{"$f":"Hilfstabelle!$O$3","v":"Code (MSRL-Code)"},"Text","SOC-US11-L001"]
[null,null,{"$f":"'Anlagenartenkatalog UZH'!$B$24","v":"Lüftungsanlagen"},{"$f":"'Anlagenartenkatalog UZH'!$D$24","v":"Lüftungsanlage"},{"$f":"Hilfstabelle!$O$4","v":"Bezeichnung"},"Text","Lüftungsanlage",{"$f":"Hilfstabelle!$P$7","v":"Die Bezeichnung einer Anlage muss eindeutig sein, sofern mehrere Anlagen im gleichen Raum sind. "}]
[null,null,{"$f":"'Anlagenartenkatalog UZH'!$B$24","v":"Lüftungsanlagen"},{"$f":"'Anlagenartenkatalog UZH'!$D$24","v":"Lüftungsanlage"},{"$f":"Hilfstabelle!$O$5","v":"Anlagentyp (Beschreibung)"},"Text",null,{"$f":"Hilfstabelle!$P$8","v":"Verbindlich gemäss Anlagenartenkatalog"}]
[null,null,{"$f":"'Anlagenartenkatalog UZH'!$B$24","v":"Lüftungsanlagen"},{"$f":"'Anlagenartenkatalog UZH'!$D$24","v":"Lüftungsanlage"},{"$f":"Hilfstabelle!$O$6","v":"Artikelgruppe"},"Text",{"$f":"'Anlagenartenkatalog UZH'!$A$24","v":"02.02.01"}]
[null,null,{"$f":"'Anlagenartenkatalog UZH'!$B$24","v":"Lüftungsanlagen"},{"$f":"'Anlagenartenkatalog UZH'!$D$24","v":"Lüftungsanlage"},{"$f":"Hilfstabelle!$O$7","v":"Hauptanlage"},"Text","Ja"]
[null,null,{"$f":"'Anlagenartenkatalog UZH'!$B$24","v":"Lüftungsanlagen"},{"$f":"'Anlagenartenkatalog UZH'!$D$24","v":"Lüftungsanlage"},{"$f":"Hilfstabelle!$O$8","v":"Objekt"},"Text","SOC "]
[null,null,{"$f":"'Anlagenartenkatalog UZH'!$B$24","v":"Lüftungsanlagen"},{"$f":"'Anlagenartenkatalog UZH'!$D$24","v":"Lüftungsanlage"},{"$f":"Hilfstabelle!$O$9","v":"Raumkennzeichen"},"Text","D-08","Standort Zuluft-Monoblock"]
[null,null,{"$f":"'Anlagenartenkatalog UZH'!$B$24","v":"Lüftungsanlagen"},{"$f":"'Anlagenartenkatalog UZH'!$D$24","v":"Lüftungsanlage"},{"$f":"Hilfstabelle!$O$10","v":"Hersteller / Marke"},"Text","Seven-Air Gebr. Meyer AG"]
[null,null,{"$f":"'Anlagenartenkatalog UZH'!$B$24","v":"Lüftungsanlagen"},{"$f":"'Anlagenartenkatalog UZH'!$D$24","v":"Lüftungsanlage"},{"$f":"Hilfstabelle!$O$11","v":"Modell / Artikel"},"Text","-"]
[null,null,{"$f":"'Anlagenartenkatalog UZH'!$B$24","v":"Lüftungsanlagen"},{"$f":"'Anlagenartenkatalog UZH'!$D$24","v":"Lüftungsanlage"},{"$f":"Hilfstabelle!$O$12","v":"Seriennummer"},"Text","-"]
[null,null,{"$f":"'Anlagenartenkatalog UZH'!$B$24","v":"Lüftungsanlagen"},{"$f":"'Anlagenartenkatalog UZH'!$D$24","v":"Lüftungsanlage"},{"$f":"Hilfstabelle!$O$13","v":"Servicefirma"},"Text","Seven-Air Gebr. Meyer AG",{"$f":"Hilfstabelle!$P$10","v":"Gemäss Offerte in Submission"}]
[null,null,{"$f":"'Anlagenartenkatalog UZH'!$B$24","v":"Lüftungsanlagen"},{"$f":"'Anlagenartenkatalog UZH'!$D$24","v":"Lüftungsanlage"},{"$f":"Hilfstabelle!$O$14","v":"Inbetriebnahmedatum"},"Text","06.06.2030"]
[null,null,{"$f":"'Anlagenartenkatalog UZH'!$B$24","v":"Lüftungsanlagen"},{"$f":"'Anlagenartenkatalog UZH'!$D$24","v":"Lüftungsanlage"},{"$f":"Hilfstabelle!$O$15","v":"Garantieende"},"Text","06.06.2035"]
[null,null,{"$f":"'Anlagenartenkatalog UZH'!$B$24","v":"Lüftungsanlagen"},{"$f":"'Anlagenartenkatalog UZH'!$D$24","v":"Lüftungsanlage"},{"$f":"Hilfstabelle!$O$16","v":"Erwartetes technisches Enddatum"},"Text","06.06.2045"]
[null,null,{"$f":"'Anlagenartenkatalog UZH'!$B$24","v":"Lüftungsanlagen"},{"$f":"'Anlagenartenkatalog UZH'!$D$24","v":"Lüftungsanlage"},"Anmerkung: Genaue Standortbeschreibung der Aussenluftfassung","Text","Genaue Standortbeschreibung der Aussenluftfassung: Bei der zentralen Anlieferung auf dem Dach"]
[null,null,{"$f":"'Anlagenartenkatalog UZH'!$B$24","v":"Lüftungsanlagen"},{"$f":"'Anlagenartenkatalog UZH'!$D$24","v":"Lüftungsanlage"},"Anmerkung: Erdverlegte Komponenten vorhanden Ja / Nein","Text","Erdverlegte Komponenten vorhanden: Nein"]
[null,null,{"$f":"'Anlagenartenkatalog UZH'!$B$24","v":"Lüftungsanlagen"},{"$f":"'Anlagenartenkatalog UZH'!$D$24","v":"Lüftungsanlage"},{"$f":"Hilfstabelle!$O$17","v":"Anmerkung: Anzahl Wartungen pro Jahr"},"Text","Anzahl Wartungen pro Jahr: 1"]
[null,null,{"$f":"'Anlagenartenkatalog UZH'!$B$24","v":"Lüftungsanlagen"},{"$f":"'Anlagenartenkatalog UZH'!$D$25","v":"Filter Stufe 1"},{"$f":"Hilfstabelle!$O$3","v":"Code (MSRL-Code)"},"Text","SOC-US11-L001-1-U8-F09","Vollständiger MSRL-Code der Differenzialdrucküberwachung"]
[null,null,{"$f":"'Anlagenartenkatalog UZH'!$B$24","v":"Lüftungsanlagen"},{"$f":"'Anlagenartenkatalog UZH'!$D$25","v":"Filter Stufe 1"},{"$f":"Hilfstabelle!$O$4","v":"Bezeichnung"},"Text","Filter Stufe 1",{"$f":"Hilfstabelle!$P$7","v":"Die Bezeichnung einer Anlage muss eindeutig sein, sofern mehrere Anlagen im gleichen Raum sind. "}]
[null,null,{"$f":"'Anlagenartenkatalog UZH'!$B$24","v":"Lüftungsanlagen"},{"$f":"'Anlagenartenkatalog UZH'!$D$25","v":"Filter Stufe 1"},{"$f":"Hilfstabelle!$O$5","v":"Anlagentyp (Beschreibung)"},"Text",null,{"$f":"Hilfstabelle!$P$8","v":"Verbindlich gemäss Anlagenartenkatalog"}]
[null,null,{"$f":"'Anlagenartenkatalog UZH'!$B$24","v":"Lüftungsanlagen"},{"$f":"'Anlagenartenkatalog UZH'!$D$25","v":"Filter Stufe 1"},{"$f":"Hilfstabelle!$O$6","v":"Artikelgruppe"},"Text",{"$f":"'Anlagenartenkatalog UZH'!$A$24","v":"02.02.01"}]
[null,null,{"$f":"'Anlagenartenkatalog UZH'!$B$24","v":"Lüftungsanlagen"},{"$f":"'Anlagenartenkatalog UZH'!$D$25","v":"Filter Stufe 1"},{"$f":"Hilfstabelle!$O$7","v":"Hauptanlage"},"Text"]
[null,null,{"$f":"'Anlagenartenkatalog UZH'!$B$24","v":"Lüftungsanlagen"},{"$f":"'Anlagenartenkatalog UZH'!$D$25","v":"Filter Stufe 1"},{"$f":"Hilfstabelle!$O$8","v":"Objekt"},"Text","SOC "]
[null,null,{"$f":"'Anlagenartenkatalog UZH'!$B$24","v":"Lüftungsanlagen"},{"$f":"'Anlagenartenkatalog UZH'!$D$25","v":"Filter Stufe 1"},{"$f":"Hilfstabelle!$O$9","v":"Raumkennzeichen"},"Text","D-08"]
[null,null,{"$f":"'Anlagenartenkatalog UZH'!$B$24","v":"Lüftungsanlagen"},{"$f":"'Anlagenartenkatalog UZH'!$D$25","v":"Filter Stufe 1"},{"$f":"Hilfstabelle!$O$10","v":"Hersteller / Marke"},"Text","Unifil AG"]
[null,null,{"$f":"'Anlagenartenkatalog UZH'!$B$24","v":"Lüftungsanlagen"},{"$f":"'Anlagenartenkatalog UZH'!$D$25","v":"Filter Stufe 1"},{"$f":"Hilfstabelle!$O$11","v":"Modell / Artikel"},"Text","KW7-420-H-6T"]
[null,null,{"$f":"'Anlagenartenkatalog UZH'!$B$24","v":"Lüftungsanlagen"},{"$f":"'Anlagenartenkatalog UZH'!$D$25","v":"Filter Stufe 1"},{"$f":"Hilfstabelle!$O$12","v":"Seriennummer"},"Text","-"]
[null,null,{"$f":"'Anlagenartenkatalog UZH'!$B$24","v":"Lüftungsanlagen"},{"$f":"'Anlagenartenkatalog UZH'!$D$25","v":"Filter Stufe 1"},{"$f":"Hilfstabelle!$O$13","v":"Servicefirma"},"Text","Unifil AG",{"$f":"Hilfstabelle!$P$10","v":"Gemäss Offerte in Submission"}]
[null,null,{"$f":"'Anlagenartenkatalog UZH'!$B$24","v":"Lüftungsanlagen"},{"$f":"'Anlagenartenkatalog UZH'!$D$25","v":"Filter Stufe 1"},{"$f":"Hilfstabelle!$O$14","v":"Inbetriebnahmedatum"},"Text","-"]
[null,null,{"$f":"'Anlagenartenkatalog UZH'!$B$24","v":"Lüftungsanlagen"},{"$f":"'Anlagenartenkatalog UZH'!$D$25","v":"Filter Stufe 1"},{"$f":"Hilfstabelle!$O$15","v":"Garantieende"},"Text","-"]
[null,null,{"$f":"'Anlagenartenkatalog UZH'!$B$24","v":"Lüftungsanlagen"},{"$f":"'Anlagenartenkatalog UZH'!$D$25","v":"Filter Stufe 1"},{"$f":"Hilfstabelle!$O$16","v":"Erwartetes technisches Enddatum"},"Text","-"]
[null,null,{"$f":"'Anlagenartenkatalog UZH'!$B$24","v":"Lüftungsanlagen"},{"$f":"'Anlagenartenkatalog UZH'!$D$25","v":"Filter Stufe 1"},"Anmerkung: Anzahl Filter","Text","Anzahl Filter: 2"]
[null,null,{"$f":"'Anlagenartenkatalog UZH'!$B$24","v":"Lüftungsanlagen"},{"$f":"'Anlagenartenkatalog UZH'!$D$25","v":"Filter Stufe 1"},"Anmerkung: Filterklasse","Text","Filterklasse: ISO ePM1 70%"]
[null,null,{"$f":"'Anlagenartenkatalog UZH'!$B$24","v":"Lüftungsanlagen"},{"$f":"'Anlagenartenkatalog UZH'!$D$25","v":"Filter Stufe 1"},"Anmerkung: Abmessung in [mm] [B X H X T]","Text","Abmessung: 402 mm x 592 mm x 450 mm"]
[null,null,{"$f":"'Anlagenartenkatalog UZH'!$B$24","v":"Lüftungsanlagen"},{"$f":"'Anlagenartenkatalog UZH'!$D$25","v":"Filter Stufe 1"},"Anmerkung: Energieklasse","Text","Energieklasse: A"]
[null,null,{"$f":"'Anlagenartenkatalog UZH'!$B$24","v":"Lüftungsanlagen"},{"$f":"'Anlagenartenkatalog UZH'!$D$25","v":"Filter Stufe 1"},"Anmerkung: Maximal mögliche Taschenlänge in [mm]","Text","Maximal mögliche Taschenlänge: 500 mm"]
[null,null,{"$f":"'Anlagenartenkatalog UZH'!$B$24","v":"Lüftungsanlagen"},{"$f":"'Anlagenartenkatalog UZH'!$D$25","v":"Filter Stufe 1"},"Anmerkung: Anzahl Filterwechsel pro Jahr","Text","Anzahl Filterwechsel pro Jahr: 1"]
[null,null,{"$f":"'Anlagenartenkatalog UZH'!$B$24","v":"Lüftungsanlagen"},{"$f":"'Anlagenartenkatalog UZH'!$D$26","v":"Filter Stufe 2"},{"$f":"Hilfstabelle!$O$3","v":"Code (MSRL-Code)"},"Text","SOC-US11-L001-1-U8-F10","Vollständiger MSRL-Code der Differenzialdrucküberwachung"]
[null,null,{"$f":"'Anlagenartenkatalog UZH'!$B$24","v":"Lüftungsanlagen"},{"$f":"'Anlagenartenkatalog UZH'!$D$26","v":"Filter Stufe 2"},{"$f":"Hilfstabelle!$O$4","v":"Bezeichnung"},"Text","Filter Stufe 2",{"$f":"Hilfstabelle!$P$7","v":"Die Bezeichnung einer Anlage muss eindeutig sein, sofern mehrere Anlagen im gleichen Raum sind. "}]
[null,null,{"$f":"'Anlagenartenkatalog UZH'!$B$24","v":"Lüftungsanlagen"},{"$f":"'Anlagenartenkatalog UZH'!$D$26","v":"Filter Stufe 2"},{"$f":"Hilfstabelle!$O$5","v":"Anlagentyp (Beschreibung)"},"Text",null,{"$f":"Hilfstabelle!$P$8","v":"Verbindlich gemäss Anlagenartenkatalog"}]
[null,null,{"$f":"'Anlagenartenkatalog UZH'!$B$24","v":"Lüftungsanlagen"},{"$f":"'Anlagenartenkatalog UZH'!$D$26","v":"Filter Stufe 2"},{"$f":"Hilfstabelle!$O$6","v":"Artikelgruppe"},"Text",{"$f":"'Anlagenartenkatalog UZH'!$A$24","v":"02.02.01"}]
[null,null,{"$f":"'Anlagenartenkatalog UZH'!$B$24","v":"Lüftungsanlagen"},{"$f":"'Anlagenartenkatalog UZH'!$D$26","v":"Filter Stufe 2"},{"$f":"Hilfstabelle!$O$7","v":"Hauptanlage"},"Text"]
[null,null,{"$f":"'Anlagenartenkatalog UZH'!$B$24","v":"Lüftungsanlagen"},{"$f":"'Anlagenartenkatalog UZH'!$D$26","v":"Filter Stufe 2"},{"$f":"Hilfstabelle!$O$8","v":"Objekt"},"Text","SOC"]
[null,null,{"$f":"'Anlagenartenkatalog UZH'!$B$24","v":"Lüftungsanlagen"},{"$f":"'Anlagenartenkatalog UZH'!$D$26","v":"Filter Stufe 2"},{"$f":"Hilfstabelle!$O$9","v":"Raumkennzeichen"},"Text","D-08"]
[null,null,{"$f":"'Anlagenartenkatalog UZH'!$B$24","v":"Lüftungsanlagen"},{"$f":"'Anlagenartenkatalog UZH'!$D$26","v":"Filter Stufe 2"},{"$f":"Hilfstabelle!$O$10","v":"Hersteller / Marke"},"Text","Unifil AG"]
[null,null,{"$f":"'Anlagenartenkatalog UZH'!$B$24","v":"Lüftungsanlagen"},{"$f":"'Anlagenartenkatalog UZH'!$D$26","v":"Filter Stufe 2"},{"$f":"Hilfstabelle!$O$11","v":"Modell / Artikel"},"Text","KW7-610-H-10T"]
[null,null,{"$f":"'Anlagenartenkatalog UZH'!$B$24","v":"Lüftungsanlagen"},{"$f":"'Anlagenartenkatalog UZH'!$D$26","v":"Filter Stufe 2"},{"$f":"Hilfstabelle!$O$12","v":"Seriennummer"},"Text","-"]
[null,null,{"$f":"'Anlagenartenkatalog UZH'!$B$24","v":"Lüftungsanlagen"},{"$f":"'Anlagenartenkatalog UZH'!$D$26","v":"Filter Stufe 2"},{"$f":"Hilfstabelle!$O$13","v":"Servicefirma"},"Text","Unifil AG",{"$f":"Hilfstabelle!$P$10","v":"Gemäss Offerte in Submission"}]
[null,null,{"$f":"'Anlagenartenkatalog UZH'!$B$24","v":"Lüftungsanlagen"},{"$f":"'Anlagenartenkatalog UZH'!$D$26","v":"Filter Stufe 2"},{"$f":"Hilfstabelle!$O$14","v":"Inbetriebnahmedatum"},"Text","-"]
[null,null,{"$f":"'Anlagenartenkatalog UZH'!$B$24","v":"Lüftungsanlagen"},{"$f":"'Anlagenartenkatalog UZH'!$D$26","v":"Filter Stufe 2"},{"$f":"Hilfstabelle!$O$15","v":"Garantieende"},"Text","-"]
[null,null,{"$f":"'Anlagenartenkatalog UZH'!$B$24","v":"Lüftungsanlagen"},{"$f":"'Anlagenartenkatalog UZH'!$D$26","v":"Filter Stufe 2"},{"$f":"Hilfstabelle!$O$16","v":"Erwartetes technisches Enddatum"},"Text","-"]
[null,null,{"$f":"'Anlagenartenkatalog UZH'!$B$24","v":"Lüftungsanlagen"},{"$f":"'Anlagenartenkatalog UZH'!$D$26","v":"Filter Stufe 2"},"Anmerkung: Anzahl Filter","Text","Anzahl Filter: 2"]
[null,null,{"$f":"'Anlagenartenkatalog UZH'!$B$24","v":"Lüftungsanlagen"},{"$f":"'Anlagenartenkatalog UZH'!$D$26","v":"Filter Stufe 2"},"Anmerkung: Filterklasse","Text","Filterklasse: ISO ePM1 85%"]
[null,null,{"$f":"'Anlagenartenkatalog UZH'!$B$24","v":"Lüftungsanlagen"},{"$f":"'Anlagenartenkatalog UZH'!$D$26","v":"Filter Stufe 2"},"Anmerkung: Abmessung in [mm] [B X H X T]","Text","Abmessung: 592 mm x 402 mm x 292 mm"]
[null,null,{"$f":"'Anlagenartenkatalog UZH'!$B$24","v":"Lüftungsanlagen"},{"$f":"'Anlagenartenkatalog UZH'!$D$26","v":"Filter Stufe 2"},"Anmerkung: Energieklasse","Text","Energieklasse: A"]
[null,null,{"$f":"'Anlagenartenkatalog UZH'!$B$24","v":"Lüftungsanlagen"},{"$f":"'Anlagenartenkatalog UZH'!$D$26","v":"Filter Stufe 2"},"Anmerkung: Maximal mögliche Taschenlänge in [mm]","Text","Maximal mögliche Taschenlänge: 300 mm"]
[null,null,{"$f":"'Anlagenartenkatalog UZH'!$B$24","v":"Lüftungsanlagen"},{"$f":"'Anlagenartenkatalog UZH'!$D$26","v":"Filter Stufe 2"},"Anmerkung: Anzahl Filterwechsel pro Jahr","Text","Anzahl Filterwechsel pro Jahr: alle 2 Jahre"]
[null,null,{"$f":"'Anlagenartenkatalog UZH'!$B$123","v":"Meteostation"},{"$f":"'Anlagenartenkatalog UZH'!$D$123","v":"Meteostation"},{"$f":"Hilfstabelle!$O$3","v":"Code (MSRL-Code)"},"Text","SOC-US11-E003"]
[null,null,{"$f":"'Anlagenartenkatalog UZH'!$B$123","v":"Meteostation"},{"$f":"'Anlagenartenkatalog UZH'!$D$123","v":"Meteostation"},{"$f":"Hilfstabelle!$O$4","v":"Bezeichnung"},"Text","Meteostation",{"$f":"Hilfstabelle!$P$7","v":"Die Bezeichnung einer Anlage muss eindeutig sein, sofern mehrere Anlagen im gleichen Raum sind. "}]
[null,null,{"$f":"'Anlagenartenkatalog UZH'!$B$123","v":"Meteostation"},{"$f":"'Anlagenartenkatalog UZH'!$D$123","v":"Meteostation"},{"$f":"Hilfstabelle!$O$5","v":"Anlagentyp (Beschreibung)"},"Text",null,{"$f":"Hilfstabelle!$P$8","v":"Verbindlich gemäss Anlagenartenkatalog"}]
[null,null,{"$f":"'Anlagenartenkatalog UZH'!$B$123","v":"Meteostation"},{"$f":"'Anlagenartenkatalog UZH'!$D$123","v":"Meteostation"},{"$f":"Hilfstabelle!$O$6","v":"Artikelgruppe"},"Text",{"$f":"'Anlagenartenkatalog UZH'!$A$123","v":"03.04"}]
[null,null,{"$f":"'Anlagenartenkatalog UZH'!$B$123","v":"Meteostation"},{"$f":"'Anlagenartenkatalog UZH'!$D$123","v":"Meteostation"},{"$f":"Hilfstabelle!$O$7","v":"Hauptanlage"},"Text","Ja"]
[null,null,{"$f":"'Anlagenartenkatalog UZH'!$B$123","v":"Meteostation"},{"$f":"'Anlagenartenkatalog UZH'!$D$123","v":"Meteostation"},{"$f":"Hilfstabelle!$O$8","v":"Objekt"},"Text","SOC "]
[null,null,{"$f":"'Anlagenartenkatalog UZH'!$B$123","v":"Meteostation"},{"$f":"'Anlagenartenkatalog UZH'!$D$123","v":"Meteostation"},{"$f":"Hilfstabelle!$O$9","v":"Raumkennzeichen"},"Text","-"]
[null,null,{"$f":"'Anlagenartenkatalog UZH'!$B$123","v":"Meteostation"},{"$f":"'Anlagenartenkatalog UZH'!$D$123","v":"Meteostation"},{"$f":"Hilfstabelle!$O$10","v":"Hersteller / Marke"},"Text","Somfy AG"]
[null,null,{"$f":"'Anlagenartenkatalog UZH'!$B$123","v":"Meteostation"},{"$f":"'Anlagenartenkatalog UZH'!$D$123","v":"Meteostation"},{"$f":"Hilfstabelle!$O$11","v":"Modell / Artikel"},"Text","201525"]
[null,null,{"$f":"'Anlagenartenkatalog UZH'!$B$123","v":"Meteostation"},{"$f":"'Anlagenartenkatalog UZH'!$D$123","v":"Meteostation"},{"$f":"Hilfstabelle!$O$12","v":"Seriennummer"},"Text","09879876765"]
[null,null,{"$f":"'Anlagenartenkatalog UZH'!$B$123","v":"Meteostation"},{"$f":"'Anlagenartenkatalog UZH'!$D$123","v":"Meteostation"},{"$f":"Hilfstabelle!$O$13","v":"Servicefirma"},"Text","Somfy AG",{"$f":"Hilfstabelle!$P$10","v":"Gemäss Offerte in Submission"}]
[null,null,{"$f":"'Anlagenartenkatalog UZH'!$B$123","v":"Meteostation"},{"$f":"'Anlagenartenkatalog UZH'!$D$123","v":"Meteostation"},{"$f":"Hilfstabelle!$O$14","v":"Inbetriebnahmedatum"},"Text","06.06.2030"]
[null,null,{"$f":"'Anlagenartenkatalog UZH'!$B$123","v":"Meteostation"},{"$f":"'Anlagenartenkatalog UZH'!$D$123","v":"Meteostation"},{"$f":"Hilfstabelle!$O$15","v":"Garantieende"},"Text","06.06.2035"]
[null,null,{"$f":"'Anlagenartenkatalog UZH'!$B$123","v":"Meteostation"},{"$f":"'Anlagenartenkatalog UZH'!$D$123","v":"Meteostation"},{"$f":"Hilfstabelle!$O$16","v":"Erwartetes technisches Enddatum"},"Text","06.06.2045"]
[null,null,{"$f":"'Anlagenartenkatalog UZH'!$B$123","v":"Meteostation"},{"$f":"'Anlagenartenkatalog UZH'!$D$123","v":"Meteostation"},"Anmerkung: Anwendungszweck","Text","Anwendungszweck: Beschattungsanlage"]
[null,null,{"$f":"'Anlagenartenkatalog UZH'!$B$123","v":"Meteostation"},{"$f":"'Anlagenartenkatalog UZH'!$D$123","v":"Meteostation"},"Anmerkung: Genaue Standortbeschreibung","Text","Genaue Standortbeschreibung: Dach nordwest"]
[null,null,{"$f":"'Anlagenartenkatalog UZH'!$B$123","v":"Meteostation"},{"$f":"'Anlagenartenkatalog UZH'!$D$123","v":"Meteostation"},{"$f":"Hilfstabelle!$O$17","v":"Anmerkung: Anzahl Wartungen pro Jahr"},"Text","Anzahl Wartungen pro Jahr: 1"]
[null,null,{"$f":"'Anlagenartenkatalog UZH'!$B$54","v":"Mittelspannungsanlagen 16/22 kV (Trafostationen)"},{"$f":"'Anlagenartenkatalog UZH'!$D$57","v":"Mittelspannungsschalter"},{"$f":"Hilfstabelle!$O$3","v":"Code (MSRL-Code)"},"Text","SOD-§1234567891"]
[null,null,{"$f":"'Anlagenartenkatalog UZH'!$B$54","v":"Mittelspannungsanlagen 16/22 kV (Trafostationen)"},{"$f":"'Anlagenartenkatalog UZH'!$D$57","v":"Mittelspannungsschalter"},{"$f":"Hilfstabelle!$O$4","v":"Bezeichnung"},"Text","Mittelspannungsschalter",{"$f":"Hilfstabelle!$P$7","v":"Die Bezeichnung einer Anlage muss eindeutig sein, sofern mehrere Anlagen im gleichen Raum sind. "}]
[null,null,{"$f":"'Anlagenartenkatalog UZH'!$B$54","v":"Mittelspannungsanlagen 16/22 kV (Trafostationen)"},{"$f":"'Anlagenartenkatalog UZH'!$D$57","v":"Mittelspannungsschalter"},{"$f":"Hilfstabelle!$O$5","v":"Anlagentyp (Beschreibung)"},"Text",null,{"$f":"Hilfstabelle!$P$8","v":"Verbindlich gemäss Anlagenartenkatalog"}]
[null,null,{"$f":"'Anlagenartenkatalog UZH'!$B$54","v":"Mittelspannungsanlagen 16/22 kV (Trafostationen)"},{"$f":"'Anlagenartenkatalog UZH'!$D$57","v":"Mittelspannungsschalter"},{"$f":"Hilfstabelle!$O$6","v":"Artikelgruppe"},"Text",{"$f":"'Anlagenartenkatalog UZH'!$A$54","v":"02.04.10"}]
[null,null,{"$f":"'Anlagenartenkatalog UZH'!$B$54","v":"Mittelspannungsanlagen 16/22 kV (Trafostationen)"},{"$f":"'Anlagenartenkatalog UZH'!$D$57","v":"Mittelspannungsschalter"},{"$f":"Hilfstabelle!$O$7","v":"Hauptanlage"},"Text"]
[null,null,{"$f":"'Anlagenartenkatalog UZH'!$B$54","v":"Mittelspannungsanlagen 16/22 kV (Trafostationen)"},{"$f":"'Anlagenartenkatalog UZH'!$D$57","v":"Mittelspannungsschalter"},{"$f":"Hilfstabelle!$O$8","v":"Objekt"},"Text","SOD"]
[null,null,{"$f":"'Anlagenartenkatalog UZH'!$B$54","v":"Mittelspannungsanlagen 16/22 kV (Trafostationen)"},{"$f":"'Anlagenartenkatalog UZH'!$D$57","v":"Mittelspannungsschalter"},{"$f":"Hilfstabelle!$O$9","v":"Raumkennzeichen"},"Text","E-08"]
[null,null,{"$f":"'Anlagenartenkatalog UZH'!$B$54","v":"Mittelspannungsanlagen 16/22 kV (Trafostationen)"},{"$f":"'Anlagenartenkatalog UZH'!$D$57","v":"Mittelspannungsschalter"},{"$f":"Hilfstabelle!$O$10","v":"Hersteller / Marke"},"Text","ABB Power Protection SA"]
[null,null,{"$f":"'Anlagenartenkatalog UZH'!$B$54","v":"Mittelspannungsanlagen 16/22 kV (Trafostationen)"},{"$f":"'Anlagenartenkatalog UZH'!$D$57","v":"Mittelspannungsschalter"},{"$f":"Hilfstabelle!$O$11","v":"Modell / Artikel"},"Text","UniGear ZS1"]
[null,null,{"$f":"'Anlagenartenkatalog UZH'!$B$54","v":"Mittelspannungsanlagen 16/22 kV (Trafostationen)"},{"$f":"'Anlagenartenkatalog UZH'!$D$57","v":"Mittelspannungsschalter"},{"$f":"Hilfstabelle!$O$12","v":"Seriennummer"},"Text","0980"]
[null,null,{"$f":"'Anlagenartenkatalog UZH'!$B$54","v":"Mittelspannungsanlagen 16/22 kV (Trafostationen)"},{"$f":"'Anlagenartenkatalog UZH'!$D$57","v":"Mittelspannungsschalter"},{"$f":"Hilfstabelle!$O$13","v":"Servicefirma"},"Text","ABB Power Protection SA",{"$f":"Hilfstabelle!$P$10","v":"Gemäss Offerte in Submission"}]
[null,null,{"$f":"'Anlagenartenkatalog UZH'!$B$54","v":"Mittelspannungsanlagen 16/22 kV (Trafostationen)"},{"$f":"'Anlagenartenkatalog UZH'!$D$57","v":"Mittelspannungsschalter"},{"$f":"Hilfstabelle!$O$14","v":"Inbetriebnahmedatum"},"Text","06.06.2030"]
[null,null,{"$f":"'Anlagenartenkatalog UZH'!$B$54","v":"Mittelspannungsanlagen 16/22 kV (Trafostationen)"},{"$f":"'Anlagenartenkatalog UZH'!$D$57","v":"Mittelspannungsschalter"},{"$f":"Hilfstabelle!$O$15","v":"Garantieende"},"Text","06.06.2035"]
[null,null,{"$f":"'Anlagenartenkatalog UZH'!$B$54","v":"Mittelspannungsanlagen 16/22 kV (Trafostationen)"},{"$f":"'Anlagenartenkatalog UZH'!$D$57","v":"Mittelspannungsschalter"},{"$f":"Hilfstabelle!$O$16","v":"Erwartetes technisches Enddatum"},"Text","06.06.2045"]
[null,null,{"$f":"'Anlagenartenkatalog UZH'!$B$54","v":"Mittelspannungsanlagen 16/22 kV (Trafostationen)"},{"$f":"'Anlagenartenkatalog UZH'!$D$57","v":"Mittelspannungsschalter"},"Anmerkung: Leistung in [kVA]","Text","Leistung: 1.2 kVA"]
[null,null,{"$f":"'Anlagenartenkatalog UZH'!$B$54","v":"Mittelspannungsanlagen 16/22 kV (Trafostationen)"},{"$f":"'Anlagenartenkatalog UZH'!$D$57","v":"Mittelspannungsschalter"},{"$f":"Hilfstabelle!$O$17","v":"Anmerkung: Anzahl Wartungen pro Jahr"},"Text","Anzahl Wartungen pro Jahr: alle 5 Jahre"]
[null,null,{"$f":"'Anlagenartenkatalog UZH'!$B$54","v":"Mittelspannungsanlagen 16/22 kV (Trafostationen)"},{"$f":"'Anlagenartenkatalog UZH'!$D$56","v":"Messfeld"},{"$f":"Hilfstabelle!$O$3","v":"Code (MSRL-Code)"},"Text","SOD-§1234567891"]
[null,null,{"$f":"'Anlagenartenkatalog UZH'!$B$54","v":"Mittelspannungsanlagen 16/22 kV (Trafostationen)"},{"$f":"'Anlagenartenkatalog UZH'!$D$56","v":"Messfeld"},{"$f":"Hilfstabelle!$O$4","v":"Bezeichnung"},"Text",{"$f":"'Anlagenartenkatalog UZH'!$D$56","v":"Messfeld"},{"$f":"Hilfstabelle!$P$7","v":"Die Bezeichnung einer Anlage muss eindeutig sein, sofern mehrere Anlagen im gleichen Raum sind. "}]
[null,null,{"$f":"'Anlagenartenkatalog UZH'!$B$54","v":"Mittelspannungsanlagen 16/22 kV (Trafostationen)"},{"$f":"'Anlagenartenkatalog UZH'!$D$56","v":"Messfeld"},{"$f":"Hilfstabelle!$O$5","v":"Anlagentyp (Beschreibung)"},"Text",null,{"$f":"Hilfstabelle!$P$8","v":"Verbindlich gemäss Anlagenartenkatalog"}]
[null,null,{"$f":"'Anlagenartenkatalog UZH'!$B$54","v":"Mittelspannungsanlagen 16/22 kV (Trafostationen)"},{"$f":"'Anlagenartenkatalog UZH'!$D$56","v":"Messfeld"},{"$f":"Hilfstabelle!$O$6","v":"Artikelgruppe"},"Text",{"$f":"'Anlagenartenkatalog UZH'!$A$54","v":"02.04.10"}]
[null,null,{"$f":"'Anlagenartenkatalog UZH'!$B$54","v":"Mittelspannungsanlagen 16/22 kV (Trafostationen)"},{"$f":"'Anlagenartenkatalog UZH'!$D$56","v":"Messfeld"},{"$f":"Hilfstabelle!$O$7","v":"Hauptanlage"},"Text","Unteranlage"]
[null,null,{"$f":"'Anlagenartenkatalog UZH'!$B$54","v":"Mittelspannungsanlagen 16/22 kV (Trafostationen)"},{"$f":"'Anlagenartenkatalog UZH'!$D$56","v":"Messfeld"},{"$f":"Hilfstabelle!$O$8","v":"Objekt"},"Text","SOD "]
[null,null,{"$f":"'Anlagenartenkatalog UZH'!$B$54","v":"Mittelspannungsanlagen 16/22 kV (Trafostationen)"},{"$f":"'Anlagenartenkatalog UZH'!$D$56","v":"Messfeld"},{"$f":"Hilfstabelle!$O$9","v":"Raumkennzeichen"},"Text","D-08"]
[null,null,{"$f":"'Anlagenartenkatalog UZH'!$B$54","v":"Mittelspannungsanlagen 16/22 kV (Trafostationen)"},{"$f":"'Anlagenartenkatalog UZH'!$D$56","v":"Messfeld"},{"$f":"Hilfstabelle!$O$10","v":"Hersteller / Marke"},"Text","Schneider Electric (Schweiz) AG"]
[null,null,{"$f":"'Anlagenartenkatalog UZH'!$B$54","v":"Mittelspannungsanlagen 16/22 kV (Trafostationen)"},{"$f":"'Anlagenartenkatalog UZH'!$D$56","v":"Messfeld"},{"$f":"Hilfstabelle!$O$11","v":"Modell / Artikel"},"Text","Messfeld GBC-B"]
[null,null,{"$f":"'Anlagenartenkatalog UZH'!$B$54","v":"Mittelspannungsanlagen 16/22 kV (Trafostationen)"},{"$f":"'Anlagenartenkatalog UZH'!$D$56","v":"Messfeld"},{"$f":"Hilfstabelle!$O$12","v":"Seriennummer"},"Text","987"]
[null,null,{"$f":"'Anlagenartenkatalog UZH'!$B$54","v":"Mittelspannungsanlagen 16/22 kV (Trafostationen)"},{"$f":"'Anlagenartenkatalog UZH'!$D$56","v":"Messfeld"},{"$f":"Hilfstabelle!$O$13","v":"Servicefirma"},"Text","Schneider Electric (Schweiz) AG",{"$f":"Hilfstabelle!$P$10","v":"Gemäss Offerte in Submission"}]
[null,null,{"$f":"'Anlagenartenkatalog UZH'!$B$54","v":"Mittelspannungsanlagen 16/22 kV (Trafostationen)"},{"$f":"'Anlagenartenkatalog UZH'!$D$56","v":"Messfeld"},{"$f":"Hilfstabelle!$O$14","v":"Inbetriebnahmedatum"},"Text","06.06.2030"]
[null,null,{"$f":"'Anlagenartenkatalog UZH'!$B$54","v":"Mittelspannungsanlagen 16/22 kV (Trafostationen)"},{"$f":"'Anlagenartenkatalog UZH'!$D$56","v":"Messfeld"},{"$f":"Hilfstabelle!$O$15","v":"Garantieende"},"Text","06.06.2035"]
[null,null,{"$f":"'Anlagenartenkatalog UZH'!$B$54","v":"Mittelspannungsanlagen 16/22 kV (Trafostationen)"},{"$f":"'Anlagenartenkatalog UZH'!$D$56","v":"Messfeld"},{"$f":"Hilfstabelle!$O$16","v":"Erwartetes technisches Enddatum"},"Text","06.06.2045"]
[null,null,{"$f":"'Anlagenartenkatalog UZH'!$B$54","v":"Mittelspannungsanlagen 16/22 kV (Trafostationen)"},{"$f":"'Anlagenartenkatalog UZH'!$D$55","v":"Transformator"},{"$f":"Hilfstabelle!$O$3","v":"Code (MSRL-Code)"},"Text","SOD-§1234567891"]
[null,null,{"$f":"'Anlagenartenkatalog UZH'!$B$54","v":"Mittelspannungsanlagen 16/22 kV (Trafostationen)"},{"$f":"'Anlagenartenkatalog UZH'!$D$55","v":"Transformator"},{"$f":"Hilfstabelle!$O$4","v":"Bezeichnung"},"Text","Transformator",{"$f":"Hilfstabelle!$P$7","v":"Die Bezeichnung einer Anlage muss eindeutig sein, sofern mehrere Anlagen im gleichen Raum sind. "}]
[null,null,{"$f":"'Anlagenartenkatalog UZH'!$B$54","v":"Mittelspannungsanlagen 16/22 kV (Trafostationen)"},{"$f":"'Anlagenartenkatalog UZH'!$D$55","v":"Transformator"},{"$f":"Hilfstabelle!$O$5","v":"Anlagentyp (Beschreibung)"},"Text",null,{"$f":"Hilfstabelle!$P$8","v":"Verbindlich gemäss Anlagenartenkatalog"}]
[null,null,{"$f":"'Anlagenartenkatalog UZH'!$B$54","v":"Mittelspannungsanlagen 16/22 kV (Trafostationen)"},{"$f":"'Anlagenartenkatalog UZH'!$D$55","v":"Transformator"},{"$f":"Hilfstabelle!$O$6","v":"Artikelgruppe"},"Text",{"$f":"'Anlagenartenkatalog UZH'!$A$54","v":"02.04.10"}]
[null,null,{"$f":"'Anlagenartenkatalog UZH'!$B$54","v":"Mittelspannungsanlagen 16/22 kV (Trafostationen)"},{"$f":"'Anlagenartenkatalog UZH'!$D$55","v":"Transformator"},{"$f":"Hilfstabelle!$O$7","v":"Hauptanlage"},"Text"]
[null,null,{"$f":"'Anlagenartenkatalog UZH'!$B$54","v":"Mittelspannungsanlagen 16/22 kV (Trafostationen)"},{"$f":"'Anlagenartenkatalog UZH'!$D$55","v":"Transformator"},{"$f":"Hilfstabelle!$O$8","v":"Objekt"},"Text","SOD "]
[null,null,{"$f":"'Anlagenartenkatalog UZH'!$B$54","v":"Mittelspannungsanlagen 16/22 kV (Trafostationen)"},{"$f":"'Anlagenartenkatalog UZH'!$D$55","v":"Transformator"},{"$f":"Hilfstabelle!$O$9","v":"Raumkennzeichen"},"Text","E-08"]
[null,null,{"$f":"'Anlagenartenkatalog UZH'!$B$54","v":"Mittelspannungsanlagen 16/22 kV (Trafostationen)"},{"$f":"'Anlagenartenkatalog UZH'!$D$55","v":"Transformator"},{"$f":"Hilfstabelle!$O$10","v":"Hersteller / Marke"},"Text","F. Borner AG"]
[null,null,{"$f":"'Anlagenartenkatalog UZH'!$B$54","v":"Mittelspannungsanlagen 16/22 kV (Trafostationen)"},{"$f":"'Anlagenartenkatalog UZH'!$D$55","v":"Transformator"},{"$f":"Hilfstabelle!$O$11","v":"Modell / Artikel"},"Text","3-Phasen Transformator"]
[null,null,{"$f":"'Anlagenartenkatalog UZH'!$B$54","v":"Mittelspannungsanlagen 16/22 kV (Trafostationen)"},{"$f":"'Anlagenartenkatalog UZH'!$D$55","v":"Transformator"},{"$f":"Hilfstabelle!$O$12","v":"Seriennummer"},"Text","875098"]
[null,null,{"$f":"'Anlagenartenkatalog UZH'!$B$54","v":"Mittelspannungsanlagen 16/22 kV (Trafostationen)"},{"$f":"'Anlagenartenkatalog UZH'!$D$55","v":"Transformator"},{"$f":"Hilfstabelle!$O$13","v":"Servicefirma"},"Text","F. Borner AG",{"$f":"Hilfstabelle!$P$10","v":"Gemäss Offerte in Submission"}]
[null,null,{"$f":"'Anlagenartenkatalog UZH'!$B$54","v":"Mittelspannungsanlagen 16/22 kV (Trafostationen)"},{"$f":"'Anlagenartenkatalog UZH'!$D$55","v":"Transformator"},{"$f":"Hilfstabelle!$O$14","v":"Inbetriebnahmedatum"},"Text","06.06.2030"]
[null,null,{"$f":"'Anlagenartenkatalog UZH'!$B$54","v":"Mittelspannungsanlagen 16/22 kV (Trafostationen)"},{"$f":"'Anlagenartenkatalog UZH'!$D$55","v":"Transformator"},{"$f":"Hilfstabelle!$O$15","v":"Garantieende"},"Text","06.06.2035"]
[null,null,{"$f":"'Anlagenartenkatalog UZH'!$B$54","v":"Mittelspannungsanlagen 16/22 kV (Trafostationen)"},{"$f":"'Anlagenartenkatalog UZH'!$D$55","v":"Transformator"},{"$f":"Hilfstabelle!$O$16","v":"Erwartetes technisches Enddatum"},"Text","06.06.2045"]
[null,null,{"$f":"'Anlagenartenkatalog UZH'!$B$54","v":"Mittelspannungsanlagen 16/22 kV (Trafostationen)"},{"$f":"'Anlagenartenkatalog UZH'!$D$55","v":"Transformator"},"Anmerkung: Leistung in [kVA]","Text","Leistung: 1.2 kVA"]
[null,null,{"$f":"'Anlagenartenkatalog UZH'!$B$54","v":"Mittelspannungsanlagen 16/22 kV (Trafostationen)"},{"$f":"'Anlagenartenkatalog UZH'!$D$55","v":"Transformator"},{"$f":"Hilfstabelle!$O$17","v":"Anmerkung: Anzahl Wartungen pro Jahr"},"Text","Anzahl Wartungen pro Jahr: 5"]
[null,null,{"$f":"'Anlagenartenkatalog UZH'!$B$54","v":"Mittelspannungsanlagen 16/22 kV (Trafostationen)"},{"$f":"'Anlagenartenkatalog UZH'!$D$54","v":"Mittelspannungsanlage"},{"$f":"Hilfstabelle!$O$3","v":"Code (MSRL-Code)"},"Text","SOD-§1234567891"]
[null,null,{"$f":"'Anlagenartenkatalog UZH'!$B$54","v":"Mittelspannungsanlagen 16/22 kV (Trafostationen)"},{"$f":"'Anlagenartenkatalog UZH'!$D$54","v":"Mittelspannungsanlage"},{"$f":"Hilfstabelle!$O$4","v":"Bezeichnung"},"Text","Mittelspannungsanlage",{"$f":"Hilfstabelle!$P$7","v":"Die Bezeichnung einer Anlage muss eindeutig sein, sofern mehrere Anlagen im gleichen Raum sind. "}]
[null,null,{"$f":"'Anlagenartenkatalog UZH'!$B$54","v":"Mittelspannungsanlagen 16/22 kV (Trafostationen)"},{"$f":"'Anlagenartenkatalog UZH'!$D$54","v":"Mittelspannungsanlage"},{"$f":"Hilfstabelle!$O$5","v":"Anlagentyp (Beschreibung)"},"Text",null,{"$f":"Hilfstabelle!$P$8","v":"Verbindlich gemäss Anlagenartenkatalog"}]
[null,null,{"$f":"'Anlagenartenkatalog UZH'!$B$54","v":"Mittelspannungsanlagen 16/22 kV (Trafostationen)"},{"$f":"'Anlagenartenkatalog UZH'!$D$54","v":"Mittelspannungsanlage"},{"$f":"Hilfstabelle!$O$6","v":"Artikelgruppe"},"Text",{"$f":"'Anlagenartenkatalog UZH'!$A$54","v":"02.04.10"}]
[null,null,{"$f":"'Anlagenartenkatalog UZH'!$B$54","v":"Mittelspannungsanlagen 16/22 kV (Trafostationen)"},{"$f":"'Anlagenartenkatalog UZH'!$D$54","v":"Mittelspannungsanlage"},{"$f":"Hilfstabelle!$O$7","v":"Hauptanlage"},"Text"]
[null,null,{"$f":"'Anlagenartenkatalog UZH'!$B$54","v":"Mittelspannungsanlagen 16/22 kV (Trafostationen)"},{"$f":"'Anlagenartenkatalog UZH'!$D$54","v":"Mittelspannungsanlage"},{"$f":"Hilfstabelle!$O$8","v":"Objekt"},"Text","SOD "]
[null,null,{"$f":"'Anlagenartenkatalog UZH'!$B$54","v":"Mittelspannungsanlagen 16/22 kV (Trafostationen)"},{"$f":"'Anlagenartenkatalog UZH'!$D$54","v":"Mittelspannungsanlage"},{"$f":"Hilfstabelle!$O$9","v":"Raumkennzeichen"},"Text","D-08"]
[null,null,{"$f":"'Anlagenartenkatalog UZH'!$B$54","v":"Mittelspannungsanlagen 16/22 kV (Trafostationen)"},{"$f":"'Anlagenartenkatalog UZH'!$D$54","v":"Mittelspannungsanlage"},{"$f":"Hilfstabelle!$O$10","v":"Hersteller / Marke"},"Text","ABB Power Protection SA"]
[null,null,{"$f":"'Anlagenartenkatalog UZH'!$B$54","v":"Mittelspannungsanlagen 16/22 kV (Trafostationen)"},{"$f":"'Anlagenartenkatalog UZH'!$D$54","v":"Mittelspannungsanlage"},{"$f":"Hilfstabelle!$O$11","v":"Modell / Artikel"},"Text","-"]
[null,null,{"$f":"'Anlagenartenkatalog UZH'!$B$54","v":"Mittelspannungsanlagen 16/22 kV (Trafostationen)"},{"$f":"'Anlagenartenkatalog UZH'!$D$54","v":"Mittelspannungsanlage"},{"$f":"Hilfstabelle!$O$12","v":"Seriennummer"},"Text","-"]
[null,null,{"$f":"'Anlagenartenkatalog UZH'!$B$54","v":"Mittelspannungsanlagen 16/22 kV (Trafostationen)"},{"$f":"'Anlagenartenkatalog UZH'!$D$54","v":"Mittelspannungsanlage"},{"$f":"Hilfstabelle!$O$13","v":"Servicefirma"},"Text","ABB Power Protection SA",{"$f":"Hilfstabelle!$P$10","v":"Gemäss Offerte in Submission"}]
[null,null,{"$f":"'Anlagenartenkatalog UZH'!$B$54","v":"Mittelspannungsanlagen 16/22 kV (Trafostationen)"},{"$f":"'Anlagenartenkatalog UZH'!$D$54","v":"Mittelspannungsanlage"},{"$f":"Hilfstabelle!$O$14","v":"Inbetriebnahmedatum"},"Text","06.06.2030"]
[null,null,{"$f":"'Anlagenartenkatalog UZH'!$B$54","v":"Mittelspannungsanlagen 16/22 kV (Trafostationen)"},{"$f":"'Anlagenartenkatalog UZH'!$D$54","v":"Mittelspannungsanlage"},{"$f":"Hilfstabelle!$O$15","v":"Garantieende"},"Text","06.06.2035"]
[null,null,{"$f":"'Anlagenartenkatalog UZH'!$B$54","v":"Mittelspannungsanlagen 16/22 kV (Trafostationen)"},{"$f":"'Anlagenartenkatalog UZH'!$D$54","v":"Mittelspannungsanlage"},{"$f":"Hilfstabelle!$O$16","v":"Erwartetes technisches Enddatum"},"Text","06.06.2045"]
[null,null,{"$f":"'Anlagenartenkatalog UZH'!$B$85","v":"Not- und Augenduschen"},{"$f":"'Anlagenartenkatalog UZH'!$D$85","v":"Notdusche"},{"$f":"Hilfstabelle!$O$3","v":"Code (MSRL-Code)"},"Text","GLM-US12-S005"]
[null,null,{"$f":"'Anlagenartenkatalog UZH'!$B$85","v":"Not- und Augenduschen"},{"$f":"'Anlagenartenkatalog UZH'!$D$85","v":"Notdusche"},{"$f":"Hilfstabelle!$O$4","v":"Bezeichnung"},"Text","Notdusche BL3",{"$f":"Hilfstabelle!$P$7","v":"Die Bezeichnung einer Anlage muss eindeutig sein, sofern mehrere Anlagen im gleichen Raum sind. "}]
[null,null,{"$f":"'Anlagenartenkatalog UZH'!$B$85","v":"Not- und Augenduschen"},{"$f":"'Anlagenartenkatalog UZH'!$D$85","v":"Notdusche"},{"$f":"Hilfstabelle!$O$5","v":"Anlagentyp (Beschreibung)"},"Text",null,{"$f":"Hilfstabelle!$P$8","v":"Verbindlich gemäss Anlagenartenkatalog"}]
[null,null,{"$f":"'Anlagenartenkatalog UZH'!$B$85","v":"Not- und Augenduschen"},{"$f":"'Anlagenartenkatalog UZH'!$D$85","v":"Notdusche"},{"$f":"Hilfstabelle!$O$6","v":"Artikelgruppe"},"Text",{"$f":"'Anlagenartenkatalog UZH'!$A$85","v":"02.05.10"}]
[null,null,{"$f":"'Anlagenartenkatalog UZH'!$B$85","v":"Not- und Augenduschen"},{"$f":"'Anlagenartenkatalog UZH'!$D$85","v":"Notdusche"},{"$f":"Hilfstabelle!$O$7","v":"Hauptanlage"},"Text"]
[null,null,{"$f":"'Anlagenartenkatalog UZH'!$B$85","v":"Not- und Augenduschen"},{"$f":"'Anlagenartenkatalog UZH'!$D$85","v":"Notdusche"},{"$f":"Hilfstabelle!$O$8","v":"Objekt"},"Text","GLM "]
[null,null,{"$f":"'Anlagenartenkatalog UZH'!$B$85","v":"Not- und Augenduschen"},{"$f":"'Anlagenartenkatalog UZH'!$D$85","v":"Notdusche"},{"$f":"Hilfstabelle!$O$9","v":"Raumkennzeichen"},"Text","G-402"]
[null,null,{"$f":"'Anlagenartenkatalog UZH'!$B$85","v":"Not- und Augenduschen"},{"$f":"'Anlagenartenkatalog UZH'!$D$85","v":"Notdusche"},{"$f":"Hilfstabelle!$O$10","v":"Hersteller / Marke"},"Text","Haws AG"]
[null,null,{"$f":"'Anlagenartenkatalog UZH'!$B$85","v":"Not- und Augenduschen"},{"$f":"'Anlagenartenkatalog UZH'!$D$85","v":"Notdusche"},{"$f":"Hilfstabelle!$O$11","v":"Modell / Artikel"},"Text","8122 AXION"]
[null,null,{"$f":"'Anlagenartenkatalog UZH'!$B$85","v":"Not- und Augenduschen"},{"$f":"'Anlagenartenkatalog UZH'!$D$85","v":"Notdusche"},{"$f":"Hilfstabelle!$O$12","v":"Seriennummer"},"Text","351538345"]
[null,null,{"$f":"'Anlagenartenkatalog UZH'!$B$85","v":"Not- und Augenduschen"},{"$f":"'Anlagenartenkatalog UZH'!$D$85","v":"Notdusche"},{"$f":"Hilfstabelle!$O$13","v":"Servicefirma"},"Text","Haws AG",{"$f":"Hilfstabelle!$P$10","v":"Gemäss Offerte in Submission"}]
[null,null,{"$f":"'Anlagenartenkatalog UZH'!$B$85","v":"Not- und Augenduschen"},{"$f":"'Anlagenartenkatalog UZH'!$D$85","v":"Notdusche"},{"$f":"Hilfstabelle!$O$14","v":"Inbetriebnahmedatum"},"Text","06.06.2030"]
[null,null,{"$f":"'Anlagenartenkatalog UZH'!$B$85","v":"Not- und Augenduschen"},{"$f":"'Anlagenartenkatalog UZH'!$D$85","v":"Notdusche"},{"$f":"Hilfstabelle!$O$15","v":"Garantieende"},"Text","06.06.2035"]
[null,null,{"$f":"'Anlagenartenkatalog UZH'!$B$85","v":"Not- und Augenduschen"},{"$f":"'Anlagenartenkatalog UZH'!$D$85","v":"Notdusche"},{"$f":"Hilfstabelle!$O$16","v":"Erwartetes technisches Enddatum"},"Text","06.06.2045"]
[null,null,"Not- und Augenduschen","Notdusche","Anmerkung: Genaue Standortbeschreibung","Text","Genaue Standortbeschreibung: bei Raum G-401"]
[null,null,{"$f":"'Anlagenartenkatalog UZH'!$B$85","v":"Not- und Augenduschen"},{"$f":"'Anlagenartenkatalog UZH'!$D$85","v":"Notdusche"},{"$f":"Hilfstabelle!$O$17","v":"Anmerkung: Anzahl Wartungen pro Jahr"},"Text","Anzahl Wartungen pro Jahr: 1"]
[null,null,{"$f":"'Anlagenartenkatalog UZH'!$B$85","v":"Not- und Augenduschen"},{"$f":"'Anlagenartenkatalog UZH'!$D$86","v":"Augendusche"},{"$f":"Hilfstabelle!$O$3","v":"Code (MSRL-Code)"},"Text","BOT-§1654205004"]
[null,null,{"$f":"'Anlagenartenkatalog UZH'!$B$85","v":"Not- und Augenduschen"},{"$f":"'Anlagenartenkatalog UZH'!$D$86","v":"Augendusche"},{"$f":"Hilfstabelle!$O$4","v":"Bezeichnung"},"Text","Augendusche P1-14",{"$f":"Hilfstabelle!$P$7","v":"Die Bezeichnung einer Anlage muss eindeutig sein, sofern mehrere Anlagen im gleichen Raum sind. "}]
[null,null,{"$f":"'Anlagenartenkatalog UZH'!$B$85","v":"Not- und Augenduschen"},{"$f":"'Anlagenartenkatalog UZH'!$D$86","v":"Augendusche"},{"$f":"Hilfstabelle!$O$5","v":"Anlagentyp (Beschreibung)"},"Text",null,{"$f":"Hilfstabelle!$P$8","v":"Verbindlich gemäss Anlagenartenkatalog"}]
[null,null,{"$f":"'Anlagenartenkatalog UZH'!$B$85","v":"Not- und Augenduschen"},{"$f":"'Anlagenartenkatalog UZH'!$D$86","v":"Augendusche"},{"$f":"Hilfstabelle!$O$6","v":"Artikelgruppe"},"Text",{"$f":"'Anlagenartenkatalog UZH'!$A$85","v":"02.05.10"}]
[null,null,{"$f":"'Anlagenartenkatalog UZH'!$B$85","v":"Not- und Augenduschen"},{"$f":"'Anlagenartenkatalog UZH'!$D$86","v":"Augendusche"},{"$f":"Hilfstabelle!$O$7","v":"Hauptanlage"},"Text"]
[null,null,{"$f":"'Anlagenartenkatalog UZH'!$B$85","v":"Not- und Augenduschen"},{"$f":"'Anlagenartenkatalog UZH'!$D$86","v":"Augendusche"},{"$f":"Hilfstabelle!$O$8","v":"Objekt"},"Text","BOT "]
[null,null,{"$f":"'Anlagenartenkatalog UZH'!$B$85","v":"Not- und Augenduschen"},{"$f":"'Anlagenartenkatalog UZH'!$D$86","v":"Augendusche"},{"$f":"Hilfstabelle!$O$9","v":"Raumkennzeichen"},"Text","P1-14"]
[null,null,{"$f":"'Anlagenartenkatalog UZH'!$B$85","v":"Not- und Augenduschen"},{"$f":"'Anlagenartenkatalog UZH'!$D$86","v":"Augendusche"},{"$f":"Hilfstabelle!$O$10","v":"Hersteller / Marke"},"Text","Haws AG"]
[null,null,{"$f":"'Anlagenartenkatalog UZH'!$B$85","v":"Not- und Augenduschen"},{"$f":"'Anlagenartenkatalog UZH'!$D$86","v":"Augendusche"},{"$f":"Hilfstabelle!$O$11","v":"Modell / Artikel"},"Text","7260B AXION"]
[null,null,{"$f":"'Anlagenartenkatalog UZH'!$B$85","v":"Not- und Augenduschen"},{"$f":"'Anlagenartenkatalog UZH'!$D$86","v":"Augendusche"},{"$f":"Hilfstabelle!$O$12","v":"Seriennummer"},"Text","35412"]
[null,null,{"$f":"'Anlagenartenkatalog UZH'!$B$85","v":"Not- und Augenduschen"},{"$f":"'Anlagenartenkatalog UZH'!$D$86","v":"Augendusche"},{"$f":"Hilfstabelle!$O$13","v":"Servicefirma"},"Text","Haws AG",{"$f":"Hilfstabelle!$P$10","v":"Gemäss Offerte in Submission"}]
[null,null,{"$f":"'Anlagenartenkatalog UZH'!$B$85","v":"Not- und Augenduschen"},{"$f":"'Anlagenartenkatalog UZH'!$D$86","v":"Augendusche"},{"$f":"Hilfstabelle!$O$14","v":"Inbetriebnahmedatum"},"Text","06.06.2030"]
[null,null,{"$f":"'Anlagenartenkatalog UZH'!$B$85","v":"Not- und Augenduschen"},{"$f":"'Anlagenartenkatalog UZH'!$D$86","v":"Augendusche"},{"$f":"Hilfstabelle!$O$15","v":"Garantieende"},"Text","06.06.2035"]
[null,null,{"$f":"'Anlagenartenkatalog UZH'!$B$85","v":"Not- und Augenduschen"},{"$f":"'Anlagenartenkatalog UZH'!$D$86","v":"Augendusche"},{"$f":"Hilfstabelle!$O$16","v":"Erwartetes technisches Enddatum"},"Text","06.06.2045"]
[null,null,{"$f":"'Anlagenartenkatalog UZH'!$B$85","v":"Not- und Augenduschen"},{"$f":"'Anlagenartenkatalog UZH'!$D$86","v":"Augendusche"},{"$f":"Hilfstabelle!$O$17","v":"Anmerkung: Anzahl Wartungen pro Jahr"},"Text","Anzahl Wartungen pro Jahr: 1"]
[null,null,{"$f":"'Anlagenartenkatalog UZH'!$B$39","v":"Notbeleuchtung"},{"$f":"'Anlagenartenkatalog UZH'!$D$38","v":"Sicherheitsbeleuchtungsanlage"},{"$f":"Hilfstabelle!$O$3","v":"Code (MSRL-Code)"},"Text","KOL-US01-A007"]
[null,null,{"$f":"'Anlagenartenkatalog UZH'!$B$39","v":"Notbeleuchtung"},{"$f":"'Anlagenartenkatalog UZH'!$D$38","v":"Sicherheitsbeleuchtungsanlage"},{"$f":"Hilfstabelle!$O$4","v":"Bezeichnung"},"Text","Sicherheitsbeleuchtungsanlage 1",{"$f":"Hilfstabelle!$P$7","v":"Die Bezeichnung einer Anlage muss eindeutig sein, sofern mehrere Anlagen im gleichen Raum sind. "}]
[null,null,{"$f":"'Anlagenartenkatalog UZH'!$B$39","v":"Notbeleuchtung"},{"$f":"'Anlagenartenkatalog UZH'!$D$38","v":"Sicherheitsbeleuchtungsanlage"},{"$f":"Hilfstabelle!$O$5","v":"Anlagentyp (Beschreibung)"},"Text",null,{"$f":"Hilfstabelle!$P$8","v":"Verbindlich gemäss Anlagenartenkatalog"}]
[null,null,{"$f":"'Anlagenartenkatalog UZH'!$B$39","v":"Notbeleuchtung"},{"$f":"'Anlagenartenkatalog UZH'!$D$38","v":"Sicherheitsbeleuchtungsanlage"},{"$f":"Hilfstabelle!$O$6","v":"Artikelgruppe"},"Text",{"$f":"'Anlagenartenkatalog UZH'!$A$39","v":"02.03.03"}]
[null,null,{"$f":"'Anlagenartenkatalog UZH'!$B$39","v":"Notbeleuchtung"},{"$f":"'Anlagenartenkatalog UZH'!$D$38","v":"Sicherheitsbeleuchtungsanlage"},{"$f":"Hilfstabelle!$O$7","v":"Hauptanlage"},"Text","Ja"]
[null,null,{"$f":"'Anlagenartenkatalog UZH'!$B$39","v":"Notbeleuchtung"},{"$f":"'Anlagenartenkatalog UZH'!$D$38","v":"Sicherheitsbeleuchtungsanlage"},{"$f":"Hilfstabelle!$O$8","v":"Objekt"},"Text","KOL "]
[null,null,{"$f":"'Anlagenartenkatalog UZH'!$B$39","v":"Notbeleuchtung"},{"$f":"'Anlagenartenkatalog UZH'!$D$38","v":"Sicherheitsbeleuchtungsanlage"},{"$f":"Hilfstabelle!$O$9","v":"Raumkennzeichen"},"Text","E-13"]
[null,null,{"$f":"'Anlagenartenkatalog UZH'!$B$39","v":"Notbeleuchtung"},{"$f":"'Anlagenartenkatalog UZH'!$D$38","v":"Sicherheitsbeleuchtungsanlage"},{"$f":"Hilfstabelle!$O$10","v":"Hersteller / Marke"},"Text","Awag Elektrotechnik AG"]
[null,null,{"$f":"'Anlagenartenkatalog UZH'!$B$39","v":"Notbeleuchtung"},{"$f":"'Anlagenartenkatalog UZH'!$D$38","v":"Sicherheitsbeleuchtungsanlage"},{"$f":"Hilfstabelle!$O$11","v":"Modell / Artikel"},"Text","AS-945-2"]
[null,null,{"$f":"'Anlagenartenkatalog UZH'!$B$39","v":"Notbeleuchtung"},{"$f":"'Anlagenartenkatalog UZH'!$D$38","v":"Sicherheitsbeleuchtungsanlage"},{"$f":"Hilfstabelle!$O$12","v":"Seriennummer"},"Text","276354"]
[null,null,{"$f":"'Anlagenartenkatalog UZH'!$B$39","v":"Notbeleuchtung"},{"$f":"'Anlagenartenkatalog UZH'!$D$38","v":"Sicherheitsbeleuchtungsanlage"},{"$f":"Hilfstabelle!$O$13","v":"Servicefirma"},"Text","Awag Elektrotechnik AG",{"$f":"Hilfstabelle!$P$10","v":"Gemäss Offerte in Submission"}]
[null,null,{"$f":"'Anlagenartenkatalog UZH'!$B$39","v":"Notbeleuchtung"},{"$f":"'Anlagenartenkatalog UZH'!$D$38","v":"Sicherheitsbeleuchtungsanlage"},{"$f":"Hilfstabelle!$O$14","v":"Inbetriebnahmedatum"},"Text","06.06.2030"]
[null,null,{"$f":"'Anlagenartenkatalog UZH'!$B$39","v":"Notbeleuchtung"},{"$f":"'Anlagenartenkatalog UZH'!$D$38","v":"Sicherheitsbeleuchtungsanlage"},{"$f":"Hilfstabelle!$O$15","v":"Garantieende"},"Text","06.06.2035"]
[null,null,{"$f":"'Anlagenartenkatalog UZH'!$B$39","v":"Notbeleuchtung"},{"$f":"'Anlagenartenkatalog UZH'!$D$38","v":"Sicherheitsbeleuchtungsanlage"},{"$f":"Hilfstabelle!$O$16","v":"Erwartetes technisches Enddatum"},"Text","06.06.2045"]
[null,null,{"$f":"'Anlagenartenkatalog UZH'!$B$39","v":"Notbeleuchtung"},{"$f":"'Anlagenartenkatalog UZH'!$D$38","v":"Sicherheitsbeleuchtungsanlage"},"Anmerkung: Versorgung","Text","Versorgung: Zentralbatteriesystem","Zentralbatteriesysteme sind Einzelbatteriesystemen vorzuziehen"]
[null,null,{"$f":"'Anlagenartenkatalog UZH'!$B$39","v":"Notbeleuchtung"},{"$f":"'Anlagenartenkatalog UZH'!$D$38","v":"Sicherheitsbeleuchtungsanlage"},{"$f":"Hilfstabelle!$O$17","v":"Anmerkung: Anzahl Wartungen pro Jahr"},"Text","Anzahl Wartungen pro Jahr: 1"]
[null,null,{"$f":"'Anlagenartenkatalog UZH'!$B$39","v":"Notbeleuchtung"},{"$f":"'Anlagenartenkatalog UZH'!$D$39","v":"Sicherheitsleuchte"},{"$f":"Hilfstabelle!$O$3","v":"Code (MSRL-Code)"},"Text","KOL-US01-A007-C-934F70-2001","Für die Zuordnung wird der vollständige MSRL-Code benötigt."]
[null,null,{"$f":"'Anlagenartenkatalog UZH'!$B$39","v":"Notbeleuchtung"},{"$f":"'Anlagenartenkatalog UZH'!$D$39","v":"Sicherheitsleuchte"},{"$f":"Hilfstabelle!$O$4","v":"Bezeichnung"},"Text","Sicherheitsleuchte E-18",{"$f":"Hilfstabelle!$P$7","v":"Die Bezeichnung einer Anlage muss eindeutig sein, sofern mehrere Anlagen im gleichen Raum sind. "}]
[null,null,{"$f":"'Anlagenartenkatalog UZH'!$B$39","v":"Notbeleuchtung"},{"$f":"'Anlagenartenkatalog UZH'!$D$39","v":"Sicherheitsleuchte"},{"$f":"Hilfstabelle!$O$5","v":"Anlagentyp (Beschreibung)"},"Text",null,{"$f":"Hilfstabelle!$P$8","v":"Verbindlich gemäss Anlagenartenkatalog"}]
[null,null,{"$f":"'Anlagenartenkatalog UZH'!$B$39","v":"Notbeleuchtung"},{"$f":"'Anlagenartenkatalog UZH'!$D$39","v":"Sicherheitsleuchte"},{"$f":"Hilfstabelle!$O$6","v":"Artikelgruppe"},"Text",{"$f":"'Anlagenartenkatalog UZH'!$A$39","v":"02.03.03"}]
[null,null,{"$f":"'Anlagenartenkatalog UZH'!$B$39","v":"Notbeleuchtung"},{"$f":"'Anlagenartenkatalog UZH'!$D$39","v":"Sicherheitsleuchte"},{"$f":"Hilfstabelle!$O$7","v":"Hauptanlage"},"Text","Ja"]
[null,null,{"$f":"'Anlagenartenkatalog UZH'!$B$39","v":"Notbeleuchtung"},{"$f":"'Anlagenartenkatalog UZH'!$D$39","v":"Sicherheitsleuchte"},{"$f":"Hilfstabelle!$O$8","v":"Objekt"},"Text","KOL "]
[null,null,{"$f":"'Anlagenartenkatalog UZH'!$B$39","v":"Notbeleuchtung"},{"$f":"'Anlagenartenkatalog UZH'!$D$39","v":"Sicherheitsleuchte"},{"$f":"Hilfstabelle!$O$9","v":"Raumkennzeichen"},"Text","E-18"]
[null,null,{"$f":"'Anlagenartenkatalog UZH'!$B$39","v":"Notbeleuchtung"},{"$f":"'Anlagenartenkatalog UZH'!$D$39","v":"Sicherheitsleuchte"},{"$f":"Hilfstabelle!$O$10","v":"Hersteller / Marke"},"Text","Awag Elektrotechnik AG"]
[null,null,{"$f":"'Anlagenartenkatalog UZH'!$B$39","v":"Notbeleuchtung"},{"$f":"'Anlagenartenkatalog UZH'!$D$39","v":"Sicherheitsleuchte"},{"$f":"Hilfstabelle!$O$11","v":"Modell / Artikel"},"Text","AWZAW-W-019-ML"]
[null,null,{"$f":"'Anlagenartenkatalog UZH'!$B$39","v":"Notbeleuchtung"},{"$f":"'Anlagenartenkatalog UZH'!$D$39","v":"Sicherheitsleuchte"},{"$f":"Hilfstabelle!$O$12","v":"Seriennummer"},"Text","2934857"]
[null,null,{"$f":"'Anlagenartenkatalog UZH'!$B$39","v":"Notbeleuchtung"},{"$f":"'Anlagenartenkatalog UZH'!$D$39","v":"Sicherheitsleuchte"},{"$f":"Hilfstabelle!$O$13","v":"Servicefirma"},"Text","Awag Elektrotechnik AG",{"$f":"Hilfstabelle!$P$10","v":"Gemäss Offerte in Submission"}]
[null,null,{"$f":"'Anlagenartenkatalog UZH'!$B$39","v":"Notbeleuchtung"},{"$f":"'Anlagenartenkatalog UZH'!$D$39","v":"Sicherheitsleuchte"},{"$f":"Hilfstabelle!$O$14","v":"Inbetriebnahmedatum"},"Text","06.06.2030"]
[null,null,{"$f":"'Anlagenartenkatalog UZH'!$B$39","v":"Notbeleuchtung"},{"$f":"'Anlagenartenkatalog UZH'!$D$39","v":"Sicherheitsleuchte"},{"$f":"Hilfstabelle!$O$15","v":"Garantieende"},"Text","06.06.2035"]
[null,null,{"$f":"'Anlagenartenkatalog UZH'!$B$39","v":"Notbeleuchtung"},{"$f":"'Anlagenartenkatalog UZH'!$D$39","v":"Sicherheitsleuchte"},{"$f":"Hilfstabelle!$O$16","v":"Erwartetes technisches Enddatum"},"Text","06.06.2045"]
[null,null,{"$f":"'Anlagenartenkatalog UZH'!$B$39","v":"Notbeleuchtung"},{"$f":"'Anlagenartenkatalog UZH'!$D$39","v":"Sicherheitsleuchte"},"Anmerkung: Versorgung","Text","Versorgung: Einzelbatteriesystem","Zentralbatteriesysteme sind Einzelbatteriesystemen vorzuziehen"]
[null,null,{"$f":"'Anlagenartenkatalog UZH'!$B$39","v":"Notbeleuchtung"},{"$f":"'Anlagenartenkatalog UZH'!$D$39","v":"Sicherheitsleuchte"},{"$f":"Hilfstabelle!$O$17","v":"Anmerkung: Anzahl Wartungen pro Jahr"},"Text","Anzahl Wartungen pro Jahr: 2"]
[null,null,{"$f":"'Anlagenartenkatalog UZH'!$B$62","v":"Regenwasser"},{"$f":"'Anlagenartenkatalog UZH'!$D$62","v":"Regenwassernutzungsanlage"},{"$f":"Hilfstabelle!$O$3","v":"Code (MSRL-Code)"},"Text","RAI_D_G251_S001"]
[null,null,{"$f":"'Anlagenartenkatalog UZH'!$B$62","v":"Regenwasser"},{"$f":"'Anlagenartenkatalog UZH'!$D$62","v":"Regenwassernutzungsanlage"},{"$f":"Hilfstabelle!$O$4","v":"Bezeichnung"},"Text","Regenwassernutzungsanlage",{"$f":"Hilfstabelle!$P$7","v":"Die Bezeichnung einer Anlage muss eindeutig sein, sofern mehrere Anlagen im gleichen Raum sind. "}]
[null,null,{"$f":"'Anlagenartenkatalog UZH'!$B$62","v":"Regenwasser"},{"$f":"'Anlagenartenkatalog UZH'!$D$62","v":"Regenwassernutzungsanlage"},{"$f":"Hilfstabelle!$O$5","v":"Anlagentyp (Beschreibung)"},"Text",null,{"$f":"Hilfstabelle!$P$8","v":"Verbindlich gemäss Anlagenartenkatalog"}]
[null,null,{"$f":"'Anlagenartenkatalog UZH'!$B$62","v":"Regenwasser"},{"$f":"'Anlagenartenkatalog UZH'!$D$62","v":"Regenwassernutzungsanlage"},{"$f":"Hilfstabelle!$O$6","v":"Artikelgruppe"},"Text",{"$f":"'Anlagenartenkatalog UZH'!$A$62","v":"02.05.02"}]
[null,null,{"$f":"'Anlagenartenkatalog UZH'!$B$62","v":"Regenwasser"},{"$f":"'Anlagenartenkatalog UZH'!$D$62","v":"Regenwassernutzungsanlage"},{"$f":"Hilfstabelle!$O$7","v":"Hauptanlage"},"Text"]
[null,null,{"$f":"'Anlagenartenkatalog UZH'!$B$62","v":"Regenwasser"},{"$f":"'Anlagenartenkatalog UZH'!$D$62","v":"Regenwassernutzungsanlage"},{"$f":"Hilfstabelle!$O$8","v":"Objekt"},"Text","RAI "]
[null,null,{"$f":"'Anlagenartenkatalog UZH'!$B$62","v":"Regenwasser"},{"$f":"'Anlagenartenkatalog UZH'!$D$62","v":"Regenwassernutzungsanlage"},{"$f":"Hilfstabelle!$O$9","v":"Raumkennzeichen"},"Text","D-006"]
[null,null,{"$f":"'Anlagenartenkatalog UZH'!$B$62","v":"Regenwasser"},{"$f":"'Anlagenartenkatalog UZH'!$D$62","v":"Regenwassernutzungsanlage"},{"$f":"Hilfstabelle!$O$10","v":"Hersteller / Marke"},"Text","Herzig GmbH"]
[null,null,{"$f":"'Anlagenartenkatalog UZH'!$B$62","v":"Regenwasser"},{"$f":"'Anlagenartenkatalog UZH'!$D$62","v":"Regenwassernutzungsanlage"},{"$f":"Hilfstabelle!$O$11","v":"Modell / Artikel"},"Text","-"]
[null,null,{"$f":"'Anlagenartenkatalog UZH'!$B$62","v":"Regenwasser"},{"$f":"'Anlagenartenkatalog UZH'!$D$62","v":"Regenwassernutzungsanlage"},{"$f":"Hilfstabelle!$O$12","v":"Seriennummer"},"Text","-"]
[null,null,{"$f":"'Anlagenartenkatalog UZH'!$B$62","v":"Regenwasser"},{"$f":"'Anlagenartenkatalog UZH'!$D$62","v":"Regenwassernutzungsanlage"},{"$f":"Hilfstabelle!$O$13","v":"Servicefirma"},"Text","Herzig GmbH",{"$f":"Hilfstabelle!$P$10","v":"Gemäss Offerte in Submission"}]
[null,null,{"$f":"'Anlagenartenkatalog UZH'!$B$62","v":"Regenwasser"},{"$f":"'Anlagenartenkatalog UZH'!$D$62","v":"Regenwassernutzungsanlage"},{"$f":"Hilfstabelle!$O$14","v":"Inbetriebnahmedatum"},"Text","06.06.2030"]
[null,null,{"$f":"'Anlagenartenkatalog UZH'!$B$62","v":"Regenwasser"},{"$f":"'Anlagenartenkatalog UZH'!$D$62","v":"Regenwassernutzungsanlage"},{"$f":"Hilfstabelle!$O$15","v":"Garantieende"},"Text","06.06.2035"]
[null,null,{"$f":"'Anlagenartenkatalog UZH'!$B$62","v":"Regenwasser"},{"$f":"'Anlagenartenkatalog UZH'!$D$62","v":"Regenwassernutzungsanlage"},{"$f":"Hilfstabelle!$O$16","v":"Erwartetes technisches Enddatum"},"Text","06.06.2045"]
[null,null,{"$f":"'Anlagenartenkatalog UZH'!$B$62","v":"Regenwasser"},{"$f":"'Anlagenartenkatalog UZH'!$D$62","v":"Regenwassernutzungsanlage"},"Anmerkung: Speicherkapazität in [m3]","Text","Speicherkapazität: 75 m3"]
[null,null,{"$f":"'Anlagenartenkatalog UZH'!$B$62","v":"Regenwasser"},{"$f":"'Anlagenartenkatalog UZH'!$D$62","v":"Regenwassernutzungsanlage"},"Anmerkung: Fassung","Text","Fassung: Dach"]
[null,null,{"$f":"'Anlagenartenkatalog UZH'!$B$62","v":"Regenwasser"},{"$f":"'Anlagenartenkatalog UZH'!$D$62","v":"Regenwassernutzungsanlage"},"Anmerkung: Verteilung","Text","Verteilung: Toilettenspülungen Geschosse E und D"]
[null,null,{"$f":"'Anlagenartenkatalog UZH'!$B$62","v":"Regenwasser"},{"$f":"'Anlagenartenkatalog UZH'!$D$62","v":"Regenwassernutzungsanlage"},"Anmerkung: Anzahl Wartungen pro Jahr Nachfilter","Text","Anzahl Wartungen pro Jahr Nachfilter: 1","Falls kein Nachfilter vorhanden: \"nicht vorhanden\""]
[null,null,{"$f":"'Anlagenartenkatalog UZH'!$B$62","v":"Regenwasser"},{"$f":"'Anlagenartenkatalog UZH'!$D$62","v":"Regenwassernutzungsanlage"},"Anmerkung: Anzahl Wartungen pro Jahr Tankreinigung","Text","Anzahl Wartungen pro Jahr Tankreinigung: 1"]
[null,null,{"$f":"'Anlagenartenkatalog UZH'!$B$62","v":"Regenwasser"},{"$f":"'Anlagenartenkatalog UZH'!$D$62","v":"Regenwassernutzungsanlage"},"Anmerkung: Anzahl Wartungen pro Jahr Schlammbehälter","Text","Anzahl Wartungen pro Jahr Schlammbehälter: 2","Falls kein Schlammbehälter vorhanden: \"nicht vorhanden\""]
[null,null,{"$f":"'Anlagenartenkatalog UZH'!$B$58","v":"Sanitär"},{"$f":"'Anlagenartenkatalog UZH'!$D$61","v":"Trinkwasserbrunnen"},{"$f":"Hilfstabelle!$O$3","v":"Code (MSRL-Code)"},"Text","MEN-§1654199474"]
[null,null,{"$f":"'Anlagenartenkatalog UZH'!$B$58","v":"Sanitär"},{"$f":"'Anlagenartenkatalog UZH'!$D$61","v":"Trinkwasserbrunnen"},{"$f":"Hilfstabelle!$O$4","v":"Bezeichnung"},"Text","Trinkwasserbrunnen",{"$f":"Hilfstabelle!$P$7","v":"Die Bezeichnung einer Anlage muss eindeutig sein, sofern mehrere Anlagen im gleichen Raum sind. "}]
[null,null,{"$f":"'Anlagenartenkatalog UZH'!$B$58","v":"Sanitär"},{"$f":"'Anlagenartenkatalog UZH'!$D$61","v":"Trinkwasserbrunnen"},{"$f":"Hilfstabelle!$O$5","v":"Anlagentyp (Beschreibung)"},"Text",null,"Verbindlich gemäss Anlagenartenkatalog (Gastro: Ausschliesslich zum Trinken)"]
[null,null,{"$f":"'Anlagenartenkatalog UZH'!$B$58","v":"Sanitär"},{"$f":"'Anlagenartenkatalog UZH'!$D$61","v":"Trinkwasserbrunnen"},{"$f":"Hilfstabelle!$O$6","v":"Artikelgruppe"},"Text",{"$f":"'Anlagenartenkatalog UZH'!$A$58","v":"02.05"}]
[null,null,{"$f":"'Anlagenartenkatalog UZH'!$B$58","v":"Sanitär"},{"$f":"'Anlagenartenkatalog UZH'!$D$61","v":"Trinkwasserbrunnen"},{"$f":"Hilfstabelle!$O$7","v":"Hauptanlage"},"Text"]
[null,null,{"$f":"'Anlagenartenkatalog UZH'!$B$58","v":"Sanitär"},{"$f":"'Anlagenartenkatalog UZH'!$D$61","v":"Trinkwasserbrunnen"},{"$f":"Hilfstabelle!$O$8","v":"Objekt"},"Text","MEN "]
[null,null,{"$f":"'Anlagenartenkatalog UZH'!$B$58","v":"Sanitär"},{"$f":"'Anlagenartenkatalog UZH'!$D$61","v":"Trinkwasserbrunnen"},{"$f":"Hilfstabelle!$O$9","v":"Raumkennzeichen"},"Text","A-15"]
[null,null,{"$f":"'Anlagenartenkatalog UZH'!$B$58","v":"Sanitär"},{"$f":"'Anlagenartenkatalog UZH'!$D$61","v":"Trinkwasserbrunnen"},{"$f":"Hilfstabelle!$O$10","v":"Hersteller / Marke"},"Text","KWC Group AG"]
[null,null,{"$f":"'Anlagenartenkatalog UZH'!$B$58","v":"Sanitär"},{"$f":"'Anlagenartenkatalog UZH'!$D$61","v":"Trinkwasserbrunnen"},{"$f":"Hilfstabelle!$O$11","v":"Modell / Artikel"},"Text","IQUA Lino, Doppelarmatur"]
[null,null,{"$f":"'Anlagenartenkatalog UZH'!$B$58","v":"Sanitär"},{"$f":"'Anlagenartenkatalog UZH'!$D$61","v":"Trinkwasserbrunnen"},{"$f":"Hilfstabelle!$O$12","v":"Seriennummer"},"Text","-"]
[null,null,{"$f":"'Anlagenartenkatalog UZH'!$B$58","v":"Sanitär"},{"$f":"'Anlagenartenkatalog UZH'!$D$61","v":"Trinkwasserbrunnen"},{"$f":"Hilfstabelle!$O$13","v":"Servicefirma"},"Text","KWC Group AG",{"$f":"Hilfstabelle!$P$10","v":"Gemäss Offerte in Submission"}]
[null,null,{"$f":"'Anlagenartenkatalog UZH'!$B$58","v":"Sanitär"},{"$f":"'Anlagenartenkatalog UZH'!$D$61","v":"Trinkwasserbrunnen"},{"$f":"Hilfstabelle!$O$14","v":"Inbetriebnahmedatum"},"Text","06.06.2030"]
[null,null,{"$f":"'Anlagenartenkatalog UZH'!$B$58","v":"Sanitär"},{"$f":"'Anlagenartenkatalog UZH'!$D$61","v":"Trinkwasserbrunnen"},{"$f":"Hilfstabelle!$O$15","v":"Garantieende"},"Text","06.06.2035"]
[null,null,{"$f":"'Anlagenartenkatalog UZH'!$B$58","v":"Sanitär"},{"$f":"'Anlagenartenkatalog UZH'!$D$61","v":"Trinkwasserbrunnen"},{"$f":"Hilfstabelle!$O$16","v":"Erwartetes technisches Enddatum"},"Text","06.06.2045"]
[null,null,{"$f":"'Anlagenartenkatalog UZH'!$B$58","v":"Sanitär"},{"$f":"'Anlagenartenkatalog UZH'!$D$61","v":"Trinkwasserbrunnen"},{"$f":"Hilfstabelle!$O$17","v":"Anmerkung: Anzahl Wartungen pro Jahr"},"Text","Anzahl Wartungen pro Jahr: 1"]
[null,null,{"$f":"'Anlagenartenkatalog UZH'!$B$58","v":"Sanitär"},{"$f":"'Anlagenartenkatalog UZH'!$D$60","v":"Teich- / Brunnenanlage"},{"$f":"Hilfstabelle!$O$3","v":"Code (MSRL-Code)"},"Text","KOL-§1654199851"]
[null,null,{"$f":"'Anlagenartenkatalog UZH'!$B$58","v":"Sanitär"},{"$f":"'Anlagenartenkatalog UZH'!$D$60","v":"Teich- / Brunnenanlage"},{"$f":"Hilfstabelle!$O$4","v":"Bezeichnung"},"Text","Brunnenanlage",{"$f":"Hilfstabelle!$P$7","v":"Die Bezeichnung einer Anlage muss eindeutig sein, sofern mehrere Anlagen im gleichen Raum sind. "}]
[null,null,{"$f":"'Anlagenartenkatalog UZH'!$B$58","v":"Sanitär"},{"$f":"'Anlagenartenkatalog UZH'!$D$60","v":"Teich- / Brunnenanlage"},{"$f":"Hilfstabelle!$O$5","v":"Anlagentyp (Beschreibung)"},"Text",null,"Verbindlich gemäss Anlagenkatalog (eher klein, meist mit plätscherndem Wasser)"]
[null,null,{"$f":"'Anlagenartenkatalog UZH'!$B$58","v":"Sanitär"},{"$f":"'Anlagenartenkatalog UZH'!$D$60","v":"Teich- / Brunnenanlage"},{"$f":"Hilfstabelle!$O$6","v":"Artikelgruppe"},"Text",{"$f":"'Anlagenartenkatalog UZH'!$A$58","v":"02.05"}]
[null,null,{"$f":"'Anlagenartenkatalog UZH'!$B$58","v":"Sanitär"},{"$f":"'Anlagenartenkatalog UZH'!$D$60","v":"Teich- / Brunnenanlage"},{"$f":"Hilfstabelle!$O$7","v":"Hauptanlage"},"Text","Ja"]
[null,null,{"$f":"'Anlagenartenkatalog UZH'!$B$58","v":"Sanitär"},{"$f":"'Anlagenartenkatalog UZH'!$D$60","v":"Teich- / Brunnenanlage"},{"$f":"Hilfstabelle!$O$8","v":"Objekt"},"Text","KOL"]
[null,null,{"$f":"'Anlagenartenkatalog UZH'!$B$58","v":"Sanitär"},{"$f":"'Anlagenartenkatalog UZH'!$D$60","v":"Teich- / Brunnenanlage"},{"$f":"Hilfstabelle!$O$9","v":"Raumkennzeichen"},"Text","-"]
[null,null,{"$f":"'Anlagenartenkatalog UZH'!$B$58","v":"Sanitär"},{"$f":"'Anlagenartenkatalog UZH'!$D$60","v":"Teich- / Brunnenanlage"},{"$f":"Hilfstabelle!$O$10","v":"Hersteller / Marke"},"Text","-"]
[null,null,{"$f":"'Anlagenartenkatalog UZH'!$B$58","v":"Sanitär"},{"$f":"'Anlagenartenkatalog UZH'!$D$60","v":"Teich- / Brunnenanlage"},{"$f":"Hilfstabelle!$O$11","v":"Modell / Artikel"},"Text","-"]
[null,null,{"$f":"'Anlagenartenkatalog UZH'!$B$58","v":"Sanitär"},{"$f":"'Anlagenartenkatalog UZH'!$D$60","v":"Teich- / Brunnenanlage"},{"$f":"Hilfstabelle!$O$12","v":"Seriennummer"},"Text","-"]
[null,null,{"$f":"'Anlagenartenkatalog UZH'!$B$58","v":"Sanitär"},{"$f":"'Anlagenartenkatalog UZH'!$D$60","v":"Teich- / Brunnenanlage"},{"$f":"Hilfstabelle!$O$13","v":"Servicefirma"},"Text","-",{"$f":"Hilfstabelle!$P$10","v":"Gemäss Offerte in Submission"}]
[null,null,{"$f":"'Anlagenartenkatalog UZH'!$B$58","v":"Sanitär"},{"$f":"'Anlagenartenkatalog UZH'!$D$60","v":"Teich- / Brunnenanlage"},{"$f":"Hilfstabelle!$O$14","v":"Inbetriebnahmedatum"},"Text","06.06.2030"]
[null,null,{"$f":"'Anlagenartenkatalog UZH'!$B$58","v":"Sanitär"},{"$f":"'Anlagenartenkatalog UZH'!$D$60","v":"Teich- / Brunnenanlage"},{"$f":"Hilfstabelle!$O$15","v":"Garantieende"},"Text","06.06.2035"]
[null,null,{"$f":"'Anlagenartenkatalog UZH'!$B$58","v":"Sanitär"},{"$f":"'Anlagenartenkatalog UZH'!$D$60","v":"Teich- / Brunnenanlage"},{"$f":"Hilfstabelle!$O$16","v":"Erwartetes technisches Enddatum"},"Text","06.06.2045"]
[null,null,{"$f":"'Anlagenartenkatalog UZH'!$B$58","v":"Sanitär"},{"$f":"'Anlagenartenkatalog UZH'!$D$60","v":"Teich- / Brunnenanlage"},"Anmerkung: Objekt oder Parzelle","Text","Objekt",{"$f":"Hilfstabelle!$P$3","v":"Kann nicht durch den Planer angegeben werden."}]
[null,null,{"$f":"'Anlagenartenkatalog UZH'!$B$58","v":"Sanitär"},{"$f":"'Anlagenartenkatalog UZH'!$D$60","v":"Teich- / Brunnenanlage"},"Anmerkung: Genaue Standortbeschreibung","Text","Genaue Standortbeschreibung: Wandbrunnen Rondell rechts"]
[null,null,{"$f":"'Anlagenartenkatalog UZH'!$B$58","v":"Sanitär"},{"$f":"'Anlagenartenkatalog UZH'!$D$60","v":"Teich- / Brunnenanlage"},"Anmerkung: Frostsicher ","Text","Forstsicher: Nein"]
[null,null,{"$f":"'Anlagenartenkatalog UZH'!$B$58","v":"Sanitär"},{"$f":"'Anlagenartenkatalog UZH'!$D$60","v":"Teich- / Brunnenanlage"},"Anmerkung: Aussenventil","Text","Aussenventil: Regulierung in Zwisschendecke (Eingang b. Ecke Enthärtungs Anlage Rondell küche"]
[null,null,{"$f":"'Anlagenartenkatalog UZH'!$B$58","v":"Sanitär"},{"$f":"'Anlagenartenkatalog UZH'!$D$60","v":"Teich- / Brunnenanlage"},"Anmerkung: Abstellventil","Text","Abstellventil: Saniträverteilung beim Grauwassertank 2. UG Raum D 30"]
[null,null,{"$f":"'Anlagenartenkatalog UZH'!$B$58","v":"Sanitär"},{"$f":"'Anlagenartenkatalog UZH'!$D$60","v":"Teich- / Brunnenanlage"},"Anmerkung: Entleerung","Text","Entleerung: über Brunnenrohr zu Grauwassertank"]
[null,null,{"$f":"'Anlagenartenkatalog UZH'!$B$58","v":"Sanitär"},{"$f":"'Anlagenartenkatalog UZH'!$D$60","v":"Teich- / Brunnenanlage"},"Anmerkung: Zuständigkeit","Text","Zuständigkeit: UZH",{"$f":"Hilfstabelle!$P$3","v":"Kann nicht durch den Planer angegeben werden."}]
[null,null,{"$f":"'Anlagenartenkatalog UZH'!$B$58","v":"Sanitär"},{"$f":"'Anlagenartenkatalog UZH'!$D$60","v":"Teich- / Brunnenanlage"},{"$f":"Hilfstabelle!$O$17","v":"Anmerkung: Anzahl Wartungen pro Jahr"},"Text","Anzahl Wartungen pro Jahr: 1"]
[null,null,{"$f":"'Anlagenartenkatalog UZH'!$B$58","v":"Sanitär"},{"$f":"'Anlagenartenkatalog UZH'!$D$59","v":"Druckerhöhungsanlage"},{"$f":"Hilfstabelle!$O$3","v":"Code (MSRL-Code)"},"Text","GLM-US11-S008"]
[null,null,{"$f":"'Anlagenartenkatalog UZH'!$B$58","v":"Sanitär"},{"$f":"'Anlagenartenkatalog UZH'!$D$59","v":"Druckerhöhungsanlage"},{"$f":"Hilfstabelle!$O$4","v":"Bezeichnung"},"Text","Druckerhöhungsanlage",{"$f":"Hilfstabelle!$P$7","v":"Die Bezeichnung einer Anlage muss eindeutig sein, sofern mehrere Anlagen im gleichen Raum sind. "}]
[null,null,{"$f":"'Anlagenartenkatalog UZH'!$B$58","v":"Sanitär"},{"$f":"'Anlagenartenkatalog UZH'!$D$59","v":"Druckerhöhungsanlage"},{"$f":"Hilfstabelle!$O$5","v":"Anlagentyp (Beschreibung)"},"Text",null,{"$f":"Hilfstabelle!$P$8","v":"Verbindlich gemäss Anlagenartenkatalog"}]
[null,null,{"$f":"'Anlagenartenkatalog UZH'!$B$58","v":"Sanitär"},{"$f":"'Anlagenartenkatalog UZH'!$D$59","v":"Druckerhöhungsanlage"},{"$f":"Hilfstabelle!$O$6","v":"Artikelgruppe"},"Text",{"$f":"'Anlagenartenkatalog UZH'!$A$58","v":"02.05"}]
[null,null,{"$f":"'Anlagenartenkatalog UZH'!$B$58","v":"Sanitär"},{"$f":"'Anlagenartenkatalog UZH'!$D$59","v":"Druckerhöhungsanlage"},{"$f":"Hilfstabelle!$O$7","v":"Hauptanlage"},"Text","Unteranlage"]
[null,null,{"$f":"'Anlagenartenkatalog UZH'!$B$58","v":"Sanitär"},{"$f":"'Anlagenartenkatalog UZH'!$D$59","v":"Druckerhöhungsanlage"},{"$f":"Hilfstabelle!$O$8","v":"Objekt"},"Text","GLM "]
[null,null,{"$f":"'Anlagenartenkatalog UZH'!$B$58","v":"Sanitär"},{"$f":"'Anlagenartenkatalog UZH'!$D$59","v":"Druckerhöhungsanlage"},{"$f":"Hilfstabelle!$O$9","v":"Raumkennzeichen"},"Text","D-04A"]
[null,null,{"$f":"'Anlagenartenkatalog UZH'!$B$58","v":"Sanitär"},{"$f":"'Anlagenartenkatalog UZH'!$D$59","v":"Druckerhöhungsanlage"},{"$f":"Hilfstabelle!$O$10","v":"Hersteller / Marke"},"Text","Biral AG"]
[null,null,{"$f":"'Anlagenartenkatalog UZH'!$B$58","v":"Sanitär"},{"$f":"'Anlagenartenkatalog UZH'!$D$59","v":"Druckerhöhungsanlage"},{"$f":"Hilfstabelle!$O$11","v":"Modell / Artikel"},"Text","ComBo easy"]
[null,null,{"$f":"'Anlagenartenkatalog UZH'!$B$58","v":"Sanitär"},{"$f":"'Anlagenartenkatalog UZH'!$D$59","v":"Druckerhöhungsanlage"},{"$f":"Hilfstabelle!$O$12","v":"Seriennummer"},"Text","978654"]
[null,null,{"$f":"'Anlagenartenkatalog UZH'!$B$58","v":"Sanitär"},{"$f":"'Anlagenartenkatalog UZH'!$D$59","v":"Druckerhöhungsanlage"},{"$f":"Hilfstabelle!$O$13","v":"Servicefirma"},"Text","Biral AG",{"$f":"Hilfstabelle!$P$10","v":"Gemäss Offerte in Submission"}]
[null,null,{"$f":"'Anlagenartenkatalog UZH'!$B$58","v":"Sanitär"},{"$f":"'Anlagenartenkatalog UZH'!$D$59","v":"Druckerhöhungsanlage"},{"$f":"Hilfstabelle!$O$14","v":"Inbetriebnahmedatum"},"Text","06.06.2030"]
[null,null,{"$f":"'Anlagenartenkatalog UZH'!$B$58","v":"Sanitär"},{"$f":"'Anlagenartenkatalog UZH'!$D$59","v":"Druckerhöhungsanlage"},{"$f":"Hilfstabelle!$O$15","v":"Garantieende"},"Text","06.06.2035"]
[null,null,{"$f":"'Anlagenartenkatalog UZH'!$B$58","v":"Sanitär"},{"$f":"'Anlagenartenkatalog UZH'!$D$59","v":"Druckerhöhungsanlage"},{"$f":"Hilfstabelle!$O$16","v":"Erwartetes technisches Enddatum"},"Text","06.06.2045"]
[null,null,{"$f":"'Anlagenartenkatalog UZH'!$B$58","v":"Sanitär"},{"$f":"'Anlagenartenkatalog UZH'!$D$59","v":"Druckerhöhungsanlage"},"Anmerkung: Prüfpflicht ","Text","Prüfpflicht: Nein","Nein oder KIS-PV Nr. (Meldepflichtig gemäss Druckgeräteverwendungsverordnung)"]
[null,null,{"$f":"'Anlagenartenkatalog UZH'!$B$58","v":"Sanitär"},{"$f":"'Anlagenartenkatalog UZH'!$D$59","v":"Druckerhöhungsanlage"},{"$f":"Hilfstabelle!$O$17","v":"Anmerkung: Anzahl Wartungen pro Jahr"},"Text","Anzahl Wartungen pro Jahr: 1"]
[null,null,{"$f":"'Anlagenartenkatalog UZH'!$B$58","v":"Sanitär"},{"$f":"'Anlagenartenkatalog UZH'!$D$58","v":"Wasserbecken"},{"$f":"Hilfstabelle!$O$3","v":"Code (MSRL-Code)"},"Text","KOH-§1234567891"]
[null,null,{"$f":"'Anlagenartenkatalog UZH'!$B$58","v":"Sanitär"},{"$f":"'Anlagenartenkatalog UZH'!$D$58","v":"Wasserbecken"},{"$f":"Hilfstabelle!$O$4","v":"Bezeichnung"},"Text","Wasserbecken",{"$f":"Hilfstabelle!$P$7","v":"Die Bezeichnung einer Anlage muss eindeutig sein, sofern mehrere Anlagen im gleichen Raum sind. "}]
[null,null,{"$f":"'Anlagenartenkatalog UZH'!$B$58","v":"Sanitär"},{"$f":"'Anlagenartenkatalog UZH'!$D$58","v":"Wasserbecken"},{"$f":"Hilfstabelle!$O$5","v":"Anlagentyp (Beschreibung)"},"Text",null,"Beton- / Stahlbecken, grösser, meist kein offensichtlicher Einlauf"]
[null,null,{"$f":"'Anlagenartenkatalog UZH'!$B$58","v":"Sanitär"},{"$f":"'Anlagenartenkatalog UZH'!$D$58","v":"Wasserbecken"},{"$f":"Hilfstabelle!$O$6","v":"Artikelgruppe"},"Text",{"$f":"'Anlagenartenkatalog UZH'!$A$58","v":"02.05"}]
[null,null,{"$f":"'Anlagenartenkatalog UZH'!$B$58","v":"Sanitär"},{"$f":"'Anlagenartenkatalog UZH'!$D$58","v":"Wasserbecken"},{"$f":"Hilfstabelle!$O$7","v":"Hauptanlage"},"Text"]
[null,null,{"$f":"'Anlagenartenkatalog UZH'!$B$58","v":"Sanitär"},{"$f":"'Anlagenartenkatalog UZH'!$D$58","v":"Wasserbecken"},{"$f":"Hilfstabelle!$O$8","v":"Objekt"},"Text","KOH "]
[null,null,{"$f":"'Anlagenartenkatalog UZH'!$B$58","v":"Sanitär"},{"$f":"'Anlagenartenkatalog UZH'!$D$58","v":"Wasserbecken"},{"$f":"Hilfstabelle!$O$9","v":"Raumkennzeichen"},"Text","E-04"]
[null,null,{"$f":"'Anlagenartenkatalog UZH'!$B$58","v":"Sanitär"},{"$f":"'Anlagenartenkatalog UZH'!$D$58","v":"Wasserbecken"},{"$f":"Hilfstabelle!$O$10","v":"Hersteller / Marke"},"Text","-"]
[null,null,{"$f":"'Anlagenartenkatalog UZH'!$B$58","v":"Sanitär"},{"$f":"'Anlagenartenkatalog UZH'!$D$58","v":"Wasserbecken"},{"$f":"Hilfstabelle!$O$11","v":"Modell / Artikel"},"Text","-"]
[null,null,{"$f":"'Anlagenartenkatalog UZH'!$B$58","v":"Sanitär"},{"$f":"'Anlagenartenkatalog UZH'!$D$58","v":"Wasserbecken"},{"$f":"Hilfstabelle!$O$12","v":"Seriennummer"},"Text","-"]
[null,null,{"$f":"'Anlagenartenkatalog UZH'!$B$58","v":"Sanitär"},{"$f":"'Anlagenartenkatalog UZH'!$D$58","v":"Wasserbecken"},{"$f":"Hilfstabelle!$O$13","v":"Servicefirma"},"Text","-",{"$f":"Hilfstabelle!$P$10","v":"Gemäss Offerte in Submission"}]
[null,null,{"$f":"'Anlagenartenkatalog UZH'!$B$58","v":"Sanitär"},{"$f":"'Anlagenartenkatalog UZH'!$D$58","v":"Wasserbecken"},{"$f":"Hilfstabelle!$O$14","v":"Inbetriebnahmedatum"},"Text","06.06.2030"]
[null,null,{"$f":"'Anlagenartenkatalog UZH'!$B$58","v":"Sanitär"},{"$f":"'Anlagenartenkatalog UZH'!$D$58","v":"Wasserbecken"},{"$f":"Hilfstabelle!$O$15","v":"Garantieende"},"Text","06.06.2035"]
[null,null,{"$f":"'Anlagenartenkatalog UZH'!$B$58","v":"Sanitär"},{"$f":"'Anlagenartenkatalog UZH'!$D$58","v":"Wasserbecken"},{"$f":"Hilfstabelle!$O$16","v":"Erwartetes technisches Enddatum"},"Text","06.06.2045"]
[null,null,{"$f":"'Anlagenartenkatalog UZH'!$B$58","v":"Sanitär"},{"$f":"'Anlagenartenkatalog UZH'!$D$58","v":"Wasserbecken"},{"$f":"Hilfstabelle!$O$17","v":"Anmerkung: Anzahl Wartungen pro Jahr"},"Text","Anzahl Wartungen pro Jahr: 1"]
[null,null,{"$f":"'Anlagenartenkatalog UZH'!$B$15","v":"Schliessysteme"},{"$f":"'Anlagenartenkatalog UZH'!$D$15","v":"Schlüsseldepot"},{"$f":"Hilfstabelle!$O$3","v":"Code (MSRL-Code)"},"Text","KOL-§1234567890"]
[null,null,{"$f":"'Anlagenartenkatalog UZH'!$B$15","v":"Schliessysteme"},{"$f":"'Anlagenartenkatalog UZH'!$D$15","v":"Schlüsseldepot"},{"$f":"Hilfstabelle!$O$4","v":"Bezeichnung"},"Text",{"$f":"'Anlagenartenkatalog UZH'!$D$15","v":"Schlüsseldepot"},{"$f":"Hilfstabelle!$P$7","v":"Die Bezeichnung einer Anlage muss eindeutig sein, sofern mehrere Anlagen im gleichen Raum sind. "}]
[null,null,{"$f":"'Anlagenartenkatalog UZH'!$B$15","v":"Schliessysteme"},{"$f":"'Anlagenartenkatalog UZH'!$D$15","v":"Schlüsseldepot"},{"$f":"Hilfstabelle!$O$5","v":"Anlagentyp (Beschreibung)"},"Text",null,{"$f":"Hilfstabelle!$P$8","v":"Verbindlich gemäss Anlagenartenkatalog"}]
[null,null,{"$f":"'Anlagenartenkatalog UZH'!$B$15","v":"Schliessysteme"},{"$f":"'Anlagenartenkatalog UZH'!$D$15","v":"Schlüsseldepot"},{"$f":"Hilfstabelle!$O$6","v":"Artikelgruppe"},"Text","02.00.04"]
[null,null,{"$f":"'Anlagenartenkatalog UZH'!$B$15","v":"Schliessysteme"},{"$f":"'Anlagenartenkatalog UZH'!$D$15","v":"Schlüsseldepot"},{"$f":"Hilfstabelle!$O$7","v":"Hauptanlage"},"Text","Ja"]
[null,null,{"$f":"'Anlagenartenkatalog UZH'!$B$15","v":"Schliessysteme"},{"$f":"'Anlagenartenkatalog UZH'!$D$15","v":"Schlüsseldepot"},{"$f":"Hilfstabelle!$O$8","v":"Objekt"},"Text","KOL"]
[null,null,{"$f":"'Anlagenartenkatalog UZH'!$B$15","v":"Schliessysteme"},{"$f":"'Anlagenartenkatalog UZH'!$D$15","v":"Schlüsseldepot"},{"$f":"Hilfstabelle!$O$9","v":"Raumkennzeichen"},"Text","E-15"]
[null,null,{"$f":"'Anlagenartenkatalog UZH'!$B$15","v":"Schliessysteme"},{"$f":"'Anlagenartenkatalog UZH'!$D$15","v":"Schlüsseldepot"},{"$f":"Hilfstabelle!$O$10","v":"Hersteller / Marke"},"Text","-"]
[null,null,{"$f":"'Anlagenartenkatalog UZH'!$B$15","v":"Schliessysteme"},{"$f":"'Anlagenartenkatalog UZH'!$D$15","v":"Schlüsseldepot"},{"$f":"Hilfstabelle!$O$11","v":"Modell / Artikel"},"Text","-"]
[null,null,{"$f":"'Anlagenartenkatalog UZH'!$B$15","v":"Schliessysteme"},{"$f":"'Anlagenartenkatalog UZH'!$D$15","v":"Schlüsseldepot"},{"$f":"Hilfstabelle!$O$12","v":"Seriennummer"},"Text","-"]
[null,null,{"$f":"'Anlagenartenkatalog UZH'!$B$15","v":"Schliessysteme"},{"$f":"'Anlagenartenkatalog UZH'!$D$15","v":"Schlüsseldepot"},{"$f":"Hilfstabelle!$O$13","v":"Servicefirma"},"Text","-",{"$f":"Hilfstabelle!$P$10","v":"Gemäss Offerte in Submission"}]
[null,null,{"$f":"'Anlagenartenkatalog UZH'!$B$15","v":"Schliessysteme"},{"$f":"'Anlagenartenkatalog UZH'!$D$15","v":"Schlüsseldepot"},{"$f":"Hilfstabelle!$O$14","v":"Inbetriebnahmedatum"},"Text","06.06.2030"]
[null,null,{"$f":"'Anlagenartenkatalog UZH'!$B$15","v":"Schliessysteme"},{"$f":"'Anlagenartenkatalog UZH'!$D$15","v":"Schlüsseldepot"},{"$f":"Hilfstabelle!$O$15","v":"Garantieende"},"Text","06.06.2035"]
[null,null,{"$f":"'Anlagenartenkatalog UZH'!$B$15","v":"Schliessysteme"},{"$f":"'Anlagenartenkatalog UZH'!$D$15","v":"Schlüsseldepot"},{"$f":"Hilfstabelle!$O$16","v":"Erwartetes technisches Enddatum"},"Text","06.06.2045"]
[null,null,{"$f":"'Anlagenartenkatalog UZH'!$B$52","v":"Schwachstrominstallationen"},{"$f":"'Anlagenartenkatalog UZH'!$D$52","v":"Gegensprechanlage"},{"$f":"Hilfstabelle!$O$3","v":"Code (MSRL-Code)"},"Text","MEN-US21-A008"]
[null,null,{"$f":"'Anlagenartenkatalog UZH'!$B$52","v":"Schwachstrominstallationen"},{"$f":"'Anlagenartenkatalog UZH'!$D$52","v":"Gegensprechanlage"},{"$f":"Hilfstabelle!$O$4","v":"Bezeichnung"},"Text","Gegensprechanlage",{"$f":"Hilfstabelle!$P$7","v":"Die Bezeichnung einer Anlage muss eindeutig sein, sofern mehrere Anlagen im gleichen Raum sind. "}]
[null,null,{"$f":"'Anlagenartenkatalog UZH'!$B$52","v":"Schwachstrominstallationen"},{"$f":"'Anlagenartenkatalog UZH'!$D$52","v":"Gegensprechanlage"},{"$f":"Hilfstabelle!$O$5","v":"Anlagentyp (Beschreibung)"},"Text",null,{"$f":"Hilfstabelle!$P$8","v":"Verbindlich gemäss Anlagenartenkatalog"}]
[null,null,{"$f":"'Anlagenartenkatalog UZH'!$B$52","v":"Schwachstrominstallationen"},{"$f":"'Anlagenartenkatalog UZH'!$D$52","v":"Gegensprechanlage"},{"$f":"Hilfstabelle!$O$6","v":"Artikelgruppe"},"Text",{"$f":"'Anlagenartenkatalog UZH'!$A$52","v":"02.04.04 "}]
[null,null,{"$f":"'Anlagenartenkatalog UZH'!$B$52","v":"Schwachstrominstallationen"},{"$f":"'Anlagenartenkatalog UZH'!$D$52","v":"Gegensprechanlage"},{"$f":"Hilfstabelle!$O$7","v":"Hauptanlage"},"Text"]
[null,null,{"$f":"'Anlagenartenkatalog UZH'!$B$52","v":"Schwachstrominstallationen"},{"$f":"'Anlagenartenkatalog UZH'!$D$52","v":"Gegensprechanlage"},{"$f":"Hilfstabelle!$O$8","v":"Objekt"},"Text","MEN "]
[null,null,{"$f":"'Anlagenartenkatalog UZH'!$B$52","v":"Schwachstrominstallationen"},{"$f":"'Anlagenartenkatalog UZH'!$D$52","v":"Gegensprechanlage"},{"$f":"Hilfstabelle!$O$9","v":"Raumkennzeichen"},"Text","E-05"]
[null,null,{"$f":"'Anlagenartenkatalog UZH'!$B$52","v":"Schwachstrominstallationen"},{"$f":"'Anlagenartenkatalog UZH'!$D$52","v":"Gegensprechanlage"},{"$f":"Hilfstabelle!$O$10","v":"Hersteller / Marke"},"Text","René Koch AG"]
[null,null,{"$f":"'Anlagenartenkatalog UZH'!$B$52","v":"Schwachstrominstallationen"},{"$f":"'Anlagenartenkatalog UZH'!$D$52","v":"Gegensprechanlage"},{"$f":"Hilfstabelle!$O$11","v":"Modell / Artikel"},"Text","TC: Bus-System"]
[null,null,{"$f":"'Anlagenartenkatalog UZH'!$B$52","v":"Schwachstrominstallationen"},{"$f":"'Anlagenartenkatalog UZH'!$D$52","v":"Gegensprechanlage"},{"$f":"Hilfstabelle!$O$12","v":"Seriennummer"},"Text","97865365"]
[null,null,{"$f":"'Anlagenartenkatalog UZH'!$B$52","v":"Schwachstrominstallationen"},{"$f":"'Anlagenartenkatalog UZH'!$D$52","v":"Gegensprechanlage"},{"$f":"Hilfstabelle!$O$13","v":"Servicefirma"},"Text","René Koch AG",{"$f":"Hilfstabelle!$P$10","v":"Gemäss Offerte in Submission"}]
[null,null,{"$f":"'Anlagenartenkatalog UZH'!$B$52","v":"Schwachstrominstallationen"},{"$f":"'Anlagenartenkatalog UZH'!$D$52","v":"Gegensprechanlage"},{"$f":"Hilfstabelle!$O$14","v":"Inbetriebnahmedatum"},"Text","06.06.2030"]
[null,null,{"$f":"'Anlagenartenkatalog UZH'!$B$52","v":"Schwachstrominstallationen"},{"$f":"'Anlagenartenkatalog UZH'!$D$52","v":"Gegensprechanlage"},{"$f":"Hilfstabelle!$O$15","v":"Garantieende"},"Text","06.06.2035"]
[null,null,{"$f":"'Anlagenartenkatalog UZH'!$B$52","v":"Schwachstrominstallationen"},{"$f":"'Anlagenartenkatalog UZH'!$D$52","v":"Gegensprechanlage"},{"$f":"Hilfstabelle!$O$16","v":"Erwartetes technisches Enddatum"},"Text","06.06.2045"]
[null,null,{"$f":"'Anlagenartenkatalog UZH'!$B$52","v":"Schwachstrominstallationen"},{"$f":"'Anlagenartenkatalog UZH'!$D$52","v":"Gegensprechanlage"},"Anmerkung: Anwendungszweck","Text","Anwendungszweck: Empfang"]
[null,null,{"$f":"'Anlagenartenkatalog UZH'!$B$52","v":"Schwachstrominstallationen"},{"$f":"'Anlagenartenkatalog UZH'!$D$52","v":"Gegensprechanlage"},"Anmerkung: Komponenten","Text","Komponenten: Tischsprechstation, Wandsprechstation, Tonprojektor"]
[null,null,{"$f":"'Anlagenartenkatalog UZH'!$B$52","v":"Schwachstrominstallationen"},{"$f":"'Anlagenartenkatalog UZH'!$D$52","v":"Gegensprechanlage"},{"$f":"Hilfstabelle!$O$17","v":"Anmerkung: Anzahl Wartungen pro Jahr"},"Text","Anzahl Wartungen pro Jahr: 1"]
[null,null,{"$f":"'Anlagenartenkatalog UZH'!$B$52","v":"Schwachstrominstallationen"},{"$f":"'Anlagenartenkatalog UZH'!$D$53","v":"Videoanlage"},{"$f":"Hilfstabelle!$O$3","v":"Code (MSRL-Code)"},"Text","SPO-§1234567891"]
[null,null,{"$f":"'Anlagenartenkatalog UZH'!$B$52","v":"Schwachstrominstallationen"},{"$f":"'Anlagenartenkatalog UZH'!$D$53","v":"Videoanlage"},{"$f":"Hilfstabelle!$O$4","v":"Bezeichnung"},"Text","Videoanlage",{"$f":"Hilfstabelle!$P$7","v":"Die Bezeichnung einer Anlage muss eindeutig sein, sofern mehrere Anlagen im gleichen Raum sind. "}]
[null,null,{"$f":"'Anlagenartenkatalog UZH'!$B$52","v":"Schwachstrominstallationen"},{"$f":"'Anlagenartenkatalog UZH'!$D$53","v":"Videoanlage"},{"$f":"Hilfstabelle!$O$5","v":"Anlagentyp (Beschreibung)"},"Text",null,{"$f":"Hilfstabelle!$P$8","v":"Verbindlich gemäss Anlagenartenkatalog"}]
[null,null,{"$f":"'Anlagenartenkatalog UZH'!$B$52","v":"Schwachstrominstallationen"},{"$f":"'Anlagenartenkatalog UZH'!$D$53","v":"Videoanlage"},{"$f":"Hilfstabelle!$O$6","v":"Artikelgruppe"},"Text","02.04.04 "]
[null,null,{"$f":"'Anlagenartenkatalog UZH'!$B$52","v":"Schwachstrominstallationen"},{"$f":"'Anlagenartenkatalog UZH'!$D$53","v":"Videoanlage"},{"$f":"Hilfstabelle!$O$7","v":"Hauptanlage"},"Text","Ja"]
[null,null,{"$f":"'Anlagenartenkatalog UZH'!$B$52","v":"Schwachstrominstallationen"},{"$f":"'Anlagenartenkatalog UZH'!$D$53","v":"Videoanlage"},{"$f":"Hilfstabelle!$O$8","v":"Objekt"},"Text","SPO"]
[null,null,{"$f":"'Anlagenartenkatalog UZH'!$B$52","v":"Schwachstrominstallationen"},{"$f":"'Anlagenartenkatalog UZH'!$D$53","v":"Videoanlage"},{"$f":"Hilfstabelle!$O$9","v":"Raumkennzeichen"},"Text","F-03","Standort der Videozentrale"]
[null,null,{"$f":"'Anlagenartenkatalog UZH'!$B$52","v":"Schwachstrominstallationen"},{"$f":"'Anlagenartenkatalog UZH'!$D$53","v":"Videoanlage"},{"$f":"Hilfstabelle!$O$10","v":"Hersteller / Marke"},"Text","Spetec AG"]
[null,null,{"$f":"'Anlagenartenkatalog UZH'!$B$52","v":"Schwachstrominstallationen"},{"$f":"'Anlagenartenkatalog UZH'!$D$53","v":"Videoanlage"},{"$f":"Hilfstabelle!$O$11","v":"Modell / Artikel"},"Text","KS200 HD"]
[null,null,{"$f":"'Anlagenartenkatalog UZH'!$B$52","v":"Schwachstrominstallationen"},{"$f":"'Anlagenartenkatalog UZH'!$D$53","v":"Videoanlage"},{"$f":"Hilfstabelle!$O$12","v":"Seriennummer"},"Text","804420220337"]
[null,null,{"$f":"'Anlagenartenkatalog UZH'!$B$52","v":"Schwachstrominstallationen"},{"$f":"'Anlagenartenkatalog UZH'!$D$53","v":"Videoanlage"},{"$f":"Hilfstabelle!$O$13","v":"Servicefirma"},"Text","Spetec AG",{"$f":"Hilfstabelle!$P$10","v":"Gemäss Offerte in Submission"}]
[null,null,{"$f":"'Anlagenartenkatalog UZH'!$B$52","v":"Schwachstrominstallationen"},{"$f":"'Anlagenartenkatalog UZH'!$D$53","v":"Videoanlage"},{"$f":"Hilfstabelle!$O$14","v":"Inbetriebnahmedatum"},"Text","06.06.2030"]
[null,null,{"$f":"'Anlagenartenkatalog UZH'!$B$52","v":"Schwachstrominstallationen"},{"$f":"'Anlagenartenkatalog UZH'!$D$53","v":"Videoanlage"},{"$f":"Hilfstabelle!$O$15","v":"Garantieende"},"Text","06.06.2035"]
[null,null,{"$f":"'Anlagenartenkatalog UZH'!$B$52","v":"Schwachstrominstallationen"},{"$f":"'Anlagenartenkatalog UZH'!$D$53","v":"Videoanlage"},{"$f":"Hilfstabelle!$O$16","v":"Erwartetes technisches Enddatum"},"Text","06.06.2045"]
[null,null,{"$f":"'Anlagenartenkatalog UZH'!$B$52","v":"Schwachstrominstallationen"},{"$f":"'Anlagenartenkatalog UZH'!$D$53","v":"Videoanlage"},"Anmerkung: Anwendungszweck","Text","Anwendungszweck: UZH Kassenüberwachung"]
[null,null,{"$f":"'Anlagenartenkatalog UZH'!$B$52","v":"Schwachstrominstallationen"},{"$f":"'Anlagenartenkatalog UZH'!$D$53","v":"Videoanlage"},"Anmerkung: Komponenten","Text","Komponenten: 4 Kameras in E-01 und 3 Kameras in F-05"]
[null,null,{"$f":"'Anlagenartenkatalog UZH'!$B$52","v":"Schwachstrominstallationen"},{"$f":"'Anlagenartenkatalog UZH'!$D$53","v":"Videoanlage"},{"$f":"Hilfstabelle!$O$17","v":"Anmerkung: Anzahl Wartungen pro Jahr"},"Text","Anzahl Wartungen pro Jahr: 1"]
[null,null,{"$f":"'Anlagenartenkatalog UZH'!$B$12","v":"Sicherheitsanlagen"},{"$f":"'Anlagenartenkatalog UZH'!$D$14","v":"Befeuerungsanlage"},{"$f":"Hilfstabelle!$O$3","v":"Code (MSRL-Code)"},"Text","KOL-§1234567890"]
[null,null,{"$f":"'Anlagenartenkatalog UZH'!$B$12","v":"Sicherheitsanlagen"},{"$f":"'Anlagenartenkatalog UZH'!$D$14","v":"Befeuerungsanlage"},{"$f":"Hilfstabelle!$O$4","v":"Bezeichnung"},"Text",{"$f":"'Anlagenartenkatalog UZH'!$D$14","v":"Befeuerungsanlage"},{"$f":"Hilfstabelle!$P$7","v":"Die Bezeichnung einer Anlage muss eindeutig sein, sofern mehrere Anlagen im gleichen Raum sind. "}]
[null,null,{"$f":"'Anlagenartenkatalog UZH'!$B$12","v":"Sicherheitsanlagen"},{"$f":"'Anlagenartenkatalog UZH'!$D$14","v":"Befeuerungsanlage"},{"$f":"Hilfstabelle!$O$5","v":"Anlagentyp (Beschreibung)"},"Text",null,{"$f":"Hilfstabelle!$P$8","v":"Verbindlich gemäss Anlagenartenkatalog"}]
[null,null,{"$f":"'Anlagenartenkatalog UZH'!$B$12","v":"Sicherheitsanlagen"},{"$f":"'Anlagenartenkatalog UZH'!$D$14","v":"Befeuerungsanlage"},{"$f":"Hilfstabelle!$O$6","v":"Artikelgruppe"},"Text","02.00.01"]
[null,null,{"$f":"'Anlagenartenkatalog UZH'!$B$12","v":"Sicherheitsanlagen"},{"$f":"'Anlagenartenkatalog UZH'!$D$14","v":"Befeuerungsanlage"},{"$f":"Hilfstabelle!$O$7","v":"Hauptanlage"},"Text","Ja"]
[null,null,{"$f":"'Anlagenartenkatalog UZH'!$B$12","v":"Sicherheitsanlagen"},{"$f":"'Anlagenartenkatalog UZH'!$D$14","v":"Befeuerungsanlage"},{"$f":"Hilfstabelle!$O$8","v":"Objekt"},"Text","KOL"]
[null,null,{"$f":"'Anlagenartenkatalog UZH'!$B$12","v":"Sicherheitsanlagen"},{"$f":"'Anlagenartenkatalog UZH'!$D$14","v":"Befeuerungsanlage"},{"$f":"Hilfstabelle!$O$9","v":"Raumkennzeichen"},"Text","N-1"]
[null,null,{"$f":"'Anlagenartenkatalog UZH'!$B$12","v":"Sicherheitsanlagen"},{"$f":"'Anlagenartenkatalog UZH'!$D$14","v":"Befeuerungsanlage"},{"$f":"Hilfstabelle!$O$10","v":"Hersteller / Marke"},"Text","-"]
[null,null,{"$f":"'Anlagenartenkatalog UZH'!$B$12","v":"Sicherheitsanlagen"},{"$f":"'Anlagenartenkatalog UZH'!$D$14","v":"Befeuerungsanlage"},{"$f":"Hilfstabelle!$O$11","v":"Modell / Artikel"},"Text","-"]
[null,null,{"$f":"'Anlagenartenkatalog UZH'!$B$12","v":"Sicherheitsanlagen"},{"$f":"'Anlagenartenkatalog UZH'!$D$14","v":"Befeuerungsanlage"},{"$f":"Hilfstabelle!$O$12","v":"Seriennummer"},"Text","-"]
[null,null,{"$f":"'Anlagenartenkatalog UZH'!$B$12","v":"Sicherheitsanlagen"},{"$f":"'Anlagenartenkatalog UZH'!$D$14","v":"Befeuerungsanlage"},{"$f":"Hilfstabelle!$O$13","v":"Servicefirma"},"Text","-",{"$f":"Hilfstabelle!$P$10","v":"Gemäss Offerte in Submission"}]
[null,null,{"$f":"'Anlagenartenkatalog UZH'!$B$12","v":"Sicherheitsanlagen"},{"$f":"'Anlagenartenkatalog UZH'!$D$14","v":"Befeuerungsanlage"},{"$f":"Hilfstabelle!$O$14","v":"Inbetriebnahmedatum"},"Text","06.06.2030"]
[null,null,{"$f":"'Anlagenartenkatalog UZH'!$B$12","v":"Sicherheitsanlagen"},{"$f":"'Anlagenartenkatalog UZH'!$D$14","v":"Befeuerungsanlage"},{"$f":"Hilfstabelle!$O$15","v":"Garantieende"},"Text","06.06.2035"]
[null,null,{"$f":"'Anlagenartenkatalog UZH'!$B$12","v":"Sicherheitsanlagen"},{"$f":"'Anlagenartenkatalog UZH'!$D$14","v":"Befeuerungsanlage"},{"$f":"Hilfstabelle!$O$16","v":"Erwartetes technisches Enddatum"},"Text","06.06.2045"]
[null,null,{"$f":"'Anlagenartenkatalog UZH'!$B$12","v":"Sicherheitsanlagen"},{"$f":"'Anlagenartenkatalog UZH'!$D$14","v":"Befeuerungsanlage"},{"$f":"Hilfstabelle!$O$17","v":"Anmerkung: Anzahl Wartungen pro Jahr"},"Text","Anzahl Wartungen pro Jahr: 1"]
[null,null,{"$f":"'Anlagenartenkatalog UZH'!$B$12","v":"Sicherheitsanlagen"},{"$f":"'Anlagenartenkatalog UZH'!$D$13","v":"Evakuationsanlage (SAA und ENS)"},{"$f":"Hilfstabelle!$O$3","v":"Code (MSRL-Code)"},"Text","KOL-US11-A010"]
[null,null,{"$f":"'Anlagenartenkatalog UZH'!$B$12","v":"Sicherheitsanlagen"},{"$f":"'Anlagenartenkatalog UZH'!$D$13","v":"Evakuationsanlage (SAA und ENS)"},{"$f":"Hilfstabelle!$O$4","v":"Bezeichnung"},"Text",{"$f":"'Anlagenartenkatalog UZH'!$D$13","v":"Evakuationsanlage (SAA und ENS)"},{"$f":"Hilfstabelle!$P$7","v":"Die Bezeichnung einer Anlage muss eindeutig sein, sofern mehrere Anlagen im gleichen Raum sind. "}]
[null,null,{"$f":"'Anlagenartenkatalog UZH'!$B$12","v":"Sicherheitsanlagen"},{"$f":"'Anlagenartenkatalog UZH'!$D$13","v":"Evakuationsanlage (SAA und ENS)"},{"$f":"Hilfstabelle!$O$5","v":"Anlagentyp (Beschreibung)"},"Text",null,{"$f":"Hilfstabelle!$P$8","v":"Verbindlich gemäss Anlagenartenkatalog"}]
[null,null,{"$f":"'Anlagenartenkatalog UZH'!$B$12","v":"Sicherheitsanlagen"},{"$f":"'Anlagenartenkatalog UZH'!$D$13","v":"Evakuationsanlage (SAA und ENS)"},{"$f":"Hilfstabelle!$O$6","v":"Artikelgruppe"},"Text","02.00.01"]
[null,null,{"$f":"'Anlagenartenkatalog UZH'!$B$12","v":"Sicherheitsanlagen"},{"$f":"'Anlagenartenkatalog UZH'!$D$13","v":"Evakuationsanlage (SAA und ENS)"},{"$f":"Hilfstabelle!$O$7","v":"Hauptanlage"},"Text","Ja"]
[null,null,{"$f":"'Anlagenartenkatalog UZH'!$B$12","v":"Sicherheitsanlagen"},{"$f":"'Anlagenartenkatalog UZH'!$D$13","v":"Evakuationsanlage (SAA und ENS)"},{"$f":"Hilfstabelle!$O$8","v":"Objekt"},"Text","KOL"]
[null,null,{"$f":"'Anlagenartenkatalog UZH'!$B$12","v":"Sicherheitsanlagen"},{"$f":"'Anlagenartenkatalog UZH'!$D$13","v":"Evakuationsanlage (SAA und ENS)"},{"$f":"Hilfstabelle!$O$9","v":"Raumkennzeichen"},"Text","E-13"]
[null,null,{"$f":"'Anlagenartenkatalog UZH'!$B$12","v":"Sicherheitsanlagen"},{"$f":"'Anlagenartenkatalog UZH'!$D$13","v":"Evakuationsanlage (SAA und ENS)"},{"$f":"Hilfstabelle!$O$10","v":"Hersteller / Marke"},"Text","Avidec AG"]
[null,null,{"$f":"'Anlagenartenkatalog UZH'!$B$12","v":"Sicherheitsanlagen"},{"$f":"'Anlagenartenkatalog UZH'!$D$13","v":"Evakuationsanlage (SAA und ENS)"},{"$f":"Hilfstabelle!$O$11","v":"Modell / Artikel"},"Text","-"]
[null,null,{"$f":"'Anlagenartenkatalog UZH'!$B$12","v":"Sicherheitsanlagen"},{"$f":"'Anlagenartenkatalog UZH'!$D$13","v":"Evakuationsanlage (SAA und ENS)"},{"$f":"Hilfstabelle!$O$12","v":"Seriennummer"},"Text","1500435"]
[null,null,{"$f":"'Anlagenartenkatalog UZH'!$B$12","v":"Sicherheitsanlagen"},{"$f":"'Anlagenartenkatalog UZH'!$D$13","v":"Evakuationsanlage (SAA und ENS)"},{"$f":"Hilfstabelle!$O$13","v":"Servicefirma"},"Text","Avidec AG",{"$f":"Hilfstabelle!$P$10","v":"Gemäss Offerte in Submission"}]
[null,null,{"$f":"'Anlagenartenkatalog UZH'!$B$12","v":"Sicherheitsanlagen"},{"$f":"'Anlagenartenkatalog UZH'!$D$13","v":"Evakuationsanlage (SAA und ENS)"},{"$f":"Hilfstabelle!$O$14","v":"Inbetriebnahmedatum"},"Text","06.06.2030"]
[null,null,{"$f":"'Anlagenartenkatalog UZH'!$B$12","v":"Sicherheitsanlagen"},{"$f":"'Anlagenartenkatalog UZH'!$D$13","v":"Evakuationsanlage (SAA und ENS)"},{"$f":"Hilfstabelle!$O$15","v":"Garantieende"},"Text","06.06.2035"]
[null,null,{"$f":"'Anlagenartenkatalog UZH'!$B$12","v":"Sicherheitsanlagen"},{"$f":"'Anlagenartenkatalog UZH'!$D$13","v":"Evakuationsanlage (SAA und ENS)"},{"$f":"Hilfstabelle!$O$16","v":"Erwartetes technisches Enddatum"},"Text","06.06.2045"]
[null,null,{"$f":"'Anlagenartenkatalog UZH'!$B$12","v":"Sicherheitsanlagen"},{"$f":"'Anlagenartenkatalog UZH'!$D$13","v":"Evakuationsanlage (SAA und ENS)"},{"$f":"Hilfstabelle!$O$17","v":"Anmerkung: Anzahl Wartungen pro Jahr"},"Text","Anzahl Wartungen pro Jahr: 1"]
[null,null,{"$f":"'Anlagenartenkatalog UZH'!$B$12","v":"Sicherheitsanlagen"},{"$f":"'Anlagenartenkatalog UZH'!$D$12","v":"Einbruch- und Überfallmeldeanlage (EMA)"},{"$f":"Hilfstabelle!$O$3","v":"Code (MSRL-Code)"},"Text","PEA-US11-A002"]
[null,null,{"$f":"'Anlagenartenkatalog UZH'!$B$12","v":"Sicherheitsanlagen"},{"$f":"'Anlagenartenkatalog UZH'!$D$12","v":"Einbruch- und Überfallmeldeanlage (EMA)"},{"$f":"Hilfstabelle!$O$4","v":"Bezeichnung"},"Text","Einbruch- und Überfallmeldeanlage (EMA)",{"$f":"Hilfstabelle!$P$7","v":"Die Bezeichnung einer Anlage muss eindeutig sein, sofern mehrere Anlagen im gleichen Raum sind. "}]
[null,null,{"$f":"'Anlagenartenkatalog UZH'!$B$12","v":"Sicherheitsanlagen"},{"$f":"'Anlagenartenkatalog UZH'!$D$12","v":"Einbruch- und Überfallmeldeanlage (EMA)"},{"$f":"Hilfstabelle!$O$5","v":"Anlagentyp (Beschreibung)"},"Text",null,{"$f":"Hilfstabelle!$P$8","v":"Verbindlich gemäss Anlagenartenkatalog"}]
[null,null,{"$f":"'Anlagenartenkatalog UZH'!$B$12","v":"Sicherheitsanlagen"},{"$f":"'Anlagenartenkatalog UZH'!$D$12","v":"Einbruch- und Überfallmeldeanlage (EMA)"},{"$f":"Hilfstabelle!$O$6","v":"Artikelgruppe"},"Text","02.00.01"]
[null,null,{"$f":"'Anlagenartenkatalog UZH'!$B$12","v":"Sicherheitsanlagen"},{"$f":"'Anlagenartenkatalog UZH'!$D$12","v":"Einbruch- und Überfallmeldeanlage (EMA)"},{"$f":"Hilfstabelle!$O$7","v":"Hauptanlage"},"Text","Ja"]
[null,null,{"$f":"'Anlagenartenkatalog UZH'!$B$12","v":"Sicherheitsanlagen"},{"$f":"'Anlagenartenkatalog UZH'!$D$12","v":"Einbruch- und Überfallmeldeanlage (EMA)"},{"$f":"Hilfstabelle!$O$8","v":"Objekt"},"Text","PEA "]
[null,null,{"$f":"'Anlagenartenkatalog UZH'!$B$12","v":"Sicherheitsanlagen"},{"$f":"'Anlagenartenkatalog UZH'!$D$12","v":"Einbruch- und Überfallmeldeanlage (EMA)"},{"$f":"Hilfstabelle!$O$9","v":"Raumkennzeichen"},"Text","D-409"]
[null,null,{"$f":"'Anlagenartenkatalog UZH'!$B$12","v":"Sicherheitsanlagen"},{"$f":"'Anlagenartenkatalog UZH'!$D$12","v":"Einbruch- und Überfallmeldeanlage (EMA)"},{"$f":"Hilfstabelle!$O$10","v":"Hersteller / Marke"},"Text","Siemens Schweiz AG"]
[null,null,{"$f":"'Anlagenartenkatalog UZH'!$B$12","v":"Sicherheitsanlagen"},{"$f":"'Anlagenartenkatalog UZH'!$D$12","v":"Einbruch- und Überfallmeldeanlage (EMA)"},{"$f":"Hilfstabelle!$O$11","v":"Modell / Artikel"},"Text","-"]
[null,null,{"$f":"'Anlagenartenkatalog UZH'!$B$12","v":"Sicherheitsanlagen"},{"$f":"'Anlagenartenkatalog UZH'!$D$12","v":"Einbruch- und Überfallmeldeanlage (EMA)"},{"$f":"Hilfstabelle!$O$12","v":"Seriennummer"},"Text","70104128"]
[null,null,{"$f":"'Anlagenartenkatalog UZH'!$B$12","v":"Sicherheitsanlagen"},{"$f":"'Anlagenartenkatalog UZH'!$D$12","v":"Einbruch- und Überfallmeldeanlage (EMA)"},{"$f":"Hilfstabelle!$O$13","v":"Servicefirma"},"Text","Siemens Schweiz AG",{"$f":"Hilfstabelle!$P$10","v":"Gemäss Offerte in Submission"}]
[null,null,{"$f":"'Anlagenartenkatalog UZH'!$B$12","v":"Sicherheitsanlagen"},{"$f":"'Anlagenartenkatalog UZH'!$D$12","v":"Einbruch- und Überfallmeldeanlage (EMA)"},{"$f":"Hilfstabelle!$O$14","v":"Inbetriebnahmedatum"},"Text","06.06.2030"]
[null,null,{"$f":"'Anlagenartenkatalog UZH'!$B$12","v":"Sicherheitsanlagen"},{"$f":"'Anlagenartenkatalog UZH'!$D$12","v":"Einbruch- und Überfallmeldeanlage (EMA)"},{"$f":"Hilfstabelle!$O$15","v":"Garantieende"},"Text","06.06.2035"]
[null,null,{"$f":"'Anlagenartenkatalog UZH'!$B$12","v":"Sicherheitsanlagen"},{"$f":"'Anlagenartenkatalog UZH'!$D$12","v":"Einbruch- und Überfallmeldeanlage (EMA)"},{"$f":"Hilfstabelle!$O$16","v":"Erwartetes technisches Enddatum"},"Text","06.06.2045"]
[null,null,{"$f":"'Anlagenartenkatalog UZH'!$B$12","v":"Sicherheitsanlagen"},{"$f":"'Anlagenartenkatalog UZH'!$D$12","v":"Einbruch- und Überfallmeldeanlage (EMA)"},"Anmerkung: Alarm Net. Nr.","Text","Alarm Net. Nr.: 921173"]
[null,null,{"$f":"'Anlagenartenkatalog UZH'!$B$12","v":"Sicherheitsanlagen"},{"$f":"'Anlagenartenkatalog UZH'!$D$12","v":"Einbruch- und Überfallmeldeanlage (EMA)"},"Anmerkung: SV Certas","Text","Certas: PEA_V_0001206",{"$f":"Hilfstabelle!P3","v":"Kann nicht durch den Planer angegeben werden."}]
[null,null,{"$f":"'Anlagenartenkatalog UZH'!$B$12","v":"Sicherheitsanlagen"},{"$f":"'Anlagenartenkatalog UZH'!$D$12","v":"Einbruch- und Überfallmeldeanlage (EMA)"},{"$f":"Hilfstabelle!$O$17","v":"Anmerkung: Anzahl Wartungen pro Jahr"},"Text","Anzahl Wartungen pro Jahr: 1"]
[null,null,{"$f":"'Anlagenartenkatalog UZH'!$B$43","v":"Starkstrominstallationen"},{"$f":"'Anlagenartenkatalog UZH'!$D$51","v":"USV (mobil)"},{"$f":"Hilfstabelle!$O$3","v":"Code (MSRL-Code)"},"Text","SOC-§1654199474"]
[null,null,{"$f":"'Anlagenartenkatalog UZH'!$B$43","v":"Starkstrominstallationen"},{"$f":"'Anlagenartenkatalog UZH'!$D$51","v":"USV (mobil)"},{"$f":"Hilfstabelle!$O$4","v":"Bezeichnung"},"Text","USV (mobil) Nr. 3",{"$f":"Hilfstabelle!$P$7","v":"Die Bezeichnung einer Anlage muss eindeutig sein, sofern mehrere Anlagen im gleichen Raum sind. "}]
[null,null,{"$f":"'Anlagenartenkatalog UZH'!$B$43","v":"Starkstrominstallationen"},{"$f":"'Anlagenartenkatalog UZH'!$D$51","v":"USV (mobil)"},{"$f":"Hilfstabelle!$O$5","v":"Anlagentyp (Beschreibung)"},"Text",null,{"$f":"Hilfstabelle!$P$8","v":"Verbindlich gemäss Anlagenartenkatalog"}]
[null,null,{"$f":"'Anlagenartenkatalog UZH'!$B$43","v":"Starkstrominstallationen"},{"$f":"'Anlagenartenkatalog UZH'!$D$51","v":"USV (mobil)"},{"$f":"Hilfstabelle!$O$6","v":"Artikelgruppe"},"Text",{"$f":"'Anlagenartenkatalog UZH'!$A$43","v":"02.04.02"}]
[null,null,{"$f":"'Anlagenartenkatalog UZH'!$B$43","v":"Starkstrominstallationen"},{"$f":"'Anlagenartenkatalog UZH'!$D$51","v":"USV (mobil)"},{"$f":"Hilfstabelle!$O$7","v":"Hauptanlage"},"Text"]
[null,null,{"$f":"'Anlagenartenkatalog UZH'!$B$43","v":"Starkstrominstallationen"},{"$f":"'Anlagenartenkatalog UZH'!$D$51","v":"USV (mobil)"},{"$f":"Hilfstabelle!$O$8","v":"Objekt"},"Text","SOC"]
[null,null,{"$f":"'Anlagenartenkatalog UZH'!$B$43","v":"Starkstrominstallationen"},{"$f":"'Anlagenartenkatalog UZH'!$D$51","v":"USV (mobil)"},{"$f":"Hilfstabelle!$O$9","v":"Raumkennzeichen"},"Text","E-05"]
[null,null,{"$f":"'Anlagenartenkatalog UZH'!$B$43","v":"Starkstrominstallationen"},{"$f":"'Anlagenartenkatalog UZH'!$D$51","v":"USV (mobil)"},{"$f":"Hilfstabelle!$O$10","v":"Hersteller / Marke"},"Text","IWS Solar AG"]
[null,null,{"$f":"'Anlagenartenkatalog UZH'!$B$43","v":"Starkstrominstallationen"},{"$f":"'Anlagenartenkatalog UZH'!$D$51","v":"USV (mobil)"},{"$f":"Hilfstabelle!$O$11","v":"Modell / Artikel"},"Text","EcoFlow Powerstation DELTA 3 CH-Version / 4821.01"]
[null,null,{"$f":"'Anlagenartenkatalog UZH'!$B$43","v":"Starkstrominstallationen"},{"$f":"'Anlagenartenkatalog UZH'!$D$51","v":"USV (mobil)"},{"$f":"Hilfstabelle!$O$12","v":"Seriennummer"},"Text","24564578"]
[null,null,{"$f":"'Anlagenartenkatalog UZH'!$B$43","v":"Starkstrominstallationen"},{"$f":"'Anlagenartenkatalog UZH'!$D$51","v":"USV (mobil)"},{"$f":"Hilfstabelle!$O$13","v":"Servicefirma"},"Text","IWS Solar AG",{"$f":"Hilfstabelle!$P$10","v":"Gemäss Offerte in Submission"}]
[null,null,{"$f":"'Anlagenartenkatalog UZH'!$B$43","v":"Starkstrominstallationen"},{"$f":"'Anlagenartenkatalog UZH'!$D$51","v":"USV (mobil)"},{"$f":"Hilfstabelle!$O$14","v":"Inbetriebnahmedatum"},"Text","06.06.2030"]
[null,null,{"$f":"'Anlagenartenkatalog UZH'!$B$43","v":"Starkstrominstallationen"},{"$f":"'Anlagenartenkatalog UZH'!$D$51","v":"USV (mobil)"},{"$f":"Hilfstabelle!$O$15","v":"Garantieende"},"Text","06.06.2035"]
[null,null,{"$f":"'Anlagenartenkatalog UZH'!$B$43","v":"Starkstrominstallationen"},{"$f":"'Anlagenartenkatalog UZH'!$D$51","v":"USV (mobil)"},{"$f":"Hilfstabelle!$O$16","v":"Erwartetes technisches Enddatum"},"Text","06.06.2045"]
[null,null,{"$f":"'Anlagenartenkatalog UZH'!$B$43","v":"Starkstrominstallationen"},{"$f":"'Anlagenartenkatalog UZH'!$D$51","v":"USV (mobil)"},"Anmerkung: Leistung [kW]","Text","Leistung: 2.4 kW"]
[null,null,{"$f":"'Anlagenartenkatalog UZH'!$B$43","v":"Starkstrominstallationen"},{"$f":"'Anlagenartenkatalog UZH'!$D$51","v":"USV (mobil)"},"Anmerkung: Kapazität in [kWh]","Text","Kapazität: 1.024 kWh"]
[null,null,{"$f":"'Anlagenartenkatalog UZH'!$B$43","v":"Starkstrominstallationen"},{"$f":"'Anlagenartenkatalog UZH'!$D$51","v":"USV (mobil)"},{"$f":"Hilfstabelle!$O$17","v":"Anmerkung: Anzahl Wartungen pro Jahr"},"Text","Anzahl Wartungen pro Jahr: 1"]
[null,null,{"$f":"'Anlagenartenkatalog UZH'!$B$43","v":"Starkstrominstallationen"},{"$f":"'Anlagenartenkatalog UZH'!$D$50","v":"USV-Anlage"},{"$f":"Hilfstabelle!$O$3","v":"Code (MSRL-Code)"},"Text","GLM-US11-E002"]
[null,null,{"$f":"'Anlagenartenkatalog UZH'!$B$43","v":"Starkstrominstallationen"},{"$f":"'Anlagenartenkatalog UZH'!$D$50","v":"USV-Anlage"},{"$f":"Hilfstabelle!$O$4","v":"Bezeichnung"},"Text",{"$f":"'Anlagenartenkatalog UZH'!$D$50","v":"USV-Anlage"},{"$f":"Hilfstabelle!$P$7","v":"Die Bezeichnung einer Anlage muss eindeutig sein, sofern mehrere Anlagen im gleichen Raum sind. "}]
[null,null,{"$f":"'Anlagenartenkatalog UZH'!$B$43","v":"Starkstrominstallationen"},{"$f":"'Anlagenartenkatalog UZH'!$D$50","v":"USV-Anlage"},{"$f":"Hilfstabelle!$O$5","v":"Anlagentyp (Beschreibung)"},"Text",null,{"$f":"Hilfstabelle!$P$8","v":"Verbindlich gemäss Anlagenartenkatalog"}]
[null,null,{"$f":"'Anlagenartenkatalog UZH'!$B$43","v":"Starkstrominstallationen"},{"$f":"'Anlagenartenkatalog UZH'!$D$50","v":"USV-Anlage"},{"$f":"Hilfstabelle!$O$6","v":"Artikelgruppe"},"Text",{"$f":"'Anlagenartenkatalog UZH'!$A$43","v":"02.04.02"}]
[null,null,{"$f":"'Anlagenartenkatalog UZH'!$B$43","v":"Starkstrominstallationen"},{"$f":"'Anlagenartenkatalog UZH'!$D$50","v":"USV-Anlage"},{"$f":"Hilfstabelle!$O$7","v":"Hauptanlage"},"Text"]
[null,null,{"$f":"'Anlagenartenkatalog UZH'!$B$43","v":"Starkstrominstallationen"},{"$f":"'Anlagenartenkatalog UZH'!$D$50","v":"USV-Anlage"},{"$f":"Hilfstabelle!$O$8","v":"Objekt"},"Text","GLM"]
[null,null,{"$f":"'Anlagenartenkatalog UZH'!$B$43","v":"Starkstrominstallationen"},{"$f":"'Anlagenartenkatalog UZH'!$D$50","v":"USV-Anlage"},{"$f":"Hilfstabelle!$O$9","v":"Raumkennzeichen"},"Text","E-02"]
[null,null,{"$f":"'Anlagenartenkatalog UZH'!$B$43","v":"Starkstrominstallationen"},{"$f":"'Anlagenartenkatalog UZH'!$D$50","v":"USV-Anlage"},{"$f":"Hilfstabelle!$O$10","v":"Hersteller / Marke"},"Text","ABB Power Protection SA"]
[null,null,{"$f":"'Anlagenartenkatalog UZH'!$B$43","v":"Starkstrominstallationen"},{"$f":"'Anlagenartenkatalog UZH'!$D$50","v":"USV-Anlage"},{"$f":"Hilfstabelle!$O$11","v":"Modell / Artikel"},"Text","SitePro"]
[null,null,{"$f":"'Anlagenartenkatalog UZH'!$B$43","v":"Starkstrominstallationen"},{"$f":"'Anlagenartenkatalog UZH'!$D$50","v":"USV-Anlage"},{"$f":"Hilfstabelle!$O$12","v":"Seriennummer"},"Text","A6015-0804-0177G"]
[null,null,{"$f":"'Anlagenartenkatalog UZH'!$B$43","v":"Starkstrominstallationen"},{"$f":"'Anlagenartenkatalog UZH'!$D$50","v":"USV-Anlage"},{"$f":"Hilfstabelle!$O$13","v":"Servicefirma"},"Text","ABB Power Protection SA",{"$f":"Hilfstabelle!$P$10","v":"Gemäss Offerte in Submission"}]
[null,null,{"$f":"'Anlagenartenkatalog UZH'!$B$43","v":"Starkstrominstallationen"},{"$f":"'Anlagenartenkatalog UZH'!$D$50","v":"USV-Anlage"},{"$f":"Hilfstabelle!$O$14","v":"Inbetriebnahmedatum"},"Text","06.06.2030"]
[null,null,{"$f":"'Anlagenartenkatalog UZH'!$B$43","v":"Starkstrominstallationen"},{"$f":"'Anlagenartenkatalog UZH'!$D$50","v":"USV-Anlage"},{"$f":"Hilfstabelle!$O$15","v":"Garantieende"},"Text","06.06.2035"]
[null,null,{"$f":"'Anlagenartenkatalog UZH'!$B$43","v":"Starkstrominstallationen"},{"$f":"'Anlagenartenkatalog UZH'!$D$50","v":"USV-Anlage"},{"$f":"Hilfstabelle!$O$16","v":"Erwartetes technisches Enddatum"},"Text","06.06.2045"]
[null,null,{"$f":"'Anlagenartenkatalog UZH'!$B$43","v":"Starkstrominstallationen"},{"$f":"'Anlagenartenkatalog UZH'!$D$50","v":"USV-Anlage"},"Anmerkung: Anwendungszweck","Text","Anwendungszweck: Server"]
[null,null,{"$f":"'Anlagenartenkatalog UZH'!$B$43","v":"Starkstrominstallationen"},{"$f":"'Anlagenartenkatalog UZH'!$D$50","v":"USV-Anlage"},"Anmerkung: Leistung [kVA]","Text","Leistung: 15 kVa"]
[null,null,{"$f":"'Anlagenartenkatalog UZH'!$B$43","v":"Starkstrominstallationen"},{"$f":"'Anlagenartenkatalog UZH'!$D$50","v":"USV-Anlage"},"Anmerkung: Autonomiezeit in [h]","Text","Autonomiezeit: 0.5 h"]
[null,null,{"$f":"'Anlagenartenkatalog UZH'!$B$43","v":"Starkstrominstallationen"},{"$f":"'Anlagenartenkatalog UZH'!$D$50","v":"USV-Anlage"},{"$f":"Hilfstabelle!$O$17","v":"Anmerkung: Anzahl Wartungen pro Jahr"},"Text","Anzahl Wartungen pro Jahr: 1"]
[null,null,{"$f":"'Anlagenartenkatalog UZH'!$B$43","v":"Starkstrominstallationen"},{"$f":"'Anlagenartenkatalog UZH'!$D$47","v":"Photovoltaikanlage"},{"$f":"Hilfstabelle!$O$3","v":"Code (MSRL-Code)"},"Text","GLL-§1234567891"]
[null,null,{"$f":"'Anlagenartenkatalog UZH'!$B$43","v":"Starkstrominstallationen"},{"$f":"'Anlagenartenkatalog UZH'!$D$47","v":"Photovoltaikanlage"},{"$f":"Hilfstabelle!$O$4","v":"Bezeichnung"},"Text",{"$f":"'Anlagenartenkatalog UZH'!$D$47","v":"Photovoltaikanlage"},{"$f":"Hilfstabelle!$P$7","v":"Die Bezeichnung einer Anlage muss eindeutig sein, sofern mehrere Anlagen im gleichen Raum sind. "}]
[null,null,{"$f":"'Anlagenartenkatalog UZH'!$B$43","v":"Starkstrominstallationen"},{"$f":"'Anlagenartenkatalog UZH'!$D$47","v":"Photovoltaikanlage"},{"$f":"Hilfstabelle!$O$5","v":"Anlagentyp (Beschreibung)"},"Text",null,{"$f":"Hilfstabelle!$P$8","v":"Verbindlich gemäss Anlagenartenkatalog"}]
[null,null,{"$f":"'Anlagenartenkatalog UZH'!$B$43","v":"Starkstrominstallationen"},{"$f":"'Anlagenartenkatalog UZH'!$D$47","v":"Photovoltaikanlage"},{"$f":"Hilfstabelle!$O$6","v":"Artikelgruppe"},"Text",{"$f":"'Anlagenartenkatalog UZH'!$A$43","v":"02.04.02"}]
[null,null,{"$f":"'Anlagenartenkatalog UZH'!$B$43","v":"Starkstrominstallationen"},{"$f":"'Anlagenartenkatalog UZH'!$D$47","v":"Photovoltaikanlage"},{"$f":"Hilfstabelle!$O$7","v":"Hauptanlage"},"Text"]
[null,null,{"$f":"'Anlagenartenkatalog UZH'!$B$43","v":"Starkstrominstallationen"},{"$f":"'Anlagenartenkatalog UZH'!$D$47","v":"Photovoltaikanlage"},{"$f":"Hilfstabelle!$O$8","v":"Objekt"},"Text","GLL "]
[null,null,{"$f":"'Anlagenartenkatalog UZH'!$B$43","v":"Starkstrominstallationen"},{"$f":"'Anlagenartenkatalog UZH'!$D$47","v":"Photovoltaikanlage"},{"$f":"Hilfstabelle!$O$9","v":"Raumkennzeichen"},"Text","-"]
[null,null,{"$f":"'Anlagenartenkatalog UZH'!$B$43","v":"Starkstrominstallationen"},{"$f":"'Anlagenartenkatalog UZH'!$D$47","v":"Photovoltaikanlage"},{"$f":"Hilfstabelle!$O$10","v":"Hersteller / Marke"},"Text","Planeco GmbH"]
[null,null,{"$f":"'Anlagenartenkatalog UZH'!$B$43","v":"Starkstrominstallationen"},{"$f":"'Anlagenartenkatalog UZH'!$D$47","v":"Photovoltaikanlage"},{"$f":"Hilfstabelle!$O$11","v":"Modell / Artikel"},"Text","-"]
[null,null,{"$f":"'Anlagenartenkatalog UZH'!$B$43","v":"Starkstrominstallationen"},{"$f":"'Anlagenartenkatalog UZH'!$D$47","v":"Photovoltaikanlage"},{"$f":"Hilfstabelle!$O$12","v":"Seriennummer"},"Text","-"]
[null,null,{"$f":"'Anlagenartenkatalog UZH'!$B$43","v":"Starkstrominstallationen"},{"$f":"'Anlagenartenkatalog UZH'!$D$47","v":"Photovoltaikanlage"},{"$f":"Hilfstabelle!$O$13","v":"Servicefirma"},"Text","Planeco GmbH",{"$f":"Hilfstabelle!$P$10","v":"Gemäss Offerte in Submission"}]
[null,null,{"$f":"'Anlagenartenkatalog UZH'!$B$43","v":"Starkstrominstallationen"},{"$f":"'Anlagenartenkatalog UZH'!$D$47","v":"Photovoltaikanlage"},{"$f":"Hilfstabelle!$O$14","v":"Inbetriebnahmedatum"},"Text","06.06.2030"]
[null,null,{"$f":"'Anlagenartenkatalog UZH'!$B$43","v":"Starkstrominstallationen"},{"$f":"'Anlagenartenkatalog UZH'!$D$47","v":"Photovoltaikanlage"},{"$f":"Hilfstabelle!$O$15","v":"Garantieende"},"Text","06.06.2035"]
[null,null,{"$f":"'Anlagenartenkatalog UZH'!$B$43","v":"Starkstrominstallationen"},{"$f":"'Anlagenartenkatalog UZH'!$D$47","v":"Photovoltaikanlage"},{"$f":"Hilfstabelle!$O$16","v":"Erwartetes technisches Enddatum"},"Text","06.06.2045"]
[null,null,{"$f":"'Anlagenartenkatalog UZH'!$B$43","v":"Starkstrominstallationen"},{"$f":"'Anlagenartenkatalog UZH'!$D$47","v":"Photovoltaikanlage"},"Anmerkung: Leistung in [kWp]","Text","Leistung: 120 kWp"]
[null,null,{"$f":"'Anlagenartenkatalog UZH'!$B$43","v":"Starkstrominstallationen"},{"$f":"'Anlagenartenkatalog UZH'!$D$47","v":"Photovoltaikanlage"},"Anmerkung: Genaue Standortbeschreibung","Text","Genaue Standortbeschreibung: Auf dem Dach"]
[null,null,{"$f":"'Anlagenartenkatalog UZH'!$B$43","v":"Starkstrominstallationen"},{"$f":"'Anlagenartenkatalog UZH'!$D$47","v":"Photovoltaikanlage"},{"$f":"Hilfstabelle!$O$17","v":"Anmerkung: Anzahl Wartungen pro Jahr"},"Text","Anzahl Wartungen pro Jahr: 1"]
[null,null,{"$f":"'Anlagenartenkatalog UZH'!$B$43","v":"Starkstrominstallationen"},{"$f":"'Anlagenartenkatalog UZH'!$D$48","v":"Wechselrichter"},{"$f":"Hilfstabelle!$O$3","v":"Code (MSRL-Code)"},"Text","GLL-§1234567891"]
[null,null,{"$f":"'Anlagenartenkatalog UZH'!$B$43","v":"Starkstrominstallationen"},{"$f":"'Anlagenartenkatalog UZH'!$D$48","v":"Wechselrichter"},{"$f":"Hilfstabelle!$O$4","v":"Bezeichnung"},"Text","Wechselrichter",{"$f":"Hilfstabelle!$P$7","v":"Die Bezeichnung einer Anlage muss eindeutig sein, sofern mehrere Anlagen im gleichen Raum sind. "}]
[null,null,{"$f":"'Anlagenartenkatalog UZH'!$B$43","v":"Starkstrominstallationen"},{"$f":"'Anlagenartenkatalog UZH'!$D$48","v":"Wechselrichter"},{"$f":"Hilfstabelle!$O$5","v":"Anlagentyp (Beschreibung)"},"Text",null,{"$f":"Hilfstabelle!$P$8","v":"Verbindlich gemäss Anlagenartenkatalog"}]
[null,null,{"$f":"'Anlagenartenkatalog UZH'!$B$43","v":"Starkstrominstallationen"},{"$f":"'Anlagenartenkatalog UZH'!$D$48","v":"Wechselrichter"},{"$f":"Hilfstabelle!$O$6","v":"Artikelgruppe"},"Text","02.04.02"]
[null,null,{"$f":"'Anlagenartenkatalog UZH'!$B$43","v":"Starkstrominstallationen"},{"$f":"'Anlagenartenkatalog UZH'!$D$48","v":"Wechselrichter"},{"$f":"Hilfstabelle!$O$7","v":"Hauptanlage"},"Text","Nein"]
[null,null,{"$f":"'Anlagenartenkatalog UZH'!$B$43","v":"Starkstrominstallationen"},{"$f":"'Anlagenartenkatalog UZH'!$D$48","v":"Wechselrichter"},{"$f":"Hilfstabelle!$O$8","v":"Objekt"},"Text","GLL "]
[null,null,{"$f":"'Anlagenartenkatalog UZH'!$B$43","v":"Starkstrominstallationen"},{"$f":"'Anlagenartenkatalog UZH'!$D$48","v":"Wechselrichter"},{"$f":"Hilfstabelle!$O$9","v":"Raumkennzeichen"},"Text","I-07"]
[null,null,{"$f":"'Anlagenartenkatalog UZH'!$B$43","v":"Starkstrominstallationen"},{"$f":"'Anlagenartenkatalog UZH'!$D$48","v":"Wechselrichter"},{"$f":"Hilfstabelle!$O$10","v":"Hersteller / Marke"},"Text","Solarmarkt GmbH"]
[null,null,{"$f":"'Anlagenartenkatalog UZH'!$B$43","v":"Starkstrominstallationen"},{"$f":"'Anlagenartenkatalog UZH'!$D$48","v":"Wechselrichter"},{"$f":"Hilfstabelle!$O$11","v":"Modell / Artikel"},"Text","Enphase Micro Wechselrichter - IQ8X - 80 - M - INT (384w) MC4"]
[null,null,{"$f":"'Anlagenartenkatalog UZH'!$B$43","v":"Starkstrominstallationen"},{"$f":"'Anlagenartenkatalog UZH'!$D$48","v":"Wechselrichter"},{"$f":"Hilfstabelle!$O$12","v":"Seriennummer"},"Text","2908347"]
[null,null,{"$f":"'Anlagenartenkatalog UZH'!$B$43","v":"Starkstrominstallationen"},{"$f":"'Anlagenartenkatalog UZH'!$D$48","v":"Wechselrichter"},{"$f":"Hilfstabelle!$O$13","v":"Servicefirma"},"Text","Solarmarkt GmbH"]
[null,null,{"$f":"'Anlagenartenkatalog UZH'!$B$43","v":"Starkstrominstallationen"},{"$f":"'Anlagenartenkatalog UZH'!$D$48","v":"Wechselrichter"},{"$f":"Hilfstabelle!$O$14","v":"Inbetriebnahmedatum"},"Text","06.06.2030"]
[null,null,{"$f":"'Anlagenartenkatalog UZH'!$B$43","v":"Starkstrominstallationen"},{"$f":"'Anlagenartenkatalog UZH'!$D$48","v":"Wechselrichter"},{"$f":"Hilfstabelle!$O$15","v":"Garantieende"},"Text","06.06.2035"]
[null,null,{"$f":"'Anlagenartenkatalog UZH'!$B$43","v":"Starkstrominstallationen"},{"$f":"'Anlagenartenkatalog UZH'!$D$48","v":"Wechselrichter"},{"$f":"Hilfstabelle!$O$16","v":"Erwartetes technisches Enddatum"},"Text","06.06.2045"]
[null,null,{"$f":"'Anlagenartenkatalog UZH'!$B$43","v":"Starkstrominstallationen"},{"$f":"'Anlagenartenkatalog UZH'!$D$48","v":"Wechselrichter"},{"$f":"Hilfstabelle!$O$17","v":"Anmerkung: Anzahl Wartungen pro Jahr"},"Text","Anzahl Wartungen pro Jahr: 1"]
[null,null,{"$f":"'Anlagenartenkatalog UZH'!$B$43","v":"Starkstrominstallationen"},{"$f":"'Anlagenartenkatalog UZH'!$D$49","v":"Elektro-Ladestationen"},{"$f":"Hilfstabelle!$O$3","v":"Code (MSRL-Code)"},"Text","KOL-§1234567890"]
[null,null,{"$f":"'Anlagenartenkatalog UZH'!$B$43","v":"Starkstrominstallationen"},{"$f":"'Anlagenartenkatalog UZH'!$D$49","v":"Elektro-Ladestationen"},{"$f":"Hilfstabelle!$O$4","v":"Bezeichnung"},"Text","Elektro-Ladestation",{"$f":"Hilfstabelle!$P$7","v":"Die Bezeichnung einer Anlage muss eindeutig sein, sofern mehrere Anlagen im gleichen Raum sind. "}]
[null,null,{"$f":"'Anlagenartenkatalog UZH'!$B$43","v":"Starkstrominstallationen"},{"$f":"'Anlagenartenkatalog UZH'!$D$49","v":"Elektro-Ladestationen"},{"$f":"Hilfstabelle!$O$5","v":"Anlagentyp (Beschreibung)"},"Text",null,{"$f":"Hilfstabelle!$P$8","v":"Verbindlich gemäss Anlagenartenkatalog"}]
[null,null,{"$f":"'Anlagenartenkatalog UZH'!$B$43","v":"Starkstrominstallationen"},{"$f":"'Anlagenartenkatalog UZH'!$D$49","v":"Elektro-Ladestationen"},{"$f":"Hilfstabelle!$O$6","v":"Artikelgruppe"},"Text","02.04.02"]
[null,null,{"$f":"'Anlagenartenkatalog UZH'!$B$43","v":"Starkstrominstallationen"},{"$f":"'Anlagenartenkatalog UZH'!$D$49","v":"Elektro-Ladestationen"},{"$f":"Hilfstabelle!$O$7","v":"Hauptanlage"},"Text","Ja"]
[null,null,{"$f":"'Anlagenartenkatalog UZH'!$B$43","v":"Starkstrominstallationen"},{"$f":"'Anlagenartenkatalog UZH'!$D$49","v":"Elektro-Ladestationen"},{"$f":"Hilfstabelle!$O$8","v":"Objekt"},"Text","KOL "]
[null,null,{"$f":"'Anlagenartenkatalog UZH'!$B$43","v":"Starkstrominstallationen"},{"$f":"'Anlagenartenkatalog UZH'!$D$49","v":"Elektro-Ladestationen"},{"$f":"Hilfstabelle!$O$9","v":"Raumkennzeichen"},"Text","D-15"]
[null,null,{"$f":"'Anlagenartenkatalog UZH'!$B$43","v":"Starkstrominstallationen"},{"$f":"'Anlagenartenkatalog UZH'!$D$49","v":"Elektro-Ladestationen"},{"$f":"Hilfstabelle!$O$10","v":"Hersteller / Marke"},"Text","Siemens Schweiz AG"]
[null,null,{"$f":"'Anlagenartenkatalog UZH'!$B$43","v":"Starkstrominstallationen"},{"$f":"'Anlagenartenkatalog UZH'!$D$49","v":"Elektro-Ladestationen"},{"$f":"Hilfstabelle!$O$11","v":"Modell / Artikel"},"Text","SICHARGE D"]
[null,null,{"$f":"'Anlagenartenkatalog UZH'!$B$43","v":"Starkstrominstallationen"},{"$f":"'Anlagenartenkatalog UZH'!$D$49","v":"Elektro-Ladestationen"},{"$f":"Hilfstabelle!$O$12","v":"Seriennummer"},"Text","2346457"]
[null,null,{"$f":"'Anlagenartenkatalog UZH'!$B$43","v":"Starkstrominstallationen"},{"$f":"'Anlagenartenkatalog UZH'!$D$49","v":"Elektro-Ladestationen"},{"$f":"Hilfstabelle!$O$13","v":"Servicefirma"},"Text","Siemens Schweiz AG"]
[null,null,{"$f":"'Anlagenartenkatalog UZH'!$B$43","v":"Starkstrominstallationen"},{"$f":"'Anlagenartenkatalog UZH'!$D$49","v":"Elektro-Ladestationen"},{"$f":"Hilfstabelle!$O$14","v":"Inbetriebnahmedatum"},"Text","06.06.2030"]
[null,null,{"$f":"'Anlagenartenkatalog UZH'!$B$43","v":"Starkstrominstallationen"},{"$f":"'Anlagenartenkatalog UZH'!$D$49","v":"Elektro-Ladestationen"},{"$f":"Hilfstabelle!$O$15","v":"Garantieende"},"Text","06.06.2035"]
[null,null,{"$f":"'Anlagenartenkatalog UZH'!$B$43","v":"Starkstrominstallationen"},{"$f":"'Anlagenartenkatalog UZH'!$D$49","v":"Elektro-Ladestationen"},{"$f":"Hilfstabelle!$O$16","v":"Erwartetes technisches Enddatum"},"Text","06.06.2045"]
[null,null,{"$f":"'Anlagenartenkatalog UZH'!$B$43","v":"Starkstrominstallationen"},{"$f":"'Anlagenartenkatalog UZH'!$D$49","v":"Elektro-Ladestationen"},"Anmerkung: Anwendungszweck","Text","Anwendungszweck: Elektroauto"]
[null,null,{"$f":"'Anlagenartenkatalog UZH'!$B$43","v":"Starkstrominstallationen"},{"$f":"'Anlagenartenkatalog UZH'!$D$49","v":"Elektro-Ladestationen"},"Anmerkung: Ladeleistung in [kW]","Text","Ladeleistung 400 kW"]
[null,null,{"$f":"'Anlagenartenkatalog UZH'!$B$43","v":"Starkstrominstallationen"},{"$f":"'Anlagenartenkatalog UZH'!$D$49","v":"Elektro-Ladestationen"},{"$f":"Hilfstabelle!$O$17","v":"Anmerkung: Anzahl Wartungen pro Jahr"},"Text","Anzahl Wartungen pro Jahr: 1"]
[null,null,{"$f":"'Anlagenartenkatalog UZH'!$B$43","v":"Starkstrominstallationen"},{"$f":"'Anlagenartenkatalog UZH'!$D$46","v":"Batterieanlage"},{"$f":"Hilfstabelle!$O$3","v":"Code (MSRL-Code)"},"Text","KOL-§1234567890"]
[null,null,{"$f":"'Anlagenartenkatalog UZH'!$B$43","v":"Starkstrominstallationen"},{"$f":"'Anlagenartenkatalog UZH'!$D$46","v":"Batterieanlage"},{"$f":"Hilfstabelle!$O$4","v":"Bezeichnung"},"Text","Batterieanlage",{"$f":"Hilfstabelle!$P$7","v":"Die Bezeichnung einer Anlage muss eindeutig sein, sofern mehrere Anlagen im gleichen Raum sind. "}]
[null,null,{"$f":"'Anlagenartenkatalog UZH'!$B$43","v":"Starkstrominstallationen"},{"$f":"'Anlagenartenkatalog UZH'!$D$46","v":"Batterieanlage"},{"$f":"Hilfstabelle!$O$5","v":"Anlagentyp (Beschreibung)"},"Text",null,{"$f":"Hilfstabelle!$P$8","v":"Verbindlich gemäss Anlagenartenkatalog"}]
[null,null,{"$f":"'Anlagenartenkatalog UZH'!$B$43","v":"Starkstrominstallationen"},{"$f":"'Anlagenartenkatalog UZH'!$D$46","v":"Batterieanlage"},{"$f":"Hilfstabelle!$O$6","v":"Artikelgruppe"},"Text",{"$f":"'Anlagenartenkatalog UZH'!$A$43","v":"02.04.02"}]
[null,null,{"$f":"'Anlagenartenkatalog UZH'!$B$43","v":"Starkstrominstallationen"},{"$f":"'Anlagenartenkatalog UZH'!$D$46","v":"Batterieanlage"},{"$f":"Hilfstabelle!$O$7","v":"Hauptanlage"},"Text"]
[null,null,{"$f":"'Anlagenartenkatalog UZH'!$B$43","v":"Starkstrominstallationen"},{"$f":"'Anlagenartenkatalog UZH'!$D$46","v":"Batterieanlage"},{"$f":"Hilfstabelle!$O$8","v":"Objekt"},"Text","KOL"]
[null,null,{"$f":"'Anlagenartenkatalog UZH'!$B$43","v":"Starkstrominstallationen"},{"$f":"'Anlagenartenkatalog UZH'!$D$46","v":"Batterieanlage"},{"$f":"Hilfstabelle!$O$9","v":"Raumkennzeichen"},"Text","D-29A"]
[null,null,{"$f":"'Anlagenartenkatalog UZH'!$B$43","v":"Starkstrominstallationen"},{"$f":"'Anlagenartenkatalog UZH'!$D$46","v":"Batterieanlage"},{"$f":"Hilfstabelle!$O$10","v":"Hersteller / Marke"},"Text","SEV GmbH"]
[null,null,{"$f":"'Anlagenartenkatalog UZH'!$B$43","v":"Starkstrominstallationen"},{"$f":"'Anlagenartenkatalog UZH'!$D$46","v":"Batterieanlage"},{"$f":"Hilfstabelle!$O$11","v":"Modell / Artikel"},"Text","HIMOINSA EHR 15/30"]
[null,null,{"$f":"'Anlagenartenkatalog UZH'!$B$43","v":"Starkstrominstallationen"},{"$f":"'Anlagenartenkatalog UZH'!$D$46","v":"Batterieanlage"},{"$f":"Hilfstabelle!$O$12","v":"Seriennummer"},"Text","20392345"]
[null,null,{"$f":"'Anlagenartenkatalog UZH'!$B$43","v":"Starkstrominstallationen"},{"$f":"'Anlagenartenkatalog UZH'!$D$46","v":"Batterieanlage"},{"$f":"Hilfstabelle!$O$13","v":"Servicefirma"},"Text","SEV GmbH",{"$f":"Hilfstabelle!$P$10","v":"Gemäss Offerte in Submission"}]
[null,null,{"$f":"'Anlagenartenkatalog UZH'!$B$43","v":"Starkstrominstallationen"},{"$f":"'Anlagenartenkatalog UZH'!$D$46","v":"Batterieanlage"},{"$f":"Hilfstabelle!$O$14","v":"Inbetriebnahmedatum"},"Text","06.06.2030"]
[null,null,{"$f":"'Anlagenartenkatalog UZH'!$B$43","v":"Starkstrominstallationen"},{"$f":"'Anlagenartenkatalog UZH'!$D$46","v":"Batterieanlage"},{"$f":"Hilfstabelle!$O$15","v":"Garantieende"},"Text","06.06.2035"]
[null,null,{"$f":"'Anlagenartenkatalog UZH'!$B$43","v":"Starkstrominstallationen"},{"$f":"'Anlagenartenkatalog UZH'!$D$46","v":"Batterieanlage"},{"$f":"Hilfstabelle!$O$16","v":"Erwartetes technisches Enddatum"},"Text","06.06.2045"]
[null,null,{"$f":"'Anlagenartenkatalog UZH'!$B$43","v":"Starkstrominstallationen"},{"$f":"'Anlagenartenkatalog UZH'!$D$46","v":"Batterieanlage"},"Anmerkung: Dauerleistung in [kVA]","Text","Dauerleistung: 15 kVA"]
[null,null,{"$f":"'Anlagenartenkatalog UZH'!$B$43","v":"Starkstrominstallationen"},{"$f":"'Anlagenartenkatalog UZH'!$D$46","v":"Batterieanlage"},"Anmerkung: Kapazität in [kWh]","Text","Kapazität: 28.4 kWh"]
[null,null,{"$f":"'Anlagenartenkatalog UZH'!$B$43","v":"Starkstrominstallationen"},{"$f":"'Anlagenartenkatalog UZH'!$D$46","v":"Batterieanlage"},{"$f":"Hilfstabelle!$O$17","v":"Anmerkung: Anzahl Wartungen pro Jahr"},"Text","Anzahl Wartungen pro Jahr: 1"]
[null,null,{"$f":"'Anlagenartenkatalog UZH'!$B$43","v":"Starkstrominstallationen"},{"$f":"'Anlagenartenkatalog UZH'!$D$45","v":"Generator"},{"$f":"Hilfstabelle!$O$3","v":"Code (MSRL-Code)"},"Text","KOL-§1234567890"]
[null,null,{"$f":"'Anlagenartenkatalog UZH'!$B$43","v":"Starkstrominstallationen"},{"$f":"'Anlagenartenkatalog UZH'!$D$45","v":"Generator"},{"$f":"Hilfstabelle!$O$4","v":"Bezeichnung"},"Text","Generator",{"$f":"Hilfstabelle!$P$7","v":"Die Bezeichnung einer Anlage muss eindeutig sein, sofern mehrere Anlagen im gleichen Raum sind. "}]
[null,null,{"$f":"'Anlagenartenkatalog UZH'!$B$43","v":"Starkstrominstallationen"},{"$f":"'Anlagenartenkatalog UZH'!$D$45","v":"Generator"},{"$f":"Hilfstabelle!$O$5","v":"Anlagentyp (Beschreibung)"},"Text",null,{"$f":"Hilfstabelle!$P$8","v":"Verbindlich gemäss Anlagenartenkatalog"}]
[null,null,{"$f":"'Anlagenartenkatalog UZH'!$B$43","v":"Starkstrominstallationen"},{"$f":"'Anlagenartenkatalog UZH'!$D$45","v":"Generator"},{"$f":"Hilfstabelle!$O$6","v":"Artikelgruppe"},"Text",{"$f":"'Anlagenartenkatalog UZH'!$A$43","v":"02.04.02"}]
[null,null,{"$f":"'Anlagenartenkatalog UZH'!$B$43","v":"Starkstrominstallationen"},{"$f":"'Anlagenartenkatalog UZH'!$D$45","v":"Generator"},{"$f":"Hilfstabelle!$O$7","v":"Hauptanlage"},"Text"]
[null,null,{"$f":"'Anlagenartenkatalog UZH'!$B$43","v":"Starkstrominstallationen"},{"$f":"'Anlagenartenkatalog UZH'!$D$45","v":"Generator"},{"$f":"Hilfstabelle!$O$8","v":"Objekt"},"Text","KOL"]
[null,null,{"$f":"'Anlagenartenkatalog UZH'!$B$43","v":"Starkstrominstallationen"},{"$f":"'Anlagenartenkatalog UZH'!$D$45","v":"Generator"},{"$f":"Hilfstabelle!$O$9","v":"Raumkennzeichen"},"Text","D-29A"]
[null,null,{"$f":"'Anlagenartenkatalog UZH'!$B$43","v":"Starkstrominstallationen"},{"$f":"'Anlagenartenkatalog UZH'!$D$45","v":"Generator"},{"$f":"Hilfstabelle!$O$10","v":"Hersteller / Marke"},"Text","SEV GmbH"]
[null,null,{"$f":"'Anlagenartenkatalog UZH'!$B$43","v":"Starkstrominstallationen"},{"$f":"'Anlagenartenkatalog UZH'!$D$45","v":"Generator"},{"$f":"Hilfstabelle!$O$11","v":"Modell / Artikel"},"Text","ITC POWER DG34KSE "]
[null,null,{"$f":"'Anlagenartenkatalog UZH'!$B$43","v":"Starkstrominstallationen"},{"$f":"'Anlagenartenkatalog UZH'!$D$45","v":"Generator"},{"$f":"Hilfstabelle!$O$12","v":"Seriennummer"},"Text","345678"]
[null,null,{"$f":"'Anlagenartenkatalog UZH'!$B$43","v":"Starkstrominstallationen"},{"$f":"'Anlagenartenkatalog UZH'!$D$45","v":"Generator"},{"$f":"Hilfstabelle!$O$13","v":"Servicefirma"},"Text","SEV GmbH",{"$f":"Hilfstabelle!$P$10","v":"Gemäss Offerte in Submission"}]
[null,null,{"$f":"'Anlagenartenkatalog UZH'!$B$43","v":"Starkstrominstallationen"},{"$f":"'Anlagenartenkatalog UZH'!$D$45","v":"Generator"},{"$f":"Hilfstabelle!$O$14","v":"Inbetriebnahmedatum"},"Text","06.06.2030"]
[null,null,{"$f":"'Anlagenartenkatalog UZH'!$B$43","v":"Starkstrominstallationen"},{"$f":"'Anlagenartenkatalog UZH'!$D$45","v":"Generator"},{"$f":"Hilfstabelle!$O$15","v":"Garantieende"},"Text","06.06.2035"]
[null,null,{"$f":"'Anlagenartenkatalog UZH'!$B$43","v":"Starkstrominstallationen"},{"$f":"'Anlagenartenkatalog UZH'!$D$45","v":"Generator"},{"$f":"Hilfstabelle!$O$16","v":"Erwartetes technisches Enddatum"},"Text","06.06.2045"]
[null,null,{"$f":"'Anlagenartenkatalog UZH'!$B$43","v":"Starkstrominstallationen"},{"$f":"'Anlagenartenkatalog UZH'!$D$45","v":"Generator"},"Anmerkung: Leistung in [kVA]","Text","Leistung: 500 kVA"]
[null,null,{"$f":"'Anlagenartenkatalog UZH'!$B$43","v":"Starkstrominstallationen"},{"$f":"'Anlagenartenkatalog UZH'!$D$45","v":"Generator"},"Anmerkung: Tank Volumen [l]","Text","Tank Volumen: 93 l"]
[null,null,{"$f":"'Anlagenartenkatalog UZH'!$B$43","v":"Starkstrominstallationen"},{"$f":"'Anlagenartenkatalog UZH'!$D$45","v":"Generator"},"Anmerkung: Autonomiezeit bei 50% Nennleistung in [h]","Text","Autonomiezeit bei 50% Nennleistung: 20.6 h"]
[null,null,{"$f":"'Anlagenartenkatalog UZH'!$B$43","v":"Starkstrominstallationen"},{"$f":"'Anlagenartenkatalog UZH'!$D$45","v":"Generator"},"Anmerkung: Meldepflicht Ja / Nein","Text","Meldepflicht: Ja"]
[null,null,{"$f":"'Anlagenartenkatalog UZH'!$B$43","v":"Starkstrominstallationen"},{"$f":"'Anlagenartenkatalog UZH'!$D$45","v":"Generator"},{"$f":"Hilfstabelle!$O$17","v":"Anmerkung: Anzahl Wartungen pro Jahr"},"Text","Anzahl Wartungen pro Jahr: 1 und monatlicher Check"]
[null,null,{"$f":"'Anlagenartenkatalog UZH'!$B$43","v":"Starkstrominstallationen"},{"$f":"'Anlagenartenkatalog UZH'!$D$44","v":"Netzersatzanlage (NEA)"},{"$f":"Hilfstabelle!$O$3","v":"Code (MSRL-Code)"},"Text","KOL-§1234567890"]
[null,null,{"$f":"'Anlagenartenkatalog UZH'!$B$43","v":"Starkstrominstallationen"},{"$f":"'Anlagenartenkatalog UZH'!$D$44","v":"Netzersatzanlage (NEA)"},{"$f":"Hilfstabelle!$O$4","v":"Bezeichnung"},"Text","Netzersatzanlage (NEA)",{"$f":"Hilfstabelle!$P$7","v":"Die Bezeichnung einer Anlage muss eindeutig sein, sofern mehrere Anlagen im gleichen Raum sind. "}]
[null,null,{"$f":"'Anlagenartenkatalog UZH'!$B$43","v":"Starkstrominstallationen"},{"$f":"'Anlagenartenkatalog UZH'!$D$44","v":"Netzersatzanlage (NEA)"},{"$f":"Hilfstabelle!$O$5","v":"Anlagentyp (Beschreibung)"},"Text",null,{"$f":"Hilfstabelle!$P$8","v":"Verbindlich gemäss Anlagenartenkatalog"}]
[null,null,{"$f":"'Anlagenartenkatalog UZH'!$B$43","v":"Starkstrominstallationen"},{"$f":"'Anlagenartenkatalog UZH'!$D$44","v":"Netzersatzanlage (NEA)"},{"$f":"Hilfstabelle!$O$6","v":"Artikelgruppe"},"Text",{"$f":"'Anlagenartenkatalog UZH'!$A$43","v":"02.04.02"}]
[null,null,{"$f":"'Anlagenartenkatalog UZH'!$B$43","v":"Starkstrominstallationen"},{"$f":"'Anlagenartenkatalog UZH'!$D$44","v":"Netzersatzanlage (NEA)"},{"$f":"Hilfstabelle!$O$7","v":"Hauptanlage"},"Text","ja"]
[null,null,{"$f":"'Anlagenartenkatalog UZH'!$B$43","v":"Starkstrominstallationen"},{"$f":"'Anlagenartenkatalog UZH'!$D$44","v":"Netzersatzanlage (NEA)"},{"$f":"Hilfstabelle!$O$8","v":"Objekt"},"Text","KOL"]
[null,null,{"$f":"'Anlagenartenkatalog UZH'!$B$43","v":"Starkstrominstallationen"},{"$f":"'Anlagenartenkatalog UZH'!$D$44","v":"Netzersatzanlage (NEA)"},{"$f":"Hilfstabelle!$O$9","v":"Raumkennzeichen"},"Text","D-29A"]
[null,null,{"$f":"'Anlagenartenkatalog UZH'!$B$43","v":"Starkstrominstallationen"},{"$f":"'Anlagenartenkatalog UZH'!$D$44","v":"Netzersatzanlage (NEA)"},{"$f":"Hilfstabelle!$O$10","v":"Hersteller / Marke"},"Text","Notstromtechnik-Clasen GmbH"]
[null,null,{"$f":"'Anlagenartenkatalog UZH'!$B$43","v":"Starkstrominstallationen"},{"$f":"'Anlagenartenkatalog UZH'!$D$44","v":"Netzersatzanlage (NEA)"},{"$f":"Hilfstabelle!$O$11","v":"Modell / Artikel"},"Text","-"]
[null,null,{"$f":"'Anlagenartenkatalog UZH'!$B$43","v":"Starkstrominstallationen"},{"$f":"'Anlagenartenkatalog UZH'!$D$44","v":"Netzersatzanlage (NEA)"},{"$f":"Hilfstabelle!$O$12","v":"Seriennummer"},"Text","-"]
[null,null,{"$f":"'Anlagenartenkatalog UZH'!$B$43","v":"Starkstrominstallationen"},{"$f":"'Anlagenartenkatalog UZH'!$D$44","v":"Netzersatzanlage (NEA)"},{"$f":"Hilfstabelle!$O$13","v":"Servicefirma"},"Text","Notstromtechnik-Clasen GmbH",{"$f":"Hilfstabelle!$P$10","v":"Gemäss Offerte in Submission"}]
[null,null,{"$f":"'Anlagenartenkatalog UZH'!$B$43","v":"Starkstrominstallationen"},{"$f":"'Anlagenartenkatalog UZH'!$D$44","v":"Netzersatzanlage (NEA)"},{"$f":"Hilfstabelle!$O$14","v":"Inbetriebnahmedatum"},"Text","06.06.2030"]
[null,null,{"$f":"'Anlagenartenkatalog UZH'!$B$43","v":"Starkstrominstallationen"},{"$f":"'Anlagenartenkatalog UZH'!$D$44","v":"Netzersatzanlage (NEA)"},{"$f":"Hilfstabelle!$O$15","v":"Garantieende"},"Text","06.06.2035"]
[null,null,{"$f":"'Anlagenartenkatalog UZH'!$B$43","v":"Starkstrominstallationen"},{"$f":"'Anlagenartenkatalog UZH'!$D$44","v":"Netzersatzanlage (NEA)"},{"$f":"Hilfstabelle!$O$16","v":"Erwartetes technisches Enddatum"},"Text","06.06.2045"]
[null,null,{"$f":"'Anlagenartenkatalog UZH'!$B$43","v":"Starkstrominstallationen"},{"$f":"'Anlagenartenkatalog UZH'!$D$44","v":"Netzersatzanlage (NEA)"},"Anmerkung: Leistung [kVA]","Text","Leistung: 1000 kVA"]
[null,null,{"$f":"'Anlagenartenkatalog UZH'!$B$43","v":"Starkstrominstallationen"},{"$f":"'Anlagenartenkatalog UZH'!$D$44","v":"Netzersatzanlage (NEA)"},{"$f":"Hilfstabelle!$O$17","v":"Anmerkung: Anzahl Wartungen pro Jahr"},"Text","Anzahl Wartungen pro Jahr: 1"]
[null,null,{"$f":"'Anlagenartenkatalog UZH'!$B$43","v":"Starkstrominstallationen"},{"$f":"'Anlagenartenkatalog UZH'!$D$43","v":"Kompensationsanlage"},{"$f":"Hilfstabelle!$O$3","v":"Code (MSRL-Code)"},"Text","KOL-US21-E002"]
[null,null,{"$f":"'Anlagenartenkatalog UZH'!$B$43","v":"Starkstrominstallationen"},{"$f":"'Anlagenartenkatalog UZH'!$D$43","v":"Kompensationsanlage"},{"$f":"Hilfstabelle!$O$4","v":"Bezeichnung"},"Text","Kompensationsanlage",{"$f":"Hilfstabelle!$P$7","v":"Die Bezeichnung einer Anlage muss eindeutig sein, sofern mehrere Anlagen im gleichen Raum sind. "}]
[null,null,{"$f":"'Anlagenartenkatalog UZH'!$B$43","v":"Starkstrominstallationen"},{"$f":"'Anlagenartenkatalog UZH'!$D$43","v":"Kompensationsanlage"},{"$f":"Hilfstabelle!$O$5","v":"Anlagentyp (Beschreibung)"},"Text",null,{"$f":"Hilfstabelle!$P$8","v":"Verbindlich gemäss Anlagenartenkatalog"}]
[null,null,{"$f":"'Anlagenartenkatalog UZH'!$B$43","v":"Starkstrominstallationen"},{"$f":"'Anlagenartenkatalog UZH'!$D$43","v":"Kompensationsanlage"},{"$f":"Hilfstabelle!$O$6","v":"Artikelgruppe"},"Text",{"$f":"'Anlagenartenkatalog UZH'!$A$43","v":"02.04.02"}]
[null,null,{"$f":"'Anlagenartenkatalog UZH'!$B$43","v":"Starkstrominstallationen"},{"$f":"'Anlagenartenkatalog UZH'!$D$43","v":"Kompensationsanlage"},{"$f":"Hilfstabelle!$O$7","v":"Hauptanlage"},"Text","Ja"]
[null,null,{"$f":"'Anlagenartenkatalog UZH'!$B$43","v":"Starkstrominstallationen"},{"$f":"'Anlagenartenkatalog UZH'!$D$43","v":"Kompensationsanlage"},{"$f":"Hilfstabelle!$O$8","v":"Objekt"},"Text","KOL"]
[null,null,{"$f":"'Anlagenartenkatalog UZH'!$B$43","v":"Starkstrominstallationen"},{"$f":"'Anlagenartenkatalog UZH'!$D$43","v":"Kompensationsanlage"},{"$f":"Hilfstabelle!$O$9","v":"Raumkennzeichen"},"Text","D-29A"]
[null,null,{"$f":"'Anlagenartenkatalog UZH'!$B$43","v":"Starkstrominstallationen"},{"$f":"'Anlagenartenkatalog UZH'!$D$43","v":"Kompensationsanlage"},{"$f":"Hilfstabelle!$O$10","v":"Hersteller / Marke"},"Text","ESKAP GmbH"]
[null,null,{"$f":"'Anlagenartenkatalog UZH'!$B$43","v":"Starkstrominstallationen"},{"$f":"'Anlagenartenkatalog UZH'!$D$43","v":"Kompensationsanlage"},{"$f":"Hilfstabelle!$O$11","v":"Modell / Artikel"},"Text","KRF"]
[null,null,{"$f":"'Anlagenartenkatalog UZH'!$B$43","v":"Starkstrominstallationen"},{"$f":"'Anlagenartenkatalog UZH'!$D$43","v":"Kompensationsanlage"},{"$f":"Hilfstabelle!$O$12","v":"Seriennummer"},"Text","02379840"]
[null,null,{"$f":"'Anlagenartenkatalog UZH'!$B$43","v":"Starkstrominstallationen"},{"$f":"'Anlagenartenkatalog UZH'!$D$43","v":"Kompensationsanlage"},{"$f":"Hilfstabelle!$O$13","v":"Servicefirma"},"Text","ESKAP GmbH",{"$f":"Hilfstabelle!$P$10","v":"Gemäss Offerte in Submission"}]
[null,null,{"$f":"'Anlagenartenkatalog UZH'!$B$43","v":"Starkstrominstallationen"},{"$f":"'Anlagenartenkatalog UZH'!$D$43","v":"Kompensationsanlage"},{"$f":"Hilfstabelle!$O$14","v":"Inbetriebnahmedatum"},"Text","06.06.2030"]
[null,null,{"$f":"'Anlagenartenkatalog UZH'!$B$43","v":"Starkstrominstallationen"},{"$f":"'Anlagenartenkatalog UZH'!$D$43","v":"Kompensationsanlage"},{"$f":"Hilfstabelle!$O$15","v":"Garantieende"},"Text","06.06.2035"]
[null,null,{"$f":"'Anlagenartenkatalog UZH'!$B$43","v":"Starkstrominstallationen"},{"$f":"'Anlagenartenkatalog UZH'!$D$43","v":"Kompensationsanlage"},{"$f":"Hilfstabelle!$O$16","v":"Erwartetes technisches Enddatum"},"Text","06.06.2045"]
[null,null,{"$f":"'Anlagenartenkatalog UZH'!$B$43","v":"Starkstrominstallationen"},{"$f":"'Anlagenartenkatalog UZH'!$D$43","v":"Kompensationsanlage"},{"$f":"Hilfstabelle!$O$17","v":"Anmerkung: Anzahl Wartungen pro Jahr"},"Text","Anzahl Wartungen pro Jahr: 1"]
[null,null,{"$f":"'Anlagenartenkatalog UZH'!$B$11","v":"Storen- / Beschattungsanlagen"},{"$f":"'Anlagenartenkatalog UZH'!$D$11","v":"Beschattungssteuerungsanlage"},{"$f":"Hilfstabelle!$O$3","v":"Code (MSRL-Code)"},"Text","KOL-§1234567890"]
[null,null,{"$f":"'Anlagenartenkatalog UZH'!$B$11","v":"Storen- / Beschattungsanlagen"},{"$f":"'Anlagenartenkatalog UZH'!$D$11","v":"Beschattungssteuerungsanlage"},{"$f":"Hilfstabelle!$O$4","v":"Bezeichnung"},"Text",{"$f":"'Anlagenartenkatalog UZH'!$D$11","v":"Beschattungssteuerungsanlage"},{"$f":"Hilfstabelle!$P$7","v":"Die Bezeichnung einer Anlage muss eindeutig sein, sofern mehrere Anlagen im gleichen Raum sind. "}]
[null,null,{"$f":"'Anlagenartenkatalog UZH'!$B$11","v":"Storen- / Beschattungsanlagen"},{"$f":"'Anlagenartenkatalog UZH'!$D$11","v":"Beschattungssteuerungsanlage"},{"$f":"Hilfstabelle!$O$5","v":"Anlagentyp (Beschreibung)"},"Text",null,{"$f":"Hilfstabelle!$P$8","v":"Verbindlich gemäss Anlagenartenkatalog"}]
[null,null,{"$f":"'Anlagenartenkatalog UZH'!$B$11","v":"Storen- / Beschattungsanlagen"},{"$f":"'Anlagenartenkatalog UZH'!$D$11","v":"Beschattungssteuerungsanlage"},{"$f":"Hilfstabelle!$O$6","v":"Artikelgruppe"},"Text","01.02.07"]
[null,null,{"$f":"'Anlagenartenkatalog UZH'!$B$11","v":"Storen- / Beschattungsanlagen"},{"$f":"'Anlagenartenkatalog UZH'!$D$11","v":"Beschattungssteuerungsanlage"},{"$f":"Hilfstabelle!$O$7","v":"Hauptanlage"},"Text","Ja"]
[null,null,{"$f":"'Anlagenartenkatalog UZH'!$B$11","v":"Storen- / Beschattungsanlagen"},{"$f":"'Anlagenartenkatalog UZH'!$D$11","v":"Beschattungssteuerungsanlage"},{"$f":"Hilfstabelle!$O$8","v":"Objekt"},"Text","KOL"]
[null,null,{"$f":"'Anlagenartenkatalog UZH'!$B$11","v":"Storen- / Beschattungsanlagen"},{"$f":"'Anlagenartenkatalog UZH'!$D$11","v":"Beschattungssteuerungsanlage"},{"$f":"Hilfstabelle!$O$9","v":"Raumkennzeichen"},"Text","E-23"]
[null,null,{"$f":"'Anlagenartenkatalog UZH'!$B$11","v":"Storen- / Beschattungsanlagen"},{"$f":"'Anlagenartenkatalog UZH'!$D$11","v":"Beschattungssteuerungsanlage"},{"$f":"Hilfstabelle!$O$10","v":"Hersteller / Marke"},"Text","Schenker Storen AG"]
[null,null,{"$f":"'Anlagenartenkatalog UZH'!$B$11","v":"Storen- / Beschattungsanlagen"},{"$f":"'Anlagenartenkatalog UZH'!$D$11","v":"Beschattungssteuerungsanlage"},{"$f":"Hilfstabelle!$O$11","v":"Modell / Artikel"},"Text","-"]
[null,null,{"$f":"'Anlagenartenkatalog UZH'!$B$11","v":"Storen- / Beschattungsanlagen"},{"$f":"'Anlagenartenkatalog UZH'!$D$11","v":"Beschattungssteuerungsanlage"},{"$f":"Hilfstabelle!$O$12","v":"Seriennummer"},"Text","-"]
[null,null,{"$f":"'Anlagenartenkatalog UZH'!$B$11","v":"Storen- / Beschattungsanlagen"},{"$f":"'Anlagenartenkatalog UZH'!$D$11","v":"Beschattungssteuerungsanlage"},{"$f":"Hilfstabelle!$O$13","v":"Servicefirma"},"Text","Schenker Storen AG",{"$f":"Hilfstabelle!$P$10","v":"Gemäss Offerte in Submission"}]
[null,null,{"$f":"'Anlagenartenkatalog UZH'!$B$11","v":"Storen- / Beschattungsanlagen"},{"$f":"'Anlagenartenkatalog UZH'!$D$11","v":"Beschattungssteuerungsanlage"},{"$f":"Hilfstabelle!$O$14","v":"Inbetriebnahmedatum"},"Text","06.06.2030"]
[null,null,{"$f":"'Anlagenartenkatalog UZH'!$B$11","v":"Storen- / Beschattungsanlagen"},{"$f":"'Anlagenartenkatalog UZH'!$D$11","v":"Beschattungssteuerungsanlage"},{"$f":"Hilfstabelle!$O$15","v":"Garantieende"},"Text","06.06.2035"]
[null,null,{"$f":"'Anlagenartenkatalog UZH'!$B$11","v":"Storen- / Beschattungsanlagen"},{"$f":"'Anlagenartenkatalog UZH'!$D$11","v":"Beschattungssteuerungsanlage"},{"$f":"Hilfstabelle!$O$16","v":"Erwartetes technisches Enddatum"},"Text","06.06.2045"]
[null,null,{"$f":"'Anlagenartenkatalog UZH'!$B$11","v":"Storen- / Beschattungsanlagen"},{"$f":"'Anlagenartenkatalog UZH'!$D$11","v":"Beschattungssteuerungsanlage"},"Anmerkung: Gebäudeautomation","Text","Gebäudeautomation: KNX"]
[null,null,{"$f":"'Anlagenartenkatalog UZH'!$B$11","v":"Storen- / Beschattungsanlagen"},{"$f":"'Anlagenartenkatalog UZH'!$D$11","v":"Beschattungssteuerungsanlage"},{"$f":"Hilfstabelle!$O$17","v":"Anmerkung: Anzahl Wartungen pro Jahr"},"Text","Anzahl Wartungen pro Jahr: 1"]
[null,null,{"$f":"'Anlagenartenkatalog UZH'!$B$2","v":"Türen, Tore, Abschlüsse "},{"$f":"'Anlagenartenkatalog UZH'!$D$2","v":"Türe/Tor Fluchtweg"},{"$f":"Hilfstabelle!$O$3","v":"Code (MSRL-Code)"},"Text","KOL-D-43B.01",{"$f":"Hilfstabelle!$P$6","v":"= Türcode (gemäss Bauwerksdokumentationsrichtlinie)"}]
[null,null,{"$f":"'Anlagenartenkatalog UZH'!$B$2","v":"Türen, Tore, Abschlüsse "},{"$f":"'Anlagenartenkatalog UZH'!$D$2","v":"Türe/Tor Fluchtweg"},{"$f":"Hilfstabelle!$O$4","v":"Bezeichnung"},"Text","Türe/Tor Fluchtweg",{"$f":"Hilfstabelle!$P$4","v":"= Anlagentyp (Eindeutige Identifikation erfolgt über Türcode)"}]
[null,null,{"$f":"'Anlagenartenkatalog UZH'!$B$2","v":"Türen, Tore, Abschlüsse "},{"$f":"'Anlagenartenkatalog UZH'!$D$2","v":"Türe/Tor Fluchtweg"},{"$f":"Hilfstabelle!$O$5","v":"Anlagentyp (Beschreibung)"},"Text",null,{"$f":"Hilfstabelle!$P$8","v":"Verbindlich gemäss Anlagenartenkatalog"}]
[null,null,{"$f":"'Anlagenartenkatalog UZH'!$B$2","v":"Türen, Tore, Abschlüsse "},{"$f":"'Anlagenartenkatalog UZH'!$D$2","v":"Türe/Tor Fluchtweg"},{"$f":"Hilfstabelle!$O$6","v":"Artikelgruppe"},"Text","01.02.04"]
[null,null,{"$f":"'Anlagenartenkatalog UZH'!$B$2","v":"Türen, Tore, Abschlüsse "},{"$f":"'Anlagenartenkatalog UZH'!$D$2","v":"Türe/Tor Fluchtweg"},{"$f":"Hilfstabelle!$O$7","v":"Hauptanlage"},"Text","Ja, Gruppe",{"$f":"Hilfstabelle!$P$5","v":"Gruppe - Sicherheitsrelevante Türen und Tore, ggf. pro Etage"}]
[null,null,{"$f":"'Anlagenartenkatalog UZH'!$B$2","v":"Türen, Tore, Abschlüsse "},{"$f":"'Anlagenartenkatalog UZH'!$D$2","v":"Türe/Tor Fluchtweg"},{"$f":"Hilfstabelle!$O$8","v":"Objekt"},"Text","KOL"]
[null,null,{"$f":"'Anlagenartenkatalog UZH'!$B$2","v":"Türen, Tore, Abschlüsse "},{"$f":"'Anlagenartenkatalog UZH'!$D$2","v":"Türe/Tor Fluchtweg"},{"$f":"Hilfstabelle!$O$9","v":"Raumkennzeichen"},"Text","D-43B"]
[null,null,{"$f":"'Anlagenartenkatalog UZH'!$B$2","v":"Türen, Tore, Abschlüsse "},{"$f":"'Anlagenartenkatalog UZH'!$D$2","v":"Türe/Tor Fluchtweg"},{"$f":"Hilfstabelle!$O$10","v":"Hersteller / Marke"},"Text","4B AG"]
[null,null,{"$f":"'Anlagenartenkatalog UZH'!$B$2","v":"Türen, Tore, Abschlüsse "},{"$f":"'Anlagenartenkatalog UZH'!$D$2","v":"Türe/Tor Fluchtweg"},{"$f":"Hilfstabelle!$O$11","v":"Modell / Artikel"},"Text","Türe","Weitere Beispiele: Schiebetüre, Schiebetor, Türe, Tor"]
[null,null,{"$f":"'Anlagenartenkatalog UZH'!$B$2","v":"Türen, Tore, Abschlüsse "},{"$f":"'Anlagenartenkatalog UZH'!$D$2","v":"Türe/Tor Fluchtweg"},{"$f":"Hilfstabelle!$O$12","v":"Seriennummer"},"Text","-"]
[null,null,{"$f":"'Anlagenartenkatalog UZH'!$B$2","v":"Türen, Tore, Abschlüsse "},{"$f":"'Anlagenartenkatalog UZH'!$D$2","v":"Türe/Tor Fluchtweg"},{"$f":"Hilfstabelle!$O$13","v":"Servicefirma"},"Text","4B AG",{"$f":"Hilfstabelle!$P$10","v":"Gemäss Offerte in Submission"}]
[null,null,{"$f":"'Anlagenartenkatalog UZH'!$B$2","v":"Türen, Tore, Abschlüsse "},{"$f":"'Anlagenartenkatalog UZH'!$D$2","v":"Türe/Tor Fluchtweg"},{"$f":"Hilfstabelle!$O$14","v":"Inbetriebnahmedatum"},"Text","06.06.2030"]
[null,null,{"$f":"'Anlagenartenkatalog UZH'!$B$2","v":"Türen, Tore, Abschlüsse "},{"$f":"'Anlagenartenkatalog UZH'!$D$2","v":"Türe/Tor Fluchtweg"},{"$f":"Hilfstabelle!$O$15","v":"Garantieende"},"Text","06.06.2035"]
[null,null,{"$f":"'Anlagenartenkatalog UZH'!$B$2","v":"Türen, Tore, Abschlüsse "},{"$f":"'Anlagenartenkatalog UZH'!$D$2","v":"Türe/Tor Fluchtweg"},{"$f":"Hilfstabelle!$O$16","v":"Erwartetes technisches Enddatum"},"Text","06.06.2045"]
[null,null,{"$f":"'Anlagenartenkatalog UZH'!$B$2","v":"Türen, Tore, Abschlüsse "},{"$f":"'Anlagenartenkatalog UZH'!$D$2","v":"Türe/Tor Fluchtweg"},{"$f":"Hilfstabelle!$O$18","v":"Anmerkung: Gebäudehülle Ja / Nein"},"Text","Gebäudehülle: Nein"]
[null,null,{"$f":"'Anlagenartenkatalog UZH'!$B$2","v":"Türen, Tore, Abschlüsse "},{"$f":"'Anlagenartenkatalog UZH'!$D$2","v":"Türe/Tor Fluchtweg"},{"$f":"Hilfstabelle!$O$17","v":"Anmerkung: Anzahl Wartungen pro Jahr"},"Text","Anzahl Wartungen pro Jahr: 1"]
[null,null,{"$f":"'Anlagenartenkatalog UZH'!$B$2","v":"Türen, Tore, Abschlüsse "},{"$f":"'Anlagenartenkatalog UZH'!$D$4","v":"Türe/Tor Brandschutz"},{"$f":"Hilfstabelle!$O$3","v":"Code (MSRL-Code)"},"Text","KOL-C-2.01",{"$f":"Hilfstabelle!$P$6","v":"= Türcode (gemäss Bauwerksdokumentationsrichtlinie)"}]
[null,null,{"$f":"'Anlagenartenkatalog UZH'!$B$2","v":"Türen, Tore, Abschlüsse "},{"$f":"'Anlagenartenkatalog UZH'!$D$4","v":"Türe/Tor Brandschutz"},{"$f":"Hilfstabelle!$O$4","v":"Bezeichnung"},"Text","Türe/Tor Brandschutz",{"$f":"Hilfstabelle!$P$4","v":"= Anlagentyp (Eindeutige Identifikation erfolgt über Türcode)"}]
[null,null,{"$f":"'Anlagenartenkatalog UZH'!$B$2","v":"Türen, Tore, Abschlüsse "},{"$f":"'Anlagenartenkatalog UZH'!$D$4","v":"Türe/Tor Brandschutz"},{"$f":"Hilfstabelle!$O$5","v":"Anlagentyp (Beschreibung)"},"Text",null,{"$f":"Hilfstabelle!$P$8","v":"Verbindlich gemäss Anlagenartenkatalog"}]
[null,null,{"$f":"'Anlagenartenkatalog UZH'!$B$2","v":"Türen, Tore, Abschlüsse "},{"$f":"'Anlagenartenkatalog UZH'!$D$4","v":"Türe/Tor Brandschutz"},{"$f":"Hilfstabelle!$O$6","v":"Artikelgruppe"},"Text","01.02.04"]
[null,null,{"$f":"'Anlagenartenkatalog UZH'!$B$2","v":"Türen, Tore, Abschlüsse "},{"$f":"'Anlagenartenkatalog UZH'!$D$4","v":"Türe/Tor Brandschutz"},{"$f":"Hilfstabelle!$O$7","v":"Hauptanlage"},"Text","Ja, Gruppe",{"$f":"Hilfstabelle!$P$5","v":"Gruppe - Sicherheitsrelevante Türen und Tore, ggf. pro Etage"}]
[null,null,{"$f":"'Anlagenartenkatalog UZH'!$B$2","v":"Türen, Tore, Abschlüsse "},{"$f":"'Anlagenartenkatalog UZH'!$D$4","v":"Türe/Tor Brandschutz"},{"$f":"Hilfstabelle!$O$8","v":"Objekt"},"Text","KOL"]
[null,null,{"$f":"'Anlagenartenkatalog UZH'!$B$2","v":"Türen, Tore, Abschlüsse "},{"$f":"'Anlagenartenkatalog UZH'!$D$4","v":"Türe/Tor Brandschutz"},{"$f":"Hilfstabelle!$O$9","v":"Raumkennzeichen"},"Text","C-2"]
[null,null,{"$f":"'Anlagenartenkatalog UZH'!$B$2","v":"Türen, Tore, Abschlüsse "},{"$f":"'Anlagenartenkatalog UZH'!$D$4","v":"Türe/Tor Brandschutz"},{"$f":"Hilfstabelle!$O$10","v":"Hersteller / Marke"},"Text","RIWAG Türen AG"]
[null,null,{"$f":"'Anlagenartenkatalog UZH'!$B$2","v":"Türen, Tore, Abschlüsse "},{"$f":"'Anlagenartenkatalog UZH'!$D$4","v":"Türe/Tor Brandschutz"},{"$f":"Hilfstabelle!$O$11","v":"Modell / Artikel"},"Text","Türe","Weitere Beispiele: Schiebetüre, Schiebetor, Türe, Tor"]
[null,null,{"$f":"'Anlagenartenkatalog UZH'!$B$2","v":"Türen, Tore, Abschlüsse "},{"$f":"'Anlagenartenkatalog UZH'!$D$4","v":"Türe/Tor Brandschutz"},{"$f":"Hilfstabelle!$O$12","v":"Seriennummer"},"Text","-"]
[null,null,{"$f":"'Anlagenartenkatalog UZH'!$B$2","v":"Türen, Tore, Abschlüsse "},{"$f":"'Anlagenartenkatalog UZH'!$D$4","v":"Türe/Tor Brandschutz"},{"$f":"Hilfstabelle!$O$13","v":"Servicefirma"},"Text","RIWAG Türen AG",{"$f":"Hilfstabelle!$P$10","v":"Gemäss Offerte in Submission"}]
[null,null,{"$f":"'Anlagenartenkatalog UZH'!$B$2","v":"Türen, Tore, Abschlüsse "},{"$f":"'Anlagenartenkatalog UZH'!$D$4","v":"Türe/Tor Brandschutz"},{"$f":"Hilfstabelle!$O$14","v":"Inbetriebnahmedatum"},"Text","06.06.2030"]
[null,null,{"$f":"'Anlagenartenkatalog UZH'!$B$2","v":"Türen, Tore, Abschlüsse "},{"$f":"'Anlagenartenkatalog UZH'!$D$4","v":"Türe/Tor Brandschutz"},{"$f":"Hilfstabelle!$O$15","v":"Garantieende"},"Text","06.06.2035"]
[null,null,{"$f":"'Anlagenartenkatalog UZH'!$B$2","v":"Türen, Tore, Abschlüsse "},{"$f":"'Anlagenartenkatalog UZH'!$D$4","v":"Türe/Tor Brandschutz"},{"$f":"Hilfstabelle!$O$16","v":"Erwartetes technisches Enddatum"},"Text","06.06.2045"]
[null,null,{"$f":"'Anlagenartenkatalog UZH'!$B$2","v":"Türen, Tore, Abschlüsse "},{"$f":"'Anlagenartenkatalog UZH'!$D$4","v":"Türe/Tor Brandschutz"},{"$f":"Hilfstabelle!$O$18","v":"Anmerkung: Gebäudehülle Ja / Nein"},"Text","Gebäudehülle: Nein"]
[null,null,{"$f":"'Anlagenartenkatalog UZH'!$B$2","v":"Türen, Tore, Abschlüsse "},{"$f":"'Anlagenartenkatalog UZH'!$D$4","v":"Türe/Tor Brandschutz"},{"$f":"Hilfstabelle!$O$17","v":"Anmerkung: Anzahl Wartungen pro Jahr"},"Text","Anzahl Wartungen pro Jahr: 1"]
[null,null,{"$f":"'Anlagenartenkatalog UZH'!$B$2","v":"Türen, Tore, Abschlüsse "},{"$f":"'Anlagenartenkatalog UZH'!$D$3","v":"Türe/Tor Fluchtweg kraftbetätigt"},{"$f":"Hilfstabelle!$O$3","v":"Code (MSRL-Code)"},"Text","KOL-D-42B.03",{"$f":"Hilfstabelle!$P$6","v":"= Türcode (gemäss Bauwerksdokumentationsrichtlinie)"}]
[null,null,{"$f":"'Anlagenartenkatalog UZH'!$B$2","v":"Türen, Tore, Abschlüsse "},{"$f":"'Anlagenartenkatalog UZH'!$D$3","v":"Türe/Tor Fluchtweg kraftbetätigt"},{"$f":"Hilfstabelle!$O$4","v":"Bezeichnung"},"Text","Türe/Tor Fluchtweg kraftbetätigt Haupteingang Mitte",{"$f":"Hilfstabelle!$P$4","v":"= Anlagentyp (Eindeutige Identifikation erfolgt über Türcode)"}]
[null,null,{"$f":"'Anlagenartenkatalog UZH'!$B$2","v":"Türen, Tore, Abschlüsse "},{"$f":"'Anlagenartenkatalog UZH'!$D$3","v":"Türe/Tor Fluchtweg kraftbetätigt"},{"$f":"Hilfstabelle!$O$5","v":"Anlagentyp (Beschreibung)"},"Text",null,{"$f":"Hilfstabelle!$P$8","v":"Verbindlich gemäss Anlagenartenkatalog"}]
[null,null,{"$f":"'Anlagenartenkatalog UZH'!$B$2","v":"Türen, Tore, Abschlüsse "},{"$f":"'Anlagenartenkatalog UZH'!$D$3","v":"Türe/Tor Fluchtweg kraftbetätigt"},{"$f":"Hilfstabelle!$O$6","v":"Artikelgruppe"},"Text","01.02.04"]
[null,null,{"$f":"'Anlagenartenkatalog UZH'!$B$2","v":"Türen, Tore, Abschlüsse "},{"$f":"'Anlagenartenkatalog UZH'!$D$3","v":"Türe/Tor Fluchtweg kraftbetätigt"},{"$f":"Hilfstabelle!$O$7","v":"Hauptanlage"},"Text","Ja, Gruppe",{"$f":"Hilfstabelle!$P$5","v":"Gruppe - Sicherheitsrelevante Türen und Tore, ggf. pro Etage"}]
[null,null,{"$f":"'Anlagenartenkatalog UZH'!$B$2","v":"Türen, Tore, Abschlüsse "},{"$f":"'Anlagenartenkatalog UZH'!$D$3","v":"Türe/Tor Fluchtweg kraftbetätigt"},{"$f":"Hilfstabelle!$O$8","v":"Objekt"},"Text","KOL"]
[null,null,{"$f":"'Anlagenartenkatalog UZH'!$B$2","v":"Türen, Tore, Abschlüsse "},{"$f":"'Anlagenartenkatalog UZH'!$D$3","v":"Türe/Tor Fluchtweg kraftbetätigt"},{"$f":"Hilfstabelle!$O$9","v":"Raumkennzeichen"},"Text","D-42B"]
[null,null,{"$f":"'Anlagenartenkatalog UZH'!$B$2","v":"Türen, Tore, Abschlüsse "},{"$f":"'Anlagenartenkatalog UZH'!$D$3","v":"Türe/Tor Fluchtweg kraftbetätigt"},{"$f":"Hilfstabelle!$O$10","v":"Hersteller / Marke"},"Text","Record Türautomation AG"]
[null,null,{"$f":"'Anlagenartenkatalog UZH'!$B$2","v":"Türen, Tore, Abschlüsse "},{"$f":"'Anlagenartenkatalog UZH'!$D$3","v":"Türe/Tor Fluchtweg kraftbetätigt"},{"$f":"Hilfstabelle!$O$11","v":"Modell / Artikel"},"Text","Schiebetüre","Weitere Beispiele: Schiebetüre, Schiebetor, Türe, Tor"]
[null,null,{"$f":"'Anlagenartenkatalog UZH'!$B$2","v":"Türen, Tore, Abschlüsse "},{"$f":"'Anlagenartenkatalog UZH'!$D$3","v":"Türe/Tor Fluchtweg kraftbetätigt"},{"$f":"Hilfstabelle!$O$12","v":"Seriennummer"},"Text","1547014-10"]
[null,null,{"$f":"'Anlagenartenkatalog UZH'!$B$2","v":"Türen, Tore, Abschlüsse "},{"$f":"'Anlagenartenkatalog UZH'!$D$3","v":"Türe/Tor Fluchtweg kraftbetätigt"},{"$f":"Hilfstabelle!$O$13","v":"Servicefirma"},"Text","Record Türautomation AG",{"$f":"Hilfstabelle!$P$10","v":"Gemäss Offerte in Submission"}]
[null,null,{"$f":"'Anlagenartenkatalog UZH'!$B$2","v":"Türen, Tore, Abschlüsse "},{"$f":"'Anlagenartenkatalog UZH'!$D$3","v":"Türe/Tor Fluchtweg kraftbetätigt"},{"$f":"Hilfstabelle!$O$14","v":"Inbetriebnahmedatum"},"Text","06.06.2030"]
[null,null,{"$f":"'Anlagenartenkatalog UZH'!$B$2","v":"Türen, Tore, Abschlüsse "},{"$f":"'Anlagenartenkatalog UZH'!$D$3","v":"Türe/Tor Fluchtweg kraftbetätigt"},{"$f":"Hilfstabelle!$O$15","v":"Garantieende"},"Text","06.06.2035"]
[null,null,{"$f":"'Anlagenartenkatalog UZH'!$B$2","v":"Türen, Tore, Abschlüsse "},{"$f":"'Anlagenartenkatalog UZH'!$D$3","v":"Türe/Tor Fluchtweg kraftbetätigt"},{"$f":"Hilfstabelle!$O$16","v":"Erwartetes technisches Enddatum"},"Text","06.06.2045"]
[null,null,{"$f":"'Anlagenartenkatalog UZH'!$B$2","v":"Türen, Tore, Abschlüsse "},{"$f":"'Anlagenartenkatalog UZH'!$D$3","v":"Türe/Tor Fluchtweg kraftbetätigt"},{"$f":"Hilfstabelle!$O$18","v":"Anmerkung: Gebäudehülle Ja / Nein"},"Text","Gebäudehülle: Ja"]
[null,null,{"$f":"'Anlagenartenkatalog UZH'!$B$2","v":"Türen, Tore, Abschlüsse "},{"$f":"'Anlagenartenkatalog UZH'!$D$3","v":"Türe/Tor Fluchtweg kraftbetätigt"},{"$f":"Hilfstabelle!$O$17","v":"Anmerkung: Anzahl Wartungen pro Jahr"},"Text","Anzahl Wartungen pro Jahr: 1"]
[null,null,{"$f":"'Anlagenartenkatalog UZH'!$B$2","v":"Türen, Tore, Abschlüsse "},{"$f":"'Anlagenartenkatalog UZH'!$D$5","v":"Türe/Tor Brandschutz kraftbetätigt"},{"$f":"Hilfstabelle!$O$3","v":"Code (MSRL-Code)"},"Text","KOL-D-40.2",{"$f":"Hilfstabelle!$P$6","v":"= Türcode (gemäss Bauwerksdokumentationsrichtlinie)"}]
[null,null,{"$f":"'Anlagenartenkatalog UZH'!$B$2","v":"Türen, Tore, Abschlüsse "},{"$f":"'Anlagenartenkatalog UZH'!$D$5","v":"Türe/Tor Brandschutz kraftbetätigt"},{"$f":"Hilfstabelle!$O$4","v":"Bezeichnung"},"Text","Türe/Tor Brandschutz kraftbetätigt",{"$f":"Hilfstabelle!$P$4","v":"= Anlagentyp (Eindeutige Identifikation erfolgt über Türcode)"}]
[null,null,{"$f":"'Anlagenartenkatalog UZH'!$B$2","v":"Türen, Tore, Abschlüsse "},{"$f":"'Anlagenartenkatalog UZH'!$D$5","v":"Türe/Tor Brandschutz kraftbetätigt"},{"$f":"Hilfstabelle!$O$5","v":"Anlagentyp (Beschreibung)"},"Text",null,{"$f":"Hilfstabelle!$P$8","v":"Verbindlich gemäss Anlagenartenkatalog"}]
[null,null,{"$f":"'Anlagenartenkatalog UZH'!$B$2","v":"Türen, Tore, Abschlüsse "},{"$f":"'Anlagenartenkatalog UZH'!$D$5","v":"Türe/Tor Brandschutz kraftbetätigt"},{"$f":"Hilfstabelle!$O$6","v":"Artikelgruppe"},"Text","01.02.04"]
[null,null,{"$f":"'Anlagenartenkatalog UZH'!$B$2","v":"Türen, Tore, Abschlüsse "},{"$f":"'Anlagenartenkatalog UZH'!$D$5","v":"Türe/Tor Brandschutz kraftbetätigt"},{"$f":"Hilfstabelle!$O$7","v":"Hauptanlage"},"Text","Ja, Gruppe",{"$f":"Hilfstabelle!$P$5","v":"Gruppe - Sicherheitsrelevante Türen und Tore, ggf. pro Etage"}]
[null,null,{"$f":"'Anlagenartenkatalog UZH'!$B$2","v":"Türen, Tore, Abschlüsse "},{"$f":"'Anlagenartenkatalog UZH'!$D$5","v":"Türe/Tor Brandschutz kraftbetätigt"},{"$f":"Hilfstabelle!$O$8","v":"Objekt"},"Text","KOL"]
[null,null,{"$f":"'Anlagenartenkatalog UZH'!$B$2","v":"Türen, Tore, Abschlüsse "},{"$f":"'Anlagenartenkatalog UZH'!$D$5","v":"Türe/Tor Brandschutz kraftbetätigt"},{"$f":"Hilfstabelle!$O$9","v":"Raumkennzeichen"},"Text","D-40"]
[null,null,{"$f":"'Anlagenartenkatalog UZH'!$B$2","v":"Türen, Tore, Abschlüsse "},{"$f":"'Anlagenartenkatalog UZH'!$D$5","v":"Türe/Tor Brandschutz kraftbetätigt"},{"$f":"Hilfstabelle!$O$10","v":"Hersteller / Marke"},"Text","Gilgen Door Systems AG"]
[null,null,{"$f":"'Anlagenartenkatalog UZH'!$B$2","v":"Türen, Tore, Abschlüsse "},{"$f":"'Anlagenartenkatalog UZH'!$D$5","v":"Türe/Tor Brandschutz kraftbetätigt"},{"$f":"Hilfstabelle!$O$11","v":"Modell / Artikel"},"Text","Schiebetüre","Weitere Beispiele: Schiebetüre, Schiebetor, Türe, Tor"]
[null,null,{"$f":"'Anlagenartenkatalog UZH'!$B$2","v":"Türen, Tore, Abschlüsse "},{"$f":"'Anlagenartenkatalog UZH'!$D$5","v":"Türe/Tor Brandschutz kraftbetätigt"},{"$f":"Hilfstabelle!$O$12","v":"Seriennummer"},"Text","0313731-00"]
[null,null,{"$f":"'Anlagenartenkatalog UZH'!$B$2","v":"Türen, Tore, Abschlüsse "},{"$f":"'Anlagenartenkatalog UZH'!$D$5","v":"Türe/Tor Brandschutz kraftbetätigt"},{"$f":"Hilfstabelle!$O$13","v":"Servicefirma"},"Text","Gilgen Door Systems AG",{"$f":"Hilfstabelle!$P$10","v":"Gemäss Offerte in Submission"}]
[null,null,{"$f":"'Anlagenartenkatalog UZH'!$B$2","v":"Türen, Tore, Abschlüsse "},{"$f":"'Anlagenartenkatalog UZH'!$D$5","v":"Türe/Tor Brandschutz kraftbetätigt"},{"$f":"Hilfstabelle!$O$14","v":"Inbetriebnahmedatum"},"Text","06.06.2030"]
[null,null,{"$f":"'Anlagenartenkatalog UZH'!$B$2","v":"Türen, Tore, Abschlüsse "},{"$f":"'Anlagenartenkatalog UZH'!$D$5","v":"Türe/Tor Brandschutz kraftbetätigt"},{"$f":"Hilfstabelle!$O$15","v":"Garantieende"},"Text","06.06.2035"]
[null,null,{"$f":"'Anlagenartenkatalog UZH'!$B$2","v":"Türen, Tore, Abschlüsse "},{"$f":"'Anlagenartenkatalog UZH'!$D$5","v":"Türe/Tor Brandschutz kraftbetätigt"},{"$f":"Hilfstabelle!$O$16","v":"Erwartetes technisches Enddatum"},"Text","06.06.2045"]
[null,null,{"$f":"'Anlagenartenkatalog UZH'!$B$2","v":"Türen, Tore, Abschlüsse "},{"$f":"'Anlagenartenkatalog UZH'!$D$5","v":"Türe/Tor Brandschutz kraftbetätigt"},{"$f":"Hilfstabelle!$O$18","v":"Anmerkung: Gebäudehülle Ja / Nein"},"Text","Gebäudehülle: Ja"]
[null,null,{"$f":"'Anlagenartenkatalog UZH'!$B$2","v":"Türen, Tore, Abschlüsse "},{"$f":"'Anlagenartenkatalog UZH'!$D$5","v":"Türe/Tor Brandschutz kraftbetätigt"},{"$f":"Hilfstabelle!$O$17","v":"Anmerkung: Anzahl Wartungen pro Jahr"},"Text","Anzahl Wartungen pro Jahr: 1"]
[null,null,{"$f":"'Anlagenartenkatalog UZH'!$B$2","v":"Türen, Tore, Abschlüsse "},{"$f":"'Anlagenartenkatalog UZH'!$D$6","v":"Türe/Tor Fluchtweg Brandschutz"},{"$f":"Hilfstabelle!$O$3","v":"Code (MSRL-Code)"},"Text","KOL-D-36C.1",{"$f":"Hilfstabelle!$P$6","v":"= Türcode (gemäss Bauwerksdokumentationsrichtlinie)"}]
[null,null,{"$f":"'Anlagenartenkatalog UZH'!$B$2","v":"Türen, Tore, Abschlüsse "},{"$f":"'Anlagenartenkatalog UZH'!$D$6","v":"Türe/Tor Fluchtweg Brandschutz"},{"$f":"Hilfstabelle!$O$4","v":"Bezeichnung"},"Text","Türe/Tor Fluchtweg Brandschutz",{"$f":"Hilfstabelle!$P$4","v":"= Anlagentyp (Eindeutige Identifikation erfolgt über Türcode)"}]
[null,null,{"$f":"'Anlagenartenkatalog UZH'!$B$2","v":"Türen, Tore, Abschlüsse "},{"$f":"'Anlagenartenkatalog UZH'!$D$6","v":"Türe/Tor Fluchtweg Brandschutz"},{"$f":"Hilfstabelle!$O$5","v":"Anlagentyp (Beschreibung)"},"Text",null,{"$f":"Hilfstabelle!$P$8","v":"Verbindlich gemäss Anlagenartenkatalog"}]
[null,null,{"$f":"'Anlagenartenkatalog UZH'!$B$2","v":"Türen, Tore, Abschlüsse "},{"$f":"'Anlagenartenkatalog UZH'!$D$6","v":"Türe/Tor Fluchtweg Brandschutz"},{"$f":"Hilfstabelle!$O$6","v":"Artikelgruppe"},"Text","01.02.04"]
[null,null,{"$f":"'Anlagenartenkatalog UZH'!$B$2","v":"Türen, Tore, Abschlüsse "},{"$f":"'Anlagenartenkatalog UZH'!$D$6","v":"Türe/Tor Fluchtweg Brandschutz"},{"$f":"Hilfstabelle!$O$7","v":"Hauptanlage"},"Text","Ja, Gruppe",{"$f":"Hilfstabelle!$P$5","v":"Gruppe - Sicherheitsrelevante Türen und Tore, ggf. pro Etage"}]
[null,null,{"$f":"'Anlagenartenkatalog UZH'!$B$2","v":"Türen, Tore, Abschlüsse "},{"$f":"'Anlagenartenkatalog UZH'!$D$6","v":"Türe/Tor Fluchtweg Brandschutz"},{"$f":"Hilfstabelle!$O$8","v":"Objekt"},"Text","KOL"]
[null,null,{"$f":"'Anlagenartenkatalog UZH'!$B$2","v":"Türen, Tore, Abschlüsse "},{"$f":"'Anlagenartenkatalog UZH'!$D$6","v":"Türe/Tor Fluchtweg Brandschutz"},{"$f":"Hilfstabelle!$O$9","v":"Raumkennzeichen"},"Text","D-36C"]
[null,null,{"$f":"'Anlagenartenkatalog UZH'!$B$2","v":"Türen, Tore, Abschlüsse "},{"$f":"'Anlagenartenkatalog UZH'!$D$6","v":"Türe/Tor Fluchtweg Brandschutz"},{"$f":"Hilfstabelle!$O$10","v":"Hersteller / Marke"},"Text","RIWAG Türen AG"]
[null,null,{"$f":"'Anlagenartenkatalog UZH'!$B$2","v":"Türen, Tore, Abschlüsse "},{"$f":"'Anlagenartenkatalog UZH'!$D$6","v":"Türe/Tor Fluchtweg Brandschutz"},{"$f":"Hilfstabelle!$O$11","v":"Modell / Artikel"},"Text","Türe","Weitere Beispiele: Schiebetüre, Schiebetor, Türe, Tor"]
[null,null,{"$f":"'Anlagenartenkatalog UZH'!$B$2","v":"Türen, Tore, Abschlüsse "},{"$f":"'Anlagenartenkatalog UZH'!$D$6","v":"Türe/Tor Fluchtweg Brandschutz"},{"$f":"Hilfstabelle!$O$12","v":"Seriennummer"},"Text","-"]
[null,null,{"$f":"'Anlagenartenkatalog UZH'!$B$2","v":"Türen, Tore, Abschlüsse "},{"$f":"'Anlagenartenkatalog UZH'!$D$6","v":"Türe/Tor Fluchtweg Brandschutz"},{"$f":"Hilfstabelle!$O$13","v":"Servicefirma"},"Text","RIWAG Türen AG",{"$f":"Hilfstabelle!$P$10","v":"Gemäss Offerte in Submission"}]
[null,null,{"$f":"'Anlagenartenkatalog UZH'!$B$2","v":"Türen, Tore, Abschlüsse "},{"$f":"'Anlagenartenkatalog UZH'!$D$6","v":"Türe/Tor Fluchtweg Brandschutz"},{"$f":"Hilfstabelle!$O$14","v":"Inbetriebnahmedatum"},"Text","06.06.2030"]
[null,null,{"$f":"'Anlagenartenkatalog UZH'!$B$2","v":"Türen, Tore, Abschlüsse "},{"$f":"'Anlagenartenkatalog UZH'!$D$6","v":"Türe/Tor Fluchtweg Brandschutz"},{"$f":"Hilfstabelle!$O$15","v":"Garantieende"},"Text","06.06.2035"]
[null,null,{"$f":"'Anlagenartenkatalog UZH'!$B$2","v":"Türen, Tore, Abschlüsse "},{"$f":"'Anlagenartenkatalog UZH'!$D$6","v":"Türe/Tor Fluchtweg Brandschutz"},{"$f":"Hilfstabelle!$O$16","v":"Erwartetes technisches Enddatum"},"Text","06.06.2045"]
[null,null,{"$f":"'Anlagenartenkatalog UZH'!$B$2","v":"Türen, Tore, Abschlüsse "},{"$f":"'Anlagenartenkatalog UZH'!$D$6","v":"Türe/Tor Fluchtweg Brandschutz"},{"$f":"Hilfstabelle!$O$18","v":"Anmerkung: Gebäudehülle Ja / Nein"},"Text","Gebäudehülle: Nein"]
[null,null,{"$f":"'Anlagenartenkatalog UZH'!$B$2","v":"Türen, Tore, Abschlüsse "},{"$f":"'Anlagenartenkatalog UZH'!$D$6","v":"Türe/Tor Fluchtweg Brandschutz"},{"$f":"Hilfstabelle!$O$17","v":"Anmerkung: Anzahl Wartungen pro Jahr"},"Text","Anzahl Wartungen pro Jahr: 1"]
[null,null,{"$f":"'Anlagenartenkatalog UZH'!$B$2","v":"Türen, Tore, Abschlüsse "},{"$f":"'Anlagenartenkatalog UZH'!$D$7","v":"Türe/Tor Fluchtweg Brandschutz kraftbetätigt"},{"$f":"Hilfstabelle!$O$3","v":"Code (MSRL-Code)"},"Text","KOL-E-44A.2",{"$f":"Hilfstabelle!$P$6","v":"= Türcode (gemäss Bauwerksdokumentationsrichtlinie)"}]
[null,null,{"$f":"'Anlagenartenkatalog UZH'!$B$2","v":"Türen, Tore, Abschlüsse "},{"$f":"'Anlagenartenkatalog UZH'!$D$7","v":"Türe/Tor Fluchtweg Brandschutz kraftbetätigt"},{"$f":"Hilfstabelle!$O$4","v":"Bezeichnung"},"Text","Türe/Tor Fluchtweg Brandschutz kraftbetätigt",{"$f":"Hilfstabelle!$P$4","v":"= Anlagentyp (Eindeutige Identifikation erfolgt über Türcode)"}]
[null,null,{"$f":"'Anlagenartenkatalog UZH'!$B$2","v":"Türen, Tore, Abschlüsse "},{"$f":"'Anlagenartenkatalog UZH'!$D$7","v":"Türe/Tor Fluchtweg Brandschutz kraftbetätigt"},{"$f":"Hilfstabelle!$O$5","v":"Anlagentyp (Beschreibung)"},"Text",null,{"$f":"Hilfstabelle!$P$8","v":"Verbindlich gemäss Anlagenartenkatalog"}]
[null,null,{"$f":"'Anlagenartenkatalog UZH'!$B$2","v":"Türen, Tore, Abschlüsse "},{"$f":"'Anlagenartenkatalog UZH'!$D$7","v":"Türe/Tor Fluchtweg Brandschutz kraftbetätigt"},{"$f":"Hilfstabelle!$O$6","v":"Artikelgruppe"},"Text","01.02.04"]
[null,null,{"$f":"'Anlagenartenkatalog UZH'!$B$2","v":"Türen, Tore, Abschlüsse "},{"$f":"'Anlagenartenkatalog UZH'!$D$7","v":"Türe/Tor Fluchtweg Brandschutz kraftbetätigt"},{"$f":"Hilfstabelle!$O$7","v":"Hauptanlage"},"Text","Ja, Gruppe",{"$f":"Hilfstabelle!$P$5","v":"Gruppe - Sicherheitsrelevante Türen und Tore, ggf. pro Etage"}]
[null,null,{"$f":"'Anlagenartenkatalog UZH'!$B$2","v":"Türen, Tore, Abschlüsse "},{"$f":"'Anlagenartenkatalog UZH'!$D$7","v":"Türe/Tor Fluchtweg Brandschutz kraftbetätigt"},{"$f":"Hilfstabelle!$O$8","v":"Objekt"},"Text","KOL"]
[null,null,{"$f":"'Anlagenartenkatalog UZH'!$B$2","v":"Türen, Tore, Abschlüsse "},{"$f":"'Anlagenartenkatalog UZH'!$D$7","v":"Türe/Tor Fluchtweg Brandschutz kraftbetätigt"},{"$f":"Hilfstabelle!$O$9","v":"Raumkennzeichen"},"Text","E-44A"]
[null,null,{"$f":"'Anlagenartenkatalog UZH'!$B$2","v":"Türen, Tore, Abschlüsse "},{"$f":"'Anlagenartenkatalog UZH'!$D$7","v":"Türe/Tor Fluchtweg Brandschutz kraftbetätigt"},{"$f":"Hilfstabelle!$O$10","v":"Hersteller / Marke"},"Text","Bsp?"]
[null,null,{"$f":"'Anlagenartenkatalog UZH'!$B$2","v":"Türen, Tore, Abschlüsse "},{"$f":"'Anlagenartenkatalog UZH'!$D$7","v":"Türe/Tor Fluchtweg Brandschutz kraftbetätigt"},{"$f":"Hilfstabelle!$O$11","v":"Modell / Artikel"},"Text","Schiebetüre","Weitere Beispiele: Schiebetüre, Schiebetor, Türe, Tor"]
[null,null,{"$f":"'Anlagenartenkatalog UZH'!$B$2","v":"Türen, Tore, Abschlüsse "},{"$f":"'Anlagenartenkatalog UZH'!$D$7","v":"Türe/Tor Fluchtweg Brandschutz kraftbetätigt"},{"$f":"Hilfstabelle!$O$12","v":"Seriennummer"},"Text","0345455-00"]
[null,null,{"$f":"'Anlagenartenkatalog UZH'!$B$2","v":"Türen, Tore, Abschlüsse "},{"$f":"'Anlagenartenkatalog UZH'!$D$7","v":"Türe/Tor Fluchtweg Brandschutz kraftbetätigt"},{"$f":"Hilfstabelle!$O$13","v":"Servicefirma"},"Text","Gilgen Door Systems AG",{"$f":"Hilfstabelle!$P$10","v":"Gemäss Offerte in Submission"}]
[null,null,{"$f":"'Anlagenartenkatalog UZH'!$B$2","v":"Türen, Tore, Abschlüsse "},{"$f":"'Anlagenartenkatalog UZH'!$D$7","v":"Türe/Tor Fluchtweg Brandschutz kraftbetätigt"},{"$f":"Hilfstabelle!$O$14","v":"Inbetriebnahmedatum"},"Text","06.06.2030"]
[null,null,{"$f":"'Anlagenartenkatalog UZH'!$B$2","v":"Türen, Tore, Abschlüsse "},{"$f":"'Anlagenartenkatalog UZH'!$D$7","v":"Türe/Tor Fluchtweg Brandschutz kraftbetätigt"},{"$f":"Hilfstabelle!$O$15","v":"Garantieende"},"Text","06.06.2035"]
[null,null,{"$f":"'Anlagenartenkatalog UZH'!$B$2","v":"Türen, Tore, Abschlüsse "},{"$f":"'Anlagenartenkatalog UZH'!$D$7","v":"Türe/Tor Fluchtweg Brandschutz kraftbetätigt"},{"$f":"Hilfstabelle!$O$16","v":"Erwartetes technisches Enddatum"},"Text","06.06.2045"]
[null,null,{"$f":"'Anlagenartenkatalog UZH'!$B$2","v":"Türen, Tore, Abschlüsse "},{"$f":"'Anlagenartenkatalog UZH'!$D$7","v":"Türe/Tor Fluchtweg Brandschutz kraftbetätigt"},{"$f":"Hilfstabelle!$O$18","v":"Anmerkung: Gebäudehülle Ja / Nein"},"Text","Gebäudehülle: Ja"]
[null,null,{"$f":"'Anlagenartenkatalog UZH'!$B$2","v":"Türen, Tore, Abschlüsse "},{"$f":"'Anlagenartenkatalog UZH'!$D$7","v":"Türe/Tor Fluchtweg Brandschutz kraftbetätigt"},{"$f":"Hilfstabelle!$O$17","v":"Anmerkung: Anzahl Wartungen pro Jahr"},"Text","Anzahl Wartungen pro Jahr: 1"]
[null,null,{"$f":"'Anlagenartenkatalog UZH'!$B$2","v":"Türen, Tore, Abschlüsse "},{"$f":"'Anlagenartenkatalog UZH'!$D$8","v":"Türe/Tor kraftbetätigt"},{"$f":"Hilfstabelle!$O$3","v":"Code (MSRL-Code)"},"Text","KOL-D-36c.01",{"$f":"Hilfstabelle!$P$6","v":"= Türcode (gemäss Bauwerksdokumentationsrichtlinie)"}]
[null,null,{"$f":"'Anlagenartenkatalog UZH'!$B$2","v":"Türen, Tore, Abschlüsse "},{"$f":"'Anlagenartenkatalog UZH'!$D$8","v":"Türe/Tor kraftbetätigt"},{"$f":"Hilfstabelle!$O$4","v":"Bezeichnung"},"Text","Türe/Tor kraftbetätigt",{"$f":"Hilfstabelle!$P$4","v":"= Anlagentyp (Eindeutige Identifikation erfolgt über Türcode)"}]
[null,null,{"$f":"'Anlagenartenkatalog UZH'!$B$2","v":"Türen, Tore, Abschlüsse "},{"$f":"'Anlagenartenkatalog UZH'!$D$8","v":"Türe/Tor kraftbetätigt"},{"$f":"Hilfstabelle!$O$5","v":"Anlagentyp (Beschreibung)"},"Text",null,{"$f":"Hilfstabelle!$P$8","v":"Verbindlich gemäss Anlagenartenkatalog"}]
[null,null,{"$f":"'Anlagenartenkatalog UZH'!$B$2","v":"Türen, Tore, Abschlüsse "},{"$f":"'Anlagenartenkatalog UZH'!$D$8","v":"Türe/Tor kraftbetätigt"},{"$f":"Hilfstabelle!$O$6","v":"Artikelgruppe"},"Text","01.02.04"]
[null,null,{"$f":"'Anlagenartenkatalog UZH'!$B$2","v":"Türen, Tore, Abschlüsse "},{"$f":"'Anlagenartenkatalog UZH'!$D$8","v":"Türe/Tor kraftbetätigt"},{"$f":"Hilfstabelle!$O$7","v":"Hauptanlage"},"Text","Ja, Gruppe",{"$f":"Hilfstabelle!$P$5","v":"Gruppe - Sicherheitsrelevante Türen und Tore, ggf. pro Etage"}]
[null,null,{"$f":"'Anlagenartenkatalog UZH'!$B$2","v":"Türen, Tore, Abschlüsse "},{"$f":"'Anlagenartenkatalog UZH'!$D$8","v":"Türe/Tor kraftbetätigt"},{"$f":"Hilfstabelle!$O$8","v":"Objekt"},"Text","KOL"]
[null,null,{"$f":"'Anlagenartenkatalog UZH'!$B$2","v":"Türen, Tore, Abschlüsse "},{"$f":"'Anlagenartenkatalog UZH'!$D$8","v":"Türe/Tor kraftbetätigt"},{"$f":"Hilfstabelle!$O$9","v":"Raumkennzeichen"},"Text","D-36c"]
[null,null,{"$f":"'Anlagenartenkatalog UZH'!$B$2","v":"Türen, Tore, Abschlüsse "},{"$f":"'Anlagenartenkatalog UZH'!$D$8","v":"Türe/Tor kraftbetätigt"},{"$f":"Hilfstabelle!$O$10","v":"Hersteller / Marke"},"Text","Gilgen Door Systems AG"]
[null,null,{"$f":"'Anlagenartenkatalog UZH'!$B$2","v":"Türen, Tore, Abschlüsse "},{"$f":"'Anlagenartenkatalog UZH'!$D$8","v":"Türe/Tor kraftbetätigt"},{"$f":"Hilfstabelle!$O$11","v":"Modell / Artikel"},"Text","Schiebetüre","Weitere Beispiele: Schiebetüre, Schiebetor, Türe, Tor"]
[null,null,{"$f":"'Anlagenartenkatalog UZH'!$B$2","v":"Türen, Tore, Abschlüsse "},{"$f":"'Anlagenartenkatalog UZH'!$D$8","v":"Türe/Tor kraftbetätigt"},{"$f":"Hilfstabelle!$O$12","v":"Seriennummer"},"Text","1547014-10"]
[null,null,{"$f":"'Anlagenartenkatalog UZH'!$B$2","v":"Türen, Tore, Abschlüsse "},{"$f":"'Anlagenartenkatalog UZH'!$D$8","v":"Türe/Tor kraftbetätigt"},{"$f":"Hilfstabelle!$O$13","v":"Servicefirma"},"Text","Gilgen Door Systems AG",{"$f":"Hilfstabelle!$P$10","v":"Gemäss Offerte in Submission"}]
[null,null,{"$f":"'Anlagenartenkatalog UZH'!$B$2","v":"Türen, Tore, Abschlüsse "},{"$f":"'Anlagenartenkatalog UZH'!$D$8","v":"Türe/Tor kraftbetätigt"},{"$f":"Hilfstabelle!$O$14","v":"Inbetriebnahmedatum"},"Text","06.06.2030"]
[null,null,{"$f":"'Anlagenartenkatalog UZH'!$B$2","v":"Türen, Tore, Abschlüsse "},{"$f":"'Anlagenartenkatalog UZH'!$D$8","v":"Türe/Tor kraftbetätigt"},{"$f":"Hilfstabelle!$O$15","v":"Garantieende"},"Text","06.06.2035"]
[null,null,{"$f":"'Anlagenartenkatalog UZH'!$B$2","v":"Türen, Tore, Abschlüsse "},{"$f":"'Anlagenartenkatalog UZH'!$D$8","v":"Türe/Tor kraftbetätigt"},{"$f":"Hilfstabelle!$O$16","v":"Erwartetes technisches Enddatum"},"Text","06.06.2045"]
[null,null,{"$f":"'Anlagenartenkatalog UZH'!$B$2","v":"Türen, Tore, Abschlüsse "},{"$f":"'Anlagenartenkatalog UZH'!$D$8","v":"Türe/Tor kraftbetätigt"},{"$f":"Hilfstabelle!$O$18","v":"Anmerkung: Gebäudehülle Ja / Nein"},"Text","Gebäudehülle: Nein"]
[null,null,{"$f":"'Anlagenartenkatalog UZH'!$B$2","v":"Türen, Tore, Abschlüsse "},{"$f":"'Anlagenartenkatalog UZH'!$D$8","v":"Türe/Tor kraftbetätigt"},{"$f":"Hilfstabelle!$O$17","v":"Anmerkung: Anzahl Wartungen pro Jahr"},"Text","Anzahl Wartungen pro Jahr: 1"]
[null,null,{"$f":"'Anlagenartenkatalog UZH'!$B$2","v":"Türen, Tore, Abschlüsse "},{"$f":"'Anlagenartenkatalog UZH'!$D$9","v":"Türe/Tor"},{"$f":"Hilfstabelle!$O$3","v":"Code (MSRL-Code)"},"Text","KOL-C-2.01",{"$f":"Hilfstabelle!$P$6","v":"= Türcode (gemäss Bauwerksdokumentationsrichtlinie)"}]
[null,null,{"$f":"'Anlagenartenkatalog UZH'!$B$2","v":"Türen, Tore, Abschlüsse "},{"$f":"'Anlagenartenkatalog UZH'!$D$9","v":"Türe/Tor"},{"$f":"Hilfstabelle!$O$4","v":"Bezeichnung"},"Text","Türe/Tor ",{"$f":"Hilfstabelle!$P$4","v":"= Anlagentyp (Eindeutige Identifikation erfolgt über Türcode)"}]
[null,null,{"$f":"'Anlagenartenkatalog UZH'!$B$2","v":"Türen, Tore, Abschlüsse "},{"$f":"'Anlagenartenkatalog UZH'!$D$9","v":"Türe/Tor"},{"$f":"Hilfstabelle!$O$5","v":"Anlagentyp (Beschreibung)"},"Text",null,{"$f":"Hilfstabelle!$P$8","v":"Verbindlich gemäss Anlagenartenkatalog"}]
[null,null,{"$f":"'Anlagenartenkatalog UZH'!$B$2","v":"Türen, Tore, Abschlüsse "},{"$f":"'Anlagenartenkatalog UZH'!$D$9","v":"Türe/Tor"},{"$f":"Hilfstabelle!$O$6","v":"Artikelgruppe"},"Text","01.02.04"]
[null,null,{"$f":"'Anlagenartenkatalog UZH'!$B$2","v":"Türen, Tore, Abschlüsse "},{"$f":"'Anlagenartenkatalog UZH'!$D$9","v":"Türe/Tor"},{"$f":"Hilfstabelle!$O$7","v":"Hauptanlage"},"Text","Ja, Gruppe",{"$f":"Hilfstabelle!$P$5","v":"Gruppe - Sicherheitsrelevante Türen und Tore, ggf. pro Etage"}]
[null,null,{"$f":"'Anlagenartenkatalog UZH'!$B$2","v":"Türen, Tore, Abschlüsse "},{"$f":"'Anlagenartenkatalog UZH'!$D$9","v":"Türe/Tor"},{"$f":"Hilfstabelle!$O$8","v":"Objekt"},"Text","KOL"]
[null,null,{"$f":"'Anlagenartenkatalog UZH'!$B$2","v":"Türen, Tore, Abschlüsse "},{"$f":"'Anlagenartenkatalog UZH'!$D$9","v":"Türe/Tor"},{"$f":"Hilfstabelle!$O$9","v":"Raumkennzeichen"},"Text","C-2"]
[null,null,{"$f":"'Anlagenartenkatalog UZH'!$B$2","v":"Türen, Tore, Abschlüsse "},{"$f":"'Anlagenartenkatalog UZH'!$D$9","v":"Türe/Tor"},{"$f":"Hilfstabelle!$O$10","v":"Hersteller / Marke"},"Text","Gilgen Door Systems AG"]
[null,null,{"$f":"'Anlagenartenkatalog UZH'!$B$2","v":"Türen, Tore, Abschlüsse "},{"$f":"'Anlagenartenkatalog UZH'!$D$9","v":"Türe/Tor"},{"$f":"Hilfstabelle!$O$11","v":"Modell / Artikel"},"Text","Türe","Weitere Beispiele: Schiebetüre, Schiebetor, Türe, Tor"]
[null,null,{"$f":"'Anlagenartenkatalog UZH'!$B$2","v":"Türen, Tore, Abschlüsse "},{"$f":"'Anlagenartenkatalog UZH'!$D$9","v":"Türe/Tor"},{"$f":"Hilfstabelle!$O$12","v":"Seriennummer"},"Text","-"]
[null,null,{"$f":"'Anlagenartenkatalog UZH'!$B$2","v":"Türen, Tore, Abschlüsse "},{"$f":"'Anlagenartenkatalog UZH'!$D$9","v":"Türe/Tor"},{"$f":"Hilfstabelle!$O$13","v":"Servicefirma"},"Text","-"]
[null,null,{"$f":"'Anlagenartenkatalog UZH'!$B$2","v":"Türen, Tore, Abschlüsse "},{"$f":"'Anlagenartenkatalog UZH'!$D$9","v":"Türe/Tor"},{"$f":"Hilfstabelle!$O$14","v":"Inbetriebnahmedatum"},"Text","06.06.2030"]
[null,null,{"$f":"'Anlagenartenkatalog UZH'!$B$2","v":"Türen, Tore, Abschlüsse "},{"$f":"'Anlagenartenkatalog UZH'!$D$9","v":"Türe/Tor"},{"$f":"Hilfstabelle!$O$15","v":"Garantieende"},"Text","06.06.2035"]
[null,null,{"$f":"'Anlagenartenkatalog UZH'!$B$2","v":"Türen, Tore, Abschlüsse "},{"$f":"'Anlagenartenkatalog UZH'!$D$9","v":"Türe/Tor"},{"$f":"Hilfstabelle!$O$16","v":"Erwartetes technisches Enddatum"},"Text","06.06.2045"]
[null,null,{"$f":"'Anlagenartenkatalog UZH'!$B$2","v":"Türen, Tore, Abschlüsse "},{"$f":"'Anlagenartenkatalog UZH'!$D$9","v":"Türe/Tor"},{"$f":"Hilfstabelle!$O$18","v":"Anmerkung: Gebäudehülle Ja / Nein"},"Text","Gebäudehülle: Nein"]
[null,null,{"$f":"'Anlagenartenkatalog UZH'!$B$88","v":"Wärme"},{"$f":"'Anlagenartenkatalog UZH'!$D$88","v":"Fernwärmeübergabestation"},{"$f":"Hilfstabelle!$O$3","v":"Code (MSRL-Code)"},"Text","FRE_G501_S001"]
[null,null,{"$f":"'Anlagenartenkatalog UZH'!$B$88","v":"Wärme"},{"$f":"'Anlagenartenkatalog UZH'!$D$88","v":"Fernwärmeübergabestation"},{"$f":"Hilfstabelle!$O$4","v":"Bezeichnung"},"Text","Fernwärmeübergabestation",{"$f":"Hilfstabelle!$P$7","v":"Die Bezeichnung einer Anlage muss eindeutig sein, sofern mehrere Anlagen im gleichen Raum sind. "}]
[null,null,{"$f":"'Anlagenartenkatalog UZH'!$B$88","v":"Wärme"},{"$f":"'Anlagenartenkatalog UZH'!$D$88","v":"Fernwärmeübergabestation"},{"$f":"Hilfstabelle!$O$5","v":"Anlagentyp (Beschreibung)"},"Text",null,{"$f":"Hilfstabelle!$P$8","v":"Verbindlich gemäss Anlagenartenkatalog"}]
[null,null,{"$f":"'Anlagenartenkatalog UZH'!$B$88","v":"Wärme"},{"$f":"'Anlagenartenkatalog UZH'!$D$88","v":"Fernwärmeübergabestation"},{"$f":"Hilfstabelle!$O$6","v":"Artikelgruppe"},"Text",{"$f":"'Anlagenartenkatalog UZH'!$A$88","v":"02.06"}]
[null,null,{"$f":"'Anlagenartenkatalog UZH'!$B$88","v":"Wärme"},{"$f":"'Anlagenartenkatalog UZH'!$D$88","v":"Fernwärmeübergabestation"},{"$f":"Hilfstabelle!$O$7","v":"Hauptanlage"},"Text"]
[null,null,{"$f":"'Anlagenartenkatalog UZH'!$B$88","v":"Wärme"},{"$f":"'Anlagenartenkatalog UZH'!$D$88","v":"Fernwärmeübergabestation"},{"$f":"Hilfstabelle!$O$8","v":"Objekt"},"Text","FRE"]
[null,null,{"$f":"'Anlagenartenkatalog UZH'!$B$88","v":"Wärme"},{"$f":"'Anlagenartenkatalog UZH'!$D$88","v":"Fernwärmeübergabestation"},{"$f":"Hilfstabelle!$O$9","v":"Raumkennzeichen"},"Text","D-01"]
[null,null,{"$f":"'Anlagenartenkatalog UZH'!$B$88","v":"Wärme"},{"$f":"'Anlagenartenkatalog UZH'!$D$88","v":"Fernwärmeübergabestation"},{"$f":"Hilfstabelle!$O$10","v":"Hersteller / Marke"},"Text","-"]
[null,null,{"$f":"'Anlagenartenkatalog UZH'!$B$88","v":"Wärme"},{"$f":"'Anlagenartenkatalog UZH'!$D$88","v":"Fernwärmeübergabestation"},{"$f":"Hilfstabelle!$O$11","v":"Modell / Artikel"},"Text","-"]
[null,null,{"$f":"'Anlagenartenkatalog UZH'!$B$88","v":"Wärme"},{"$f":"'Anlagenartenkatalog UZH'!$D$88","v":"Fernwärmeübergabestation"},{"$f":"Hilfstabelle!$O$12","v":"Seriennummer"},"Text","-"]
[null,null,{"$f":"'Anlagenartenkatalog UZH'!$B$88","v":"Wärme"},{"$f":"'Anlagenartenkatalog UZH'!$D$88","v":"Fernwärmeübergabestation"},{"$f":"Hilfstabelle!$O$13","v":"Servicefirma"},"Text","-",{"$f":"Hilfstabelle!$P$10","v":"Gemäss Offerte in Submission"}]
[null,null,{"$f":"'Anlagenartenkatalog UZH'!$B$88","v":"Wärme"},{"$f":"'Anlagenartenkatalog UZH'!$D$88","v":"Fernwärmeübergabestation"},{"$f":"Hilfstabelle!$O$14","v":"Inbetriebnahmedatum"},"Text","06.06.2030"]
[null,null,{"$f":"'Anlagenartenkatalog UZH'!$B$88","v":"Wärme"},{"$f":"'Anlagenartenkatalog UZH'!$D$88","v":"Fernwärmeübergabestation"},{"$f":"Hilfstabelle!$O$15","v":"Garantieende"},"Text","06.06.2035"]
[null,null,{"$f":"'Anlagenartenkatalog UZH'!$B$88","v":"Wärme"},{"$f":"'Anlagenartenkatalog UZH'!$D$88","v":"Fernwärmeübergabestation"},{"$f":"Hilfstabelle!$O$16","v":"Erwartetes technisches Enddatum"},"Text","06.06.2045"]
[null,null,{"$f":"'Anlagenartenkatalog UZH'!$B$88","v":"Wärme"},{"$f":"'Anlagenartenkatalog UZH'!$D$89","v":"Dampfumformer"},{"$f":"Hilfstabelle!$O$3","v":"Code (MSRL-Code)"},"Text","FRE_G501_S001"]
[null,null,{"$f":"'Anlagenartenkatalog UZH'!$B$88","v":"Wärme"},{"$f":"'Anlagenartenkatalog UZH'!$D$89","v":"Dampfumformer"},{"$f":"Hilfstabelle!$O$4","v":"Bezeichnung"},"Text","Dampfumformer",{"$f":"Hilfstabelle!$P$7","v":"Die Bezeichnung einer Anlage muss eindeutig sein, sofern mehrere Anlagen im gleichen Raum sind. "}]
[null,null,{"$f":"'Anlagenartenkatalog UZH'!$B$88","v":"Wärme"},{"$f":"'Anlagenartenkatalog UZH'!$D$89","v":"Dampfumformer"},{"$f":"Hilfstabelle!$O$5","v":"Anlagentyp (Beschreibung)"},"Text",null,{"$f":"Hilfstabelle!$P$8","v":"Verbindlich gemäss Anlagenartenkatalog"}]
[null,null,{"$f":"'Anlagenartenkatalog UZH'!$B$88","v":"Wärme"},{"$f":"'Anlagenartenkatalog UZH'!$D$89","v":"Dampfumformer"},{"$f":"Hilfstabelle!$O$6","v":"Artikelgruppe"},"Text",{"$f":"'Anlagenartenkatalog UZH'!$A$88","v":"02.06"}]
[null,null,{"$f":"'Anlagenartenkatalog UZH'!$B$88","v":"Wärme"},{"$f":"'Anlagenartenkatalog UZH'!$D$89","v":"Dampfumformer"},{"$f":"Hilfstabelle!$O$7","v":"Hauptanlage"},"Text"]
[null,null,{"$f":"'Anlagenartenkatalog UZH'!$B$88","v":"Wärme"},{"$f":"'Anlagenartenkatalog UZH'!$D$89","v":"Dampfumformer"},{"$f":"Hilfstabelle!$O$8","v":"Objekt"},"Text","FRE"]
[null,null,{"$f":"'Anlagenartenkatalog UZH'!$B$88","v":"Wärme"},{"$f":"'Anlagenartenkatalog UZH'!$D$89","v":"Dampfumformer"},{"$f":"Hilfstabelle!$O$9","v":"Raumkennzeichen"},"Text","D-01"]
[null,null,{"$f":"'Anlagenartenkatalog UZH'!$B$88","v":"Wärme"},{"$f":"'Anlagenartenkatalog UZH'!$D$89","v":"Dampfumformer"},{"$f":"Hilfstabelle!$O$10","v":"Hersteller / Marke"},"Text","TEC artec GmbH"]
[null,null,{"$f":"'Anlagenartenkatalog UZH'!$B$88","v":"Wärme"},{"$f":"'Anlagenartenkatalog UZH'!$D$89","v":"Dampfumformer"},{"$f":"Hilfstabelle!$O$11","v":"Modell / Artikel"},"Text","_TECpress Dampfumformstation"]
[null,null,{"$f":"'Anlagenartenkatalog UZH'!$B$88","v":"Wärme"},{"$f":"'Anlagenartenkatalog UZH'!$D$89","v":"Dampfumformer"},{"$f":"Hilfstabelle!$O$12","v":"Seriennummer"},"Text","345674578"]
[null,null,{"$f":"'Anlagenartenkatalog UZH'!$B$88","v":"Wärme"},{"$f":"'Anlagenartenkatalog UZH'!$D$89","v":"Dampfumformer"},{"$f":"Hilfstabelle!$O$13","v":"Servicefirma"},"Text","TEC artec GmbH",{"$f":"Hilfstabelle!$P$10","v":"Gemäss Offerte in Submission"}]
[null,null,{"$f":"'Anlagenartenkatalog UZH'!$B$88","v":"Wärme"},{"$f":"'Anlagenartenkatalog UZH'!$D$89","v":"Dampfumformer"},{"$f":"Hilfstabelle!$O$14","v":"Inbetriebnahmedatum"},"Text","06.06.2030"]
[null,null,{"$f":"'Anlagenartenkatalog UZH'!$B$88","v":"Wärme"},{"$f":"'Anlagenartenkatalog UZH'!$D$89","v":"Dampfumformer"},{"$f":"Hilfstabelle!$O$15","v":"Garantieende"},"Text","06.06.2035"]
[null,null,{"$f":"'Anlagenartenkatalog UZH'!$B$88","v":"Wärme"},{"$f":"'Anlagenartenkatalog UZH'!$D$89","v":"Dampfumformer"},{"$f":"Hilfstabelle!$O$16","v":"Erwartetes technisches Enddatum"},"Text","06.06.2045"]
[null,null,{"$f":"'Anlagenartenkatalog UZH'!$B$88","v":"Wärme"},{"$f":"'Anlagenartenkatalog UZH'!$D$89","v":"Dampfumformer"},{"$f":"Hilfstabelle!$O$17","v":"Anmerkung: Anzahl Wartungen pro Jahr"},"Text","Anzahl Wartungen pro Jahr: 1"]
[null,null,{"$f":"'Anlagenartenkatalog UZH'!$B$88","v":"Wärme"},{"$f":"'Anlagenartenkatalog UZH'!$D$90","v":"Dampferzeugungsanlage"},{"$f":"Hilfstabelle!$O$3","v":"Code (MSRL-Code)"},"Text","FRE_G501_S001"]
[null,null,{"$f":"'Anlagenartenkatalog UZH'!$B$88","v":"Wärme"},{"$f":"'Anlagenartenkatalog UZH'!$D$90","v":"Dampferzeugungsanlage"},{"$f":"Hilfstabelle!$O$4","v":"Bezeichnung"},"Text","Dampferzeugungsanlage",{"$f":"Hilfstabelle!$P$7","v":"Die Bezeichnung einer Anlage muss eindeutig sein, sofern mehrere Anlagen im gleichen Raum sind. "}]
[null,null,{"$f":"'Anlagenartenkatalog UZH'!$B$88","v":"Wärme"},{"$f":"'Anlagenartenkatalog UZH'!$D$90","v":"Dampferzeugungsanlage"},{"$f":"Hilfstabelle!$O$5","v":"Anlagentyp (Beschreibung)"},"Text",null,{"$f":"Hilfstabelle!$P$8","v":"Verbindlich gemäss Anlagenartenkatalog"}]
[null,null,{"$f":"'Anlagenartenkatalog UZH'!$B$88","v":"Wärme"},{"$f":"'Anlagenartenkatalog UZH'!$D$90","v":"Dampferzeugungsanlage"},{"$f":"Hilfstabelle!$O$6","v":"Artikelgruppe"},"Text",{"$f":"'Anlagenartenkatalog UZH'!$A$88","v":"02.06"}]
[null,null,{"$f":"'Anlagenartenkatalog UZH'!$B$88","v":"Wärme"},{"$f":"'Anlagenartenkatalog UZH'!$D$90","v":"Dampferzeugungsanlage"},{"$f":"Hilfstabelle!$O$7","v":"Hauptanlage"},"Text"]
[null,null,{"$f":"'Anlagenartenkatalog UZH'!$B$88","v":"Wärme"},{"$f":"'Anlagenartenkatalog UZH'!$D$90","v":"Dampferzeugungsanlage"},{"$f":"Hilfstabelle!$O$8","v":"Objekt"},"Text","FRE"]
[null,null,{"$f":"'Anlagenartenkatalog UZH'!$B$88","v":"Wärme"},{"$f":"'Anlagenartenkatalog UZH'!$D$90","v":"Dampferzeugungsanlage"},{"$f":"Hilfstabelle!$O$9","v":"Raumkennzeichen"},"Text","D-02"]
[null,null,{"$f":"'Anlagenartenkatalog UZH'!$B$88","v":"Wärme"},{"$f":"'Anlagenartenkatalog UZH'!$D$90","v":"Dampferzeugungsanlage"},{"$f":"Hilfstabelle!$O$10","v":"Hersteller / Marke"},"Text","ENERGY MODE GmbH"]
[null,null,{"$f":"'Anlagenartenkatalog UZH'!$B$88","v":"Wärme"},{"$f":"'Anlagenartenkatalog UZH'!$D$90","v":"Dampferzeugungsanlage"},{"$f":"Hilfstabelle!$O$11","v":"Modell / Artikel"},"Text","Heisswassercontainer HWS 1000 kW"]
[null,null,{"$f":"'Anlagenartenkatalog UZH'!$B$88","v":"Wärme"},{"$f":"'Anlagenartenkatalog UZH'!$D$90","v":"Dampferzeugungsanlage"},{"$f":"Hilfstabelle!$O$12","v":"Seriennummer"},"Text","23456457"]
[null,null,{"$f":"'Anlagenartenkatalog UZH'!$B$88","v":"Wärme"},{"$f":"'Anlagenartenkatalog UZH'!$D$90","v":"Dampferzeugungsanlage"},{"$f":"Hilfstabelle!$O$13","v":"Servicefirma"},"Text","ENERGY MODE GmbH",{"$f":"Hilfstabelle!$P$10","v":"Gemäss Offerte in Submission"}]
[null,null,{"$f":"'Anlagenartenkatalog UZH'!$B$88","v":"Wärme"},{"$f":"'Anlagenartenkatalog UZH'!$D$90","v":"Dampferzeugungsanlage"},{"$f":"Hilfstabelle!$O$14","v":"Inbetriebnahmedatum"},"Text","06.06.2030"]
[null,null,{"$f":"'Anlagenartenkatalog UZH'!$B$88","v":"Wärme"},{"$f":"'Anlagenartenkatalog UZH'!$D$90","v":"Dampferzeugungsanlage"},{"$f":"Hilfstabelle!$O$15","v":"Garantieende"},"Text","06.06.2035"]
[null,null,{"$f":"'Anlagenartenkatalog UZH'!$B$88","v":"Wärme"},{"$f":"'Anlagenartenkatalog UZH'!$D$90","v":"Dampferzeugungsanlage"},{"$f":"Hilfstabelle!$O$16","v":"Erwartetes technisches Enddatum"},"Text","06.06.2045"]
[null,null,{"$f":"'Anlagenartenkatalog UZH'!$B$88","v":"Wärme"},{"$f":"'Anlagenartenkatalog UZH'!$D$90","v":"Dampferzeugungsanlage"},{"$f":"Hilfstabelle!$O$17","v":"Anmerkung: Anzahl Wartungen pro Jahr"},"Text","Anzahl Wartungen pro Jahr: 1"]
[null,null,{"$f":"'Anlagenartenkatalog UZH'!$B$88","v":"Wärme"},{"$f":"'Anlagenartenkatalog UZH'!$D$91","v":"Wärmepumpe"},{"$f":"Hilfstabelle!$O$3","v":"Code (MSRL-Code)"},"Text","FRE_G501_S001"]
[null,null,{"$f":"'Anlagenartenkatalog UZH'!$B$88","v":"Wärme"},{"$f":"'Anlagenartenkatalog UZH'!$D$91","v":"Wärmepumpe"},{"$f":"Hilfstabelle!$O$4","v":"Bezeichnung"},"Text","Wärmepume",{"$f":"Hilfstabelle!$P$7","v":"Die Bezeichnung einer Anlage muss eindeutig sein, sofern mehrere Anlagen im gleichen Raum sind. "}]
[null,null,{"$f":"'Anlagenartenkatalog UZH'!$B$88","v":"Wärme"},{"$f":"'Anlagenartenkatalog UZH'!$D$91","v":"Wärmepumpe"},{"$f":"Hilfstabelle!$O$5","v":"Anlagentyp (Beschreibung)"},"Text",null,"Unter Wärmepumen wird die Erzeugung von Wärme für die Heizung von Gebäuden verstanden (inkl. Nutzung von Abwärme zur \"Veredelung\", verbindliche gemäss Anlagenartenkatalog."]
[null,null,{"$f":"'Anlagenartenkatalog UZH'!$B$88","v":"Wärme"},{"$f":"'Anlagenartenkatalog UZH'!$D$91","v":"Wärmepumpe"},{"$f":"Hilfstabelle!$O$6","v":"Artikelgruppe"},"Text",{"$f":"'Anlagenartenkatalog UZH'!$A$88","v":"02.06"}]
[null,null,{"$f":"'Anlagenartenkatalog UZH'!$B$88","v":"Wärme"},{"$f":"'Anlagenartenkatalog UZH'!$D$91","v":"Wärmepumpe"},{"$f":"Hilfstabelle!$O$7","v":"Hauptanlage"},"Text"]
[null,null,{"$f":"'Anlagenartenkatalog UZH'!$B$88","v":"Wärme"},{"$f":"'Anlagenartenkatalog UZH'!$D$91","v":"Wärmepumpe"},{"$f":"Hilfstabelle!$O$8","v":"Objekt"},"Text","FRE"]
[null,null,{"$f":"'Anlagenartenkatalog UZH'!$B$88","v":"Wärme"},{"$f":"'Anlagenartenkatalog UZH'!$D$91","v":"Wärmepumpe"},{"$f":"Hilfstabelle!$O$9","v":"Raumkennzeichen"},"Text","D-03"]
[null,null,{"$f":"'Anlagenartenkatalog UZH'!$B$88","v":"Wärme"},{"$f":"'Anlagenartenkatalog UZH'!$D$91","v":"Wärmepumpe"},{"$f":"Hilfstabelle!$O$10","v":"Hersteller / Marke"},"Text","Bosch Thermotechnik AG"]
[null,null,{"$f":"'Anlagenartenkatalog UZH'!$B$88","v":"Wärme"},{"$f":"'Anlagenartenkatalog UZH'!$D$91","v":"Wärmepumpe"},{"$f":"Hilfstabelle!$O$11","v":"Modell / Artikel"},"Text","Buderus Wärmepumpe WLW186i-12 AR E"]
[null,null,{"$f":"'Anlagenartenkatalog UZH'!$B$88","v":"Wärme"},{"$f":"'Anlagenartenkatalog UZH'!$D$91","v":"Wärmepumpe"},{"$f":"Hilfstabelle!$O$12","v":"Seriennummer"},"Text","34574578"]
[null,null,{"$f":"'Anlagenartenkatalog UZH'!$B$88","v":"Wärme"},{"$f":"'Anlagenartenkatalog UZH'!$D$91","v":"Wärmepumpe"},{"$f":"Hilfstabelle!$O$13","v":"Servicefirma"},"Text","Bosch Thermotechnik AG",{"$f":"Hilfstabelle!$P$10","v":"Gemäss Offerte in Submission"}]
[null,null,{"$f":"'Anlagenartenkatalog UZH'!$B$88","v":"Wärme"},{"$f":"'Anlagenartenkatalog UZH'!$D$91","v":"Wärmepumpe"},{"$f":"Hilfstabelle!$O$14","v":"Inbetriebnahmedatum"},"Text","06.06.2030"]
[null,null,{"$f":"'Anlagenartenkatalog UZH'!$B$88","v":"Wärme"},{"$f":"'Anlagenartenkatalog UZH'!$D$91","v":"Wärmepumpe"},{"$f":"Hilfstabelle!$O$15","v":"Garantieende"},"Text","06.06.2035"]
[null,null,{"$f":"'Anlagenartenkatalog UZH'!$B$88","v":"Wärme"},{"$f":"'Anlagenartenkatalog UZH'!$D$91","v":"Wärmepumpe"},{"$f":"Hilfstabelle!$O$16","v":"Erwartetes technisches Enddatum"},"Text","06.06.2045"]
[null,null,{"$f":"'Anlagenartenkatalog UZH'!$B$88","v":"Wärme"},{"$f":"'Anlagenartenkatalog UZH'!$D$91","v":"Wärmepumpe"},"Anmerkung: Energiequelle/Medium","Text","Energiequelle/Medium: Luft","Mögliche Medien: \"Luft\", \"Wasser\", \"Erde\""]
[null,null,{"$f":"'Anlagenartenkatalog UZH'!$B$88","v":"Wärme"},{"$f":"'Anlagenartenkatalog UZH'!$D$91","v":"Wärmepumpe"},"Anmerkung: Kältemittel","Text","Kältemittel: R290"]
[null,null,{"$f":"'Anlagenartenkatalog UZH'!$B$88","v":"Wärme"},{"$f":"'Anlagenartenkatalog UZH'!$D$91","v":"Wärmepumpe"},"Anmerkung: Füllmenge Kältemittel [kg]","Text","Füllmenge Kältemittel: 1.6 kg"]
[null,null,{"$f":"'Anlagenartenkatalog UZH'!$B$88","v":"Wärme"},{"$f":"'Anlagenartenkatalog UZH'!$D$91","v":"Wärmepumpe"},"Anmerkung: Meldekarte (Vignette)","Text","Meldekarte (Vignette):  2006 703800 132711","Ggf. \"Keine Meldepflicht\" vermerken"]
[null,null,{"$f":"'Anlagenartenkatalog UZH'!$B$88","v":"Wärme"},{"$f":"'Anlagenartenkatalog UZH'!$D$91","v":"Wärmepumpe"},"Anmerkung: Maximale Betriebstemperatur in [°C]","Zahl","Maximale Betriebstemperatur: 70 °C"]
[null,null,{"$f":"'Anlagenartenkatalog UZH'!$B$88","v":"Wärme"},{"$f":"'Anlagenartenkatalog UZH'!$D$91","v":"Wärmepumpe"},"Anmerkung: Nennwärmeleistung in [kW]","Zahl","Nennwärmeleistung: 10 kW","(durchschnittliche Klimaverhältnisse)"]
[null,null,{"$f":"'Anlagenartenkatalog UZH'!$B$88","v":"Wärme"},{"$f":"'Anlagenartenkatalog UZH'!$D$91","v":"Wärmepumpe"},"Anmerkung: SCOP","Zahl","SCOP: 4.74"]
[null,null,{"$f":"'Anlagenartenkatalog UZH'!$B$88","v":"Wärme"},{"$f":"'Anlagenartenkatalog UZH'!$D$91","v":"Wärmepumpe"},{"$f":"Hilfstabelle!$O$17","v":"Anmerkung: Anzahl Wartungen pro Jahr"},"Text","Anzahl Wartungen pro Jahr: 1"]
[null,null,{"$f":"'Anlagenartenkatalog UZH'!$B$88","v":"Wärme"},{"$f":"'Anlagenartenkatalog UZH'!$D$92","v":"Fernwärmeunterstation"},{"$f":"Hilfstabelle!$O$3","v":"Code (MSRL-Code)"},"Text","FRE_G501_S001"]
[null,null,{"$f":"'Anlagenartenkatalog UZH'!$B$88","v":"Wärme"},{"$f":"'Anlagenartenkatalog UZH'!$D$92","v":"Fernwärmeunterstation"},{"$f":"Hilfstabelle!$O$4","v":"Bezeichnung"},"Text","Fernwärmeunterstation",{"$f":"Hilfstabelle!$P$7","v":"Die Bezeichnung einer Anlage muss eindeutig sein, sofern mehrere Anlagen im gleichen Raum sind. "}]
[null,null,{"$f":"'Anlagenartenkatalog UZH'!$B$88","v":"Wärme"},{"$f":"'Anlagenartenkatalog UZH'!$D$92","v":"Fernwärmeunterstation"},{"$f":"Hilfstabelle!$O$5","v":"Anlagentyp (Beschreibung)"},"Text",null,{"$f":"Hilfstabelle!$P$8","v":"Verbindlich gemäss Anlagenartenkatalog"}]
[null,null,{"$f":"'Anlagenartenkatalog UZH'!$B$88","v":"Wärme"},{"$f":"'Anlagenartenkatalog UZH'!$D$92","v":"Fernwärmeunterstation"},{"$f":"Hilfstabelle!$O$6","v":"Artikelgruppe"},"Text",{"$f":"'Anlagenartenkatalog UZH'!$A$88","v":"02.06"}]
[null,null,{"$f":"'Anlagenartenkatalog UZH'!$B$88","v":"Wärme"},{"$f":"'Anlagenartenkatalog UZH'!$D$92","v":"Fernwärmeunterstation"},{"$f":"Hilfstabelle!$O$7","v":"Hauptanlage"},"Text"]
[null,null,{"$f":"'Anlagenartenkatalog UZH'!$B$88","v":"Wärme"},{"$f":"'Anlagenartenkatalog UZH'!$D$92","v":"Fernwärmeunterstation"},{"$f":"Hilfstabelle!$O$8","v":"Objekt"},"Text","FRE"]
[null,null,{"$f":"'Anlagenartenkatalog UZH'!$B$88","v":"Wärme"},{"$f":"'Anlagenartenkatalog UZH'!$D$92","v":"Fernwärmeunterstation"},{"$f":"Hilfstabelle!$O$9","v":"Raumkennzeichen"},"Text","D-02"]
[null,null,{"$f":"'Anlagenartenkatalog UZH'!$B$88","v":"Wärme"},{"$f":"'Anlagenartenkatalog UZH'!$D$92","v":"Fernwärmeunterstation"},{"$f":"Hilfstabelle!$O$10","v":"Hersteller / Marke"},"Text","-"]
[null,null,{"$f":"'Anlagenartenkatalog UZH'!$B$88","v":"Wärme"},{"$f":"'Anlagenartenkatalog UZH'!$D$92","v":"Fernwärmeunterstation"},{"$f":"Hilfstabelle!$O$11","v":"Modell / Artikel"},"Text","-"]
[null,null,{"$f":"'Anlagenartenkatalog UZH'!$B$88","v":"Wärme"},{"$f":"'Anlagenartenkatalog UZH'!$D$92","v":"Fernwärmeunterstation"},{"$f":"Hilfstabelle!$O$12","v":"Seriennummer"},"Text","-"]
[null,null,{"$f":"'Anlagenartenkatalog UZH'!$B$88","v":"Wärme"},{"$f":"'Anlagenartenkatalog UZH'!$D$92","v":"Fernwärmeunterstation"},{"$f":"Hilfstabelle!$O$13","v":"Servicefirma"},"Text","-",{"$f":"Hilfstabelle!$P$10","v":"Gemäss Offerte in Submission"}]
[null,null,{"$f":"'Anlagenartenkatalog UZH'!$B$88","v":"Wärme"},{"$f":"'Anlagenartenkatalog UZH'!$D$92","v":"Fernwärmeunterstation"},{"$f":"Hilfstabelle!$O$14","v":"Inbetriebnahmedatum"},"Text","06.06.2030"]
[null,null,{"$f":"'Anlagenartenkatalog UZH'!$B$88","v":"Wärme"},{"$f":"'Anlagenartenkatalog UZH'!$D$92","v":"Fernwärmeunterstation"},{"$f":"Hilfstabelle!$O$15","v":"Garantieende"},"Text","06.06.2035"]
[null,null,{"$f":"'Anlagenartenkatalog UZH'!$B$88","v":"Wärme"},{"$f":"'Anlagenartenkatalog UZH'!$D$92","v":"Fernwärmeunterstation"},{"$f":"Hilfstabelle!$O$16","v":"Erwartetes technisches Enddatum"},"Text","06.06.2045"]
[null,null,{"$f":"'Anlagenartenkatalog UZH'!$B$63","v":"Wasseraufbereitung"},{"$f":"'Anlagenartenkatalog UZH'!$D$64","v":"Enthärtungsanlage"},{"$f":"Hilfstabelle!$O$3","v":"Code (MSRL-Code)"},"Text","PLR-US19-S002"]
[null,null,{"$f":"'Anlagenartenkatalog UZH'!$B$63","v":"Wasseraufbereitung"},{"$f":"'Anlagenartenkatalog UZH'!$D$64","v":"Enthärtungsanlage"},{"$f":"Hilfstabelle!$O$4","v":"Bezeichnung"},"Text","Enthärtungsanlage",{"$f":"Hilfstabelle!$P$7","v":"Die Bezeichnung einer Anlage muss eindeutig sein, sofern mehrere Anlagen im gleichen Raum sind. "}]
[null,null,{"$f":"'Anlagenartenkatalog UZH'!$B$63","v":"Wasseraufbereitung"},{"$f":"'Anlagenartenkatalog UZH'!$D$64","v":"Enthärtungsanlage"},{"$f":"Hilfstabelle!$O$5","v":"Anlagentyp (Beschreibung)"},"Text",null,"Verbindlich gemäss Anlagenartenkatalog (entfernt Kalk)"]
[null,null,{"$f":"'Anlagenartenkatalog UZH'!$B$63","v":"Wasseraufbereitung"},{"$f":"'Anlagenartenkatalog UZH'!$D$64","v":"Enthärtungsanlage"},{"$f":"Hilfstabelle!$O$6","v":"Artikelgruppe"},"Text",{"$f":"'Anlagenartenkatalog UZH'!$A$63","v":"02.05.04"}]
[null,null,{"$f":"'Anlagenartenkatalog UZH'!$B$63","v":"Wasseraufbereitung"},{"$f":"'Anlagenartenkatalog UZH'!$D$64","v":"Enthärtungsanlage"},{"$f":"Hilfstabelle!$O$7","v":"Hauptanlage"},"Text"]
[null,null,{"$f":"'Anlagenartenkatalog UZH'!$B$63","v":"Wasseraufbereitung"},{"$f":"'Anlagenartenkatalog UZH'!$D$64","v":"Enthärtungsanlage"},{"$f":"Hilfstabelle!$O$8","v":"Objekt"},"Text","PLR "]
[null,null,{"$f":"'Anlagenartenkatalog UZH'!$B$63","v":"Wasseraufbereitung"},{"$f":"'Anlagenartenkatalog UZH'!$D$64","v":"Enthärtungsanlage"},{"$f":"Hilfstabelle!$O$9","v":"Raumkennzeichen"},"Text","K-515"]
[null,null,{"$f":"'Anlagenartenkatalog UZH'!$B$63","v":"Wasseraufbereitung"},{"$f":"'Anlagenartenkatalog UZH'!$D$64","v":"Enthärtungsanlage"},{"$f":"Hilfstabelle!$O$10","v":"Hersteller / Marke"},"Text","BWT Aqua AG"]
[null,null,{"$f":"'Anlagenartenkatalog UZH'!$B$63","v":"Wasseraufbereitung"},{"$f":"'Anlagenartenkatalog UZH'!$D$64","v":"Enthärtungsanlage"},{"$f":"Hilfstabelle!$O$11","v":"Modell / Artikel"},"Text","BWT Rondomat Duo"]
[null,null,{"$f":"'Anlagenartenkatalog UZH'!$B$63","v":"Wasseraufbereitung"},{"$f":"'Anlagenartenkatalog UZH'!$D$64","v":"Enthärtungsanlage"},{"$f":"Hilfstabelle!$O$12","v":"Seriennummer"},"Text","814685-01"]
[null,null,{"$f":"'Anlagenartenkatalog UZH'!$B$63","v":"Wasseraufbereitung"},{"$f":"'Anlagenartenkatalog UZH'!$D$64","v":"Enthärtungsanlage"},{"$f":"Hilfstabelle!$O$13","v":"Servicefirma"},"Text","BWT Aqua AG",{"$f":"Hilfstabelle!$P$10","v":"Gemäss Offerte in Submission"}]
[null,null,{"$f":"'Anlagenartenkatalog UZH'!$B$63","v":"Wasseraufbereitung"},{"$f":"'Anlagenartenkatalog UZH'!$D$64","v":"Enthärtungsanlage"},{"$f":"Hilfstabelle!$O$14","v":"Inbetriebnahmedatum"},"Text","06.06.2030"]
[null,null,{"$f":"'Anlagenartenkatalog UZH'!$B$63","v":"Wasseraufbereitung"},{"$f":"'Anlagenartenkatalog UZH'!$D$64","v":"Enthärtungsanlage"},{"$f":"Hilfstabelle!$O$15","v":"Garantieende"},"Text","06.06.2035"]
[null,null,{"$f":"'Anlagenartenkatalog UZH'!$B$63","v":"Wasseraufbereitung"},{"$f":"'Anlagenartenkatalog UZH'!$D$64","v":"Enthärtungsanlage"},{"$f":"Hilfstabelle!$O$16","v":"Erwartetes technisches Enddatum"},"Text","06.06.2045"]
[null,null,{"$f":"'Anlagenartenkatalog UZH'!$B$63","v":"Wasseraufbereitung"},{"$f":"'Anlagenartenkatalog UZH'!$D$64","v":"Enthärtungsanlage"},"Anmerkung: Salzbehälter in [kg]","Text","Salzbehälter: 75 kg","Alternatives Regeneriermittel ist hier anzugeben (eindeutige Angabe für die Nachbestellung)"]
[null,null,{"$f":"'Anlagenartenkatalog UZH'!$B$63","v":"Wasseraufbereitung"},{"$f":"'Anlagenartenkatalog UZH'!$D$64","v":"Enthärtungsanlage"},{"$f":"Hilfstabelle!$O$17","v":"Anmerkung: Anzahl Wartungen pro Jahr"},"Text","Anzahl Wartungen pro Jahr: 1"]
[null,null,{"$f":"'Anlagenartenkatalog UZH'!$B$63","v":"Wasseraufbereitung"},{"$f":"'Anlagenartenkatalog UZH'!$D$63","v":"Osmoseanlage"},{"$f":"Hilfstabelle!$O$3","v":"Code (MSRL-Code)"},"Text","PLR-US19-S002"]
[null,null,{"$f":"'Anlagenartenkatalog UZH'!$B$63","v":"Wasseraufbereitung"},{"$f":"'Anlagenartenkatalog UZH'!$D$63","v":"Osmoseanlage"},{"$f":"Hilfstabelle!$O$4","v":"Bezeichnung"},"Text","Osmoseanlage",{"$f":"Hilfstabelle!$P$7","v":"Die Bezeichnung einer Anlage muss eindeutig sein, sofern mehrere Anlagen im gleichen Raum sind. "}]
[null,null,{"$f":"'Anlagenartenkatalog UZH'!$B$63","v":"Wasseraufbereitung"},{"$f":"'Anlagenartenkatalog UZH'!$D$63","v":"Osmoseanlage"},{"$f":"Hilfstabelle!$O$5","v":"Anlagentyp (Beschreibung)"},"Text",null,"Verbindlich gemäss Anlagenartenkatalog (entfernt Salz, Kalk, Bakterien, usw.)"]
[null,null,{"$f":"'Anlagenartenkatalog UZH'!$B$63","v":"Wasseraufbereitung"},{"$f":"'Anlagenartenkatalog UZH'!$D$63","v":"Osmoseanlage"},{"$f":"Hilfstabelle!$O$6","v":"Artikelgruppe"},"Text",{"$f":"'Anlagenartenkatalog UZH'!$A$63","v":"02.05.04"}]
[null,null,{"$f":"'Anlagenartenkatalog UZH'!$B$63","v":"Wasseraufbereitung"},{"$f":"'Anlagenartenkatalog UZH'!$D$63","v":"Osmoseanlage"},{"$f":"Hilfstabelle!$O$7","v":"Hauptanlage"},"Text"]
[null,null,{"$f":"'Anlagenartenkatalog UZH'!$B$63","v":"Wasseraufbereitung"},{"$f":"'Anlagenartenkatalog UZH'!$D$63","v":"Osmoseanlage"},{"$f":"Hilfstabelle!$O$8","v":"Objekt"},"Text","PLR "]
[null,null,{"$f":"'Anlagenartenkatalog UZH'!$B$63","v":"Wasseraufbereitung"},{"$f":"'Anlagenartenkatalog UZH'!$D$63","v":"Osmoseanlage"},{"$f":"Hilfstabelle!$O$9","v":"Raumkennzeichen"},"Text","K-515"]
[null,null,{"$f":"'Anlagenartenkatalog UZH'!$B$63","v":"Wasseraufbereitung"},{"$f":"'Anlagenartenkatalog UZH'!$D$63","v":"Osmoseanlage"},{"$f":"Hilfstabelle!$O$10","v":"Hersteller / Marke"},"Text","BWT Aqua AG"]
[null,null,{"$f":"'Anlagenartenkatalog UZH'!$B$63","v":"Wasseraufbereitung"},{"$f":"'Anlagenartenkatalog UZH'!$D$63","v":"Osmoseanlage"},{"$f":"Hilfstabelle!$O$11","v":"Modell / Artikel"},"Text","BWT Rondomat Duo"]
[null,null,{"$f":"'Anlagenartenkatalog UZH'!$B$63","v":"Wasseraufbereitung"},{"$f":"'Anlagenartenkatalog UZH'!$D$63","v":"Osmoseanlage"},{"$f":"Hilfstabelle!$O$12","v":"Seriennummer"},"Text","814685-01"]
[null,null,{"$f":"'Anlagenartenkatalog UZH'!$B$63","v":"Wasseraufbereitung"},{"$f":"'Anlagenartenkatalog UZH'!$D$63","v":"Osmoseanlage"},{"$f":"Hilfstabelle!$O$13","v":"Servicefirma"},"Text","BWT Aqua AG",{"$f":"Hilfstabelle!$P$10","v":"Gemäss Offerte in Submission"}]
[null,null,{"$f":"'Anlagenartenkatalog UZH'!$B$63","v":"Wasseraufbereitung"},{"$f":"'Anlagenartenkatalog UZH'!$D$63","v":"Osmoseanlage"},{"$f":"Hilfstabelle!$O$14","v":"Inbetriebnahmedatum"},"Text","06.06.2030"]
[null,null,{"$f":"'Anlagenartenkatalog UZH'!$B$63","v":"Wasseraufbereitung"},{"$f":"'Anlagenartenkatalog UZH'!$D$63","v":"Osmoseanlage"},{"$f":"Hilfstabelle!$O$15","v":"Garantieende"},"Text","06.06.2035"]
[null,null,{"$f":"'Anlagenartenkatalog UZH'!$B$63","v":"Wasseraufbereitung"},{"$f":"'Anlagenartenkatalog UZH'!$D$63","v":"Osmoseanlage"},{"$f":"Hilfstabelle!$O$16","v":"Erwartetes technisches Enddatum"},"Text","06.06.2045"]
[null,null,{"$f":"'Anlagenartenkatalog UZH'!$B$63","v":"Wasseraufbereitung"},{"$f":"'Anlagenartenkatalog UZH'!$D$63","v":"Osmoseanlage"},"Anmerkung: Salzbehälter in [kg]","Text","Salzbehälter: 75 kg"]
[null,null,{"$f":"'Anlagenartenkatalog UZH'!$B$63","v":"Wasseraufbereitung"},{"$f":"'Anlagenartenkatalog UZH'!$D$63","v":"Osmoseanlage"},{"$f":"Hilfstabelle!$O$17","v":"Anmerkung: Anzahl Wartungen pro Jahr"},"Text","Anzahl Wartungen pro Jahr: 1"]
[null,null,{"$f":"'Anlagenartenkatalog UZH'!$B$65","v":"Wasserverteilung"},{"$f":"'Anlagenartenkatalog UZH'!$D$72","v":"Hochdruckbefeuchtungsanlage"},{"$f":"Hilfstabelle!$O$3","v":"Code (MSRL-Code)"},"Text","SOC-US11-L001-1-U8-F09","Vollständiger MSRL-Code für die Zuordnung benötigt"]
[null,null,{"$f":"'Anlagenartenkatalog UZH'!$B$65","v":"Wasserverteilung"},{"$f":"'Anlagenartenkatalog UZH'!$D$72","v":"Hochdruckbefeuchtungsanlage"},{"$f":"Hilfstabelle!$O$4","v":"Bezeichnung"},"Text","Hochdruckbefeuchtungsanlage",{"$f":"Hilfstabelle!$P$7","v":"Die Bezeichnung einer Anlage muss eindeutig sein, sofern mehrere Anlagen im gleichen Raum sind. "}]
[null,null,{"$f":"'Anlagenartenkatalog UZH'!$B$65","v":"Wasserverteilung"},{"$f":"'Anlagenartenkatalog UZH'!$D$72","v":"Hochdruckbefeuchtungsanlage"},{"$f":"Hilfstabelle!$O$5","v":"Anlagentyp (Beschreibung)"},"Text",null,{"$f":"Hilfstabelle!$P$8","v":"Verbindlich gemäss Anlagenartenkatalog"}]
[null,null,{"$f":"'Anlagenartenkatalog UZH'!$B$65","v":"Wasserverteilung"},{"$f":"'Anlagenartenkatalog UZH'!$D$72","v":"Hochdruckbefeuchtungsanlage"},{"$f":"Hilfstabelle!$O$6","v":"Artikelgruppe"},"Text","02.05.05"]
[null,null,{"$f":"'Anlagenartenkatalog UZH'!$B$65","v":"Wasserverteilung"},{"$f":"'Anlagenartenkatalog UZH'!$D$72","v":"Hochdruckbefeuchtungsanlage"},{"$f":"Hilfstabelle!$O$7","v":"Hauptanlage"},"Text"]
[null,null,{"$f":"'Anlagenartenkatalog UZH'!$B$65","v":"Wasserverteilung"},{"$f":"'Anlagenartenkatalog UZH'!$D$72","v":"Hochdruckbefeuchtungsanlage"},{"$f":"Hilfstabelle!$O$8","v":"Objekt"},"Text","SOC"]
[null,null,{"$f":"'Anlagenartenkatalog UZH'!$B$65","v":"Wasserverteilung"},{"$f":"'Anlagenartenkatalog UZH'!$D$72","v":"Hochdruckbefeuchtungsanlage"},{"$f":"Hilfstabelle!$O$9","v":"Raumkennzeichen"},"Text","D-08"]
[null,null,{"$f":"'Anlagenartenkatalog UZH'!$B$65","v":"Wasserverteilung"},{"$f":"'Anlagenartenkatalog UZH'!$D$72","v":"Hochdruckbefeuchtungsanlage"},{"$f":"Hilfstabelle!$O$10","v":"Hersteller / Marke"},"Text","Condair AG"]
[null,null,{"$f":"'Anlagenartenkatalog UZH'!$B$65","v":"Wasserverteilung"},{"$f":"'Anlagenartenkatalog UZH'!$D$72","v":"Hochdruckbefeuchtungsanlage"},{"$f":"Hilfstabelle!$O$11","v":"Modell / Artikel"},"Text","Condair HP"]
[null,null,{"$f":"'Anlagenartenkatalog UZH'!$B$65","v":"Wasserverteilung"},{"$f":"'Anlagenartenkatalog UZH'!$D$72","v":"Hochdruckbefeuchtungsanlage"},{"$f":"Hilfstabelle!$O$12","v":"Seriennummer"},"Text","234536464"]
[null,null,{"$f":"'Anlagenartenkatalog UZH'!$B$65","v":"Wasserverteilung"},{"$f":"'Anlagenartenkatalog UZH'!$D$72","v":"Hochdruckbefeuchtungsanlage"},{"$f":"Hilfstabelle!$O$13","v":"Servicefirma"},"Text","Condair AG",{"$f":"Hilfstabelle!$P$10","v":"Gemäss Offerte in Submission"}]
[null,null,{"$f":"'Anlagenartenkatalog UZH'!$B$65","v":"Wasserverteilung"},{"$f":"'Anlagenartenkatalog UZH'!$D$72","v":"Hochdruckbefeuchtungsanlage"},{"$f":"Hilfstabelle!$O$14","v":"Inbetriebnahmedatum"},"Text","06.06.2030"]
[null,null,{"$f":"'Anlagenartenkatalog UZH'!$B$65","v":"Wasserverteilung"},{"$f":"'Anlagenartenkatalog UZH'!$D$72","v":"Hochdruckbefeuchtungsanlage"},{"$f":"Hilfstabelle!$O$15","v":"Garantieende"},"Text","06.06.2035"]
[null,null,{"$f":"'Anlagenartenkatalog UZH'!$B$65","v":"Wasserverteilung"},{"$f":"'Anlagenartenkatalog UZH'!$D$72","v":"Hochdruckbefeuchtungsanlage"},{"$f":"Hilfstabelle!$O$16","v":"Erwartetes technisches Enddatum"},"Text","06.06.2045"]
[null,null,{"$f":"'Anlagenartenkatalog UZH'!$B$65","v":"Wasserverteilung"},{"$f":"'Anlagenartenkatalog UZH'!$D$72","v":"Hochdruckbefeuchtungsanlage"},"Anmerkung: Maximale Befeuchtungsleistung in [kg/h]","Text","Maximale Befeuchtungsleistung: 18.0 kg/h"]
[null,null,{"$f":"'Anlagenartenkatalog UZH'!$B$65","v":"Wasserverteilung"},{"$f":"'Anlagenartenkatalog UZH'!$D$72","v":"Hochdruckbefeuchtungsanlage"},{"$f":"Hilfstabelle!$O$17","v":"Anmerkung: Anzahl Wartungen pro Jahr"},"Text","Anzahl Wartungen pro Jahr: 1"]
[null,null,{"$f":"'Anlagenartenkatalog UZH'!$B$65","v":"Wasserverteilung"},{"$f":"'Anlagenartenkatalog UZH'!$D$71","v":"Dampfbefeuchter"},{"$f":"Hilfstabelle!$O$3","v":"Code (MSRL-Code)"},"Text","SOC-US11-L001-1-U8-F09","Vollständiger MSRL-Code für die Zuordnung benötigt"]
[null,null,{"$f":"'Anlagenartenkatalog UZH'!$B$65","v":"Wasserverteilung"},{"$f":"'Anlagenartenkatalog UZH'!$D$71","v":"Dampfbefeuchter"},{"$f":"Hilfstabelle!$O$4","v":"Bezeichnung"},"Text","Dampfbefeuchter",{"$f":"Hilfstabelle!$P$7","v":"Die Bezeichnung einer Anlage muss eindeutig sein, sofern mehrere Anlagen im gleichen Raum sind. "}]
[null,null,{"$f":"'Anlagenartenkatalog UZH'!$B$65","v":"Wasserverteilung"},{"$f":"'Anlagenartenkatalog UZH'!$D$71","v":"Dampfbefeuchter"},{"$f":"Hilfstabelle!$O$5","v":"Anlagentyp (Beschreibung)"},"Text",null,{"$f":"Hilfstabelle!$P$8","v":"Verbindlich gemäss Anlagenartenkatalog"}]
[null,null,{"$f":"'Anlagenartenkatalog UZH'!$B$65","v":"Wasserverteilung"},{"$f":"'Anlagenartenkatalog UZH'!$D$71","v":"Dampfbefeuchter"},{"$f":"Hilfstabelle!$O$6","v":"Artikelgruppe"},"Text","02.05.05"]
[null,null,{"$f":"'Anlagenartenkatalog UZH'!$B$65","v":"Wasserverteilung"},{"$f":"'Anlagenartenkatalog UZH'!$D$71","v":"Dampfbefeuchter"},{"$f":"Hilfstabelle!$O$7","v":"Hauptanlage"},"Text"]
[null,null,{"$f":"'Anlagenartenkatalog UZH'!$B$65","v":"Wasserverteilung"},{"$f":"'Anlagenartenkatalog UZH'!$D$71","v":"Dampfbefeuchter"},{"$f":"Hilfstabelle!$O$8","v":"Objekt"},"Text","SOC"]
[null,null,{"$f":"'Anlagenartenkatalog UZH'!$B$65","v":"Wasserverteilung"},{"$f":"'Anlagenartenkatalog UZH'!$D$71","v":"Dampfbefeuchter"},{"$f":"Hilfstabelle!$O$9","v":"Raumkennzeichen"},"Text","D-08"]
[null,null,{"$f":"'Anlagenartenkatalog UZH'!$B$65","v":"Wasserverteilung"},{"$f":"'Anlagenartenkatalog UZH'!$D$71","v":"Dampfbefeuchter"},{"$f":"Hilfstabelle!$O$10","v":"Hersteller / Marke"},"Text","Condair AG"]
[null,null,{"$f":"'Anlagenartenkatalog UZH'!$B$65","v":"Wasserverteilung"},{"$f":"'Anlagenartenkatalog UZH'!$D$71","v":"Dampfbefeuchter"},{"$f":"Hilfstabelle!$O$11","v":"Modell / Artikel"},"Text","Condair RS"]
[null,null,{"$f":"'Anlagenartenkatalog UZH'!$B$65","v":"Wasserverteilung"},{"$f":"'Anlagenartenkatalog UZH'!$D$71","v":"Dampfbefeuchter"},{"$f":"Hilfstabelle!$O$12","v":"Seriennummer"},"Text","23452365"]
[null,null,{"$f":"'Anlagenartenkatalog UZH'!$B$65","v":"Wasserverteilung"},{"$f":"'Anlagenartenkatalog UZH'!$D$71","v":"Dampfbefeuchter"},{"$f":"Hilfstabelle!$O$13","v":"Servicefirma"},"Text","Condair AG",{"$f":"Hilfstabelle!$P$10","v":"Gemäss Offerte in Submission"}]
[null,null,{"$f":"'Anlagenartenkatalog UZH'!$B$65","v":"Wasserverteilung"},{"$f":"'Anlagenartenkatalog UZH'!$D$71","v":"Dampfbefeuchter"},{"$f":"Hilfstabelle!$O$14","v":"Inbetriebnahmedatum"},"Text","06.06.2030"]
[null,null,{"$f":"'Anlagenartenkatalog UZH'!$B$65","v":"Wasserverteilung"},{"$f":"'Anlagenartenkatalog UZH'!$D$71","v":"Dampfbefeuchter"},{"$f":"Hilfstabelle!$O$15","v":"Garantieende"},"Text","06.06.2035"]
[null,null,{"$f":"'Anlagenartenkatalog UZH'!$B$65","v":"Wasserverteilung"},{"$f":"'Anlagenartenkatalog UZH'!$D$71","v":"Dampfbefeuchter"},{"$f":"Hilfstabelle!$O$16","v":"Erwartetes technisches Enddatum"},"Text","06.06.2045"]
[null,null,{"$f":"'Anlagenartenkatalog UZH'!$B$65","v":"Wasserverteilung"},{"$f":"'Anlagenartenkatalog UZH'!$D$71","v":"Dampfbefeuchter"},"Anmerkung: Maximale Befeuchtungsleistung in [kg/h]","Text","Maximale Befeuchtungsleistung: 18.0 kg/h"]
[null,null,{"$f":"'Anlagenartenkatalog UZH'!$B$65","v":"Wasserverteilung"},{"$f":"'Anlagenartenkatalog UZH'!$D$71","v":"Dampfbefeuchter"},{"$f":"Hilfstabelle!$O$17","v":"Anmerkung: Anzahl Wartungen pro Jahr"},"Text","Anzahl Wartungen pro Jahr: 1"]
[null,null,{"$f":"'Anlagenartenkatalog UZH'!$B$65","v":"Wasserverteilung"},{"$f":"'Anlagenartenkatalog UZH'!$D$70","v":"Ultraschallbefeuchter"},{"$f":"Hilfstabelle!$O$3","v":"Code (MSRL-Code)"},"Text","SOC-US11-L001-1-U8-F09","Vollständiger MSRL-Code für die Zuordnung benötigt"]
[null,null,{"$f":"'Anlagenartenkatalog UZH'!$B$65","v":"Wasserverteilung"},{"$f":"'Anlagenartenkatalog UZH'!$D$70","v":"Ultraschallbefeuchter"},{"$f":"Hilfstabelle!$O$4","v":"Bezeichnung"},"Text","Ultraschallbefeuchter",{"$f":"Hilfstabelle!$P$7","v":"Die Bezeichnung einer Anlage muss eindeutig sein, sofern mehrere Anlagen im gleichen Raum sind. "}]
[null,null,{"$f":"'Anlagenartenkatalog UZH'!$B$65","v":"Wasserverteilung"},{"$f":"'Anlagenartenkatalog UZH'!$D$70","v":"Ultraschallbefeuchter"},{"$f":"Hilfstabelle!$O$5","v":"Anlagentyp (Beschreibung)"},"Text",null,{"$f":"Hilfstabelle!$P$8","v":"Verbindlich gemäss Anlagenartenkatalog"}]
[null,null,{"$f":"'Anlagenartenkatalog UZH'!$B$65","v":"Wasserverteilung"},{"$f":"'Anlagenartenkatalog UZH'!$D$70","v":"Ultraschallbefeuchter"},{"$f":"Hilfstabelle!$O$6","v":"Artikelgruppe"},"Text","02.05.05"]
[null,null,{"$f":"'Anlagenartenkatalog UZH'!$B$65","v":"Wasserverteilung"},{"$f":"'Anlagenartenkatalog UZH'!$D$70","v":"Ultraschallbefeuchter"},{"$f":"Hilfstabelle!$O$7","v":"Hauptanlage"},"Text"]
[null,null,{"$f":"'Anlagenartenkatalog UZH'!$B$65","v":"Wasserverteilung"},{"$f":"'Anlagenartenkatalog UZH'!$D$70","v":"Ultraschallbefeuchter"},{"$f":"Hilfstabelle!$O$8","v":"Objekt"},"Text","SOC"]
[null,null,{"$f":"'Anlagenartenkatalog UZH'!$B$65","v":"Wasserverteilung"},{"$f":"'Anlagenartenkatalog UZH'!$D$70","v":"Ultraschallbefeuchter"},{"$f":"Hilfstabelle!$O$9","v":"Raumkennzeichen"},"Text","D-08"]
[null,null,{"$f":"'Anlagenartenkatalog UZH'!$B$65","v":"Wasserverteilung"},{"$f":"'Anlagenartenkatalog UZH'!$D$70","v":"Ultraschallbefeuchter"},{"$f":"Hilfstabelle!$O$10","v":"Hersteller / Marke"},"Text","Bédert AG"]
[null,null,{"$f":"'Anlagenartenkatalog UZH'!$B$65","v":"Wasserverteilung"},{"$f":"'Anlagenartenkatalog UZH'!$D$70","v":"Ultraschallbefeuchter"},{"$f":"Hilfstabelle!$O$11","v":"Modell / Artikel"},"Text","ENS"]
[null,null,{"$f":"'Anlagenartenkatalog UZH'!$B$65","v":"Wasserverteilung"},{"$f":"'Anlagenartenkatalog UZH'!$D$70","v":"Ultraschallbefeuchter"},{"$f":"Hilfstabelle!$O$12","v":"Seriennummer"},"Text","3434565"]
[null,null,{"$f":"'Anlagenartenkatalog UZH'!$B$65","v":"Wasserverteilung"},{"$f":"'Anlagenartenkatalog UZH'!$D$70","v":"Ultraschallbefeuchter"},{"$f":"Hilfstabelle!$O$13","v":"Servicefirma"},"Text","Bédert AG",{"$f":"Hilfstabelle!$P$10","v":"Gemäss Offerte in Submission"}]
[null,null,{"$f":"'Anlagenartenkatalog UZH'!$B$65","v":"Wasserverteilung"},{"$f":"'Anlagenartenkatalog UZH'!$D$70","v":"Ultraschallbefeuchter"},{"$f":"Hilfstabelle!$O$14","v":"Inbetriebnahmedatum"},"Text","06.06.2030"]
[null,null,{"$f":"'Anlagenartenkatalog UZH'!$B$65","v":"Wasserverteilung"},{"$f":"'Anlagenartenkatalog UZH'!$D$70","v":"Ultraschallbefeuchter"},{"$f":"Hilfstabelle!$O$15","v":"Garantieende"},"Text","06.06.2035"]
[null,null,{"$f":"'Anlagenartenkatalog UZH'!$B$65","v":"Wasserverteilung"},{"$f":"'Anlagenartenkatalog UZH'!$D$70","v":"Ultraschallbefeuchter"},{"$f":"Hilfstabelle!$O$16","v":"Erwartetes technisches Enddatum"},"Text","06.06.2045"]
[null,null,{"$f":"'Anlagenartenkatalog UZH'!$B$65","v":"Wasserverteilung"},{"$f":"'Anlagenartenkatalog UZH'!$D$70","v":"Ultraschallbefeuchter"},"Anmerkung: Maximale Befeuchtungsleistung in [kg/h]","Text","Maximale Befeuchtungsleistung: 18.0 kg/h"]
[null,null,{"$f":"'Anlagenartenkatalog UZH'!$B$65","v":"Wasserverteilung"},{"$f":"'Anlagenartenkatalog UZH'!$D$70","v":"Ultraschallbefeuchter"},{"$f":"Hilfstabelle!$O$17","v":"Anmerkung: Anzahl Wartungen pro Jahr"},"Text","Anzahl Wartungen pro Jahr: 1"]
[null,null,{"$f":"'Anlagenartenkatalog UZH'!$B$65","v":"Wasserverteilung"},{"$f":"'Anlagenartenkatalog UZH'!$D$73","v":"Bewässerungsanlage"},{"$f":"Hilfstabelle!$O$3","v":"Code (MSRL-Code)"},"Text","PLR-US18-F001"]
[null,null,{"$f":"'Anlagenartenkatalog UZH'!$B$65","v":"Wasserverteilung"},{"$f":"'Anlagenartenkatalog UZH'!$D$73","v":"Bewässerungsanlage"},{"$f":"Hilfstabelle!$O$4","v":"Bezeichnung"},"Text","Bewässerungsanlage",{"$f":"Hilfstabelle!$P$7","v":"Die Bezeichnung einer Anlage muss eindeutig sein, sofern mehrere Anlagen im gleichen Raum sind. "}]
[null,null,{"$f":"'Anlagenartenkatalog UZH'!$B$65","v":"Wasserverteilung"},{"$f":"'Anlagenartenkatalog UZH'!$D$73","v":"Bewässerungsanlage"},{"$f":"Hilfstabelle!$O$5","v":"Anlagentyp (Beschreibung)"},"Text",null,{"$f":"Hilfstabelle!$P$8","v":"Verbindlich gemäss Anlagenartenkatalog"}]
[null,null,{"$f":"'Anlagenartenkatalog UZH'!$B$65","v":"Wasserverteilung"},{"$f":"'Anlagenartenkatalog UZH'!$D$73","v":"Bewässerungsanlage"},{"$f":"Hilfstabelle!$O$6","v":"Artikelgruppe"},"Text",{"$f":"'Anlagenartenkatalog UZH'!$A$65","v":"02.05.05"}]
[null,null,{"$f":"'Anlagenartenkatalog UZH'!$B$65","v":"Wasserverteilung"},{"$f":"'Anlagenartenkatalog UZH'!$D$73","v":"Bewässerungsanlage"},{"$f":"Hilfstabelle!$O$7","v":"Hauptanlage"},"Text"]
[null,null,{"$f":"'Anlagenartenkatalog UZH'!$B$65","v":"Wasserverteilung"},{"$f":"'Anlagenartenkatalog UZH'!$D$73","v":"Bewässerungsanlage"},{"$f":"Hilfstabelle!$O$8","v":"Objekt"},"Text","PLR"]
[null,null,{"$f":"'Anlagenartenkatalog UZH'!$B$65","v":"Wasserverteilung"},{"$f":"'Anlagenartenkatalog UZH'!$D$73","v":"Bewässerungsanlage"},{"$f":"Hilfstabelle!$O$9","v":"Raumkennzeichen"},"Text","D-04","Standort der Bedienzentrale (alternativ Wasseranschluss)"]
[null,null,{"$f":"'Anlagenartenkatalog UZH'!$B$65","v":"Wasserverteilung"},{"$f":"'Anlagenartenkatalog UZH'!$D$73","v":"Bewässerungsanlage"},{"$f":"Hilfstabelle!$O$10","v":"Hersteller / Marke"},"Text","Loxone Electronics GmbH"]
[null,null,{"$f":"'Anlagenartenkatalog UZH'!$B$65","v":"Wasserverteilung"},{"$f":"'Anlagenartenkatalog UZH'!$D$73","v":"Bewässerungsanlage"},{"$f":"Hilfstabelle!$O$11","v":"Modell / Artikel"},"Text","-"]
[null,null,{"$f":"'Anlagenartenkatalog UZH'!$B$65","v":"Wasserverteilung"},{"$f":"'Anlagenartenkatalog UZH'!$D$73","v":"Bewässerungsanlage"},{"$f":"Hilfstabelle!$O$12","v":"Seriennummer"},"Text","-"]
[null,null,{"$f":"'Anlagenartenkatalog UZH'!$B$65","v":"Wasserverteilung"},{"$f":"'Anlagenartenkatalog UZH'!$D$73","v":"Bewässerungsanlage"},{"$f":"Hilfstabelle!$O$13","v":"Servicefirma"},"Text","Loxone Electronics GmbH",{"$f":"Hilfstabelle!$P$10","v":"Gemäss Offerte in Submission"}]
[null,null,{"$f":"'Anlagenartenkatalog UZH'!$B$65","v":"Wasserverteilung"},{"$f":"'Anlagenartenkatalog UZH'!$D$73","v":"Bewässerungsanlage"},{"$f":"Hilfstabelle!$O$14","v":"Inbetriebnahmedatum"},"Text","06.06.2030"]
[null,null,{"$f":"'Anlagenartenkatalog UZH'!$B$65","v":"Wasserverteilung"},{"$f":"'Anlagenartenkatalog UZH'!$D$73","v":"Bewässerungsanlage"},{"$f":"Hilfstabelle!$O$15","v":"Garantieende"},"Text","06.06.2035"]
[null,null,{"$f":"'Anlagenartenkatalog UZH'!$B$65","v":"Wasserverteilung"},{"$f":"'Anlagenartenkatalog UZH'!$D$73","v":"Bewässerungsanlage"},{"$f":"Hilfstabelle!$O$16","v":"Erwartetes technisches Enddatum"},"Text","06.06.2045"]
[null,null,{"$f":"'Anlagenartenkatalog UZH'!$B$65","v":"Wasserverteilung"},{"$f":"'Anlagenartenkatalog UZH'!$D$73","v":"Bewässerungsanlage"},"Anmerkung: Anwendungsbereich","Text","Anwendungsbereich: Innenbegrünung"]
[null,null,{"$f":"'Anlagenartenkatalog UZH'!$B$65","v":"Wasserverteilung"},{"$f":"'Anlagenartenkatalog UZH'!$D$73","v":"Bewässerungsanlage"},"Anmerkung: Genaue Standortbeschreibung der Bewässerung","Text","Genaue Standortbeschreibung der Bewässerung: Nördliche Pflanzentröge im Atrium"]
[null,null,{"$f":"'Anlagenartenkatalog UZH'!$B$65","v":"Wasserverteilung"},{"$f":"'Anlagenartenkatalog UZH'!$D$73","v":"Bewässerungsanlage"},{"$f":"Hilfstabelle!$O$17","v":"Anmerkung: Anzahl Wartungen pro Jahr"},"Text","Anzahl Wartungen pro Jahr: 1"]
[null,null,{"$f":"'Anlagenartenkatalog UZH'!$B$65","v":"Wasserverteilung"},{"$f":"'Anlagenartenkatalog UZH'!$D$69","v":"Spülautomat"},{"$f":"Hilfstabelle!$O$3","v":"Code (MSRL-Code)"},"Text","MEN-§1654199474"]
[null,null,{"$f":"'Anlagenartenkatalog UZH'!$B$65","v":"Wasserverteilung"},{"$f":"'Anlagenartenkatalog UZH'!$D$69","v":"Spülautomat"},{"$f":"Hilfstabelle!$O$4","v":"Bezeichnung"},"Text","Spülautomat",{"$f":"Hilfstabelle!$P$7","v":"Die Bezeichnung einer Anlage muss eindeutig sein, sofern mehrere Anlagen im gleichen Raum sind. "}]
[null,null,{"$f":"'Anlagenartenkatalog UZH'!$B$65","v":"Wasserverteilung"},{"$f":"'Anlagenartenkatalog UZH'!$D$69","v":"Spülautomat"},{"$f":"Hilfstabelle!$O$5","v":"Anlagentyp (Beschreibung)"},"Text",null,"Verbindlich gemäss Anlagenartenkatalog (darunter werden Hygienespülautomaten zur Vermeidung von stagnierendem Wassergemeint verstanden)"]
[null,null,{"$f":"'Anlagenartenkatalog UZH'!$B$65","v":"Wasserverteilung"},{"$f":"'Anlagenartenkatalog UZH'!$D$69","v":"Spülautomat"},{"$f":"Hilfstabelle!$O$6","v":"Artikelgruppe"},"Text",{"$f":"'Anlagenartenkatalog UZH'!$A$65","v":"02.05.05"}]
[null,null,{"$f":"'Anlagenartenkatalog UZH'!$B$65","v":"Wasserverteilung"},{"$f":"'Anlagenartenkatalog UZH'!$D$69","v":"Spülautomat"},{"$f":"Hilfstabelle!$O$7","v":"Hauptanlage"},"Text"]
[null,null,{"$f":"'Anlagenartenkatalog UZH'!$B$65","v":"Wasserverteilung"},{"$f":"'Anlagenartenkatalog UZH'!$D$69","v":"Spülautomat"},{"$f":"Hilfstabelle!$O$8","v":"Objekt"},"Text","MEN"]
[null,null,{"$f":"'Anlagenartenkatalog UZH'!$B$65","v":"Wasserverteilung"},{"$f":"'Anlagenartenkatalog UZH'!$D$69","v":"Spülautomat"},{"$f":"Hilfstabelle!$O$9","v":"Raumkennzeichen"},"Text","G-08"]
[null,null,{"$f":"'Anlagenartenkatalog UZH'!$B$65","v":"Wasserverteilung"},{"$f":"'Anlagenartenkatalog UZH'!$D$69","v":"Spülautomat"},{"$f":"Hilfstabelle!$O$10","v":"Hersteller / Marke"},"Text","Geberit AG"]
[null,null,{"$f":"'Anlagenartenkatalog UZH'!$B$65","v":"Wasserverteilung"},{"$f":"'Anlagenartenkatalog UZH'!$D$69","v":"Spülautomat"},{"$f":"Hilfstabelle!$O$11","v":"Modell / Artikel"},"Text","GEBERIT HS01 Hygienespülung"]
[null,null,{"$f":"'Anlagenartenkatalog UZH'!$B$65","v":"Wasserverteilung"},{"$f":"'Anlagenartenkatalog UZH'!$D$69","v":"Spülautomat"},{"$f":"Hilfstabelle!$O$12","v":"Seriennummer"},"Text","3452465"]
[null,null,{"$f":"'Anlagenartenkatalog UZH'!$B$65","v":"Wasserverteilung"},{"$f":"'Anlagenartenkatalog UZH'!$D$69","v":"Spülautomat"},{"$f":"Hilfstabelle!$O$13","v":"Servicefirma"},"Text","Geberit AG",{"$f":"Hilfstabelle!$P$10","v":"Gemäss Offerte in Submission"}]
[null,null,{"$f":"'Anlagenartenkatalog UZH'!$B$65","v":"Wasserverteilung"},{"$f":"'Anlagenartenkatalog UZH'!$D$69","v":"Spülautomat"},{"$f":"Hilfstabelle!$O$14","v":"Inbetriebnahmedatum"},"Text","06.06.2030"]
[null,null,{"$f":"'Anlagenartenkatalog UZH'!$B$65","v":"Wasserverteilung"},{"$f":"'Anlagenartenkatalog UZH'!$D$69","v":"Spülautomat"},{"$f":"Hilfstabelle!$O$15","v":"Garantieende"},"Text","06.06.2035"]
[null,null,{"$f":"'Anlagenartenkatalog UZH'!$B$65","v":"Wasserverteilung"},{"$f":"'Anlagenartenkatalog UZH'!$D$69","v":"Spülautomat"},{"$f":"Hilfstabelle!$O$16","v":"Erwartetes technisches Enddatum"},"Text","06.06.2045"]
[null,null,{"$f":"'Anlagenartenkatalog UZH'!$B$65","v":"Wasserverteilung"},{"$f":"'Anlagenartenkatalog UZH'!$D$69","v":"Spülautomat"},"Anmerkung: Anzahl und Batterietyp","Text","Anzahl und Batterietyp: 1x Alkali-Mangan-Batterie Typ E-Block 9 V","Ggf. \"Stromanschluss\" eintragen"]
[null,null,{"$f":"'Anlagenartenkatalog UZH'!$B$65","v":"Wasserverteilung"},{"$f":"'Anlagenartenkatalog UZH'!$D$69","v":"Spülautomat"},{"$f":"Hilfstabelle!$O$17","v":"Anmerkung: Anzahl Wartungen pro Jahr"},"Text","Anzahl Wartungen pro Jahr: 1"]
[null,null,{"$f":"'Anlagenartenkatalog UZH'!$B$65","v":"Wasserverteilung"},{"$f":"'Anlagenartenkatalog UZH'!$D$67","v":"Trinkwasser-Systemtrenngerät"},{"$f":"Hilfstabelle!$O$3","v":"Code (MSRL-Code)"},"Text","RAI-§1654199608"]
[null,null,{"$f":"'Anlagenartenkatalog UZH'!$B$65","v":"Wasserverteilung"},{"$f":"'Anlagenartenkatalog UZH'!$D$67","v":"Trinkwasser-Systemtrenngerät"},{"$f":"Hilfstabelle!$O$4","v":"Bezeichnung"},"Text",{"$f":"'Anlagenartenkatalog UZH'!$D$67","v":"Trinkwasser-Systemtrenngerät"},{"$f":"Hilfstabelle!$P$7","v":"Die Bezeichnung einer Anlage muss eindeutig sein, sofern mehrere Anlagen im gleichen Raum sind. "}]
[null,null,{"$f":"'Anlagenartenkatalog UZH'!$B$65","v":"Wasserverteilung"},{"$f":"'Anlagenartenkatalog UZH'!$D$67","v":"Trinkwasser-Systemtrenngerät"},{"$f":"Hilfstabelle!$O$5","v":"Anlagentyp (Beschreibung)"},"Text",null,{"$f":"Hilfstabelle!$P$8","v":"Verbindlich gemäss Anlagenartenkatalog"}]
[null,null,{"$f":"'Anlagenartenkatalog UZH'!$B$65","v":"Wasserverteilung"},{"$f":"'Anlagenartenkatalog UZH'!$D$67","v":"Trinkwasser-Systemtrenngerät"},{"$f":"Hilfstabelle!$O$6","v":"Artikelgruppe"},"Text",{"$f":"'Anlagenartenkatalog UZH'!$A$65","v":"02.05.05"}]
[null,null,{"$f":"'Anlagenartenkatalog UZH'!$B$65","v":"Wasserverteilung"},{"$f":"'Anlagenartenkatalog UZH'!$D$67","v":"Trinkwasser-Systemtrenngerät"},{"$f":"Hilfstabelle!$O$7","v":"Hauptanlage"},"Text"]
[null,null,{"$f":"'Anlagenartenkatalog UZH'!$B$65","v":"Wasserverteilung"},{"$f":"'Anlagenartenkatalog UZH'!$D$67","v":"Trinkwasser-Systemtrenngerät"},{"$f":"Hilfstabelle!$O$8","v":"Objekt"},"Text","RAI "]
[null,null,{"$f":"'Anlagenartenkatalog UZH'!$B$65","v":"Wasserverteilung"},{"$f":"'Anlagenartenkatalog UZH'!$D$67","v":"Trinkwasser-Systemtrenngerät"},{"$f":"Hilfstabelle!$O$9","v":"Raumkennzeichen"},"Text","D-017"]
[null,null,{"$f":"'Anlagenartenkatalog UZH'!$B$65","v":"Wasserverteilung"},{"$f":"'Anlagenartenkatalog UZH'!$D$67","v":"Trinkwasser-Systemtrenngerät"},{"$f":"Hilfstabelle!$O$10","v":"Hersteller / Marke"},"Text","R. Nussbaum AG"]
[null,null,{"$f":"'Anlagenartenkatalog UZH'!$B$65","v":"Wasserverteilung"},{"$f":"'Anlagenartenkatalog UZH'!$D$67","v":"Trinkwasser-Systemtrenngerät"},{"$f":"Hilfstabelle!$O$11","v":"Modell / Artikel"},"Text","1507807"]
[null,null,{"$f":"'Anlagenartenkatalog UZH'!$B$65","v":"Wasserverteilung"},{"$f":"'Anlagenartenkatalog UZH'!$D$67","v":"Trinkwasser-Systemtrenngerät"},{"$f":"Hilfstabelle!$O$12","v":"Seriennummer"},"Text","S181001354"]
[null,null,{"$f":"'Anlagenartenkatalog UZH'!$B$65","v":"Wasserverteilung"},{"$f":"'Anlagenartenkatalog UZH'!$D$67","v":"Trinkwasser-Systemtrenngerät"},{"$f":"Hilfstabelle!$O$13","v":"Servicefirma"},"Text","R. Nussbaum AG",{"$f":"Hilfstabelle!$P$10","v":"Gemäss Offerte in Submission"}]
[null,null,{"$f":"'Anlagenartenkatalog UZH'!$B$65","v":"Wasserverteilung"},{"$f":"'Anlagenartenkatalog UZH'!$D$67","v":"Trinkwasser-Systemtrenngerät"},{"$f":"Hilfstabelle!$O$14","v":"Inbetriebnahmedatum"},"Text","06.06.2030"]
[null,null,{"$f":"'Anlagenartenkatalog UZH'!$B$65","v":"Wasserverteilung"},{"$f":"'Anlagenartenkatalog UZH'!$D$67","v":"Trinkwasser-Systemtrenngerät"},{"$f":"Hilfstabelle!$O$15","v":"Garantieende"},"Text","06.06.2035"]
[null,null,{"$f":"'Anlagenartenkatalog UZH'!$B$65","v":"Wasserverteilung"},{"$f":"'Anlagenartenkatalog UZH'!$D$67","v":"Trinkwasser-Systemtrenngerät"},{"$f":"Hilfstabelle!$O$16","v":"Erwartetes technisches Enddatum"},"Text","06.06.2045"]
[null,null,"Wasserverteilung","Trinkwasser-Systemtrenngerät","Anmerkung: Grösse in [Zoll]","Zahl","Grösse: 1 1/2 Zoll"]
[null,null,{"$f":"'Anlagenartenkatalog UZH'!$B$65","v":"Wasserverteilung"},{"$f":"'Anlagenartenkatalog UZH'!$D$67","v":"Trinkwasser-Systemtrenngerät"},{"$f":"Hilfstabelle!$O$17","v":"Anmerkung: Anzahl Wartungen pro Jahr"},"Text","Anzahl Wartungen pro Jahr: 1"]
[null,null,{"$f":"'Anlagenartenkatalog UZH'!$B$65","v":"Wasserverteilung"},{"$f":"'Anlagenartenkatalog UZH'!$D$66","v":"Tiefenfilter"},{"$f":"Hilfstabelle!$O$3","v":"Code (MSRL-Code)"},"Text","PLH-§1654203522"]
[null,null,{"$f":"'Anlagenartenkatalog UZH'!$B$65","v":"Wasserverteilung"},{"$f":"'Anlagenartenkatalog UZH'!$D$66","v":"Tiefenfilter"},{"$f":"Hilfstabelle!$O$4","v":"Bezeichnung"},"Text","Tiefenfilter",{"$f":"Hilfstabelle!$P$7","v":"Die Bezeichnung einer Anlage muss eindeutig sein, sofern mehrere Anlagen im gleichen Raum sind. "}]
[null,null,{"$f":"'Anlagenartenkatalog UZH'!$B$65","v":"Wasserverteilung"},{"$f":"'Anlagenartenkatalog UZH'!$D$66","v":"Tiefenfilter"},{"$f":"Hilfstabelle!$O$5","v":"Anlagentyp (Beschreibung)"},"Text",null,"Verbindlich gemäss Anlagenartenkatalog (bezogen auf die Filterkerze)"]
[null,null,{"$f":"'Anlagenartenkatalog UZH'!$B$65","v":"Wasserverteilung"},{"$f":"'Anlagenartenkatalog UZH'!$D$66","v":"Tiefenfilter"},{"$f":"Hilfstabelle!$O$6","v":"Artikelgruppe"},"Text",{"$f":"'Anlagenartenkatalog UZH'!$A$65","v":"02.05.05"}]
[null,null,{"$f":"'Anlagenartenkatalog UZH'!$B$65","v":"Wasserverteilung"},{"$f":"'Anlagenartenkatalog UZH'!$D$66","v":"Tiefenfilter"},{"$f":"Hilfstabelle!$O$7","v":"Hauptanlage"},"Text"]
[null,null,{"$f":"'Anlagenartenkatalog UZH'!$B$65","v":"Wasserverteilung"},{"$f":"'Anlagenartenkatalog UZH'!$D$66","v":"Tiefenfilter"},{"$f":"Hilfstabelle!$O$8","v":"Objekt"},"Text","PLH"]
[null,null,{"$f":"'Anlagenartenkatalog UZH'!$B$65","v":"Wasserverteilung"},{"$f":"'Anlagenartenkatalog UZH'!$D$66","v":"Tiefenfilter"},{"$f":"Hilfstabelle!$O$9","v":"Raumkennzeichen"},"Text","D-03"]
[null,null,{"$f":"'Anlagenartenkatalog UZH'!$B$65","v":"Wasserverteilung"},{"$f":"'Anlagenartenkatalog UZH'!$D$66","v":"Tiefenfilter"},{"$f":"Hilfstabelle!$O$10","v":"Hersteller / Marke"},"Text","3M (Schweiz) GmbH"]
[null,null,{"$f":"'Anlagenartenkatalog UZH'!$B$65","v":"Wasserverteilung"},{"$f":"'Anlagenartenkatalog UZH'!$D$66","v":"Tiefenfilter"},{"$f":"Hilfstabelle!$O$11","v":"Modell / Artikel"},"Text","RT19B16G20NN, 19.5 Zoll, 5 μ, 15/Box"]
[null,null,{"$f":"'Anlagenartenkatalog UZH'!$B$65","v":"Wasserverteilung"},{"$f":"'Anlagenartenkatalog UZH'!$D$66","v":"Tiefenfilter"},{"$f":"Hilfstabelle!$O$12","v":"Seriennummer"},"Text","-"]
[null,null,{"$f":"'Anlagenartenkatalog UZH'!$B$65","v":"Wasserverteilung"},{"$f":"'Anlagenartenkatalog UZH'!$D$66","v":"Tiefenfilter"},{"$f":"Hilfstabelle!$O$13","v":"Servicefirma"},"Text","3M (Schweiz) GmbH",{"$f":"Hilfstabelle!$P$10","v":"Gemäss Offerte in Submission"}]
[null,null,{"$f":"'Anlagenartenkatalog UZH'!$B$65","v":"Wasserverteilung"},{"$f":"'Anlagenartenkatalog UZH'!$D$66","v":"Tiefenfilter"},{"$f":"Hilfstabelle!$O$14","v":"Inbetriebnahmedatum"},"Text","06.06.2030"]
[null,null,{"$f":"'Anlagenartenkatalog UZH'!$B$65","v":"Wasserverteilung"},{"$f":"'Anlagenartenkatalog UZH'!$D$66","v":"Tiefenfilter"},{"$f":"Hilfstabelle!$O$15","v":"Garantieende"},"Text","06.06.2035"]
[null,null,{"$f":"'Anlagenartenkatalog UZH'!$B$65","v":"Wasserverteilung"},{"$f":"'Anlagenartenkatalog UZH'!$D$66","v":"Tiefenfilter"},{"$f":"Hilfstabelle!$O$16","v":"Erwartetes technisches Enddatum"},"Text","06.06.2045"]
[null,null,{"$f":"'Anlagenartenkatalog UZH'!$B$65","v":"Wasserverteilung"},{"$f":"'Anlagenartenkatalog UZH'!$D$66","v":"Tiefenfilter"},"Anmerkung: Art der Rückspülung","Text","Art der Rückspülung: Automatisch","\"Automatsich\", \"Von Hand\" oder \"Nicht rückspülbar\" einsetzen"]
[null,null,{"$f":"'Anlagenartenkatalog UZH'!$B$65","v":"Wasserverteilung"},{"$f":"'Anlagenartenkatalog UZH'!$D$66","v":"Tiefenfilter"},"Anmerkung: Länge und Durchmesser der Filterkerze in [mm]","Text","Länge und Durchmesser der Filterkerze: 495.3 mm, 67.56 mm"]
[null,null,{"$f":"'Anlagenartenkatalog UZH'!$B$65","v":"Wasserverteilung"},{"$f":"'Anlagenartenkatalog UZH'!$D$66","v":"Tiefenfilter"},{"$f":"Hilfstabelle!$O$17","v":"Anmerkung: Anzahl Wartungen pro Jahr"},"Text","Anzahl Wartungen pro Jahr: 1"]
[null,null,{"$f":"'Anlagenartenkatalog UZH'!$B$65","v":"Wasserverteilung"},{"$f":"'Anlagenartenkatalog UZH'!$D$65","v":"Wasserfilter"},{"$f":"Hilfstabelle!$O$3","v":"Code (MSRL-Code)"},"Text","PLH-§1654203522"]
[null,null,{"$f":"'Anlagenartenkatalog UZH'!$B$65","v":"Wasserverteilung"},{"$f":"'Anlagenartenkatalog UZH'!$D$65","v":"Wasserfilter"},{"$f":"Hilfstabelle!$O$4","v":"Bezeichnung"},"Text","Wasserfilter",{"$f":"Hilfstabelle!$P$7","v":"Die Bezeichnung einer Anlage muss eindeutig sein, sofern mehrere Anlagen im gleichen Raum sind. "}]
[null,null,{"$f":"'Anlagenartenkatalog UZH'!$B$65","v":"Wasserverteilung"},{"$f":"'Anlagenartenkatalog UZH'!$D$65","v":"Wasserfilter"},{"$f":"Hilfstabelle!$O$5","v":"Anlagentyp (Beschreibung)"},"Text",null,{"$f":"Hilfstabelle!$P$8","v":"Verbindlich gemäss Anlagenartenkatalog"}]
[null,null,{"$f":"'Anlagenartenkatalog UZH'!$B$65","v":"Wasserverteilung"},{"$f":"'Anlagenartenkatalog UZH'!$D$65","v":"Wasserfilter"},{"$f":"Hilfstabelle!$O$6","v":"Artikelgruppe"},"Text",{"$f":"'Anlagenartenkatalog UZH'!$A$65","v":"02.05.05"}]
[null,null,{"$f":"'Anlagenartenkatalog UZH'!$B$65","v":"Wasserverteilung"},{"$f":"'Anlagenartenkatalog UZH'!$D$65","v":"Wasserfilter"},{"$f":"Hilfstabelle!$O$7","v":"Hauptanlage"},"Text"]
[null,null,{"$f":"'Anlagenartenkatalog UZH'!$B$65","v":"Wasserverteilung"},{"$f":"'Anlagenartenkatalog UZH'!$D$65","v":"Wasserfilter"},{"$f":"Hilfstabelle!$O$8","v":"Objekt"},"Text","PLH "]
[null,null,{"$f":"'Anlagenartenkatalog UZH'!$B$65","v":"Wasserverteilung"},{"$f":"'Anlagenartenkatalog UZH'!$D$65","v":"Wasserfilter"},{"$f":"Hilfstabelle!$O$9","v":"Raumkennzeichen"},"Text","D-02"]
[null,null,{"$f":"'Anlagenartenkatalog UZH'!$B$65","v":"Wasserverteilung"},{"$f":"'Anlagenartenkatalog UZH'!$D$65","v":"Wasserfilter"},{"$f":"Hilfstabelle!$O$10","v":"Hersteller / Marke"},"Text","R. Nussbaum AG"]
[null,null,{"$f":"'Anlagenartenkatalog UZH'!$B$65","v":"Wasserverteilung"},{"$f":"'Anlagenartenkatalog UZH'!$D$65","v":"Wasserfilter"},{"$f":"Hilfstabelle!$O$11","v":"Modell / Artikel"},"Text","12110.36"]
[null,null,{"$f":"'Anlagenartenkatalog UZH'!$B$65","v":"Wasserverteilung"},{"$f":"'Anlagenartenkatalog UZH'!$D$65","v":"Wasserfilter"},{"$f":"Hilfstabelle!$O$12","v":"Seriennummer"},"Text","34564567"]
[null,null,{"$f":"'Anlagenartenkatalog UZH'!$B$65","v":"Wasserverteilung"},{"$f":"'Anlagenartenkatalog UZH'!$D$65","v":"Wasserfilter"},{"$f":"Hilfstabelle!$O$13","v":"Servicefirma"},"Text","R. Nussbaum AG",{"$f":"Hilfstabelle!$P$10","v":"Gemäss Offerte in Submission"}]
[null,null,{"$f":"'Anlagenartenkatalog UZH'!$B$65","v":"Wasserverteilung"},{"$f":"'Anlagenartenkatalog UZH'!$D$65","v":"Wasserfilter"},{"$f":"Hilfstabelle!$O$14","v":"Inbetriebnahmedatum"},"Text","06.06.2030"]
[null,null,{"$f":"'Anlagenartenkatalog UZH'!$B$65","v":"Wasserverteilung"},{"$f":"'Anlagenartenkatalog UZH'!$D$65","v":"Wasserfilter"},{"$f":"Hilfstabelle!$O$15","v":"Garantieende"},"Text","06.06.2035"]
[null,null,{"$f":"'Anlagenartenkatalog UZH'!$B$65","v":"Wasserverteilung"},{"$f":"'Anlagenartenkatalog UZH'!$D$65","v":"Wasserfilter"},{"$f":"Hilfstabelle!$O$16","v":"Erwartetes technisches Enddatum"},"Text","06.06.2045"]
[null,null,{"$f":"'Anlagenartenkatalog UZH'!$B$65","v":"Wasserverteilung"},"Wasserfilter","Anmerkung: Art der Rückspülung","Text","Art der Rückspülung: Automatisch","\"Automatsich\", \"Von Hand\" oder \"Nicht rückspülbar\" einsetzen"]
[null,null,{"$f":"'Anlagenartenkatalog UZH'!$B$65","v":"Wasserverteilung"},"Wasserfilter","Anmerkung: Hersteller und Artikel-Nr. der Filterpatrone","Text","R. Nussbaum AG, 1809720","Ggf. \"Keine Patrone\" einsetzen"]
[null,null,{"$f":"'Anlagenartenkatalog UZH'!$B$65","v":"Wasserverteilung"},"Wasserfilter","Anmerkung: Länge und Durchmesser der Filterpatrone in [mm]","Text","Länge und Durchmesser der Filterpatrone: 124 mm, 69 mm","Ggf. \"Keine Patrone\" einsetzen"]
[null,null,{"$f":"'Anlagenartenkatalog UZH'!$B$65","v":"Wasserverteilung"},{"$f":"'Anlagenartenkatalog UZH'!$D$65","v":"Wasserfilter"},{"$f":"Hilfstabelle!$O$17","v":"Anmerkung: Anzahl Wartungen pro Jahr"},"Text","Anzahl Wartungen pro Jahr: 1"]
[null,null,{"$f":"'Anlagenartenkatalog UZH'!$B$65","v":"Wasserverteilung"},{"$f":"'Anlagenartenkatalog UZH'!$D$68","v":"Aussenwasserhahn"},{"$f":"Hilfstabelle!$O$3","v":"Code (MSRL-Code)"},"Text","KAB-§1654200490"]
[null,null,{"$f":"'Anlagenartenkatalog UZH'!$B$65","v":"Wasserverteilung"},{"$f":"'Anlagenartenkatalog UZH'!$D$68","v":"Aussenwasserhahn"},{"$f":"Hilfstabelle!$O$4","v":"Bezeichnung"},"Text","Aussenwasserhahn",{"$f":"Hilfstabelle!$P$7","v":"Die Bezeichnung einer Anlage muss eindeutig sein, sofern mehrere Anlagen im gleichen Raum sind. "}]
[null,null,{"$f":"'Anlagenartenkatalog UZH'!$B$65","v":"Wasserverteilung"},{"$f":"'Anlagenartenkatalog UZH'!$D$68","v":"Aussenwasserhahn"},{"$f":"Hilfstabelle!O5","v":"Anlagentyp (Beschreibung)"},"Text",null,{"$f":"Hilfstabelle!$P$8","v":"Verbindlich gemäss Anlagenartenkatalog"}]
[null,null,{"$f":"'Anlagenartenkatalog UZH'!$B$65","v":"Wasserverteilung"},{"$f":"'Anlagenartenkatalog UZH'!$D$68","v":"Aussenwasserhahn"},{"$f":"Hilfstabelle!$O$6","v":"Artikelgruppe"},"Text","02.05.05"," "]
[null,null,{"$f":"'Anlagenartenkatalog UZH'!$B$65","v":"Wasserverteilung"},{"$f":"'Anlagenartenkatalog UZH'!$D$68","v":"Aussenwasserhahn"},{"$f":"Hilfstabelle!$O$7","v":"Hauptanlage"},"Text","Ja, Gruppe","Gruppe"]
[null,null,{"$f":"'Anlagenartenkatalog UZH'!$B$65","v":"Wasserverteilung"},{"$f":"'Anlagenartenkatalog UZH'!$D$68","v":"Aussenwasserhahn"},{"$f":"Hilfstabelle!$O$8","v":"Objekt"},"Text","SOC "," "]
[null,null,{"$f":"'Anlagenartenkatalog UZH'!$B$65","v":"Wasserverteilung"},{"$f":"'Anlagenartenkatalog UZH'!$D$68","v":"Aussenwasserhahn"},{"$f":"Hilfstabelle!$O$9","v":"Raumkennzeichen"},"Text","-","Standort unter Anmerkungen präzisieren"]
[null,null,{"$f":"'Anlagenartenkatalog UZH'!$B$65","v":"Wasserverteilung"},{"$f":"'Anlagenartenkatalog UZH'!$D$68","v":"Aussenwasserhahn"},{"$f":"Hilfstabelle!$O$10","v":"Hersteller / Marke"},"Text","-"," "]
[null,null,{"$f":"'Anlagenartenkatalog UZH'!$B$65","v":"Wasserverteilung"},{"$f":"'Anlagenartenkatalog UZH'!$D$68","v":"Aussenwasserhahn"},{"$f":"Hilfstabelle!$O$11","v":"Modell / Artikel"},"Text","-"," "]
[null,null,{"$f":"'Anlagenartenkatalog UZH'!$B$65","v":"Wasserverteilung"},{"$f":"'Anlagenartenkatalog UZH'!$D$68","v":"Aussenwasserhahn"},{"$f":"Hilfstabelle!$O$12","v":"Seriennummer"},"Text","-"," "]
[null,null,{"$f":"'Anlagenartenkatalog UZH'!$B$65","v":"Wasserverteilung"},{"$f":"'Anlagenartenkatalog UZH'!$D$68","v":"Aussenwasserhahn"},{"$f":"Hilfstabelle!$O$13","v":"Servicefirma"},"Text","-"," "]
[null,null,{"$f":"'Anlagenartenkatalog UZH'!$B$65","v":"Wasserverteilung"},{"$f":"'Anlagenartenkatalog UZH'!$D$68","v":"Aussenwasserhahn"},{"$f":"Hilfstabelle!$O$14","v":"Inbetriebnahmedatum"},"Text","06.06.2030"," "]
[null,null,{"$f":"'Anlagenartenkatalog UZH'!$B$65","v":"Wasserverteilung"},{"$f":"'Anlagenartenkatalog UZH'!$D$68","v":"Aussenwasserhahn"},{"$f":"Hilfstabelle!$O$15","v":"Garantieende"},"Text","06.06.2035"," "]
[null,null,{"$f":"'Anlagenartenkatalog UZH'!$B$65","v":"Wasserverteilung"},{"$f":"'Anlagenartenkatalog UZH'!$D$68","v":"Aussenwasserhahn"},{"$f":"Hilfstabelle!$O$16","v":"Erwartetes technisches Enddatum"},"Text","06.06.2045"," "]
[null,null,{"$f":"'Anlagenartenkatalog UZH'!$B$65","v":"Wasserverteilung"},{"$f":"'Anlagenartenkatalog UZH'!$D$68","v":"Aussenwasserhahn"},"Anmerkung: Genaue Standortbeschreibung","Text","Genaue Standortbeschreibung: Garage, hinten links"]
[null,null,{"$f":"'Anlagenartenkatalog UZH'!$B$65","v":"Wasserverteilung"},{"$f":"'Anlagenartenkatalog UZH'!$D$68","v":"Aussenwasserhahn"},"Anmerkung: Frostschutzsicherung vorhanden","Text","Frostschutzsicherung vorhanden: Nein"]
[null,null,{"$f":"'Anlagenartenkatalog UZH'!$B$65","v":"Wasserverteilung"},{"$f":"'Anlagenartenkatalog UZH'!$D$68","v":"Aussenwasserhahn"},"Anmerkung: Standort Abstellhahn","Text","Stnadort Abstellhahn 2OG / Maschinenraum"]
[null,null,{"$f":"'Anlagenartenkatalog UZH'!$B$65","v":"Wasserverteilung"},{"$f":"'Anlagenartenkatalog UZH'!$D$68","v":"Aussenwasserhahn"},{"$f":"Hilfstabelle!$O$17","v":"Anmerkung: Anzahl Wartungen pro Jahr"},"Text","Anzahl Wartungen pro Jahr: 1"," "]
[]
[null,null,null,null," "]

{"sheet":"Eingabe fuer Planer","index":4,"n_rows":43,"n_cols":7,"rows_kept":43,"cut":false,"hidden":false,"merged":[[2,6,2,7],[7,6,8,7],[9,6,13,7],[4,4,5,4],[21,1,21,4]]}
[]
[null,"Eingabe für Planer"]
[null,"Anlagenartenkatalog",null,null,null,null,"Legende Farbcodes"]
[null,"Artikelgruppe Name",{"$f":"D4","v":0},null,null,null,"Erforderte Eingabe"]
[null,"Anlagentyp (Beschreibung)",{"$f":"D5","v":0},null,{"$f":"IFERROR(INDEX(_xlfn._xlws.FILTER('Anlagenartenkatalog UZH'!F2:F165, ('Anlagenartenkatalog UZH'!D2:D165=D5) * ('Anlagenartenkatalog UZH'!B2:B165=D4)), 1), \"\")","v":""},null,"Eingabe Erfolgt"]
[null,"Artikelgruppe",{"$f":"C11","v":""},{"$f":"C11","v":""},null,null,"Keine Eingabe nötig"]
[null,"Auszufüllende Felder","Beispiel","Eingabe","Erläuterungen"]
[null,{"$f":"(IF(OR(ISNUMBER(Hilfstabelle!C2),ISTEXT(Hilfstabelle!C2)), Hilfstabelle!C2, \"\"))","v":""},{"$f":"IF(OR(ISNUMBER(Hilfstabelle!E2),ISTEXT(Hilfstabelle!E2)), Hilfstabelle!E2, \"\")","v":""},null,{"$f":"IF(OR(ISNUMBER(Hilfstabelle!F2),ISTEXT(Hilfstabelle!F2)), Hilfstabelle!F2, \"\")","v":""},null,"Das Makro darf nur mit Windows betrieben werden!"]
[null,{"$f":"IF(OR(ISNUMBER(Hilfstabelle!C3),ISTEXT(Hilfstabelle!C3)), Hilfstabelle!C3, \"\")","v":""},{"$f":"IF(OR(ISNUMBER(Hilfstabelle!E3),ISTEXT(Hilfstabelle!E3)), Hilfstabelle!E3, \"\")","v":""},null,{"$f":"IF(OR(ISNUMBER(Hilfstabelle!F3),ISTEXT(Hilfstabelle!F3)), Hilfstabelle!F3, \"\")","v":""}]
[null,{"$f":"IF(OR(ISNUMBER(Hilfstabelle!C4),ISTEXT(Hilfstabelle!C4)), Hilfstabelle!C4, \"\")","v":""},{"$f":"D5","v":0},{"$f":"D5","v":0},{"$f":"IF(OR(ISNUMBER(Hilfstabelle!F4),ISTEXT(Hilfstabelle!F4)), Hilfstabelle!F4, \"\")","v":""}]
[null,{"$f":"IF(OR(ISNUMBER(Hilfstabelle!C5),ISTEXT(Hilfstabelle!C5)), Hilfstabelle!C5, \"\")","v":""},{"$f":"IF(OR(ISNUMBER(Hilfstabelle!E5),ISTEXT(Hilfstabelle!E5)), Hilfstabelle!E5, \"\")","v":""},{"$f":"C11","v":""},{"$f":"IF(OR(ISNUMBER(Hilfstabelle!F5),ISTEXT(Hilfstabelle!F5)), Hilfstabelle!F5, \"\")","v":""}]
[null,{"$f":"IF(OR(ISNUMBER(Hilfstabelle!C6),ISTEXT(Hilfstabelle!C6)), Hilfstabelle!C6, \"\")","v":""},{"$f":"D12","v":{"$error":"#N/A"}},{"$f":"VLOOKUP(D5,'Anlagenartenkatalog UZH'!D:E,2,FALSE)","v":{"$error":"#N/A"}},{"$f":"VLOOKUP(D5,'Anlagenartenkatalog UZH'!D:F,3,FALSE)","v":{"$error":"#N/A"}}]
[null,{"$f":"IF(OR(ISNUMBER(Hilfstabelle!C7),ISTEXT(Hilfstabelle!C7)), Hilfstabelle!C7, \"\")","v":""},{"$f":"IF(OR(ISNUMBER(Hilfstabelle!E7),ISTEXT(Hilfstabelle!E7)), Hilfstabelle!E7, \"\")","v":""},null,{"$f":"IF(OR(ISNUMBER(Hilfstabelle!F7),ISTEXT(Hilfstabelle!F7)), Hilfstabelle!F7, \"\")","v":""}]
[null,{"$f":"IF(OR(ISNUMBER(Hilfstabelle!C8),ISTEXT(Hilfstabelle!C8)), Hilfstabelle!C8, \"\")","v":""},{"$f":"IF(OR(ISNUMBER(Hilfstabelle!E8),ISTEXT(Hilfstabelle!E8)), Hilfstabelle!E8, \"\")","v":""},null,{"$f":"IF(OR(ISNUMBER(Hilfstabelle!F8),ISTEXT(Hilfstabelle!F8)), Hilfstabelle!F8, \"\")","v":""}]
[null,{"$f":"IF(OR(ISNUMBER(Hilfstabelle!C9),ISTEXT(Hilfstabelle!C9)), Hilfstabelle!C9, \"\")","v":""},{"$f":"IF(OR(ISNUMBER(Hilfstabelle!E9),ISTEXT(Hilfstabelle!E9)), Hilfstabelle!E9, \"\")","v":""},null,{"$f":"IF(OR(ISNUMBER(Hilfstabelle!F9),ISTEXT(Hilfstabelle!F9)), Hilfstabelle!F9, \"\")","v":""}]
[null,{"$f":"IF(OR(ISNUMBER(Hilfstabelle!C10),ISTEXT(Hilfstabelle!C10)), Hilfstabelle!C10, \"\")","v":""},{"$f":"IF(OR(ISNUMBER(Hilfstabelle!E10),ISTEXT(Hilfstabelle!E10)), Hilfstabelle!E10, \"\")","v":""},null,{"$f":"IF(OR(ISNUMBER(Hilfstabelle!F10),ISTEXT(Hilfstabelle!F10)), Hilfstabelle!F10, \"\")","v":""}]
[null,{"$f":"IF(OR(ISNUMBER(Hilfstabelle!C11),ISTEXT(Hilfstabelle!C11)), Hilfstabelle!C11, \"\")","v":""},{"$f":"IF(OR(ISNUMBER(Hilfstabelle!E11),ISTEXT(Hilfstabelle!E11)), Hilfstabelle!E11, \"\")","v":""},null,{"$f":"IF(OR(ISNUMBER(Hilfstabelle!F11),ISTEXT(Hilfstabelle!F11)), Hilfstabelle!F11, \"\")","v":""}]
[null,{"$f":"IF(OR(ISNUMBER(Hilfstabelle!C12),ISTEXT(Hilfstabelle!C12)), Hilfstabelle!C12, \"\")","v":""},{"$f":"IF(OR(ISNUMBER(Hilfstabelle!E12),ISTEXT(Hilfstabelle!E12)), Hilfstabelle!E12, \"\")","v":""},null,{"$f":"IF(OR(ISNUMBER(Hilfstabelle!F12),ISTEXT(Hilfstabelle!F12)), Hilfstabelle!F12, \"\")","v":""}]
[null,{"$f":"IF(OR(ISNUMBER(Hilfstabelle!C13),ISTEXT(Hilfstabelle!C13)), Hilfstabelle!C13, \"\")","v":""},{"$f":"IF(OR(ISNUMBER(Hilfstabelle!E13),ISTEXT(Hilfstabelle!E13)), Hilfstabelle!E13, \"\")","v":""},null,{"$f":"IF(OR(ISNUMBER(Hilfstabelle!F13),ISTEXT(Hilfstabelle!F13)), Hilfstabelle!F13, \"\")","v":""}]
[null,{"$f":"IF(OR(ISNUMBER(Hilfstabelle!C14),ISTEXT(Hilfstabelle!C14)), Hilfstabelle!C14, \"\")","v":""},{"$f":"IF(OR(ISNUMBER(Hilfstabelle!E14),ISTEXT(Hilfstabelle!E14)), Hilfstabelle!E14, \"\")","v":""},null,{"$f":"IF(OR(ISNUMBER(Hilfstabelle!F14),ISTEXT(Hilfstabelle!F14)), Hilfstabelle!F14, \"\")","v":""}]
[null,{"$f":"IF(OR(ISNUMBER(Hilfstabelle!C15),ISTEXT(Hilfstabelle!C15)), Hilfstabelle!C15, \"\")","v":""},{"$f":"IF(OR(ISNUMBER(Hilfstabelle!E15),ISTEXT(Hilfstabelle!E15)), Hilfstabelle!E15, \"\")","v":""},null,{"$f":"IF(OR(ISNUMBER(Hilfstabelle!F15),ISTEXT(Hilfstabelle!F15)), Hilfstabelle!F15, \"\")","v":""}]
[null,"Die nachfolgenden Anmerkungen werden in einem Feld zusammengefasst, weswegen eine Zusatzinformation des Attributs benötigt wird, siehe Beispiele:"]
[null,{"$f":"IF(OR(ISNUMBER(Hilfstabelle!C16),ISTEXT(Hilfstabelle!C16)), Hilfstabelle!C16, \"\")","v":""},{"$f":"IF(OR(ISNUMBER(Hilfstabelle!E16),ISTEXT(Hilfstabelle!E16)), Hilfstabelle!E16, \"\")","v":""},null,{"$f":"IF(IF(OR(ISNUMBER(Hilfstabelle!F16),ISTEXT(Hilfstabelle!F16)), Hilfstabelle!F16,\"\")=0,\"\",IF(OR(ISNUMBER(Hilfstabelle!F16),ISTEXT(Hilfstabelle!F16)), Hilfstabelle!F16,\"\"))","v":""}]
[null,{"$f":"IF(OR(ISNUMBER(Hilfstabelle!C17),ISTEXT(Hilfstabelle!C17)), Hilfstabelle!C17, \"\")","v":""},{"$f":"IF(OR(ISNUMBER(Hilfstabelle!E17),ISTEXT(Hilfstabelle!E17)), Hilfstabelle!E17, \"\")","v":""},null,{"$f":"IF(IF(OR(ISNUMBER(Hilfstabelle!F17),ISTEXT(Hilfstabelle!F17)), Hilfstabelle!F17,\"\")=0,\"\",IF(OR(ISNUMBER(Hilfstabelle!F17),ISTEXT(Hilfstabelle!F17)), Hilfstabelle!F17,\"\"))","v":""}]
[null,{"$f":"IF(OR(ISNUMBER(Hilfstabelle!C18),ISTEXT(Hilfstabelle!C18)), Hilfstabelle!C18, \"\")","v":""},{"$f":"IF(OR(ISNUMBER(Hilfstabelle!E18),ISTEXT(Hilfstabelle!E18)), Hilfstabelle!E18, \"\")","v":""},null,{"$f":"IF(IF(OR(ISNUMBER(Hilfstabelle!F18),ISTEXT(Hilfstabelle!F18)), Hilfstabelle!F18,\"\")=0,\"\",IF(OR(ISNUMBER(Hilfstabelle!F18),ISTEXT(Hilfstabelle!F18)), Hilfstabelle!F18,\"\"))","v":""}]
[null,{"$f":"IF(OR(ISNUMBER(Hilfstabelle!C19),ISTEXT(Hilfstabelle!C19)), Hilfstabelle!C19, \"\")","v":""},{"$f":"IF(OR(ISNUMBER(Hilfstabelle!E19),ISTEXT(Hilfstabelle!E19)), Hilfstabelle!E19, \"\")","v":""},null,{"$f":"IF(IF(OR(ISNUMBER(Hilfstabelle!F19),ISTEXT(Hilfstabelle!F19)), Hilfstabelle!F19,\"\")=0,\"\",IF(OR(ISNUMBER(Hilfstabelle!F19),ISTEXT(Hilfstabelle!F19)), Hilfstabelle!F19,\"\"))","v":""}]
[null,{"$f":"IF(OR(ISNUMBER(Hilfstabelle!C20),ISTEXT(Hilfstabelle!C20)), Hilfstabelle!C20, \"\")","v":""},{"$f":"IF(OR(ISNUMBER(Hilfstabelle!E20),ISTEXT(Hilfstabelle!E20)), Hilfstabelle!E20, \"\")","v":""},null,{"$f":"IF(IF(OR(ISNUMBER(Hilfstabelle!F20),ISTEXT(Hilfstabelle!F20)), Hilfstabelle!F20,\"\")=0,\"\",IF(OR(ISNUMBER(Hilfstabelle!F20),ISTEXT(Hilfstabelle!F20)), Hilfstabelle!F20,\"\"))","v":""}]
[null,{"$f":"IF(OR(ISNUMBER(Hilfstabelle!C21),ISTEXT(Hilfstabelle!C21)), Hilfstabelle!C21, \"\")","v":""},{"$f":"IF(OR(ISNUMBER(Hilfstabelle!E21),ISTEXT(Hilfstabelle!E21)), Hilfstabelle!E21, \"\")","v":""},null,{"$f":"IF(IF(OR(ISNUMBER(Hilfstabelle!F21),ISTEXT(Hilfstabelle!F21)), Hilfstabelle!F21,\"\")=0,\"\",IF(OR(ISNUMBER(Hilfstabelle!F21),ISTEXT(Hilfstabelle!F21)), Hilfstabelle!F21,\"\"))","v":""}]
[null,{"$f":"IF(OR(ISNUMBER(Hilfstabelle!C22),ISTEXT(Hilfstabelle!C22)), Hilfstabelle!C22, \"\")","v":""},{"$f":"IF(OR(ISNUMBER(Hilfstabelle!E22),ISTEXT(Hilfstabelle!E22)), Hilfstabelle!E22, \"\")","v":""},null,{"$f":"IF(IF(OR(ISNUMBER(Hilfstabelle!F22),ISTEXT(Hilfstabelle!F22)), Hilfstabelle!F22,\"\")=0,\"\",IF(OR(ISNUMBER(Hilfstabelle!F22),ISTEXT(Hilfstabelle!F22)), Hilfstabelle!F22,\"\"))","v":""}]
[null,{"$f":"IF(OR(ISNUMBER(Hilfstabelle!C23),ISTEXT(Hilfstabelle!C23)), Hilfstabelle!C23, \"\")","v":""},{"$f":"IF(OR(ISNUMBER(Hilfstabelle!E23),ISTEXT(Hilfstabelle!E23)), Hilfstabelle!E23, \"\")","v":""},null,{"$f":"IF(IF(OR(ISNUMBER(Hilfstabelle!F23),ISTEXT(Hilfstabelle!F23)), Hilfstabelle!F23,\"\")=0,\"\",IF(OR(ISNUMBER(Hilfstabelle!F23),ISTEXT(Hilfstabelle!F23)), Hilfstabelle!F23,\"\"))","v":""}]
[null,{"$f":"IF(OR(ISNUMBER(Hilfstabelle!C24),ISTEXT(Hilfstabelle!C24)), Hilfstabelle!C24, \"\")","v":""},{"$f":"IF(OR(ISNUMBER(Hilfstabelle!E24),ISTEXT(Hilfstabelle!E24)), Hilfstabelle!E24, \"\")","v":""},null,{"$f":"IF(IF(OR(ISNUMBER(Hilfstabelle!F24),ISTEXT(Hilfstabelle!F24)), Hilfstabelle!F24,\"\")=0,\"\",IF(OR(ISNUMBER(Hilfstabelle!F24),ISTEXT(Hilfstabelle!F24)), Hilfstabelle!F24,\"\"))","v":""}]
[null,{"$f":"IF(OR(ISNUMBER(Hilfstabelle!C25),ISTEXT(Hilfstabelle!C25)), Hilfstabelle!C25, \"\")","v":""},{"$f":"IF(OR(ISNUMBER(Hilfstabelle!E25),ISTEXT(Hilfstabelle!E25)), Hilfstabelle!E25, \"\")","v":""},null,{"$f":"IF(IF(OR(ISNUMBER(Hilfstabelle!F25),ISTEXT(Hilfstabelle!F25)), Hilfstabelle!F25,\"\")=0,\"\",IF(OR(ISNUMBER(Hilfstabelle!F25),ISTEXT(Hilfstabelle!F25)), Hilfstabelle!F25,\"\"))","v":""}]
[null,{"$f":"IF(OR(ISNUMBER(Hilfstabelle!C26),ISTEXT(Hilfstabelle!C26)), Hilfstabelle!C26, \"\")","v":""},{"$f":"IF(OR(ISNUMBER(Hilfstabelle!E26),ISTEXT(Hilfstabelle!E26)), Hilfstabelle!E26, \"\")","v":""},null,{"$f":"IF(IF(OR(ISNUMBER(Hilfstabelle!F26),ISTEXT(Hilfstabelle!F26)), Hilfstabelle!F26,\"\")=0,\"\",IF(OR(ISNUMBER(Hilfstabelle!F26),ISTEXT(Hilfstabelle!F26)), Hilfstabelle!F26,\"\"))","v":""}]
[null,{"$f":"IF(OR(ISNUMBER(Hilfstabelle!C27),ISTEXT(Hilfstabelle!C27)), Hilfstabelle!C27, \"\")","v":""},{"$f":"IF(OR(ISNUMBER(Hilfstabelle!E27),ISTEXT(Hilfstabelle!E27)), Hilfstabelle!E27, \"\")","v":""},null,{"$f":"IF(IF(OR(ISNUMBER(Hilfstabelle!F27),ISTEXT(Hilfstabelle!F27)), Hilfstabelle!F27,\"\")=0,\"\",IF(OR(ISNUMBER(Hilfstabelle!F27),ISTEXT(Hilfstabelle!F27)), Hilfstabelle!F27,\"\"))","v":""}]
[null,{"$f":"IF(OR(ISNUMBER(Hilfstabelle!C28),ISTEXT(Hilfstabelle!C28)), Hilfstabelle!C28, \"\")","v":""},{"$f":"IF(OR(ISNUMBER(Hilfstabelle!E28),ISTEXT(Hilfstabelle!E28)), Hilfstabelle!E28, \"\")","v":""},null,{"$f":"IF(IF(OR(ISNUMBER(Hilfstabelle!F28),ISTEXT(Hilfstabelle!F28)), Hilfstabelle!F28,\"\")=0,\"\",IF(OR(ISNUMBER(Hilfstabelle!F28),ISTEXT(Hilfstabelle!F28)), Hilfstabelle!F28,\"\"))","v":""}]
[null,{"$f":"IF(OR(ISNUMBER(Hilfstabelle!C29),ISTEXT(Hilfstabelle!C29)), Hilfstabelle!C29, \"\")","v":""},{"$f":"IF(OR(ISNUMBER(Hilfstabelle!E29),ISTEXT(Hilfstabelle!E29)), Hilfstabelle!E29, \"\")","v":""},null,{"$f":"IF(IF(OR(ISNUMBER(Hilfstabelle!F29),ISTEXT(Hilfstabelle!F29)), Hilfstabelle!F29,\"\")=0,\"\",IF(OR(ISNUMBER(Hilfstabelle!F29),ISTEXT(Hilfstabelle!F29)), Hilfstabelle!F29,\"\"))","v":""}]
[null,{"$f":"IF(OR(ISNUMBER(Hilfstabelle!C30),ISTEXT(Hilfstabelle!C30)), Hilfstabelle!C30, \"\")","v":""},{"$f":"IF(OR(ISNUMBER(Hilfstabelle!E30),ISTEXT(Hilfstabelle!E30)), Hilfstabelle!E30, \"\")","v":""},null,{"$f":"IF(IF(OR(ISNUMBER(Hilfstabelle!F30),ISTEXT(Hilfstabelle!F30)), Hilfstabelle!F30,\"\")=0,\"\",IF(OR(ISNUMBER(Hilfstabelle!F30),ISTEXT(Hilfstabelle!F30)), Hilfstabelle!F30,\"\"))","v":""}]
[null,{"$f":"IF(OR(ISNUMBER(Hilfstabelle!C31),ISTEXT(Hilfstabelle!C31)), Hilfstabelle!C31, \"\")","v":""},{"$f":"IF(OR(ISNUMBER(Hilfstabelle!E31),ISTEXT(Hilfstabelle!E31)), Hilfstabelle!E31, \"\")","v":""},null,{"$f":"IF(IF(OR(ISNUMBER(Hilfstabelle!F31),ISTEXT(Hilfstabelle!F31)), Hilfstabelle!F31,\"\")=0,\"\",IF(OR(ISNUMBER(Hilfstabelle!F31),ISTEXT(Hilfstabelle!F31)), Hilfstabelle!F31,\"\"))","v":""}]
[null,{"$f":"IF(OR(ISNUMBER(Hilfstabelle!C32),ISTEXT(Hilfstabelle!C32)), Hilfstabelle!C32, \"\")","v":""},{"$f":"IF(OR(ISNUMBER(Hilfstabelle!E32),ISTEXT(Hilfstabelle!E32)), Hilfstabelle!E32, \"\")","v":""},null,{"$f":"IF(IF(OR(ISNUMBER(Hilfstabelle!F32),ISTEXT(Hilfstabelle!F32)), Hilfstabelle!F32,\"\")=0,\"\",IF(OR(ISNUMBER(Hilfstabelle!F32),ISTEXT(Hilfstabelle!F32)), Hilfstabelle!F32,\"\"))","v":""}]
[null,{"$f":"IF(OR(ISNUMBER(Hilfstabelle!C33),ISTEXT(Hilfstabelle!C33)), Hilfstabelle!C33, \"\")","v":""},{"$f":"IF(OR(ISNUMBER(Hilfstabelle!E33),ISTEXT(Hilfstabelle!E33)), Hilfstabelle!E33, \"\")","v":""},null,{"$f":"IF(IF(OR(ISNUMBER(Hilfstabelle!F33),ISTEXT(Hilfstabelle!F33)), Hilfstabelle!F33,\"\")=0,\"\",IF(OR(ISNUMBER(Hilfstabelle!F33),ISTEXT(Hilfstabelle!F33)), Hilfstabelle!F33,\"\"))","v":""}]
[null,{"$f":"IF(OR(ISNUMBER(Hilfstabelle!C34),ISTEXT(Hilfstabelle!C34)), Hilfstabelle!C34, \"\")","v":""},{"$f":"IF(OR(ISNUMBER(Hilfstabelle!E34),ISTEXT(Hilfstabelle!E34)), Hilfstabelle!E34, \"\")","v":""},null,{"$f":"IF(IF(OR(ISNUMBER(Hilfstabelle!F34),ISTEXT(Hilfstabelle!F34)), Hilfstabelle!F34,\"\")=0,\"\",IF(OR(ISNUMBER(Hilfstabelle!F34),ISTEXT(Hilfstabelle!F34)), Hilfstabelle!F34,\"\"))","v":""}]
[null,{"$f":"IF(OR(ISNUMBER(Hilfstabelle!C35),ISTEXT(Hilfstabelle!C35)), Hilfstabelle!C35, \"\")","v":""},{"$f":"IF(OR(ISNUMBER(Hilfstabelle!E35),ISTEXT(Hilfstabelle!E35)), Hilfstabelle!E35, \"\")","v":""},null,{"$f":"IF(IF(OR(ISNUMBER(Hilfstabelle!F35),ISTEXT(Hilfstabelle!F35)), Hilfstabelle!F35,\"\")=0,\"\",IF(OR(ISNUMBER(Hilfstabelle!F35),ISTEXT(Hilfstabelle!F35)), Hilfstabelle!F35,\"\"))","v":""}]
[null,{"$f":"IF(OR(ISNUMBER(Hilfstabelle!C36),ISTEXT(Hilfstabelle!C36)), Hilfstabelle!C36, \"\")","v":""},{"$f":"IF(OR(ISNUMBER(Hilfstabelle!E36),ISTEXT(Hilfstabelle!E36)), Hilfstabelle!E36, \"\")","v":""},null,{"$f":"IF(IF(OR(ISNUMBER(Hilfstabelle!F36),ISTEXT(Hilfstabelle!F36)), Hilfstabelle!F36,\"\")=0,\"\",IF(OR(ISNUMBER(Hilfstabelle!F36),ISTEXT(Hilfstabelle!F36)), Hilfstabelle!F36,\"\"))","v":""}]

{"sheet":"Kontrolle fuer Planer","index":5,"n_rows":4,"n_cols":37,"rows_kept":4,"cut":false,"hidden":false,"merged":[[0,1,0,15]]}
[null,"Felder im CAFM",null,null,null,null,null,null,null,null,null,null,null,null,null,null,"Potenzielle Felder im CAFM"]
[null,"Code (MSRL-Code)","Bezeichnung","Anlagentyp (Beschreibung)","Artikelgruppe","Hauptanlage","Objekt","Raumkennzeichen","Hersteller / Marke","Modell / Artikel","Seriennummer","Servicefirma","Inbetriebnahmedatum","Garantieende","Erwartetes technisches Enddatum","Anmerkung",{"$f":"REPLACE('Eingabe fuer Planer'!B23,1,11,\"\")","v":""},{"$f":"REPLACE('Eingabe fuer Planer'!B24,1,11,\"\")","v":""},{"$f":"REPLACE('Eingabe fuer Planer'!B25,1,11,\"\")","v":""},{"$f":"REPLACE('Eingabe fuer Planer'!B26,1,11,\"\")","v":""},{"$f":"REPLACE('Eingabe fuer Planer'!B27,1,11,\"\")","v":""},{"$f":"REPLACE('Eingabe fuer Planer'!B28,1,11,\"\")","v":""},{"$f":"REPLACE('Eingabe fuer Planer'!B29,1,11,\"\")","v":""},{"$f":"REPLACE('Eingabe fuer Planer'!B30,1,11,\"\")","v":""},{"$f":"REPLACE('Eingabe fuer Planer'!B31,1,11,\"\")","v":""},{"$f":"REPLACE('Eingabe fuer Planer'!B32,1,11,\"\")","v":""},{"$f":"REPLACE('Eingabe fuer Planer'!B33,1,11,\"\")","v":""},{"$f":"REPLACE('Eingabe fuer Planer'!B34,1,11,\"\")","v":""},{"$f":"REPLACE('Eingabe fuer Planer'!B35,1,11,\"\")","v":""},{"$f":"REPLACE('Eingabe fuer Planer'!B36,1,11,\"\")","v":""},{"$f":"REPLACE('Eingabe fuer Planer'!B37,1,11,\"\")","v":""},{"$f":"REPLACE('Eingabe fuer Planer'!B38,1,11,\"\")","v":""},{"$f":"REPLACE('Eingabe fuer Planer'!B39,1,11,\"\")","v":""},{"$f":"REPLACE('Eingabe fuer Planer'!B40,1,11,\"\")","v":""},{"$f":"REPLACE('Eingabe fuer Planer'!B41,1,11,\"\")","v":""},{"$f":"REPLACE('Eingabe fuer Planer'!B42,1,11,\"\")","v":""},{"$f":"REPLACE('Eingabe fuer Planer'!B43,1,11,\"\")","v":""}]
["Aktuelle Eingabe",{"$f":"'Eingabe fuer Planer'!D8","v":0},{"$f":"'Eingabe fuer Planer'!D9","v":0},{"$f":"'Eingabe fuer Planer'!D10","v":0},{"$f":"'Eingabe fuer Planer'!D11","v":""},{"$f":"'Eingabe fuer Planer'!D12","v":{"$error":"#N/A"}},{"$f":"'Eingabe fuer Planer'!D13","v":0},{"$f":"'Eingabe fuer Planer'!D14","v":0},{"$f":"'Eingabe fuer Planer'!D15","v":0},{"$f":"'Eingabe fuer Planer'!D16","v":0},{"$f":"'Eingabe fuer Planer'!D17","v":0},{"$f":"'Eingabe fuer Planer'!D18","v":0},{"$f":"'Eingabe fuer Planer'!D19","v":"00:00:00"},{"$f":"'Eingabe fuer Planer'!D20","v":"00:00:00"},{"$f":"'Eingabe fuer Planer'!D21","v":"00:00:00"},{"$f":"IF('Eingabe fuer Planer'!B23=\"\",\"\",REPLACE('Eingabe fuer Planer'!B23,1,11,\"\")&\": \"&IF('Eingabe fuer Planer'!D23=\"\",\" ???\",\" \"&'Eingabe fuer Planer'!D23))&\nCHAR(10)&\nIF('Eingabe fuer Planer'!B24=\"\",\"\",REPLACE('Eingabe fuer Planer'!B24,1,11,\"\")&\": \"&IF('Eingabe fuer Planer'!D24=\"\",\" ???\",\" \"&'Eingabe fuer Planer'!D24))&\nCHAR(10)&\nIF('Eingabe fuer Planer'!B25=\"\",\"\",REPLACE('Eingabe fuer Planer'!B25,1,11,\"\")&\": \"&IF('Eingabe fuer Planer'!D25=\"\",\" ???\",\" \"&'Eingabe fuer Planer'!D25))&\nCHAR(10)&\nIF('Eingabe fuer Planer'!B26=\"\",\"\",REPLACE('Eingabe fuer Planer'!B26,1,11,\"\")&\": \"&IF('Eingabe fuer Planer'!D26=\"\",\" ???\",\" \"&'Eingabe fuer Planer'!D26))&\nCHAR(10)&\nIF('Eingabe fuer Planer'!B27=\"\",\"\",REPLACE('Eingabe fuer Planer'!B27,1,11,\"\")&\": \"&IF('Eingabe fuer Planer'!D27=\"\",\" ???\",\" \"&'Eingabe fuer Planer'!D27))&\nCHAR(10)&\nIF('Eingabe fuer Planer'!B28=\"\",\"\",REPLACE('Eingabe fuer Planer'!B28,1,11,\"\")&\": \"&IF('Eingabe fuer Planer'!D28=\"\",\" ???\",\" \"&'Eingabe fuer Planer'!D28))&\nCHAR(10)&\nIF('Eingabe fuer Planer'!B29=\"\",\"\",REPLACE('Eingabe fuer Planer'!B29,1,11,\"\")&\": \"&IF('Eingabe fuer Planer'!D29=\"\",\" ???\",\" \"&'Eingabe fuer Planer'!D29))&\nCHAR(10)&\nIF('Eingabe fuer Planer'!B30=\"\",\"\",REPLACE('Eingabe fuer Planer'!B30,1,11,\"\")&\": \"&IF('Eingabe fuer Planer'!D30=\"\",\" ???\",\" \"&'Eingabe fuer Planer'!D30))&\nCHAR(10)&\nIF('Eingabe fuer Planer'!B31=\"\",\"\",REPLACE('Eingabe fuer Planer'!B31,1,11,\"\")&\": \"&IF('Eingabe fuer Planer'!D31=\"\",\" ???\",\" \"&'Eingabe fuer Planer'!D31))&\nCHAR(10)&\nIF('Eingabe fuer Planer'!B32=\"\",\"\",REPLACE('Eingabe fuer Planer'!B32,1,11,\"\")&\": \"&IF('Eingabe fuer Planer'!D32=\"\",\" ???\",\" \"&'Eingabe fuer Planer'!D32))&\nCHAR(10)&\nIF('Eingabe fuer Planer'!B33=\"\",\"\",REPLACE('Eingabe fuer Planer'!B33,1,11,\"\")&\": \"&IF('Eingabe fuer Planer'!D33=\"\",\" ???\",\" \"&'Eingabe fuer Planer'!D33))&\nCHAR(10)&\nIF('Eingabe fuer Planer'!B34=\"\",\"\",REPLACE('Eingabe fuer Planer'!B34,1,11,\"\")&\": \"&IF('Eingabe fuer Planer'!D34=\"\",\" ???\",\" \"&'Eingabe fuer Planer'!D34))&\nCHAR(10)&\nIF('Eingabe fuer Planer'!B35=\"\",\"\",REPLACE('Eingabe fuer Planer'!B35,1,11,\"\")&\": \"&IF('Eingabe fuer Planer'!D35=\"\",\" ???\",\" \"&'Eingabe fuer Planer'!D35))&\nCHAR(10)&\nIF('Eingabe fuer Planer'!B36=\"\",\"\",REPLACE('Eingabe fuer Planer'!B36,1,11,\"\")&\": \"&IF('Eingabe fuer Planer'!D36=\"\",\" ???\",\" \"&'Eingabe fuer Planer'!D36))&\nCHAR(10)&\nIF('Eingabe fuer Planer'!B37=\"\",\"\",REPLACE('Eingabe fuer Planer'!B37,1,11,\"\")&\": \"&IF('Eingabe fuer Planer'!D37=\"\",\" ???\",\" \"&'Eingabe fuer Planer'!D37))&\nCHAR(10)&\nIF('Eingabe fuer Planer'!B38=\"\",\"\",REPLACE('Eingabe fuer Planer'!B38,1,11,\"\")&\": \"&IF('Eingabe fuer Planer'!D38=\"\",\" ???\",\" \"&'Eingabe fuer Planer'!D38))&\nCHAR(10)&\nIF('Eingabe fuer Planer'!B39=\"\",\"\",REPLACE('Eingabe fuer Planer'!B39,1,11,\"\")&\": \"&IF('Eingabe fuer Planer'!D39=\"\",\" ???\",\" \"&'Eingabe fuer Planer'!D30))&\nCHAR(10)&\nIF('Eingabe fuer Planer'!B40=\"\",\"\",REPLACE('Eingabe fuer Planer'!B40,1,11,\"\")&\": \"&IF('Eingabe fuer Planer'!D40=\"\",\" ???\",\" \"&'Eingabe fuer Planer'!D40))&\nCHAR(10)&\nIF('Eingabe fuer Planer'!B41=\"\",\"\",REPLACE('Eingabe fuer Planer'!B41,1,11,\"\")&\": \"&IF('Eingabe fuer Planer'!D41=\"\",\" ???\",\" \"&'Eingabe fuer Planer'!D41))&\nCHAR(10)&\nIF('Eingabe fuer Planer'!B42=\"\",\"\",REPLACE('Eingabe fuer Planer'!B42,1,11,\"\")&\": \"&IF('Eingabe fuer Planer'!D42=\"\",\" ???\",\" \"&'Eingabe fuer Planer'!D42))&\nCHAR(10)&\nIF('Eingabe fuer Planer'!B43=\"\",\"\",REPLACE('Eingabe fuer Planer'!B43,1,11,\"\")&\": \"&IF('Eingabe fuer Planer'!D43=\"\",\" ???\",\" \"&'Eingabe fuer Planer'!D43))&\nCHAR(10)","v":"\n\n\n\n\n\n\n\n\n\n\n\n\n\n\n\n\n\n\n\n\n"},{"$f":"'Eingabe fuer Planer'!D23","v":0},{"$f":"'Eingabe fuer Planer'!D24","v":0},{"$f":"'Eingabe fuer Planer'!D25","v":0},{"$f":"'Eingabe fuer Planer'!D26","v":0},{"$f":"'Eingabe fuer Planer'!D27","v":0},{"$f":"'Eingabe fuer Planer'!D28","v":0},{"$f":"'Eingabe fuer Planer'!D29","v":0},{"$f":"'Eingabe fuer Planer'!D30","v":0},{"$f":"'Eingabe fuer Planer'!D31","v":0},{"$f":"'Eingabe fuer Planer'!D32","v":0},{"$f":"'Eingabe fuer Planer'!D33","v":0},{"$f":"'Eingabe fuer Planer'!D34","v":0},{"$f":"'Eingabe fuer Planer'!D35","v":0},{"$f":"'Eingabe fuer Planer'!D36","v":0},{"$f":"'Eingabe fuer Planer'!D37","v":0},{"$f":"'Eingabe fuer Planer'!D38","v":0},{"$f":"'Eingabe fuer Planer'!D39","v":0},{"$f":"'Eingabe fuer Planer'!D40","v":0},{"$f":"'Eingabe fuer Planer'!D41","v":0},{"$f":"'Eingabe fuer Planer'!D42","v":0},{"$f":"'Eingabe fuer Planer'!D43","v":0}]
["<-- Ab hier Kontrolle"]

{"sheet":"Hilfstabelle","index":6,"n_rows":529,"n_cols":16,"rows_kept":529,"cut":false,"hidden":true,"merged":[]}
["Wird für \"Eingabe für Planer\" verwendet:"]
[{"$f":"_xlfn._xlws.FILTER(Parameter[],(Parameter[Anlagetyp]='Eingabe fuer Planer'!D5)*(Parameter[Artikelgruppe]='Eingabe fuer Planer'!D4),\"\")","v":""},null,null,null,null,null,null,null,null,null,{"$f":"'Anlagenartenkatalog UZH'!B1","v":"Artikelgruppe Name"},"Anlagetyp",null,null,"Anlagenparameter - Spalte E \"Parameterebene\"","Anlagenparameter - Spalte H \"Erläuterung\""]
[null,null,null,null,null,null,null,null,null,null,{"$f":"_xlfn._xlws.SORT(_xlfn.UNIQUE('Anlagenartenkatalog UZH'!B:B))","v":"Abwasser"},{"$f":"_xlfn._xlws.SORT(_xlfn.UNIQUE(IF('Eingabe fuer Planer'!D4='Anlagenartenkatalog UZH'!B:B,'Anlagenartenkatalog UZH'!D:D,\"\")))","v":0},null,null,"Code (MSRL-Code)","Kann nicht durch den Planer angegeben werden."]
[null,null,null,null,null,null,null,null,null,null,"Artikelgruppe Name","",null,null,"Bezeichnung","= Anlagentyp (Eindeutige Identifikation erfolgt über Türcode)"]
[null,null,null,null,null,null,null,null,null,null,"Aufzüge",null,null,null,"Anlagentyp (Beschreibung)","Gruppe - Sicherheitsrelevante Türen und Tore, ggf. pro Etage"]
[null,null,null,null,null,null,null,null,null,null,"Automationsstationen",null,null,null,"Artikelgruppe","= Türcode (gemäss Bauwerksdokumentationsrichtlinie)"]
[null,null,null,null,null,null,null,null,null,null,"Begleitheizungen",null,null,null,"Hauptanlage","Die Bezeichnung einer Anlage muss eindeutig sein, sofern mehrere Anlagen im gleichen Raum sind. "]
[null,null,null,null,null,null,null,null,null,null,"Brandmeldeanlagen",null,null,null,"Objekt","Verbindlich gemäss Anlagenartenkatalog"]
[null,null,null,null,null,null,null,null,null,null,"Brandschutz",null,null,null,"Raumkennzeichen",0]
[null,null,null,null,null,null,null,null,null,null,"Brauchwarmwasser",null,null,null,"Hersteller / Marke","Gemäss Offerte in Submission"]
[null,null,null,null,null,null,null,null,null,null,"Druckgeräte",null,null,null,"Modell / Artikel","Bei mobilen Geräten (steckbar / mit eigenem Kompressor) ist die Gastronomie zuständig. Für festverbaute Anlagen / am Kältenetz ist die UZH zuständig."]
[null,null,null,null,null,null,null,null,null,null,"Elektroverteilungen (Schaltschränke)",null,null,null,"Seriennummer","Nein oder 16-Stellige Zahl"]
[null,null,null,null,null,null,null,null,null,null,"Entrauchung",null,null,null,"Servicefirma"]
[null,null,null,null,null,null,null,null,null,null,"Entsorgungseinrichtungen",null,null,null,"Inbetriebnahmedatum"]
[null,null,null,null,null,null,null,null,null,null,"Fenster",null,null,null,"Garantieende"]
[null,null,null,null,null,null,null,null,null,null,"Gase allgemein",null,null,null,"Erwartetes technisches Enddatum"]
[null,null,null,null,null,null,null,null,null,null,"Geräte (Haushalt)",null,null,null,"Anmerkung: Anzahl Wartungen pro Jahr"]
[null,null,null,null,null,null,null,null,null,null,"Heizungsanlage",null,null,null,"Anmerkung: Gebäudehülle Ja / Nein"]
[null,null,null,null,null,null,null,null,null,null,"Kälte"]
[null,null,null,null,null,null,null,null,null,null,"Klimaanlagen"]
[null,null,null,null,null,null,null,null,null,null,"Kraneinrichtungen"]
[null,null,null,null,null,null,null,null,null,null,"Kücheneinrichtungen"]
[null,null,null,null,null,null,null,null,null,null,"Laboreinrichtung"]
[null,null,null,null,null,null,null,null,null,null,"Löschanlagen"]
[null,null,null,null,null,null,null,null,null,null,"Lüftungsanlagen"]
[null,null,null,null,null,null,null,null,null,null,"Meteostation"]
[null,null,null,null,null,null,null,null,null,null,"Mittelspannungsanlagen 16/22 kV (Trafostationen)"]
[null,null,null,null,null,null,null,null,null,null,"Not- und Augenduschen"]
[null,null,null,null,null,null,null,null,null,null,"Notbeleuchtung"]
[null,null,null,null,null,null,null,null,null,null,"Regenwasser"]
[null,null,null,null,null,null,null,null,null,null,"Sanitär"]
[null,null,null,null,null,null,null,null,null,null,"Schliessysteme"]
[null,null,null,null,null,null,null,null,null,null,"Schwachstrominstallationen"]
[null,null,null,null,null,null,null,null,null,null,"Sicherheitsanlagen"]
[null,null,null,null,null,null,null,null,null,null,"Starkstrominstallationen"]
[null,null,null,null,null,null,null,null,null,null,"Storen- / Beschattungsanlagen"]
[null,null,null,null,null,null,null,null,null,null,"Türen, Tore, Abschlüsse "]
[null,null,null,null,null,null,null,null,null,null,"Wärme"]
[null,null,null,null,null,null,null,null,null,null,"Wasseraufbereitung"]
[null,null,null,null,null,null,null,null,null,null,"Wasserverteilung"]
[null,null,null,null,null,null,null,null,null,null,0]
[]
[]
[]
[]
[]
[]
[]
[]
[]
[]
[]
[]
[]
[]
[]
[]
[]
[]
[]
[]
[]
[]
[]
[]
[]
[]
[]
[]
[]
[]
[]
[]
[]
[]
[]
[]
[]
[]
[]
[]
[]
[]
[]
[]
[]
[]
[]
[]
[]
[]
[]
[]
[]
[]
[]
[]
[]
[]
[]
[]
[]
[]
[]
[]
[]
[]
[]
[]
[]
[]
[]
[]
[]
[]
[]
[]
[]
[]
[]
[]
[]
[]
[]
[]
[]
[]
[]
[]
[]
[]
[]
[]
[]
[]
[]
[]
[]
[]
[]
[]
[]
[]
[]
[]
[]
[]
[]
[]
[]
[]
[]
[]
[]
[]
[]
[]
[]
[]
[]
[]
[]
[]
[]
[]
[]
[]
[]
[]
[]
[]
[]
[]
[]
[]
[]
[]
[]
[]
[]
[]
[]
[]
[]
[]
[]
[]
[]
[]
[]
[]
[]
[]
[]
[]
[]
[]
[]
[]
[]
[]
[]
[]
[]
[]
[null,null,null,null,null,null,null,null,null,null,{"$f":"_xlfn._xlws.SORT(_xlfn.UNIQUE('Anlagenartenkatalog UZH'!B186:'Anlagenartenkatalog UZH'!B169))","v":0}]
[]
[]
[]
[]
[]
[]
[]
[]
[]
[]
[]
[]
[]
[]
[null,null,null,null,null,null,null,null,null,null,null,{"$f":"_xlfn._xlws.SORT(_xlfn.UNIQUE(IF('Eingabe fuer Planer'!D155='Anlagenartenkatalog UZH'!B165:B186,'Anlagenartenkatalog UZH'!D165:D186,\"\")))","v":0}]
[null,null,null,null,null,null,null,null,null,null,null,""]
[]
[]
[]
[]
[]
[]
[]
[]
[]
[]
[]
[]
[]
[]
[]
[]
[]
[]
[]
[]
[]
[]
[]
[]
[]
[]
[]
[]
[]
[]
[]
[]
[]
[]
[]
[]
[]
[]
[]
[]
[]
[]
[]
[]
[]
[]
[]
[]
[]
[]
[]
[]
[]
[]
[]
[]
[]
[]
[]
[]
[]
[]
[]
[]
[]
[]
[]
[]
[]
[]
[]
[]
[]
[]
[]
[]
[]
[]
[]
[]
[]
[]
[]
[]
[]
[]
[]
[]
[]
[]
[]
[]
[]
[]
[]
[]
[]
[]
[]
[]
[]
[]
[]
[]
[]
[]
[]
[]
[]
[]
[]
[]
[]
[]
[]
[]
[]
[]
[]
[]
[]
[]
[]
[]
[]
[]
[]
[]
[]
[]
[]
[]
[]
[]
[]
[]
[]
[]
[]
[]
[]
[]
[]
[]
[]
[]
[]
[]
[]
[]
[]
[]
[]
[]
[]
[]
[]
[]
[]
[]
[]
[]
[]
[]
[]
[]
[]
[]
[]
[]
[]
[]
[]
[]
[]
[]
[]
[]
[]
[]
[]
[]
[]
[]
[]
[]
[]
[]
[]
[]
[]
[]
[]
[]
[]
[]
[]
[]
[]
[]
[]
[]
[]
[]
[]
[]
[]
[]
[]
[]
[]
[]
[]
[]
[]
[]
[]
[]
[]
[]
[]
[]
[]
[]
[]
[]
[null,null,null,null,null,null,null,null,null,null,{"$f":"_xlfn._xlws.SORT(_xlfn.UNIQUE('Anlagenartenkatalog UZH'!B398:'Anlagenartenkatalog UZH'!B169))","v":0}]
[]
[]
[]
[]
[]
[]
[]
[]
[]
[]
[]
[]
[]
[]
[null,null,null,null,null,null,null,null,null,null,{"$f":"_xlfn._xlws.SORT(_xlfn.UNIQUE('Anlagenartenkatalog UZH'!B398:'Anlagenartenkatalog UZH'!B169))","v":0},{"$f":"_xlfn._xlws.SORT(_xlfn.UNIQUE(IF('Eingabe fuer Planer'!D368='Anlagenartenkatalog UZH'!B398:B581,'Anlagenartenkatalog UZH'!D398:D581,\"\")))","v":0}]
[]
[]
[]
[]
[]
[]
[]
[]
[]
[]
[]
[]
[]
[]
[null,null,null,null,null,null,null,null,null,null,{"$f":"_xlfn._xlws.SORT(_xlfn.UNIQUE('Anlagenartenkatalog UZH'!B458:'Anlagenartenkatalog UZH'!B169))","v":0},{"$f":"_xlfn._xlws.SORT(_xlfn.UNIQUE(IF('Eingabe fuer Planer'!D368='Anlagenartenkatalog UZH'!B398:B581,'Anlagenartenkatalog UZH'!D398:D581,\"\")))","v":0}]
[]
[]
[]
[]
[]
[]
[]
[]
[]
[]
[]
[]
[]
[]
[null,null,null,null,null,null,null,null,null,null,null,{"$f":"_xlfn._xlws.SORT(_xlfn.UNIQUE(IF('Eingabe fuer Planer'!D428='Anlagenartenkatalog UZH'!B458:B641,'Anlagenartenkatalog UZH'!D458:D641,\"\")))","v":0}]
[null,null,null,null,null,null,null,null,null,null,null,{"$f":"_xlfn._xlws.SORT(_xlfn.UNIQUE(IF('Eingabe fuer Planer'!D429='Anlagenartenkatalog UZH'!B459:B642,'Anlagenartenkatalog UZH'!D459:D642,\"\")))","v":0}]
[null,null,null,null,null,null,null,null,null,null,null,{"$f":"_xlfn._xlws.SORT(_xlfn.UNIQUE(IF('Eingabe fuer Planer'!D430='Anlagenartenkatalog UZH'!B460:B643,'Anlagenartenkatalog UZH'!D460:D643,\"\")))","v":0}]
[]
[]
[]
[]
[]
[]
[]
[]
[]
[]
[]
[]
[]
[]
[null,null,null,null,null,null,null,null,null,null,null,{"$f":"_xlfn._xlws.SORT(_xlfn.UNIQUE(IF('Eingabe fuer Planer'!D445='Anlagenartenkatalog UZH'!B475:B658,'Anlagenartenkatalog UZH'!D475:D658,\"\")))","v":0}]
[null,null,null,null,null,null,null,null,null,null,null,{"$f":"_xlfn._xlws.SORT(_xlfn.UNIQUE(IF('Eingabe fuer Planer'!D446='Anlagenartenkatalog UZH'!B476:B659,'Anlagenartenkatalog UZH'!D476:D659,\"\")))","v":0}]
[null,null,null,null,null,null,null,null,null,null,null,{"$f":"_xlfn._xlws.SORT(_xlfn.UNIQUE(IF('Eingabe fuer Planer'!D447='Anlagenartenkatalog UZH'!B477:B660,'Anlagenartenkatalog UZH'!D477:D660,\"\")))","v":0}]
[]
[]
[]
[]
[]
[]
[]
[]
[]
[]
[]
[]
[]
[null,null,null,null,null,null,null,null,null,null,null,{"$f":"_xlfn._xlws.SORT(_xlfn.UNIQUE(IF('Eingabe fuer Planer'!D444='Anlagenartenkatalog UZH'!B474:B657,'Anlagenartenkatalog UZH'!D474:D657,\"\")))","v":0}]
[null,null,null,null,null,null,null,null,null,null,null,{"$f":"_xlfn._xlws.SORT(_xlfn.UNIQUE(IF('Eingabe fuer Planer'!D445='Anlagenartenkatalog UZH'!B475:B658,'Anlagenartenkatalog UZH'!D475:D658,\"\")))","v":0}]
[null,null,null,null,null,null,null,null,null,null,null,{"$f":"_xlfn._xlws.SORT(_xlfn.UNIQUE(IF('Eingabe fuer Planer'!D446='Anlagenartenkatalog UZH'!B476:B659,'Anlagenartenkatalog UZH'!D476:D659,\"\")))","v":0}]